Workbook
Name キット名: [1]!抗原キット[[#All],[品目名]]

Sheet チェックシート（必ず御確認ください）
A1: 令和８年度外国人介護職員が長く働ける魅力ある埼玉介護の促進補助金
A2: 交付申請チェックシート
A3: ①申請全体の基本確認
A4: No. | B4: 確認項目 | C4: 確認内容 | D4: チェック欄 | E4: 備考
A5: 1 | B5: 共通 | C5: 在籍する外国人介護職員に介護福祉士資格取得の支援をしている | D5: TRUE
A6: 2 | B6: 共通 | C6: 対象の外国人介護職員は在留資格に関係なく、介護福祉士資格取得を目指している | D6: TRUE
A7: 3 | B7: 共通 | C7: 経費の支払いは今年度内（3月末）に完了するものである | D7: TRUE
A8: 4 | B8: 共通 | C8: 埼玉県介護人材採用・育成事業者認証制度の認証を取得（申請）している | D8: １つ星 | E8: 令和8年11月1日現在、1つ星申請中 | F8: 1つ星 | G8: 2つ星 | H8: 3つ星
D9: ↑プルダウンから選択してください
A10: ②コミュニケーション支援費等の確認
A11: 1 | B11: ②を申請する 法人のみ | C11: 介護福祉士資格取得に必要な経費およびコミュニケーション促進のための経費を負担している | D11: TRUE
A12: 2 | C12: 申請経費は今年度分のみである | D12: TRUE
A14: ③日本語学校関連の確認
A15: 1 | B15: ③を申請する 法人のみ | C15: 留学生の日本語学校学費を負担または返還免除条件で貸与している | D15: TRUE
A16: 2 | C16: 申請経費は今年度（4月から翌年3月分）の学費である | D16: TRUE
A18: ④居住費に関する確認
A19: 1 | B19: ④を申請する 法人のみ | C19: 技能実習生及び特定技能外国人の地域生活費（家賃等）を負担している | D19: TRUE
A20: 2 | C20: 申請経費は今年度（4月から翌年3月分）の家賃である | D20: TRUE
A21: 3 | C21: 「法人が確保した住宅（借上住居、法人所有の住居・寮を含む）」を提供している | D21: TRUE
A22: 4 | C22: 居住費補助の申請対象者数は10人以下である | D22: TRUE
A23: 5 | C23: 1ヶ月未満の居住期間（日割り計算分）は申請に含めていない | D23: TRUE
A25: ⑤添付書類の確認
A26: 1 | B26: 共通 | C26: 「様式第1号（交付申請書）」を添付している | D26: TRUE
A27: 2 | B27: 共通 | C27: 別紙「埼玉県外国人介護職員応援宣言に係る取組内容」を添付している | D27: TRUE
A28: 3 | B28: ③を申請する 法人のみ | C28: 「貸与等に係る法人規程の写し」を添付している | D28: TRUE
A29: 4 | C29: 「留学生と取り交わした貸与に係る契約書等の写し」を添付している | D29: TRUE
A30: 5 | C30: 「日本語学校の在籍証明書（3か月以内に発行されたもの）」を添付している | D30: TRUE
A31: 6 | B31: ④を申請する 法人のみ | C31: 技能実習生または特定技能外国人の雇用契約書を添付している | D31: TRUE
A32: 7 | C32: 賃貸借契約書、法人規定など経費の根拠資料を添付している | D32: TRUE
A33: 8 | C33: 入居実態を証明する契約書などを添付している | D33: TRUE | E33: 賃貸借契約書の入居者欄に記載有

Sheet 様式第1号
A1: 様式第１号（第５条関係）
A3: 令和8年度外国人介護職員が長く働ける、魅力ある埼玉介護の促進補助金 交付申請書
D5: （申請日） | E5: 46327
A7: （宛先）埼玉県知事
D9: 郵便番号 | E9: 339-9301
D10: 法人所在地 | E10: 埼玉県さいたま市浦和区高砂3-15-1
D11: 法人名 | E11: 社会福祉法人コバトン
D12: 代表者職名 | E12: 理事長
D13: 代表者氏名 | E13: ×× ××
D14: 申請に関する担当者 | E14: △△ △△
D15: 電話番号 | E15: 048-830-3168
D16: E-mail | E16: ＊＊＊@＊＊＊
A18: 下記により外国人介護職員が長く働ける、魅力ある埼玉介護の促進補助金の交付を受けたいので、補助金等の交付手続等に関する規則第４条の規定により、関係書類を添えて申請します。
A20: 記
A22: １ 交付申請額 | D22: ='1-1（所要額調書）'!E41 -> 365000 | E22: 円
A23: ２ 所要額調書（別紙１－１）
A24: ３ 事業計画書（別紙１－２、１－３、１－４、１－５）、その他参考となる資料
A26: ４ 補助対象事業所
B27: 事業所名 | C27: 埼玉県次介護人材 採用・育成事業者認証制度の認証（申請）状況 | D27: 事業所種別
A28: 1 | B28: 特別養護老人ホーム埼玉 | C28: ２つ星認証または申請中 | D28: 介護老人福祉施設 | F28: 介護老人福祉施設
A29: 2 | B29: ケアハウス埼玉 | C29: １つ星認証または申請中 | D29: 特定施設入居者生活介護 | F29: 介護老人保健施設
A30: 3 | F30: 介護医療院
A31: 4 | F31: 訪問介護
A32: 5 | F32: 訪問入浴介護
A33: 6 | F33: 訪問看護
A34: 7 | F34: 訪問リハビリテーション
A35: 8 | F35: 通所介護
F36: 通所リハビリテーション
A37: ５ 注意事項 | F37: 短期入所生活介護
A38: 以下の内容を確認の上、確認した場合はチェックを入れてください。 | F38: 短期入所療養介護
A39: ✔ | B39: 別紙「暴力団排除に関する誓約事項」の内容を確認し、いずれにも該当しないことを誓約します。 | F39: 特定施設入居者生活介護
A40: ✔ | B40: 申請内容に虚偽が判明した場合は、当該補助金の返納に加え、規則に定める加算金及び延滞金を県に納付します。 | F40: 介護予防訪問入浴介護
A41: ✔ | B41: 留学生等又は受入事業者が、日本国、母国又は民間団体等他の団体から同様の経費について奨学金、補助金等の交付を受けている又は受けることを予定している場合は、本補助金を申請できません。 | F41: 介護予防訪問看護
F42: 介護予防訪問リハビリテーション
F43: 介護予防通所リハビリテーション
F44: 介護予防短期入所生活介護
F45: 介護予防短期入所療養介護
F46: 介護予防特定施設入居者生活介護
E47: １つ星認証または申請中 | F47: 定期巡回・随時対応型訪問介護看護
D48: ✔ | E48: ２つ星認証または申請中 | F48: 夜間対応型訪問介護
...

Sheet 1-1（所要額調書）
A1: （別紙１－１）所要額調書 ＜単位：円＞
B3: （１）介護福祉士資格取得支援費用及びコミュニケーション促進費用 ※別紙１－３を添付すること。
C4: 事業所名 （別紙1-3から転記） | D4: 対象経費の 支出予定額（Ａ） （別紙1-3から転記） | E4: 寄付金その他 の収入額（Ｂ） | F4: 差引額 （Ｃ＝Ａ－Ｂ） | G4: 基準額（Ｄ） | H4: 選定額 （Ｃ・Ｄの少ない方） 総額60万円まで | I4: 補助金所要額 （補助率2/3）
B5: 1 | C5: ='1-3（資格取得・コミュニケーション）'!C4:F4 -> 特別養護老人ホーム埼玉 | D5: ='1-3（資格取得・コミュニケーション）'!C6 -> 88000 | E5: 0 | F5: =D5-E5 -> 88000 | G5: 300000 | H5: =IF(ISBLANK(F5),0,MIN(F5:G5)) -> 88000
B6: 2 | C6: ='1-3（資格取得・コミュニケーション）'!C10:F10 -> ケアハウス埼玉 | D6: ='1-3（資格取得・コミュニケーション）'!C12 -> 5500 | E6: 0 | F6: =D6-E6 -> 5500 | G6: 300000 | H6: =IF(ISBLANK(F6),0,MIN(F6:G6)) -> 5500
B7: 3 | C7: ='1-3（資格取得・コミュニケーション）'!C16:F16 -> 0 | D7: ='1-3（資格取得・コミュニケーション）'!C18 -> 0 | F7: =D7-E7 -> 0 | G7: 300000 | H7: =IF(ISBLANK(F7),0,MIN(F7:G7)) -> 0
B8: 4 | C8: ='1-3（資格取得・コミュニケーション）'!C22:F22 -> 0 | D8: ='1-3（資格取得・コミュニケーション）'!C24 -> 0 | F8: =D8-E8 -> 0 | G8: 300000 | H8: =IF(ISBLANK(F8),0,MIN(F8:G8)) -> 0
B9: 5 | C9: ='1-3（資格取得・コミュニケーション）'!C28:F28 -> 0 | D9: ='1-3（資格取得・コミュニケーション）'!C30 -> 0 | F9: =D9-E9 -> 0 | G9: 300000 | H9: =IF(ISBLANK(F9),0,MIN(F9:G9)) -> 0
B10: 6 | C10: ='1-3（資格取得・コミュニケーション）'!C34:F34 -> 0 | D10: ='1-3（資格取得・コミュニケーション）'!C36 -> 0 | F10: =D10-E10 -> 0 | G10: 300000 | H10: =IF(ISBLANK(F10),0,MIN(F10:G10)) -> 0
B11: 7 | C11: ='1-3（資格取得・コミュニケーション）'!C40:F40 -> 0 | D11: ='1-3（資格取得・コミュニケーション）'!C42 -> 0 | F11: =D11-E11 -> 0 | G11: 300000 | H11: =IF(ISBLANK(F11),0,MIN(F11:G11)) -> 0
B12: 8 | C12: ='1-3（資格取得・コミュニケーション）'!C46:F46 -> 0 | D12: ='1-3（資格取得・コミュニケーション）'!C48 -> 0 | F12: =D12-E12 -> 0 | G12: 300000 | H12: =IF(ISBLANK(F12),0,MIN(F12:G12)) -> 0
C13: （総事業費） | D13: =SUM(D5:D12) -> 93500 | E13: =SUM(E5:E12) -> 0 | F13: =SUM(F5:F12) -> 93500 | H13: =IF(SUM(H5:H12)>600000,600000,SUM(H5:H12)) -> 93500 | I13: =ROUNDDOWN(H13/3*2,-3) -> 62000
B15: （２）留学生の日本語学校の学費 ※別紙１－４を添付すること。
C16: 対象者名 （別紙1-4から転記） | D16: 対象経費の 支出予定額（Ａ） （別紙1-4から転記） | E16: 寄付金その他 の収入額（Ｂ） | F16: 差引額 （Ｃ＝Ａ－Ｂ） | G16: 基準額（Ｄ） | H16: 選定額 （Ｃ・Ｄの少ない方） | I16: 補助金所要額 （補助率1/3）
B17: 1 | C17: ='1-4（日本語学校学費）'!C4 -> さいたまっち一郎 | D17: ='1-4（日本語学校学費）'!G4 -> 550000 | E17: 0 | F17: =D17-E17 -> 550000 | G17: 600000 | H17: =IF(ISBLANK(F17),0,MIN(F17:G17)) -> 550000
B18: 2 | C18: ='1-4（日本語学校学費）'!C5 -> 0 | D18: ='1-4（日本語学校学費）'!G5 -> 0 | F18: =D18-E18 -> 0 | G18: 600000 | H18: =IF(ISBLANK(F18),0,MIN(F18:G18)) -> 0
B19: 3 | C19: ='1-4（日本語学校学費）'!C6 -> 0 | D19: ='1-4（日本語学校学費）'!G6 -> 0 | F19: =D19-E19 -> 0 | G19: 600000 | H19: =IF(ISBLANK(F19),0,MIN(F19:G19)) -> 0
B20: 4 | C20: ='1-4（日本語学校学費）'!C7 -> 0 | D20: ='1-4（日本語学校学費）'!G7 -> 0 | F20: =D20-E20 -> 0 | G20: 600000 | H20: =IF(ISBLANK(F20),0,MIN(F20:G20)) -> 0
B21: 5 | C21: ='1-4（日本語学校学費）'!C8 -> 0 | D21: ='1-4（日本語学校学費）'!G8 -> 0 | F21: =D21-E21 -> 0 | G21: 600000 | H21: =IF(ISBLANK(F21),0,MIN(F21:G21)) -> 0
B22: 6 | C22: ='1-4（日本語学校学費）'!C9 -> 0 | D22: ='1-4（日本語学校学費）'!G9 -> 0 | F22: =D22-E22 -> 0 | G22: 600000 | H22: =IF(ISBLANK(F22),0,MIN(F22:G22)) -> 0
B23: 7 | C23: ='1-4（日本語学校学費）'!C10 -> 0 | D23: ='1-4（日本語学校学費）'!G10 -> 0 | F23: =D23-E23 -> 0 | G23: 600000 | H23: =IF(ISBLANK(F23),0,MIN(F23:G23)) -> 0
B24: 8 | C24: ='1-4（日本語学校学費）'!C11 -> 0 | D24: ='1-4（日本語学校学費）'!G11 -> 0 | F24: =D24-E24 -> 0 | G24: 600000 | H24: =IF(ISBLANK(F24),0,MIN(F24:G24)) -> 0
C25: （総事業費） | D25: =SUM(D17:D24) -> 550000 | E25: =SUM(E17:E24) -> 0 | F25: =SUM(F17:F24) -> 550000 | H25: =SUM(H17:H24) -> 550000 | I25: =ROUNDDOWN(H25/3*1,-3) -> 183000
B27: （３）技能実習生及び特定技能外国人の地域生活費 ※別紙１－５を添付すること。
B28: 物件 番号 | C28: 物件名 （別紙1-5から転記） | D28: 外国人介護職員氏名 （別紙1-5から転記） | E28: 補助金所要額（円） （別紙1-5から転記）
B29: 1 | C29: ='1-5（地域生活費）※職員ごとに作成してください (1)'!G6 -> 埼玉アパート405 | D29: ='1-5（地域生活費）※職員ごとに作成してください (1)'!C9 -> コバトン太郎 | E29: ='1-5（地域生活費）※職員ごとに作成してください (1)'!L30 -> 48000
B30: 2 | C30: ='1-5（地域生活費）※職員ごとに作成してください (2)'!G6 -> 埼玉アパート405 | D30: ='1-5（地域生活費）※職員ごとに作成してください (2)'!C9 -> コバトン次郎 | E30: ='1-5（地域生活費）※職員ごとに作成してください (2)'!L30 -> 72000
B31: 3 | C31: ='1-5（地域生活費）※職員ごとに作成してください (3)'!G6 -> 0 | D31: ='1-5（地域生活費）※職員ごとに作成してください (3)'!C9 -> 0 | E31: ='1-5（地域生活費）※職員ごとに作成してください (3)'!L26 -> 0
B32: 4 | C32: ='1-5（地域生活費）※職員ごとに作成してください (4)'!G6 -> 0 | D32: ='1-5（地域生活費）※職員ごとに作成してください (4)'!C9 -> 0 | E32: ='1-5（地域生活費）※職員ごとに作成してください (4)'!L26 -> 0
B33: 5 | C33: ='1-5（地域生活費）※職員ごとに作成してください (5)'!G6 -> 0 | D33: ='1-5（地域生活費）※職員ごとに作成してください (5)'!C9 -> 0 | E33: ='1-5（地域生活費）※職員ごとに作成してください (5)'!L26 -> 0
B34: 6 | C34: ='1-5（地域生活費）※職員ごとに作成してください (6)'!G6 -> 0 | D34: ='1-5（地域生活費）※職員ごとに作成してください (6)'!C9 -> 0 | E34: ='1-5（地域生活費）※職員ごとに作成してください (6)'!L26 -> 0
B35: 7 | C35: ='1-5（地域生活費）※職員ごとに作成してください (7)'!G6 -> 0 | D35: ='1-5（地域生活費）※職員ごとに作成してください (7)'!C9 -> 0 | E35: ='1-5（地域生活費）※職員ごとに作成してください (7)'!L26 -> 0
B36: 8 | C36: ='1-5（地域生活費）※職員ごとに作成してください (8)'!G6 -> 0 | D36: ='1-5（地域生活費）※職員ごとに作成してください (8)'!C9 -> 0 | E36: ='1-5（地域生活費）※職員ごとに作成してください (8)'!L26 -> 0
B37: 9 | C37: ='1-5（地域生活費）※職員ごとに作成してください (9)'!G6 -> 0 | D37: ='1-5（地域生活費）※職員ごとに作成してください (9)'!C9 -> 0 | E37: ='1-5（地域生活費）※職員ごとに作成してください (9)'!L26 -> 0
B38: 10 | C38: ='1-5（地域生活費）※職員ごとに作成してください (10)'!G6 -> 0 | D38: ='1-5（地域生活費）※職員ごとに作成してください (10)'!C9 -> 0 | E38: ='1-5（地域生活費）※職員ごとに作成してください (10)'!L26 -> 0
E39: =SUM(E29:E38) -> 120000
B41: （４）交付申請額 | E41: =SUM(I13,I25,E39) -> 365000 | F41: 円

Sheet 1-2（対象職員一覧）
A1: （別紙１－２）事業計画書（対象となる外国人介護職員の一覧）
C3: 事業所名 | D3: 氏名 | E3: 国籍 | F3: 採用年月日 | G3: 実務者研修受講状況 | H3: 初任者研修受講状況 | I3: 在留資格（※在留カードを確認すること） | L3: 申請の内容
I4: 日本語学校に在籍する 留学生 | J4: 介護福祉士資格取得を 目指す技能実習生 | K4: 介護福祉士資格取得を 目指す特定技能外国人 | L4: (1)資格取得・ コミュニケーション促進 | M4: (2)日本語学校の学費 ※留学生のみ | N4: (3)地域生活費（居住費） ※留学生除く
B5: 1 | C5: 特別養護老人ホーム埼玉 | D5: コバトン太郎 | E5: インドネシア | F5: 45047 | G5: 実務者研修 修了済 | H5: 初任者研修 修了済 | K5: ○ | L5: ○ | N5: ○
B6: 2 | C6: 特別養護老人ホーム埼玉 | D6: コバトン次郎 | E6: ベトナム | F6: 45458 | G6: 実務者研修 未修了（修了予定者を除く） | H6: 初任者研修 修了予定（今年度中） | J6: ○ | L6: ○ | N6: ○
B7: 3 | C7: ケアハウス埼玉 | D7: さいたまっち一郎 | E7: ミャンマー | F7: 45392 | G7: 実務者研修 修了予定（今年度中） | H7: 初任者研修 修了済 | I7: ○ | L7: ○ | M7: ○
B8: 4 | C8: ケアハウス埼玉 | D8: さいたまっち花子 | E8: ミャンマー | F8: 2026年1月予定 | G8: 実務者研修 未修了（修了予定者を除く） | H8: 初任者研修 未修了（修了予定者を除く） | K8: ○ | L8: ○
B9: 5
B10: 6
B11: 7
B12: 8
B13: 9
B14: 10
B15: 11
B16: 12
B17: 13
B18: 14
B19: 15
B20: 16
... B34: 30
I35: =COUNTA(I5:I14) -> 1 | J35: =COUNTA(J5:J14) -> 1 | K35: =COUNTA(K5:K14) -> 2 | L35: =COUNTA(L5:L14) -> 4 | M35: =COUNTA(M5:M14) -> 1 | N35: =COUNTA(N5:N14) -> 2
C36: 46296
C37: 事業報告書（別紙１－２）に記載する、地域生活費の補助の対象となる外国人介護職員の国籍、採用年月日、研修受講状況、在留資格等について、
C38: 事実と相違ないことを証明します。
D39: 法人名： | F39: 社会福祉法人コバトン
D40: 代表者 職・氏名： | F40: 理事長 ×× ××

Sheet Sheet1
A2: 実務者研修受講状況 | E2: 初任者研修受講状況
A5: 実務者研修 修了済 | E5: 初任者研修 修了済
A6: 実務者研修 修了予定（今年度中） | E6: 初任者研修 修了予定（今年度中）
A7: 実務者研修 未修了（修了予定者を除く） | E7: 初任者研修 未修了（修了予定者を除く）

Sheet 1-3（資格取得・コミュニケーション）
A1: （別紙１－３）事業計画書（資格取得支援費用・コミュニケーション促進費用に係る取組内容）
B3: 事業所①
B4: （１）事業所名 | C4: 特別養護老人ホーム埼玉
B5: （２）取組の内容 | C5: 介護福祉士資格取得のためのオンライン研修を受講させる。
B6: （３）支出予定額(Ａ） | C6: 88000 | D6: 円 （税込）
B7: （４）支出予定額の内訳 | C7: 研修受講料 4,400円/回×10回×2人分＝88,000円
B9: 事業所②
B10: （１）事業所名 | C10: ケアハウス埼玉
B11: （２）取組の内容 | C11: 日本語学習のための参考書を購入し、学習時間を設ける
B12: （３）支出予定額(Ａ） | C12: 5500 | D12: 円 （税込）
B13: （４）支出予定額の内訳 | C13: 日本語会話参考書 1,650円×2冊＝3,300円 漢字練習帳 1,100円×2冊＝2,200円
B15: 事業所③
B16: （１）事業所名
B17: （２）取組の内容
B18: （３）支出予定額(Ａ） | D18: 円 （税込）
B19: （４）支出予定額の内訳
B21: 事業所④
B22: （１）事業所名
B23: （２）取組の内容
B24: （３）支出予定額(Ａ） | D24: 円 （税込）
B25: （４）支出予定額の内訳
B27: 事業所⑤
B28: （１）事業所名
B29: （２）取組の内容
B30: （３）支出予定額(Ａ） | D30: 円 （税込）
B31: （４）支出予定額の内訳
B33: 事業所⑥
B34: （１）事業所名
B35: （２）取組の内容
B36: （３）支出予定額(Ａ） | D36: 円 （税込）
B37: （４）支出予定額の内訳
B39: 事業所⑦
B40: （１）事業所名
B41: （２）取組の内容
B42: （３）支出予定額(Ａ） | D42: 円 （税込）
B43: （４）支出予定額の内訳
B45: 事業所⑧
B46: （１）事業所名
B47: （２）取組の内容
B48: （３）支出予定額(Ａ） | D48: 円 （税込）
...

Sheet 1-4（日本語学校学費）
A1: （別紙１－４）事業計画書（留学生の日本語学校の学費）
C3: 対象者名 | D3: 在籍する 日本語学校名 | E3: 日本語学校の 卒業予定年月日 | F3: 給付・貸付の別 | G3: 対象経費の 支出予定額（Ａ） | H3: 支出予定額の内訳
B4: 1 | C4: さいたまっち一郎 | D4: 埼玉日本語学校 | E4: 45731 | F4: 貸与 | G4: 550000 | H4: 入学金5万円、授業料（4月～3月分）50万円
B5: 2
B6: 3
B7: 4
B8: 5
B9: 6
B10: 7
B11: 8
G12: =SUM(G4:G11) -> 550000

Sheet 1-5（地域生活費）※職員ごとに作成してください (1)
A1: （別紙１－５）事業計画書（地域生活費） | J1: 外国人介護職員１人ごとに作成してください。
B4: １ 物件番号（別紙1-1） | D4: 1 | F4: ２ 住所 | G4: さいたま市浦和区高砂1-2-3
F6: 物件名 | G6: 埼玉アパート405
B7: ３ 対象となる外国人介護職員
C8: 氏名 | E8: 補助対象期間（月単位） | H8: 月額本人負担額 （円） | I8: 備考（年度内に入居した場合は入居日を記載。年度内に転出・転入がある、または予定がある場合も詳細を記入してください。）
C9: コバトン太郎 | E9: 4月 | F9: ～ | G9: 10月 | H9: 8000 | I9: 11/10～本人借り上げ物件に転居予定
B15: ４ 賃料及び入居負担額
C16: 月額賃料 （共益費含む） （Ａ）（円） | D16: 各月の入居者数（人） | G16: 月額賃料 （対象者分） （Ｅ＝Ａ/Ｄ×Ｂ） | H16: 補助対象者（Ｂ）の本人負担額 の合計（Ｆ） （円） | I16: 法人負担 （対象者分） （Ｇ＝ＥーＦ） （円） | J16: 基準額 （Ｈ＝Ｂ×3万円）（円） | K16: 選定額 （Ｇ・Ｈの少ない方）（円） | L16: 補助金 所要額（円） （補助率1/3）
D17: 補助対象者数（Ｂ） | E17: その他 の入居者数（Ｃ） | F17: 合計 （Ｄ＝Ｂ＋Ｃ）
B18: ４月分 | C18: 50000 | D18: 1 | E18: 0 | F18: =SUM(D18:E18) -> 1 | G18: =IFERROR(C18/F18*D18,0) -> 50000 | H18: 8000 | I18: =IFERROR(G18-H18,0) -> 42000 | J18: =30000*D18 -> 30000 | K18: =MIN(I18,J18) -> 30000
B19: ５月分 | C19: 50000 | D19: 1 | E19: 0 | F19: =SUM(D19:E19) -> 1 | G19: =IFERROR(C19/F19*D19,0) -> 50000 | H19: 8000 | I19: =IFERROR(G19-H19,0) -> 42000 | J19: =30000*D19 -> 30000 | K19: =MIN(I19,J19) -> 30000
B20: ６月分 | C20: 50000 | D20: 1 | E20: 1 | F20: =SUM(D20:E20) -> 2 | G20: =IFERROR(C20/F20*D20,0) -> 25000 | H20: 8000 | I20: =IFERROR(G20-H20,0) -> 17000 | J20: =30000*D20 -> 30000 | K20: =MIN(I20,J20) -> 17000
B21: ７月分 | C21: 50000 | D21: 1 | E21: 1 | F21: =SUM(D21:E21) -> 2 | G21: =IFERROR(C21/F21*D21,0) -> 25000 | H21: 8000 | I21: =IFERROR(G21-H21,0) -> 17000 | J21: =30000*D21 -> 30000 | K21: =MIN(I21,J21) -> 17000
B22: ８月分 | C22: 50000 | D22: 1 | E22: 1 | F22: =SUM(D22:E22) -> 2 | G22: =IFERROR(C22/F22*D22,0) -> 25000 | H22: 8000 | I22: =IFERROR(G22-H22,0) -> 17000 | J22: =30000*D22 -> 30000 | K22: =MIN(I22,J22) -> 17000
B23: ９月分 | C23: 50000 | D23: 1 | E23: 1 | F23: =SUM(D23:E23) -> 2 | G23: =IFERROR(C23/F23*D23,0) -> 25000 | H23: 8000 | I23: =IFERROR(G23-H23,0) -> 17000 | J23: =30000*D23 -> 30000 | K23: =MIN(I23,J23) -> 17000
B24: 10月分 | C24: 50000 | D24: 1 | E24: 1 | F24: =SUM(D24:E24) -> 2 | G24: =IFERROR(C24/F24*D24,0) -> 25000 | H24: 8000 | I24: =IFERROR(G24-H24,0) -> 17000 | J24: =30000*D24 -> 30000 | K24: =MIN(I24,J24) -> 17000
B25: 11月分 | C25: 50000 | D25: 0 | E25: 1 | F25: =SUM(D25:E25) -> 1 | G25: =IFERROR(C25/F25*D25,0) -> 0 | H25: 0 | I25: =IFERROR(G25-H25,0) -> 0 | J25: =30000*D25 -> 0 | K25: =MIN(I25,J25) -> 0
B26: 12月分 | C26: 50000 | D26: 0 | E26: 1 | F26: =SUM(D26:E26) -> 1 | G26: =IFERROR(C26/F26*D26,0) -> 0 | H26: 0 | I26: =IFERROR(G26-H26,0) -> 0 | J26: =30000*D26 -> 0 | K26: =MIN(I26,J26) -> 0
B27: １月分 | C27: 50000 | D27: 0 | E27: 1 | F27: =SUM(D27:E27) -> 1 | G27: =IFERROR(C27/F27*D27,0) -> 0 | H27: 0 | I27: =IFERROR(G27-H27,0) -> 0 | J27: =30000*D27 -> 0 | K27: =MIN(I27,J27) -> 0
B28: ２月分 | C28: 50000 | D28: 0 | E28: 1 | F28: =SUM(D28:E28) -> 1 | G28: =IFERROR(C28/F28*D28,0) -> 0 | H28: 0 | I28: =IFERROR(G28-H28,0) -> 0 | J28: =30000*D28 -> 0 | K28: =MIN(I28,J28) -> 0
B29: ３月分 | C29: 50000 | D29: 0 | E29: 1 | F29: =SUM(D29:E29) -> 1 | G29: =IFERROR(C29/F29*D29,0) -> 0 | H29: 0 | I29: =IFERROR(G29-H29,0) -> 0 | J29: =30000*D29 -> 0 | K29: =MIN(I29,J29) -> 0
B30: 合計 | C30: =SUM(C18:C29) -> 600000 | G30: =SUM(G18:G29) -> 225000 | H30: =SUM(H18:H29) -> 56000 | I30: =SUM(I18:I29) -> 169000 | J30: =SUM(J18:J29) -> 210000 | K30: =SUM(K18:K29) -> 145000 | L30: =ROUNDDOWN(K30/3*1,-3) -> 48000

Sheet 1-5（地域生活費）※職員ごとに作成してください (2)
A1: （別紙１－５）事業計画書（地域生活費） | J1: 外国人介護職員１人ごとに作成してください。
B4: １ 物件番号（別紙1-1） | D4: 2 | F4: ２ 住所 | G4: さいたま市浦和区高砂1-2-3
F6: 物件名 | G6: 埼玉アパート405
B7: ３ 対象となる外国人介護職員
C8: 氏名 | E8: 補助対象期間（月単位） | H8: 月額本人負担額 （円） | I8: 備考（年度内に入居した場合は入居日を記載。年度内に転出・転入がある、または予定がある場合も詳細を記入してください。）
C9: コバトン次郎 | E9: 7月 | F9: ～ | G9: 3月 | H9: 8000 | I9: 5/20入居、6/15採用
B15: ４ 賃料及び入居負担額
C16: 月額賃料 （共益費含む） （Ａ）（円） | D16: 各月の入居者数（人） | G16: 月額賃料 （対象者分） （Ｅ＝Ａ/Ｄ×Ｂ） | H16: 補助対象者（Ｂ）の本人負担額 の合計（Ｆ） （円） | I16: 法人負担 （対象者分） （Ｇ＝ＥーＦ） （円） | J16: 基準額 （Ｈ＝Ｂ×3万円）（円） | K16: 選定額 （Ｇ・Ｈの少ない方）（円） | L16: 補助金 所要額（円） （補助率1/3）
D17: 補助対象者数（Ｂ） | E17: その他 の入居者数（Ｃ） | F17: 合計 （Ｄ＝Ｂ＋Ｃ）
B18: ４月分 | C18: 50000 | D18: 0 | E18: 1 | F18: =SUM(D18:E18) -> 1 | G18: =IFERROR(C18/F18*D18,0) -> 0 | H18: 0 | I18: =IFERROR(G18-H18,0) -> 0 | J18: =30000*D18 -> 0 | K18: =MIN(I18,J18) -> 0
B19: ５月分 | C19: 50000 | D19: 0 | E19: 1 | F19: =SUM(D19:E19) -> 1 | G19: =IFERROR(C19/F19*D19,0) -> 0 | H19: 0 | I19: =IFERROR(G19-H19,0) -> 0 | J19: =30000*D19 -> 0 | K19: =MIN(I19,J19) -> 0
B20: ６月分 | C20: 50000 | D20: 0 | E20: 2 | F20: =SUM(D20:E20) -> 2 | G20: =IFERROR(C20/F20*D20,0) -> 0 | H20: 0 | I20: =IFERROR(G20-H20,0) -> 0 | J20: =30000*D20 -> 0 | K20: =MIN(I20,J20) -> 0
B21: ７月分 | C21: 50000 | D21: 1 | E21: 1 | F21: =SUM(D21:E21) -> 2 | G21: =IFERROR(C21/F21*D21,0) -> 25000 | H21: 8000 | I21: =IFERROR(G21-H21,0) -> 17000 | J21: =30000*D21 -> 30000 | K21: =MIN(I21,J21) -> 17000
B22: ８月分 | C22: 50000 | D22: 1 | E22: 1 | F22: =SUM(D22:E22) -> 2 | G22: =IFERROR(C22/F22*D22,0) -> 25000 | H22: 8000 | I22: =IFERROR(G22-H22,0) -> 17000 | J22: =30000*D22 -> 30000 | K22: =MIN(I22,J22) -> 17000
B23: ９月分 | C23: 50000 | D23: 1 | E23: 1 | F23: =SUM(D23:E23) -> 2 | G23: =IFERROR(C23/F23*D23,0) -> 25000 | H23: 8000 | I23: =IFERROR(G23-H23,0) -> 17000 | J23: =30000*D23 -> 30000 | K23: =MIN(I23,J23) -> 17000
B24: 10月分 | C24: 50000 | D24: 1 | E24: 1 | F24: =SUM(D24:E24) -> 2 | G24: =IFERROR(C24/F24*D24,0) -> 25000 | H24: 8000 | I24: =IFERROR(G24-H24,0) -> 17000 | J24: =30000*D24 -> 30000 | K24: =MIN(I24,J24) -> 17000
B25: 11月分 | C25: 50000 | D25: 1 | E25: 0 | F25: =SUM(D25:E25) -> 1 | G25: =IFERROR(C25/F25*D25,0) -> 50000 | H25: 8000 | I25: =IFERROR(G25-H25,0) -> 42000 | J25: =30000*D25 -> 30000 | K25: =MIN(I25,J25) -> 30000
B26: 12月分 | C26: 50000 | D26: 1 | E26: 0 | F26: =SUM(D26:E26) -> 1 | G26: =IFERROR(C26/F26*D26,0) -> 50000 | H26: 8000 | I26: =IFERROR(G26-H26,0) -> 42000 | J26: =30000*D26 -> 30000 | K26: =MIN(I26,J26) -> 30000
B27: １月分 | C27: 50000 | D27: 1 | E27: 0 | F27: =SUM(D27:E27) -> 1 | G27: =IFERROR(C27/F27*D27,0) -> 50000 | H27: 8000 | I27: =IFERROR(G27-H27,0) -> 42000 | J27: =30000*D27 -> 30000 | K27: =MIN(I27,J27) -> 30000
B28: ２月分 | C28: 50000 | D28: 1 | E28: 0 | F28: =SUM(D28:E28) -> 1 | G28: =IFERROR(C28/F28*D28,0) -> 50000 | H28: 8000 | I28: =IFERROR(G28-H28,0) -> 42000 | J28: =30000*D28 -> 30000 | K28: =MIN(I28,J28) -> 30000
B29: ３月分 | C29: 50000 | D29: 1 | E29: 0 | F29: =SUM(D29:E29) -> 1 | G29: =IFERROR(C29/F29*D29,0) -> 50000 | H29: 8000 | I29: =IFERROR(G29-H29,0) -> 42000 | J29: =30000*D29 -> 30000 | K29: =MIN(I29,J29) -> 30000
B30: 合計 | C30: =SUM(C18:C29) -> 600000 | G30: =SUM(G18:G29) -> 350000 | H30: =SUM(H18:H29) -> 72000 | I30: =SUM(I18:I29) -> 278000 | J30: =SUM(J18:J29) -> 270000 | K30: =SUM(K18:K29) -> 218000 | L30: =ROUNDDOWN(K30/3*1,-3) -> 72000

Sheet 1-5（地域生活費）※職員ごとに作成してください (3)
A1: （別紙１－５）事業計画書（地域生活費） | J1: 外国人介護職員１人ごとに作成してください。
B4: １ 物件番号（別紙1-1） | D4: 3 | F4: ２ 住所
F6: 物件名
B7: ３ 対象となる外国人介護職員
C8: 氏名 | E8: 補助対象期間（月単位） | H8: 月額本人負担額 （円） | I8: 備考（年度内に入居した場合は入居日を記載。年度内に転出・転入がある、または予定がある場合も詳細を記入してください。）
E9: 月 | F9: ～ | G9: 月
B11: ４ 賃料及び入居負担額
C12: 月額賃料 （共益費含む） （Ａ）（円） | D12: 各月の入居者数（人） | G12: 月額賃料 （対象者分） （Ｅ＝Ａ/Ｄ×Ｂ） | H12: 補助対象者（Ｂ）の本人負担額 の合計（Ｆ） （円） | I12: 法人負担 （対象者分） （Ｇ＝ＥーＦ） （円） | J12: 基準額 （Ｈ＝Ｂ×3万円）（円） | K12: 選定額 （Ｇ・Ｈの少ない方）（円） | L12: 補助金 所要額（円） （補助率1/3）
D13: 補助対象者数（Ｂ） | E13: その他 の入居者数（Ｃ） | F13: 合計 （Ｄ＝Ｂ＋Ｃ）
B14: ４月分 | F14: =SUM(D14:E14) -> 0 | G14: =IFERROR(C14/F14*D14,0) -> 0 | I14: =IFERROR(G14-H14,0) -> 0 | J14: =30000*D14 -> 0 | K14: =MIN(I14,J14) -> 0
B15: ５月分 | F15: =SUM(D15:E15) -> 0 | G15: =IFERROR(C15/F15*D15,0) -> 0 | I15: =IFERROR(G15-H15,0) -> 0 | J15: =30000*D15 -> 0 | K15: =MIN(I15,J15) -> 0
B16: ６月分 | F16: =SUM(D16:E16) -> 0 | G16: =IFERROR(C16/F16*D16,0) -> 0 | I16: =IFERROR(G16-H16,0) -> 0 | J16: =30000*D16 -> 0 | K16: =MIN(I16,J16) -> 0
B17: ７月分 | F17: =SUM(D17:E17) -> 0 | G17: =IFERROR(C17/F17*D17,0) -> 0 | I17: =IFERROR(G17-H17,0) -> 0 | J17: =30000*D17 -> 0 | K17: =MIN(I17,J17) -> 0
B18: ８月分 | F18: =SUM(D18:E18) -> 0 | G18: =IFERROR(C18/F18*D18,0) -> 0 | I18: =IFERROR(G18-H18,0) -> 0 | J18: =30000*D18 -> 0 | K18: =MIN(I18,J18) -> 0
B19: ９月分 | F19: =SUM(D19:E19) -> 0 | G19: =IFERROR(C19/F19*D19,0) -> 0 | I19: =IFERROR(G19-H19,0) -> 0 | J19: =30000*D19 -> 0 | K19: =MIN(I19,J19) -> 0
B20: 10月分 | F20: =SUM(D20:E20) -> 0 | G20: =IFERROR(C20/F20*D20,0) -> 0 | I20: =IFERROR(G20-H20,0) -> 0 | J20: =30000*D20 -> 0 | K20: =MIN(I20,J20) -> 0
B21: 11月分 | F21: =SUM(D21:E21) -> 0 | G21: =IFERROR(C21/F21*D21,0) -> 0 | I21: =IFERROR(G21-H21,0) -> 0 | J21: =30000*D21 -> 0 | K21: =MIN(I21,J21) -> 0
B22: 12月分 | F22: =SUM(D22:E22) -> 0 | G22: =IFERROR(C22/F22*D22,0) -> 0 | I22: =IFERROR(G22-H22,0) -> 0 | J22: =30000*D22 -> 0 | K22: =MIN(I22,J22) -> 0
B23: １月分 | F23: =SUM(D23:E23) -> 0 | G23: =IFERROR(C23/F23*D23,0) -> 0 | I23: =IFERROR(G23-H23,0) -> 0 | J23: =30000*D23 -> 0 | K23: =MIN(I23,J23) -> 0
B24: ２月分 | F24: =SUM(D24:E24) -> 0 | G24: =IFERROR(C24/F24*D24,0) -> 0 | I24: =IFERROR(G24-H24,0) -> 0 | J24: =30000*D24 -> 0 | K24: =MIN(I24,J24) -> 0
B25: ３月分 | F25: =SUM(D25:E25) -> 0 | G25: =IFERROR(C25/F25*D25,0) -> 0 | I25: =IFERROR(G25-H25,0) -> 0 | J25: =30000*D25 -> 0 | K25: =MIN(I25,J25) -> 0
B26: 合計 | C26: =SUM(C14:C25) -> 0 | G26: =SUM(G14:G25) -> 0 | H26: =SUM(H14:H25) -> 0 | I26: =SUM(I14:I25) -> 0 | J26: =SUM(J14:J25) -> 0 | K26: =SUM(K14:K25) -> 0 | L26: =ROUNDDOWN(K26/3*1,-3) -> 0

Sheet 1-5（地域生活費）※職員ごとに作成してください (4)
A1: （別紙１－５）事業計画書（地域生活費） | J1: 外国人介護職員１人ごとに作成してください。
B4: １ 物件番号（別紙1-1） | D4: 4 | F4: ２ 住所
F6: 物件名
B7: ３ 対象となる外国人介護職員
C8: 氏名 | E8: 補助対象期間（月単位） | H8: 月額本人負担額 （円） | I8: 備考（年度内に入居した場合は入居日を記載。年度内に転出・転入がある、または予定がある場合も詳細を記入してください。）
E9: 月 | F9: ～ | G9: 月
B11: ４ 賃料及び入居負担額
C12: 月額賃料 （共益費含む） （Ａ）（円） | D12: 各月の入居者数（人） | G12: 月額賃料 （対象者分） （Ｅ＝Ａ/Ｄ×Ｂ） | H12: 補助対象者（Ｂ）の本人負担額 の合計（Ｆ） （円） | I12: 法人負担 （対象者分） （Ｇ＝ＥーＦ） （円） | J12: 基準額 （Ｈ＝Ｂ×3万円）（円） | K12: 選定額 （Ｇ・Ｈの少ない方）（円） | L12: 補助金 所要額（円） （補助率1/3）
D13: 補助対象者数（Ｂ） | E13: その他 の入居者数（Ｃ） | F13: 合計 （Ｄ＝Ｂ＋Ｃ）
B14: ４月分 | F14: =SUM(D14:E14) -> 0 | G14: =IFERROR(C14/F14*D14,0) -> 0 | I14: =IFERROR(G14-H14,0) -> 0 | J14: =30000*D14 -> 0 | K14: =MIN(I14,J14) -> 0
B15: ５月分 | F15: =SUM(D15:E15) -> 0 | G15: =IFERROR(C15/F15*D15,0) -> 0 | I15: =IFERROR(G15-H15,0) -> 0 | J15: =30000*D15 -> 0 | K15: =MIN(I15,J15) -> 0
B16: ６月分 | F16: =SUM(D16:E16) -> 0 | G16: =IFERROR(C16/F16*D16,0) -> 0 | I16: =IFERROR(G16-H16,0) -> 0 | J16: =30000*D16 -> 0 | K16: =MIN(I16,J16) -> 0
B17: ７月分 | F17: =SUM(D17:E17) -> 0 | G17: =IFERROR(C17/F17*D17,0) -> 0 | I17: =IFERROR(G17-H17,0) -> 0 | J17: =30000*D17 -> 0 | K17: =MIN(I17,J17) -> 0
B18: ８月分 | F18: =SUM(D18:E18) -> 0 | G18: =IFERROR(C18/F18*D18,0) -> 0 | I18: =IFERROR(G18-H18,0) -> 0 | J18: =30000*D18 -> 0 | K18: =MIN(I18,J18) -> 0
B19: ９月分 | F19: =SUM(D19:E19) -> 0 | G19: =IFERROR(C19/F19*D19,0) -> 0 | I19: =IFERROR(G19-H19,0) -> 0 | J19: =30000*D19 -> 0 | K19: =MIN(I19,J19) -> 0
B20: 10月分 | F20: =SUM(D20:E20) -> 0 | G20: =IFERROR(C20/F20*D20,0) -> 0 | I20: =IFERROR(G20-H20,0) -> 0 | J20: =30000*D20 -> 0 | K20: =MIN(I20,J20) -> 0
B21: 11月分 | F21: =SUM(D21:E21) -> 0 | G21: =IFERROR(C21/F21*D21,0) -> 0 | I21: =IFERROR(G21-H21,0) -> 0 | J21: =30000*D21 -> 0 | K21: =MIN(I21,J21) -> 0
B22: 12月分 | F22: =SUM(D22:E22) -> 0 | G22: =IFERROR(C22/F22*D22,0) -> 0 | I22: =IFERROR(G22-H22,0) -> 0 | J22: =30000*D22 -> 0 | K22: =MIN(I22,J22) -> 0
B23: １月分 | F23: =SUM(D23:E23) -> 0 | G23: =IFERROR(C23/F23*D23,0) -> 0 | I23: =IFERROR(G23-H23,0) -> 0 | J23: =30000*D23 -> 0 | K23: =MIN(I23,J23) -> 0
B24: ２月分 | F24: =SUM(D24:E24) -> 0 | G24: =IFERROR(C24/F24*D24,0) -> 0 | I24: =IFERROR(G24-H24,0) -> 0 | J24: =30000*D24 -> 0 | K24: =MIN(I24,J24) -> 0
B25: ３月分 | F25: =SUM(D25:E25) -> 0 | G25: =IFERROR(C25/F25*D25,0) -> 0 | I25: =IFERROR(G25-H25,0) -> 0 | J25: =30000*D25 -> 0 | K25: =MIN(I25,J25) -> 0
B26: 合計 | C26: =SUM(C14:C25) -> 0 | G26: =SUM(G14:G25) -> 0 | H26: =SUM(H14:H25) -> 0 | I26: =SUM(I14:I25) -> 0 | J26: =SUM(J14:J25) -> 0 | K26: =SUM(K14:K25) -> 0 | L26: =ROUNDDOWN(K26/3*1,-3) -> 0

Sheet 1-5（地域生活費）※職員ごとに作成してください (5)
A1: （別紙１－５）事業計画書（地域生活費） | J1: 外国人介護職員１人ごとに作成してください。
B4: １ 物件番号（別紙1-1） | D4: 5 | F4: ２ 住所
F6: 物件名
B7: ３ 対象となる外国人介護職員
C8: 氏名 | E8: 補助対象期間（月単位） | H8: 月額本人負担額 （円） | I8: 備考（年度内に入居した場合は入居日を記載。年度内に転出・転入がある、または予定がある場合も詳細を記入してください。）
E9: 月 | F9: ～ | G9: 月
B11: ４ 賃料及び入居負担額
C12: 月額賃料 （共益費含む） （Ａ）（円） | D12: 各月の入居者数（人） | G12: 月額賃料 （対象者分） （Ｅ＝Ａ/Ｄ×Ｂ） | H12: 補助対象者（Ｂ）の本人負担額 の合計（Ｆ） （円） | I12: 法人負担 （対象者分） （Ｇ＝ＥーＦ） （円） | J12: 基準額 （Ｈ＝Ｂ×3万円）（円） | K12: 選定額 （Ｇ・Ｈの少ない方）（円） | L12: 補助金 所要額（円） （補助率1/3）
D13: 補助対象者数（Ｂ） | E13: その他 の入居者数（Ｃ） | F13: 合計 （Ｄ＝Ｂ＋Ｃ）
B14: ４月分 | F14: =SUM(D14:E14) -> 0 | G14: =IFERROR(C14/F14*D14,0) -> 0 | I14: =IFERROR(G14-H14,0) -> 0 | J14: =30000*D14 -> 0 | K14: =MIN(I14,J14) -> 0
B15: ５月分 | F15: =SUM(D15:E15) -> 0 | G15: =IFERROR(C15/F15*D15,0) -> 0 | I15: =IFERROR(G15-H15,0) -> 0 | J15: =30000*D15 -> 0 | K15: =MIN(I15,J15) -> 0
B16: ６月分 | F16: =SUM(D16:E16) -> 0 | G16: =IFERROR(C16/F16*D16,0) -> 0 | I16: =IFERROR(G16-H16,0) -> 0 | J16: =30000*D16 -> 0 | K16: =MIN(I16,J16) -> 0
B17: ７月分 | F17: =SUM(D17:E17) -> 0 | G17: =IFERROR(C17/F17*D17,0) -> 0 | I17: =IFERROR(G17-H17,0) -> 0 | J17: =30000*D17 -> 0 | K17: =MIN(I17,J17) -> 0
B18: ８月分 | F18: =SUM(D18:E18) -> 0 | G18: =IFERROR(C18/F18*D18,0) -> 0 | I18: =IFERROR(G18-H18,0) -> 0 | J18: =30000*D18 -> 0 | K18: =MIN(I18,J18) -> 0
B19: ９月分 | F19: =SUM(D19:E19) -> 0 | G19: =IFERROR(C19/F19*D19,0) -> 0 | I19: =IFERROR(G19-H19,0) -> 0 | J19: =30000*D19 -> 0 | K19: =MIN(I19,J19) -> 0
B20: 10月分 | F20: =SUM(D20:E20) -> 0 | G20: =IFERROR(C20/F20*D20,0) -> 0 | I20: =IFERROR(G20-H20,0) -> 0 | J20: =30000*D20 -> 0 | K20: =MIN(I20,J20) -> 0
B21: 11月分 | F21: =SUM(D21:E21) -> 0 | G21: =IFERROR(C21/F21*D21,0) -> 0 | I21: =IFERROR(G21-H21,0) -> 0 | J21: =30000*D21 -> 0 | K21: =MIN(I21,J21) -> 0
B22: 12月分 | F22: =SUM(D22:E22) -> 0 | G22: =IFERROR(C22/F22*D22,0) -> 0 | I22: =IFERROR(G22-H22,0) -> 0 | J22: =30000*D22 -> 0 | K22: =MIN(I22,J22) -> 0
B23: １月分 | F23: =SUM(D23:E23) -> 0 | G23: =IFERROR(C23/F23*D23,0) -> 0 | I23: =IFERROR(G23-H23,0) -> 0 | J23: =30000*D23 -> 0 | K23: =MIN(I23,J23) -> 0
B24: ２月分 | F24: =SUM(D24:E24) -> 0 | G24: =IFERROR(C24/F24*D24,0) -> 0 | I24: =IFERROR(G24-H24,0) -> 0 | J24: =30000*D24 -> 0 | K24: =MIN(I24,J24) -> 0
B25: ３月分 | F25: =SUM(D25:E25) -> 0 | G25: =IFERROR(C25/F25*D25,0) -> 0 | I25: =IFERROR(G25-H25,0) -> 0 | J25: =30000*D25 -> 0 | K25: =MIN(I25,J25) -> 0
B26: 合計 | C26: =SUM(C14:C25) -> 0 | G26: =SUM(G14:G25) -> 0 | H26: =SUM(H14:H25) -> 0 | I26: =SUM(I14:I25) -> 0 | J26: =SUM(J14:J25) -> 0 | K26: =SUM(K14:K25) -> 0 | L26: =ROUNDDOWN(K26/3*1,-3) -> 0

Sheet 1-5（地域生活費）※職員ごとに作成してください (6)
A1: （別紙１－５）事業計画書（地域生活費） | J1: 外国人介護職員１人ごとに作成してください。
B4: １ 物件番号（別紙1-1） | D4: 6 | F4: ２ 住所
F6: 物件名
B7: ３ 対象となる外国人介護職員
C8: 氏名 | E8: 補助対象期間（月単位） | H8: 月額本人負担額 （円） | I8: 備考（年度内に入居した場合は入居日を記載。年度内に転出・転入がある、または予定がある場合も詳細を記入してください。）
E9: 月 | F9: ～ | G9: 月
B11: ４ 賃料及び入居負担額
C12: 月額賃料 （共益費含む） （Ａ）（円） | D12: 各月の入居者数（人） | G12: 月額賃料 （対象者分） （Ｅ＝Ａ/Ｄ×Ｂ） | H12: 補助対象者（Ｂ）の本人負担額 の合計（Ｆ） （円） | I12: 法人負担 （対象者分） （Ｇ＝ＥーＦ） （円） | J12: 基準額 （Ｈ＝Ｂ×3万円）（円） | K12: 選定額 （Ｇ・Ｈの少ない方）（円） | L12: 補助金 所要額（円） （補助率1/3）
D13: 補助対象者数（Ｂ） | E13: その他 の入居者数（Ｃ） | F13: 合計 （Ｄ＝Ｂ＋Ｃ）
B14: ４月分 | F14: =SUM(D14:E14) -> 0 | G14: =IFERROR(C14/F14*D14,0) -> 0 | I14: =IFERROR(G14-H14,0) -> 0 | J14: =30000*D14 -> 0 | K14: =MIN(I14,J14) -> 0
B15: ５月分 | F15: =SUM(D15:E15) -> 0 | G15: =IFERROR(C15/F15*D15,0) -> 0 | I15: =IFERROR(G15-H15,0) -> 0 | J15: =30000*D15 -> 0 | K15: =MIN(I15,J15) -> 0
B16: ６月分 | F16: =SUM(D16:E16) -> 0 | G16: =IFERROR(C16/F16*D16,0) -> 0 | I16: =IFERROR(G16-H16,0) -> 0 | J16: =30000*D16 -> 0 | K16: =MIN(I16,J16) -> 0
B17: ７月分 | F17: =SUM(D17:E17) -> 0 | G17: =IFERROR(C17/F17*D17,0) -> 0 | I17: =IFERROR(G17-H17,0) -> 0 | J17: =30000*D17 -> 0 | K17: =MIN(I17,J17) -> 0
B18: ８月分 | F18: =SUM(D18:E18) -> 0 | G18: =IFERROR(C18/F18*D18,0) -> 0 | I18: =IFERROR(G18-H18,0) -> 0 | J18: =30000*D18 -> 0 | K18: =MIN(I18,J18) -> 0
B19: ９月分 | F19: =SUM(D19:E19) -> 0 | G19: =IFERROR(C19/F19*D19,0) -> 0 | I19: =IFERROR(G19-H19,0) -> 0 | J19: =30000*D19 -> 0 | K19: =MIN(I19,J19) -> 0
B20: 10月分 | F20: =SUM(D20:E20) -> 0 | G20: =IFERROR(C20/F20*D20,0) -> 0 | I20: =IFERROR(G20-H20,0) -> 0 | J20: =30000*D20 -> 0 | K20: =MIN(I20,J20) -> 0
B21: 11月分 | F21: =SUM(D21:E21) -> 0 | G21: =IFERROR(C21/F21*D21,0) -> 0 | I21: =IFERROR(G21-H21,0) -> 0 | J21: =30000*D21 -> 0 | K21: =MIN(I21,J21) -> 0
B22: 12月分 | F22: =SUM(D22:E22) -> 0 | G22: =IFERROR(C22/F22*D22,0) -> 0 | I22: =IFERROR(G22-H22,0) -> 0 | J22: =30000*D22 -> 0 | K22: =MIN(I22,J22) -> 0
B23: １月分 | F23: =SUM(D23:E23) -> 0 | G23: =IFERROR(C23/F23*D23,0) -> 0 | I23: =IFERROR(G23-H23,0) -> 0 | J23: =30000*D23 -> 0 | K23: =MIN(I23,J23) -> 0
B24: ２月分 | F24: =SUM(D24:E24) -> 0 | G24: =IFERROR(C24/F24*D24,0) -> 0 | I24: =IFERROR(G24-H24,0) -> 0 | J24: =30000*D24 -> 0 | K24: =MIN(I24,J24) -> 0
B25: ３月分 | F25: =SUM(D25:E25) -> 0 | G25: =IFERROR(C25/F25*D25,0) -> 0 | I25: =IFERROR(G25-H25,0) -> 0 | J25: =30000*D25 -> 0 | K25: =MIN(I25,J25) -> 0
B26: 合計 | C26: =SUM(C14:C25) -> 0 | G26: =SUM(G14:G25) -> 0 | H26: =SUM(H14:H25) -> 0 | I26: =SUM(I14:I25) -> 0 | J26: =SUM(J14:J25) -> 0 | K26: =SUM(K14:K25) -> 0 | L26: =ROUNDDOWN(K26/3*1,-3) -> 0

Sheet 1-5（地域生活費）※職員ごとに作成してください (7)
A1: （別紙１－５）事業計画書（地域生活費） | J1: 外国人介護職員１人ごとに作成してください。
B4: １ 物件番号（別紙1-1） | D4: 7 | F4: ２ 住所
F6: 物件名
B7: ３ 対象となる外国人介護職員
C8: 氏名 | E8: 補助対象期間（月単位） | H8: 月額本人負担額 （円） | I8: 備考（年度内に入居した場合は入居日を記載。年度内に転出・転入がある、または予定がある場合も詳細を記入してください。）
E9: 月 | F9: ～ | G9: 月
B11: ４ 賃料及び入居負担額
C12: 月額賃料 （共益費含む） （Ａ）（円） | D12: 各月の入居者数（人） | G12: 月額賃料 （対象者分） （Ｅ＝Ａ/Ｄ×Ｂ） | H12: 補助対象者（Ｂ）の本人負担額 の合計（Ｆ） （円） | I12: 法人負担 （対象者分） （Ｇ＝ＥーＦ） （円） | J12: 基準額 （Ｈ＝Ｂ×3万円）（円） | K12: 選定額 （Ｇ・Ｈの少ない方）（円） | L12: 補助金 所要額（円） （補助率1/3）
D13: 補助対象者数（Ｂ） | E13: その他 の入居者数（Ｃ） | F13: 合計 （Ｄ＝Ｂ＋Ｃ）
B14: ４月分 | F14: =SUM(D14:E14) -> 0 | G14: =IFERROR(C14/F14*D14,0) -> 0 | I14: =IFERROR(G14-H14,0) -> 0 | J14: =30000*D14 -> 0 | K14: =MIN(I14,J14) -> 0
B15: ５月分 | F15: =SUM(D15:E15) -> 0 | G15: =IFERROR(C15/F15*D15,0) -> 0 | I15: =IFERROR(G15-H15,0) -> 0 | J15: =30000*D15 -> 0 | K15: =MIN(I15,J15) -> 0
B16: ６月分 | F16: =SUM(D16:E16) -> 0 | G16: =IFERROR(C16/F16*D16,0) -> 0 | I16: =IFERROR(G16-H16,0) -> 0 | J16: =30000*D16 -> 0 | K16: =MIN(I16,J16) -> 0
B17: ７月分 | F17: =SUM(D17:E17) -> 0 | G17: =IFERROR(C17/F17*D17,0) -> 0 | I17: =IFERROR(G17-H17,0) -> 0 | J17: =30000*D17 -> 0 | K17: =MIN(I17,J17) -> 0
B18: ８月分 | F18: =SUM(D18:E18) -> 0 | G18: =IFERROR(C18/F18*D18,0) -> 0 | I18: =IFERROR(G18-H18,0) -> 0 | J18: =30000*D18 -> 0 | K18: =MIN(I18,J18) -> 0
B19: ９月分 | F19: =SUM(D19:E19) -> 0 | G19: =IFERROR(C19/F19*D19,0) -> 0 | I19: =IFERROR(G19-H19,0) -> 0 | J19: =30000*D19 -> 0 | K19: =MIN(I19,J19) -> 0
B20: 10月分 | F20: =SUM(D20:E20) -> 0 | G20: =IFERROR(C20/F20*D20,0) -> 0 | I20: =IFERROR(G20-H20,0) -> 0 | J20: =30000*D20 -> 0 | K20: =MIN(I20,J20) -> 0
B21: 11月分 | F21: =SUM(D21:E21) -> 0 | G21: =IFERROR(C21/F21*D21,0) -> 0 | I21: =IFERROR(G21-H21,0) -> 0 | J21: =30000*D21 -> 0 | K21: =MIN(I21,J21) -> 0
B22: 12月分 | F22: =SUM(D22:E22) -> 0 | G22: =IFERROR(C22/F22*D22,0) -> 0 | I22: =IFERROR(G22-H22,0) -> 0 | J22: =30000*D22 -> 0 | K22: =MIN(I22,J22) -> 0
B23: １月分 | F23: =SUM(D23:E23) -> 0 | G23: =IFERROR(C23/F23*D23,0) -> 0 | I23: =IFERROR(G23-H23,0) -> 0 | J23: =30000*D23 -> 0 | K23: =MIN(I23,J23) -> 0
B24: ２月分 | F24: =SUM(D24:E24) -> 0 | G24: =IFERROR(C24/F24*D24,0) -> 0 | I24: =IFERROR(G24-H24,0) -> 0 | J24: =30000*D24 -> 0 | K24: =MIN(I24,J24) -> 0
B25: ３月分 | F25: =SUM(D25:E25) -> 0 | G25: =IFERROR(C25/F25*D25,0) -> 0 | I25: =IFERROR(G25-H25,0) -> 0 | J25: =30000*D25 -> 0 | K25: =MIN(I25,J25) -> 0
B26: 合計 | C26: =SUM(C14:C25) -> 0 | G26: =SUM(G14:G25) -> 0 | H26: =SUM(H14:H25) -> 0 | I26: =SUM(I14:I25) -> 0 | J26: =SUM(J14:J25) -> 0 | K26: =SUM(K14:K25) -> 0 | L26: =ROUNDDOWN(K26/3*1,-3) -> 0

Sheet 1-5（地域生活費）※職員ごとに作成してください (8)
A1: （別紙１－５）事業計画書（地域生活費） | J1: 外国人介護職員１人ごとに作成してください。
B4: １ 物件番号（別紙1-1） | D4: 8 | F4: ２ 住所
F6: 物件名
B7: ３ 対象となる外国人介護職員
C8: 氏名 | E8: 補助対象期間（月単位） | H8: 月額本人負担額 （円） | I8: 備考（年度内に入居した場合は入居日を記載。年度内に転出・転入がある、または予定がある場合も詳細を記入してください。）
E9: 月 | F9: ～ | G9: 月
B11: ４ 賃料及び入居負担額
C12: 月額賃料 （共益費含む） （Ａ）（円） | D12: 各月の入居者数（人） | G12: 月額賃料 （対象者分） （Ｅ＝Ａ/Ｄ×Ｂ） | H12: 補助対象者（Ｂ）の本人負担額 の合計（Ｆ） （円） | I12: 法人負担 （対象者分） （Ｇ＝ＥーＦ） （円） | J12: 基準額 （Ｈ＝Ｂ×3万円）（円） | K12: 選定額 （Ｇ・Ｈの少ない方）（円） | L12: 補助金 所要額（円） （補助率1/3）
D13: 補助対象者数（Ｂ） | E13: その他 の入居者数（Ｃ） | F13: 合計 （Ｄ＝Ｂ＋Ｃ）
B14: ４月分 | F14: =SUM(D14:E14) -> 0 | G14: =IFERROR(C14/F14*D14,0) -> 0 | I14: =IFERROR(G14-H14,0) -> 0 | J14: =30000*D14 -> 0 | K14: =MIN(I14,J14) -> 0
B15: ５月分 | F15: =SUM(D15:E15) -> 0 | G15: =IFERROR(C15/F15*D15,0) -> 0 | I15: =IFERROR(G15-H15,0) -> 0 | J15: =30000*D15 -> 0 | K15: =MIN(I15,J15) -> 0
B16: ６月分 | F16: =SUM(D16:E16) -> 0 | G16: =IFERROR(C16/F16*D16,0) -> 0 | I16: =IFERROR(G16-H16,0) -> 0 | J16: =30000*D16 -> 0 | K16: =MIN(I16,J16) -> 0
B17: ７月分 | F17: =SUM(D17:E17) -> 0 | G17: =IFERROR(C17/F17*D17,0) -> 0 | I17: =IFERROR(G17-H17,0) -> 0 | J17: =30000*D17 -> 0 | K17: =MIN(I17,J17) -> 0
B18: ８月分 | F18: =SUM(D18:E18) -> 0 | G18: =IFERROR(C18/F18*D18,0) -> 0 | I18: =IFERROR(G18-H18,0) -> 0 | J18: =30000*D18 -> 0 | K18: =MIN(I18,J18) -> 0
B19: ９月分 | F19: =SUM(D19:E19) -> 0 | G19: =IFERROR(C19/F19*D19,0) -> 0 | I19: =IFERROR(G19-H19,0) -> 0 | J19: =30000*D19 -> 0 | K19: =MIN(I19,J19) -> 0
B20: 10月分 | F20: =SUM(D20:E20) -> 0 | G20: =IFERROR(C20/F20*D20,0) -> 0 | I20: =IFERROR(G20-H20,0) -> 0 | J20: =30000*D20 -> 0 | K20: =MIN(I20,J20) -> 0
B21: 11月分 | F21: =SUM(D21:E21) -> 0 | G21: =IFERROR(C21/F21*D21,0) -> 0 | I21: =IFERROR(G21-H21,0) -> 0 | J21: =30000*D21 -> 0 | K21: =MIN(I21,J21) -> 0
B22: 12月分 | F22: =SUM(D22:E22) -> 0 | G22: =IFERROR(C22/F22*D22,0) -> 0 | I22: =IFERROR(G22-H22,0) -> 0 | J22: =30000*D22 -> 0 | K22: =MIN(I22,J22) -> 0
B23: １月分 | F23: =SUM(D23:E23) -> 0 | G23: =IFERROR(C23/F23*D23,0) -> 0 | I23: =IFERROR(G23-H23,0) -> 0 | J23: =30000*D23 -> 0 | K23: =MIN(I23,J23) -> 0
B24: ２月分 | F24: =SUM(D24:E24) -> 0 | G24: =IFERROR(C24/F24*D24,0) -> 0 | I24: =IFERROR(G24-H24,0) -> 0 | J24: =30000*D24 -> 0 | K24: =MIN(I24,J24) -> 0
B25: ３月分 | F25: =SUM(D25:E25) -> 0 | G25: =IFERROR(C25/F25*D25,0) -> 0 | I25: =IFERROR(G25-H25,0) -> 0 | J25: =30000*D25 -> 0 | K25: =MIN(I25,J25) -> 0
B26: 合計 | C26: =SUM(C14:C25) -> 0 | G26: =SUM(G14:G25) -> 0 | H26: =SUM(H14:H25) -> 0 | I26: =SUM(I14:I25) -> 0 | J26: =SUM(J14:J25) -> 0 | K26: =SUM(K14:K25) -> 0 | L26: =ROUNDDOWN(K26/3*1,-3) -> 0

Sheet 1-5（地域生活費）※職員ごとに作成してください (9)
A1: （別紙１－５）事業計画書（地域生活費） | J1: 外国人介護職員１人ごとに作成してください。
B4: １ 物件番号（別紙1-1） | D4: 9 | F4: ２ 住所
F6: 物件名
B7: ３ 対象となる外国人介護職員
C8: 氏名 | E8: 補助対象期間（月単位） | H8: 月額本人負担額 （円） | I8: 備考（年度内に入居した場合は入居日を記載。年度内に転出・転入がある、または予定がある場合も詳細を記入してください。）
E9: 月 | F9: ～ | G9: 月
B11: ４ 賃料及び入居負担額
C12: 月額賃料 （共益費含む） （Ａ）（円） | D12: 各月の入居者数（人） | G12: 月額賃料 （対象者分） （Ｅ＝Ａ/Ｄ×Ｂ） | H12: 補助対象者（Ｂ）の本人負担額 の合計（Ｆ） （円） | I12: 法人負担 （対象者分） （Ｇ＝ＥーＦ） （円） | J12: 基準額 （Ｈ＝Ｂ×3万円）（円） | K12: 選定額 （Ｇ・Ｈの少ない方）（円） | L12: 補助金 所要額（円） （補助率1/3）
D13: 補助対象者数（Ｂ） | E13: その他 の入居者数（Ｃ） | F13: 合計 （Ｄ＝Ｂ＋Ｃ）
B14: ４月分 | F14: =SUM(D14:E14) -> 0 | G14: =IFERROR(C14/F14*D14,0) -> 0 | I14: =IFERROR(G14-H14,0) -> 0 | J14: =30000*D14 -> 0 | K14: =MIN(I14,J14) -> 0
B15: ５月分 | F15: =SUM(D15:E15) -> 0 | G15: =IFERROR(C15/F15*D15,0) -> 0 | I15: =IFERROR(G15-H15,0) -> 0 | J15: =30000*D15 -> 0 | K15: =MIN(I15,J15) -> 0
B16: ６月分 | F16: =SUM(D16:E16) -> 0 | G16: =IFERROR(C16/F16*D16,0) -> 0 | I16: =IFERROR(G16-H16,0) -> 0 | J16: =30000*D16 -> 0 | K16: =MIN(I16,J16) -> 0
B17: ７月分 | F17: =SUM(D17:E17) -> 0 | G17: =IFERROR(C17/F17*D17,0) -> 0 | I17: =IFERROR(G17-H17,0) -> 0 | J17: =30000*D17 -> 0 | K17: =MIN(I17,J17) -> 0
B18: ８月分 | F18: =SUM(D18:E18) -> 0 | G18: =IFERROR(C18/F18*D18,0) -> 0 | I18: =IFERROR(G18-H18,0) -> 0 | J18: =30000*D18 -> 0 | K18: =MIN(I18,J18) -> 0
B19: ９月分 | F19: =SUM(D19:E19) -> 0 | G19: =IFERROR(C19/F19*D19,0) -> 0 | I19: =IFERROR(G19-H19,0) -> 0 | J19: =30000*D19 -> 0 | K19: =MIN(I19,J19) -> 0
B20: 10月分 | F20: =SUM(D20:E20) -> 0 | G20: =IFERROR(C20/F20*D20,0) -> 0 | I20: =IFERROR(G20-H20,0) -> 0 | J20: =30000*D20 -> 0 | K20: =MIN(I20,J20) -> 0
B21: 11月分 | F21: =SUM(D21:E21) -> 0 | G21: =IFERROR(C21/F21*D21,0) -> 0 | I21: =IFERROR(G21-H21,0) -> 0 | J21: =30000*D21 -> 0 | K21: =MIN(I21,J21) -> 0
B22: 12月分 | F22: =SUM(D22:E22) -> 0 | G22: =IFERROR(C22/F22*D22,0) -> 0 | I22: =IFERROR(G22-H22,0) -> 0 | J22: =30000*D22 -> 0 | K22: =MIN(I22,J22) -> 0
B23: １月分 | F23: =SUM(D23:E23) -> 0 | G23: =IFERROR(C23/F23*D23,0) -> 0 | I23: =IFERROR(G23-H23,0) -> 0 | J23: =30000*D23 -> 0 | K23: =MIN(I23,J23) -> 0
B24: ２月分 | F24: =SUM(D24:E24) -> 0 | G24: =IFERROR(C24/F24*D24,0) -> 0 | I24: =IFERROR(G24-H24,0) -> 0 | J24: =30000*D24 -> 0 | K24: =MIN(I24,J24) -> 0
B25: ３月分 | F25: =SUM(D25:E25) -> 0 | G25: =IFERROR(C25/F25*D25,0) -> 0 | I25: =IFERROR(G25-H25,0) -> 0 | J25: =30000*D25 -> 0 | K25: =MIN(I25,J25) -> 0
B26: 合計 | C26: =SUM(C14:C25) -> 0 | G26: =SUM(G14:G25) -> 0 | H26: =SUM(H14:H25) -> 0 | I26: =SUM(I14:I25) -> 0 | J26: =SUM(J14:J25) -> 0 | K26: =SUM(K14:K25) -> 0 | L26: =ROUNDDOWN(K26/3*1,-3) -> 0

Sheet 1-5（地域生活費）※職員ごとに作成してください (10)
A1: （別紙１－５）事業計画書（地域生活費） | J1: 外国人介護職員１人ごとに作成してください。
B4: １ 物件番号（別紙1-1） | D4: 10 | F4: ２ 住所
F6: 物件名
B7: ３ 対象となる外国人介護職員
C8: 氏名 | E8: 補助対象期間（月単位） | H8: 月額本人負担額 （円） | I8: 備考（年度内に入居した場合は入居日を記載。年度内に転出・転入がある、または予定がある場合も詳細を記入してください。）
E9: 月 | F9: ～ | G9: 月
B11: ４ 賃料及び入居負担額
C12: 月額賃料 （共益費含む） （Ａ）（円） | D12: 各月の入居者数（人） | G12: 月額賃料 （対象者分） （Ｅ＝Ａ/Ｄ×Ｂ） | H12: 補助対象者（Ｂ）の本人負担額 の合計（Ｆ） （円） | I12: 法人負担 （対象者分） （Ｇ＝ＥーＦ） （円） | J12: 基準額 （Ｈ＝Ｂ×3万円）（円） | K12: 選定額 （Ｇ・Ｈの少ない方）（円） | L12: 補助金 所要額（円） （補助率1/3）
D13: 補助対象者数（Ｂ） | E13: その他 の入居者数（Ｃ） | F13: 合計 （Ｄ＝Ｂ＋Ｃ）
B14: ４月分 | F14: =SUM(D14:E14) -> 0 | G14: =IFERROR(C14/F14*D14,0) -> 0 | I14: =IFERROR(G14-H14,0) -> 0 | J14: =30000*D14 -> 0 | K14: =MIN(I14,J14) -> 0
B15: ５月分 | F15: =SUM(D15:E15) -> 0 | G15: =IFERROR(C15/F15*D15,0) -> 0 | I15: =IFERROR(G15-H15,0) -> 0 | J15: =30000*D15 -> 0 | K15: =MIN(I15,J15) -> 0
B16: ６月分 | F16: =SUM(D16:E16) -> 0 | G16: =IFERROR(C16/F16*D16,0) -> 0 | I16: =IFERROR(G16-H16,0) -> 0 | J16: =30000*D16 -> 0 | K16: =MIN(I16,J16) -> 0
B17: ７月分 | F17: =SUM(D17:E17) -> 0 | G17: =IFERROR(C17/F17*D17,0) -> 0 | I17: =IFERROR(G17-H17,0) -> 0 | J17: =30000*D17 -> 0 | K17: =MIN(I17,J17) -> 0
B18: ８月分 | F18: =SUM(D18:E18) -> 0 | G18: =IFERROR(C18/F18*D18,0) -> 0 | I18: =IFERROR(G18-H18,0) -> 0 | J18: =30000*D18 -> 0 | K18: =MIN(I18,J18) -> 0
B19: ９月分 | F19: =SUM(D19:E19) -> 0 | G19: =IFERROR(C19/F19*D19,0) -> 0 | I19: =IFERROR(G19-H19,0) -> 0 | J19: =30000*D19 -> 0 | K19: =MIN(I19,J19) -> 0
B20: 10月分 | F20: =SUM(D20:E20) -> 0 | G20: =IFERROR(C20/F20*D20,0) -> 0 | I20: =IFERROR(G20-H20,0) -> 0 | J20: =30000*D20 -> 0 | K20: =MIN(I20,J20) -> 0
B21: 11月分 | F21: =SUM(D21:E21) -> 0 | G21: =IFERROR(C21/F21*D21,0) -> 0 | I21: =IFERROR(G21-H21,0) -> 0 | J21: =30000*D21 -> 0 | K21: =MIN(I21,J21) -> 0
B22: 12月分 | F22: =SUM(D22:E22) -> 0 | G22: =IFERROR(C22/F22*D22,0) -> 0 | I22: =IFERROR(G22-H22,0) -> 0 | J22: =30000*D22 -> 0 | K22: =MIN(I22,J22) -> 0
B23: １月分 | F23: =SUM(D23:E23) -> 0 | G23: =IFERROR(C23/F23*D23,0) -> 0 | I23: =IFERROR(G23-H23,0) -> 0 | J23: =30000*D23 -> 0 | K23: =MIN(I23,J23) -> 0
B24: ２月分 | F24: =SUM(D24:E24) -> 0 | G24: =IFERROR(C24/F24*D24,0) -> 0 | I24: =IFERROR(G24-H24,0) -> 0 | J24: =30000*D24 -> 0 | K24: =MIN(I24,J24) -> 0
B25: ３月分 | F25: =SUM(D25:E25) -> 0 | G25: =IFERROR(C25/F25*D25,0) -> 0 | I25: =IFERROR(G25-H25,0) -> 0 | J25: =30000*D25 -> 0 | K25: =MIN(I25,J25) -> 0
B26: 合計 | C26: =SUM(C14:C25) -> 0 | G26: =SUM(G14:G25) -> 0 | H26: =SUM(H14:H25) -> 0 | I26: =SUM(I14:I25) -> 0 | J26: =SUM(J14:J25) -> 0 | K26: =SUM(K14:K25) -> 0 | L26: =ROUNDDOWN(K26/3*1,-3) -> 0
