{"text_format":"1","workbook":"xlsx","n_sheets":4,"sheets":["様式3号　変更廃止届","登録シート【大幅に変更の場合】","データ処理","Sheet1"],"not_rendered":{"charts":0,"images":0,"macros":1,"external_links":1,"defined_names":1,"comments":1,"pivot_tables":0},"unopened":[],"bounds":{"document_bytes":16777216,"sheet_cells":100000,"rows_first":2000,"rows_last":500,"rows_between":2000,"halvings":0,"cell_chars":16384,"cell_head_chars":4096},"cells_cut":0,"cells_raw":0,"read":"whole","date_system":"1900"}

{"sheet":"様式3号　変更廃止届","index":0,"n_rows":57,"n_cols":21,"rows_kept":57,"cut":false,"hidden":false,"merged":[[52,5,52,6],[52,7,52,8],[52,10,52,11],[52,13,52,14],[36,2,36,10],[36,12,36,22],[37,2,41,10],[37,12,41,22],[49,2,50,22],[33,2,33,10],[33,12,33,22],[34,2,34,10],[34,12,34,22],[35,2,35,10],[35,12,35,22],[19,2,20,22],[26,2,26,10],[26,11,41,11],[26,12,26,22],[27,1,29,1],[27,2,29,10],[27,12,29,22],[30,1,32,1],[30,2,32,10],[30,12,32,22],[38,1,41,1],[12,9,12,12],[12,13,12,22],[16,5,16,6],[16,7,16,8],[16,10,16,11],[16,13,16,14],[11,9,11,12],[11,13,11,22],[2,1,2,22],[3,10,3,11],[3,12,3,13],[3,15,3,16],[3,18,3,19],[5,0,5,6],[6,1,6,8],[8,9,8,12],[8,13,8,22],[9,9,10,12],[9,13,10,22]]}
[null,"様式第３号"]
[]
[null,"埼玉県プラチナ・サポート・ショップ　変更・廃止届"]
[null,null,null,null,null,null,null,null,null,null,"令和",null,null,null,"年",null,null,"月",null,null,"日"]
["　　埼玉県福祉部地域包括ケア課　あて"]
[]
[]
[null,null,null,null,null,null,null,null,null,"【届出者】"]
[null,null,null,null,null,null,null,null,null,"店舗、施設\nの名称"]
[null,null,null,null,null,null,null,null,null,"所在地"]
[]
[null,null,null,null,null,null,null,null,null,"担当者"]
[null,null,null,null,null,null,null,null,null,"電話"]
[]
[null,"１　協賛内容を以下のとおり変更したいので届け出ます。"]
[]
[null,"　（１）変更の時期",null,null,null,"令和",null,null,null,"年",null,null,"月",null,null,"日"]
[]
[null,"　（２）変更の理由・概要"]
[]
[]
[]
[null,"　（３）変更の内容については、下記の①もしくは②のどちらかに記入してください。"]
[]
[null,"　①変更の内容（軽微な場合）"]
[]
[null,null,"変更前",null,null,null,null,null,null,null,null,null,"変更後"]
[null,"サービス内容"]
[]
[]
[null,"店舗、施設等の名称"]
[]
[]
[null,"電話"]
[null,"ＦＡＸ"]
[null,"電子メール"]
[null,"ホームページ\nＵＲＬ"]
[null,"その他"]
[]
[]
[]
[]
[null,"　"]
[null,"　②変更の内容（大幅に変更する場合）"]
[null,"　　別シートの「【埼玉県プラチナ・サポート・ショップ情報システム】登録シート」に変更後の"]
[null,"　情報を記入してください。"]
[null,"２　協賛を廃止したいので届け出ます。"]
[]
[null,"　（１）廃止の理由・廃止するサービス等"]
[]
[]
[]
[null,"　（２）廃止の時期",null,null,null,"令和",null,null,null,"年",null,null,"月",null,null,"日"]
[]
[]
[null,"※　該当する事項のみ記入してください。"]
[null,"※　特別の事情がない限り、変更・廃止の１か月前までに届け出てください。"]

{"sheet":"登録シート【大幅に変更の場合】","index":1,"n_rows":724,"n_cols":165,"rows_kept":724,"cut":false,"hidden":false,"merged":[[668,160,681,160],[668,161,681,161],[668,162,681,162],[668,163,681,163],[668,164,681,164],[682,160,695,160],[682,161,695,161],[682,162,695,162],[682,163,695,163],[682,164,695,164],[696,160,709,160],[696,161,709,161],[696,162,709,162],[696,163,709,163],[696,164,709,164],[710,160,723,160],[710,161,723,161],[710,162,723,162],[710,163,723,163],[710,164,723,164],[612,160,625,160],[612,161,625,161],[612,162,625,162],[612,163,625,163],[612,164,625,164],[626,160,639,160],[626,161,639,161],[626,162,639,162],[626,163,639,163],[626,164,639,164],[640,160,653,160],[640,161,653,161],[640,162,653,162],[640,163,653,163],[640,164,653,164],[654,160,667,160],[654,161,667,161],[654,162,667,162],[654,163,667,163],[654,164,667,164],[556,160,569,160],[556,161,569,161],[556,162,569,162],[556,163,569,163],[556,164,569,164],[570,160,583,160],[570,161,583,161],[570,162,583,162],[570,163,583,163],[570,164,583,164],[584,160,597,160],[584,161,597,161],[584,162,597,162],[584,163,597,163],[584,164,597,164],[598,160,611,160],[598,161,611,161],[598,162,611,162],[598,163,611,163],[598,164,611,164],[500,160,513,160],[500,161,513,161],[500,162,513,162],[500,163,513,163],[500,164,513,164],[514,160,527,160],[514,161,527,161],[514,162,527,162],[514,163,527,163],[514,164,527,164],[528,160,541,160],[528,161,541,161],[528,162,541,162],[528,163,541,163],[528,164,541,164],[542,160,555,160],[542,161,555,161],[542,162,555,162],[542,163,555,163],[542,164,555,164],[444,160,457,160],[444,161,457,161],[444,162,457,162],[444,163,457,163],[444,164,457,164],[458,160,471,160],[458,161,471,161],[458,162,471,162],[458,163,471,163],[458,164,471,164],[472,160,485,160],[472,161,485,161],[472,162,485,162],[472,163,485,163],[472,164,485,164],[486,160,499,160],[486,161,499,161],[486,162,499,162],[486,163,499,163],[486,164,499,164],[388,160,401,160],[388,161,401,161],[388,162,401,162],[388,163,401,163],[388,164,401,164],[402,160,415,160],[402,161,415,161],[402,162,415,162],[402,163,415,163],[402,164,415,164],[416,160,429,160],[416,161,429,161],[416,162,429,162],[416,163,429,163],[416,164,429,164],[430,160,443,160],[430,161,443,161],[430,162,443,162],[430,163,443,163],[430,164,443,164],[332,160,345,160],[332,161,345,161],[332,162,345,162],[332,163,345,163],[332,164,345,164],[346,160,359,160],[346,161,359,161],[346,162,359,162],[346,163,359,163],[346,164,359,164],[360,160,373,160],[360,161,373,161],[360,162,373,162],[360,163,373,163],[360,164,373,164],[374,160,387,160],[374,161,387,161],[374,162,387,162],[374,163,387,163],[374,164,387,164],[276,160,289,160],[276,161,289,161],[276,162,289,162],[276,163,289,163],[276,164,289,164],[290,160,303,160],[290,161,303,161],[290,162,303,162],[290,163,303,163],[290,164,303,164],[304,160,317,160],[304,161,317,161],[304,162,317,162],[304,163,317,163],[304,164,317,164],[318,160,331,160],[318,161,331,161],[318,162,331,162],[318,163,331,163],[318,164,331,164],[220,160,233,160],[220,161,233,161],[220,162,233,162],[220,163,233,163],[220,164,233,164],[234,160,247,160],[234,161,247,161],[234,162,247,162],[234,163,247,163],[234,164,247,164],[248,160,261,160],[248,161,261,161],[248,162,261,162],[248,163,261,163],[248,164,261,164],[262,160,275,160],[262,161,275,161],[262,162,275,162],[262,163,275,163],[262,164,275,164],[164,160,177,160],[164,161,177,161],[164,162,177,162],[164,163,177,163],[164,164,177,164],[178,160,191,160],[178,161,191,161],[178,162,191,162],[178,163,191,163],[178,164,191,164],[192,160,205,160],[192,161,205,161],[192,162,205,162],[192,163,205,163],[192,164,205,164],[206,160,219,160],[206,161,219,161],[206,162,219,162],[206,163,219,163],[206,164,219,164],[108,160,121,160],[108,161,121,161],[108,162,121,162],[108,163,121,163],[108,164,121,164],[122,160,135,160],[122,161,135,161],[122,162,135,162],[122,163,135,163],[122,164,135,164],[136,160,149,160],[136,161,149,161],[136,162,149,162],[136,163,149,163],[136,164,149,164],[150,160,163,160],[150,161,163,161],[150,162,163,162],[150,163,163,163],[150,164,163,164],[52,160,65,160],[52,161,65,161],[52,162,65,162],[52,163,65,163],[52,164,65,164],[66,160,79,160],[66,161,79,161],[66,162,79,162],[66,163,79,163],[66,164,79,164],[80,160,93,160],[80,161,93,161],[80,162,93,162],[80,163,93,163],[80,164,93,164],[94,160,107,160],[94,161,107,161],[94,162,107,162],[94,163,107,163],[94,164,107,164],[7,159,7,160],[7,161,7,162],[7,163,7,164],[8,144,8,145],[9,144,9,145],[10,160,23,160],[10,161,23,161],[10,162,23,162],[10,163,23,163],[10,164,23,164],[24,160,37,160],[24,161,37,161],[24,162,37,162],[24,163,37,163],[24,164,37,164],[38,160,51,160],[38,161,51,161],[38,162,51,162],[38,163,51,163],[38,164,51,164],[1,0,1,1],[38,0,51,0],[38,1,51,1],[38,2,51,2],[38,3,51,3],[38,4,51,4],[38,5,51,5],[38,6,51,6],[38,7,51,7],[38,8,51,8],[38,9,51,9],[38,10,51,10],[38,11,51,11],[9,54,9,55],[9,12,9,13],[10,20,23,20],[10,53,23,53],[24,20,37,20],[10,18,23,18],[10,11,23,11],[10,16,23,16],[10,12,23,12],[38,12,51,12],[38,13,51,13],[38,14,51,14],[38,15,51,15],[10,13,23,13],[10,15,23,15],[10,14,23,14],[10,17,23,17],[10,5,23,5],[10,6,23,6],[10,7,23,7],[7,67,8,70],[10,19,23,19],[10,0,23,0],[10,1,23,1],[10,2,23,2],[10,3,23,3],[10,4,23,4],[10,10,23,10],[10,148,23,148],[10,149,23,149],[10,150,23,150],[10,151,23,151],[10,158,23,158],[10,159,23,159],[7,65,7,66],[8,65,8,66],[9,65,9,66],[7,77,7,78],[8,77,8,78],[9,77,9,78],[9,101,9,102],[8,107,8,108],[9,107,9,108],[8,71,8,72],[9,71,9,72],[9,89,9,90],[8,95,8,96],[9,95,9,96],[8,83,8,84],[9,83,9,84],[8,89,8,90],[7,132,7,133],[8,132,8,133],[9,132,9,133],[7,137,7,138],[8,101,8,102],[10,152,23,152],[10,153,23,153],[10,154,23,154],[10,155,23,155],[10,88,23,88],[10,94,23,94],[7,146,7,148],[7,149,7,150],[7,151,7,152],[7,153,7,154],[7,155,7,156],[10,156,23,156],[10,157,23,157],[7,122,7,123],[10,100,23,100],[10,120,23,120],[10,122,23,122],[10,123,23,123],[10,125,23,125],[10,143,23,143],[8,113,8,114],[8,137,8,138],[9,137,9,138],[10,136,23,136],[10,141,23,141],[10,131,23,131],[10,126,23,126],[10,130,23,130],[10,142,23,142],[9,113,9,114],[7,157,7,158],[3,1,3,9],[4,1,4,10],[7,10,7,16],[7,83,7,84],[7,17,7,18],[7,19,7,20],[7,71,7,72],[6,49,6,50],[7,144,7,145],[7,134,7,136],[7,139,7,141],[7,1,7,9],[7,73,7,76],[7,79,7,82],[7,85,7,88],[7,91,7,94],[7,97,7,100],[7,101,7,102],[7,115,7,119],[7,113,7,114],[7,103,7,106],[7,109,7,112],[7,89,7,90],[7,95,7,96],[7,107,7,108],[7,33,7,34],[6,18,6,20],[6,21,6,22],[6,25,6,26],[6,29,6,30],[6,33,6,34],[7,21,7,22],[24,82,37,82],[24,88,37,88],[8,21,8,22],[9,21,9,22],[9,25,9,26],[8,25,8,26],[7,25,7,26],[7,29,7,30],[6,37,6,38],[6,41,6,42],[6,45,6,46],[10,129,23,129],[10,121,23,121],[10,106,23,106],[10,112,23,112],[10,118,23,118],[7,61,8,64],[9,37,9,38],[8,29,8,30],[9,29,9,30],[7,23,8,24],[7,27,8,28],[7,45,7,46],[7,54,7,55],[8,33,8,34],[9,33,9,34],[7,37,7,38],[8,37,8,38],[8,41,8,42],[9,41,9,42],[7,43,8,44],[7,47,8,48],[10,8,23,8],[10,9,23,9],[24,12,37,12],[24,13,37,13],[24,14,37,14],[7,59,7,60],[8,59,8,60],[7,31,8,32],[7,35,8,36],[7,39,8,40],[8,54,8,55],[9,59,9,60],[7,56,8,58],[7,41,7,42],[10,57,23,57],[24,18,37,18],[24,19,37,19],[24,53,37,53],[10,58,23,58],[7,51,8,53],[8,45,8,46],[9,45,9,46],[7,49,7,50],[8,49,8,50],[9,49,9,50],[24,0,37,0],[24,1,37,1],[24,2,37,2],[24,3,37,3],[24,4,37,4],[24,5,37,5],[24,15,37,15],[24,16,37,16],[24,17,37,17],[24,6,37,6],[24,7,37,7],[24,8,37,8],[24,9,37,9],[24,10,37,10],[24,11,37,11],[24,57,37,57],[24,58,37,58],[24,112,37,112],[24,118,37,118],[24,119,37,119],[24,120,37,120],[24,121,37,121],[24,122,37,122],[24,123,37,123],[24,151,37,151],[24,124,37,124],[24,125,37,125],[24,126,37,126],[24,127,37,127],[24,128,37,128],[24,129,37,129],[24,130,37,130],[24,141,37,141],[10,64,23,64],[10,70,23,70],[10,76,23,76],[10,82,23,82],[24,131,37,131],[24,136,37,136],[10,124,23,124],[10,127,23,127],[10,128,23,128],[10,119,23,119],[24,94,37,94],[24,100,37,100],[24,106,37,106],[24,64,37,64],[24,70,37,70],[24,76,37,76],[24,152,37,152],[24,153,37,153],[24,154,37,154],[24,155,37,155],[24,156,37,156],[24,157,37,157],[24,158,37,158],[24,159,37,159],[24,143,37,143],[24,148,37,148],[24,149,37,149],[24,150,37,150],[38,157,51,157],[38,158,51,158],[38,159,51,159],[38,148,51,148],[38,149,51,149],[38,150,51,150],[38,151,51,151],[38,152,51,152],[38,153,51,153],[38,143,51,143],[38,156,51,156],[38,154,51,154],[38,155,51,155],[38,20,51,20],[38,53,51,53],[38,57,51,57],[38,58,51,58],[38,126,51,126],[38,127,51,127],[38,70,51,70],[38,76,51,76],[38,82,51,82],[38,88,51,88],[38,94,51,94],[38,100,51,100],[38,106,51,106],[38,118,51,118],[38,119,51,119],[38,120,51,120],[38,121,51,121],[38,122,51,122],[38,64,51,64],[38,124,51,124],[38,125,51,125],[38,128,51,128],[38,129,51,129],[38,123,51,123],[52,123,65,123],[52,124,65,124],[52,125,65,125],[52,126,65,126],[52,127,65,127],[52,128,65,128],[52,129,65,129],[52,94,65,94],[52,100,65,100],[52,106,65,106],[52,112,65,112],[52,118,65,118],[38,130,51,130],[38,131,51,131],[38,136,51,136],[38,141,51,141],[52,154,65,154],[52,155,65,155],[52,153,65,153],[52,148,65,148],[52,149,65,149],[52,150,65,150],[52,151,65,151],[66,131,79,131],[66,136,79,136],[66,141,79,141],[66,120,79,120],[66,6,79,6],[66,7,79,7],[66,8,79,8],[52,76,65,76],[52,82,65,82],[66,118,79,118],[66,119,79,119],[38,112,51,112],[52,20,65,20],[52,53,65,53],[52,57,65,57],[52,58,65,58],[52,15,65,15],[52,14,65,14],[38,16,51,16],[38,17,51,17],[38,18,51,18],[38,19,51,19],[66,64,79,64],[66,158,79,158],[52,156,65,156],[52,157,65,157],[52,158,65,158],[66,151,79,151],[52,64,65,64],[52,70,65,70],[66,126,79,126],[66,127,79,127],[66,128,79,128],[66,159,79,159],[66,148,79,148],[66,121,79,121],[66,122,79,122],[66,123,79,123],[66,124,79,124],[66,125,79,125],[66,129,79,129],[66,149,79,149],[66,150,79,150],[66,70,79,70],[52,130,65,130],[66,130,79,130],[52,152,65,152],[52,131,65,131],[52,136,65,136],[66,15,79,15],[66,16,79,16],[66,17,79,17],[80,19,93,19],[80,20,93,20],[52,13,65,13],[52,159,65,159],[52,141,65,141],[52,143,65,143],[52,19,65,19],[52,119,65,119],[66,155,79,155],[66,156,79,156],[66,157,79,157],[52,18,65,18],[52,17,65,17],[52,16,65,16],[52,120,65,120],[52,121,65,121],[52,122,65,122],[52,88,65,88],[66,143,79,143],[66,152,79,152],[66,153,79,153],[66,154,79,154],[66,53,79,53],[66,57,79,57],[66,58,79,58],[52,1,65,1],[80,7,93,7],[80,8,93,8],[80,9,93,9],[80,10,93,10],[80,13,93,13],[66,9,79,9],[66,10,79,10],[66,11,79,11],[66,12,79,12],[66,13,79,13],[80,124,93,124],[80,125,93,125],[66,76,79,76],[66,82,79,82],[66,88,79,88],[66,94,79,94],[66,100,79,100],[66,106,79,106],[66,112,79,112],[80,120,93,120],[80,121,93,121],[80,122,93,122],[80,123,93,123],[80,14,93,14],[80,15,93,15],[80,16,93,16],[80,17,93,17],[80,18,93,18],[80,53,93,53],[80,57,93,57],[66,14,79,14],[52,0,65,0],[80,0,93,0],[80,1,93,1],[80,2,93,2],[80,3,93,3],[80,4,93,4],[80,11,93,11],[80,12,93,12],[66,0,79,0],[66,1,79,1],[66,2,79,2],[66,3,79,3],[66,4,79,4],[66,5,79,5],[80,5,93,5],[80,6,93,6],[80,126,93,126],[80,58,93,58],[66,18,79,18],[66,19,79,19],[66,20,79,20],[52,12,65,12],[52,11,65,11],[52,10,65,10],[52,9,65,9],[52,8,65,8],[52,7,65,7],[52,6,65,6],[52,5,65,5],[52,4,65,4],[52,3,65,3],[52,2,65,2],[80,154,93,154],[80,155,93,155],[80,127,93,127],[80,128,93,128],[80,129,93,129],[80,131,93,131],[80,136,93,136],[80,141,93,141],[80,143,93,143],[80,156,93,156],[80,157,93,157],[80,158,93,158],[80,159,93,159],[80,148,93,148],[80,149,93,149],[80,150,93,150],[80,151,93,151],[80,152,93,152],[80,153,93,153],[80,130,93,130],[94,0,107,0],[94,1,107,1],[94,2,107,2],[94,3,107,3],[94,4,107,4],[94,5,107,5],[94,6,107,6],[94,7,107,7],[94,8,107,8],[94,9,107,9],[94,10,107,10],[94,11,107,11],[94,12,107,12],[94,13,107,13],[94,14,107,14],[94,15,107,15],[94,16,107,16],[94,17,107,17],[94,18,107,18],[94,19,107,19],[94,20,107,20],[80,64,93,64],[94,100,107,100],[94,106,107,106],[94,112,107,112],[94,118,107,118],[94,119,107,119],[80,118,93,118],[80,119,93,119],[80,94,93,94],[80,100,93,100],[94,53,107,53],[94,57,107,57],[94,58,107,58],[94,64,107,64],[94,70,107,70],[80,112,93,112],[80,70,93,70],[80,76,93,76],[80,82,93,82],[80,88,93,88],[80,106,93,106],[94,155,107,155],[94,156,107,156],[94,129,107,129],[94,131,107,131],[94,136,107,136],[94,141,107,141],[94,143,107,143],[94,123,107,123],[94,124,107,124],[94,125,107,125],[94,152,107,152],[94,153,107,153],[94,154,107,154],[94,126,107,126],[94,127,107,127],[94,128,107,128],[94,76,107,76],[94,82,107,82],[94,88,107,88],[94,94,107,94],[94,120,107,120],[94,121,107,121],[94,122,107,122],[94,130,107,130],[94,157,107,157],[94,158,107,158],[94,159,107,159],[108,136,121,136],[108,141,121,141],[108,100,121,100],[108,106,121,106],[108,0,121,0],[108,1,121,1],[108,2,121,2],[108,3,121,3],[108,4,121,4],[108,5,121,5],[108,6,121,6],[108,7,121,7],[108,8,121,8],[108,9,121,9],[108,10,121,10],[108,11,121,11],[108,12,121,12],[108,13,121,13],[108,14,121,14],[108,15,121,15],[108,20,121,20],[94,148,107,148],[94,149,107,149],[94,150,107,150],[94,151,107,151],[108,16,121,16],[108,17,121,17],[108,18,121,18],[108,19,121,19],[108,151,121,151],[108,124,121,124],[108,125,121,125],[108,126,121,126],[108,127,121,127],[108,128,121,128],[108,129,121,129],[108,131,121,131],[108,112,121,112],[108,118,121,118],[108,119,121,119],[108,120,121,120],[108,121,121,121],[108,122,121,122],[108,123,121,123],[108,53,121,53],[108,57,121,57],[108,58,121,58],[108,64,121,64],[108,70,121,70],[108,76,121,76],[108,82,121,82],[108,88,121,88],[108,94,121,94],[108,152,121,152],[108,153,121,153],[108,154,121,154],[108,155,121,155],[108,156,121,156],[108,148,121,148],[108,149,121,149],[108,157,121,157],[108,158,121,158],[108,159,121,159],[122,0,135,0],[122,1,135,1],[122,2,135,2],[122,3,135,3],[122,4,135,4],[122,5,135,5],[122,6,135,6],[122,7,135,7],[122,8,135,8],[122,9,135,9],[122,10,135,10],[122,11,135,11],[122,12,135,12],[122,13,135,13],[122,14,135,14],[122,15,135,15],[108,143,121,143],[122,16,135,16],[122,17,135,17],[122,18,135,18],[122,19,135,19],[108,150,121,150],[122,70,135,70],[122,76,135,76],[122,82,135,82],[122,88,135,88],[122,94,135,94],[122,100,135,100],[122,106,135,106],[122,112,135,112],[122,118,135,118],[122,20,135,20],[122,53,135,53],[122,57,135,57],[122,58,135,58],[122,64,135,64],[108,130,121,130],[122,152,135,152],[122,119,135,119],[122,120,135,120],[122,153,135,153],[122,154,135,154],[122,155,135,155],[122,128,135,128],[122,129,135,129],[122,131,135,131],[122,136,135,136],[122,141,135,141],[122,143,135,143],[122,121,135,121],[122,122,135,122],[122,123,135,123],[122,124,135,124],[122,125,135,125],[122,126,135,126],[122,127,135,127],[122,130,135,130],[136,76,149,76],[136,82,149,82],[136,88,149,88],[122,156,135,156],[122,157,135,157],[122,148,135,148],[122,149,135,149],[122,150,135,150],[122,158,135,158],[122,159,135,159],[136,0,149,0],[136,1,149,1],[136,2,149,2],[136,3,149,3],[136,4,149,4],[136,5,149,5],[136,6,149,6],[136,7,149,7],[136,8,149,8],[136,9,149,9],[136,10,149,10],[136,11,149,11],[136,12,149,12],[136,13,149,13],[136,14,149,14],[136,15,149,15],[136,16,149,16],[136,17,149,17],[136,18,149,18],[136,19,149,19],[122,151,135,151],[136,159,149,159],[136,141,149,141],[136,143,149,143],[136,148,149,148],[136,149,149,149],[136,150,149,150],[136,123,149,123],[136,124,149,124],[136,125,149,125],[136,126,149,126],[136,127,149,127],[136,128,149,128],[136,129,149,129],[136,131,149,131],[136,136,149,136],[136,155,149,155],[136,156,149,156],[136,157,149,157],[136,158,149,158],[136,130,149,130],[150,0,163,0],[150,1,163,1],[150,2,163,2],[150,3,163,3],[150,4,163,4],[150,5,163,5],[150,6,163,6],[150,7,163,7],[150,8,163,8],[136,151,149,151],[136,152,149,152],[136,153,149,153],[136,119,149,119],[136,120,149,120],[136,121,149,121],[136,122,149,122],[136,154,149,154],[136,94,149,94],[136,100,149,100],[136,106,149,106],[136,112,149,112],[136,118,149,118],[150,112,163,112],[150,118,163,118],[150,119,163,119],[150,120,163,120],[136,20,149,20],[136,53,149,53],[136,57,149,57]],"merged_total":3582,"flags":["merged_cut"]}
[]
["様式第2号"]
[null," 【埼玉県プラチナ・サポート・ショップ情報システム】　登録シート"]
[]
[null,"　　※　このファイルはマクロを使用しています。入力の際は、マクロを有効にしてください。\n　　※　データ入力およびチェックの選択のみ可能です。行、列の挿入・コピー・削除、セルの結合などは行わないでください。"]
[]
[]
[null,"非公開情報　　※プラチナ・サポート・ショップ情報システムには表示されません",null,null,null,null,null,null,null,null,"公開情報　　※プラチナ・サポート・ショップ情報システムには表示されます",null,null,null,null,null,null,"地図情報に表示されます",null,"地図情報に表示されます",null,"公開情報",null,"この列は操作しないでください",null,"公開情報",null,"この列は操作しないでください",null,"公開情報",null,"この列は操作しないでください",null,"公開情報",null,"この列は操作しないでください",null,"公開情報",null,"この列は操作しないでください",null,"公開情報",null,"この列は操作しないでください",null,"公開情報",null,"この列は操作しないでください",null,"公開情報",null,"この列は操作しないでください",null,null,"公開情報",null,"この列は操作しないでください",null,null,"公開情報",null,"この列は操作しないでください",null,null,null,"公開情報",null,"この列は操作しないでください",null,null,null,"公開情報",null,"この列は操作しないでください",null,null,null,"公開情報",null,"この列は操作しないでください",null,null,null,"公開情報",null,"この列は操作しないでください",null,null,null,"公開情報",null,"この列は操作しないでください",null,null,null,"公開情報",null,"この列は操作しないでください",null,null,null,"公開情報",null,"この列は操作しないでください",null,null,null,"公開情報",null,"この列は操作しないでください",null,null,null,"公開情報",null,"この列は操作しないでください",null,null,null,null,"公開情報","公開情報","公開情報",null,"公開情報","公開情報","公開情報","公開情報","公開情報","公開情報","公開情報","公開情報","公開情報",null,"この列は操作しないでください",null,null,"公開情報",null,"この列は操作しないでください",null,null,"公開情報","ステッカー\n希望枚数","非公開情報",null,"この列は操作しないでください",null,null,"地図情報に表示",null,"地図情報に表示",null,"地図情報に表示",null,"地図情報に表示",null,"地図情報に表示",null,"地図情報に表示",null,"地図情報に表示",null,"地図情報に表示"]
["No","会社名、屋号、氏名","会社名、屋号、氏名\n（フリガナ）","会社　郵便番号","会社　住所","会社　電話番号","会社　FAX番号","会社　メールアドレス","会社　ホームページ","会社　担当部署・担当者","お問合せ先　名称","店舗名・サービス名\n（フリガナ）","お問合せ先\n固定電話番号","お問合せ先\n携帯電話番号","お問合せ先　FAX","お問合せ先　Email","店舗名・サービス名","店舗名・サービス名","店舗・サービス　住所","店舗名・サービス名2","店舗・サービス　住所2","大カテゴリ\n（買物）",null,null,null,"大カテゴリ\n（宅配・デリバリー）",null,null,null,"大カテゴリ\n（送迎サービス・移動支援）",null,null,null,"大カテゴリ\n（出張サービス）",null,null,null,"大カテゴリ\n（運動・たまり場）",null,null,null,"大カテゴリ\n（設備・施設・場所貸し）",null,null,null,"大カテゴリ\n（学び・趣味）",null,null,null,"大カテゴリ\n（生活サービス）",null,null,null,null,"サービス提供エリア\n埼玉県全域",null,null,null,null,"サービス提供エリア\n（さいたま市）",null,null,null,null,null,"サービス提供エリア\n（南部地域）",null,null,null,null,null,"サービス提供エリア\n（南西部地域）",null,null,null,null,null,"サービス提供エリア\n（東部地域）",null,null,null,null,null,"サービス提供エリア\n（県央地域）",null,null,null,null,null,"サービス提供エリア\n（川越比企地域）",null,null,null,null,null,"サービス提供エリア\n（西部地域）",null,null,null,null,null,"サービス提供エリア\n（利根地域）",null,null,null,null,null,"サービス提供エリア\n（北部地域）",null,null,null,null,null,"サービス提供エリア\n（秩父地域）",null,null,null,null,null,null,"サービス提供エリア\n（詳細）","サービス内容","有償・無償","費用","利用方法","営業時間、定休日","ホームページ","PR","サービス内容詳細","サービス提供期限の\n有無","サービス提供期間","備考","利用可能曜日",null,null,null,null,"利用可能時間帯",null,null,null,null,"利用可能時間","ステッカー\n希望枚数","新型コロナウイルス感染症\n感染対策について",null,null,null,null,"店舗名・サービス名3","店舗・サービス　住所3","店舗名・サービス名4","店舗・サービス　住所4","店舗名・サービス名5","店舗・サービス　住所5","店舗名・サービス名6","6店舗・サービス　住所2","店舗名・サービス名7","店舗・サービス　住所7","店舗名・サービス名8","店舗・サービス　住所8","店舗名・サービス名9","店舗・サービス　住所9","店舗名・サービス名10","店舗・サービス　住所10"]
[null,"※必須項目","※必須項目\n全角カタカナ","※必須項目\n半角数字（7桁）","※必須項目","※必須項目\n半角数字（13桁まで）","半角数字（13桁まで）","※必須項目\n半角英数字","半角英数字","※必須項目","※必須項目","※必須項目\n全角カタカナ","※いずれか必須項目\n半角数字（13桁まで）",null,"半角数字（13桁まで）","半角英数字","※必須項目","←と同じものが自動入力されます。","地図情報に表示","地図情報に表示","地図情報に表示","複数選択可",null,null,null,"複数選択可",null,null,null,"複数選択可",null,null,null,"複数選択可",null,null,null,"複数選択可",null,null,null,"複数選択可",null,null,null,"複数選択可",null,null,null,"複数選択可",null,null,null,null,"埼玉県内全域の場合\nチェックしてください",null,null,null,null,"複数選択可",null,null,null,null,null,"複数選択可",null,null,null,null,null,"複数選択可",null,null,null,null,null,"複数選択可",null,null,null,null,null,"複数選択可",null,null,null,null,null,"複数選択可",null,null,null,null,null,"複数選択可",null,null,null,null,null,"複数選択可",null,null,null,null,null,"複数選択可",null,null,null,null,null,"複数選択可",null,null,null,null,null,null,"市町村内の地域等","※必須項目\n1000文字以内","※必須項目\n選択式","費用の詳細を記入\n無償の場合は「無償」","512文字以内",null,null,"512文字以内","1000文字以内","選択式","サービス提供期間が\n「あり」の場合は詳細",null,"複数選択可",null,null,null,null,"複数選択可",null,null,null,null,"サービス提供時間",null,"※必須項目（複数選択可）",null,null,null,null,"地図情報に表示","地図情報に表示","地図情報に表示","地図情報に表示","地図情報に表示","地図情報に表示","地図情報に表示","地図情報に表示","地図情報に表示","地図情報に表示","地図情報に表示","地図情報に表示","地図情報に表示","地図情報に表示","地図情報に表示","地図情報に表示"]
["記入例","埼玉県地域包括ケア株式会社\n","サイタマケンチイキホウカツケア カ）","330-0000","埼玉県さいたま市浦和区高砂3-15-1\n","048-000-0000","048-000-0000","saitama@○○○○.jp\n","https://www.○○○\n","○○部　××課　主任　埼玉花子","スーパー埼玉　高砂店","スーパーサイタマ　タカサゴテン","048-000-0000","090-000-0000","048-000-0000","saitama@○○○○.jp","スーパー埼玉　高砂店","スーパー埼玉　高砂店","埼玉県,さいたま市浦和区,高砂三丁目15番1号",null,"","☑","配送",{"$f":"IF(V11=\"☑\",TRUE)","v":true},{"$f":"IF(X11,W11,\"\")","v":"配送"},"□","弁当配達",{"$f":"IF(Z11=\"☑\",TRUE)","v":false},{"$f":"IF(AB11,AA11,\"\")","v":""},"☑","理容室・美容室（送迎）",{"$f":"IF(AD11=\"☑\",TRUE)","v":true},{"$f":"IF(AF11,AE11,\"\")","v":"理容室・美容室（送迎）"},"□","家事代行",{"$f":"IF(AH11=\"☑\",TRUE)","v":false},{"$f":"IF(AJ11,AI11,\"\")","v":""},"□","フィットネス・ジム（運動）",{"$f":"IF(AL11=\"☑\",TRUE)","v":false},{"$f":"IF(AN11,AM11,\"\")","v":""},"☑","車イス対応（バリアフリー）",{"$f":"IF(AP11=\"☑\",TRUE)","v":true},{"$f":"IF(AR11,AQ11,\"\")","v":"車イス対応（バリアフリー）"},"☑","講座・教室・イベント",{"$f":"IF(AT11=\"☑\",TRUE)","v":true},{"$f":"IF(AV11,AU11,\"\")","v":"講座・教室・イベント"},"□","防犯・見守り",{"$f":"IF(AX11=\"☑\",TRUE)","v":false},{"$f":"IF(AZ11,AY11,\"\")","v":""},{"$f":"_xludf.TEXTJOIN(\",\",TRUE,Y11:Y24,AC11:AC24,AG11:AG24,AK11:AK24,AO11:AO24,AS11:AS24,AW11:AW24,BA11:BA24)","v":"配送,移動販売,食材宅配,理容室・美容室（送迎）,屋外作業・力仕事,理容室・美容室（出張）,カフェ・ファーストフード,イートインスペース,車イス対応（バリアフリー）,多目的トイレ,休憩スペース,講座・教室・イベント,習い事,映画館,旅行代理店,認知症サポート企業,その他（生活サービス）"},"□","埼玉県全域",{"$f":"IF(BC11=\"☑\",TRUE)","v":false},"さいたま市:西区,さいたま市:北区,さいたま市:大宮区,さいたま市:見沼区,さいたま市:中央区,さいたま市:桜区,さいたま市:浦和区,さいたま市:南区,さいたま市:緑区,さいたま市:岩槻区,南部地域:川口市,南部地域:蕨市,南部地域:戸田市,南西部地域:朝霞市,南西部地域:志木市,南西部地域:和光市,南西部地域:新座市,南西部地域:富士見市,南西部地域:ふじみ野市,南西部地域:三芳町,東部地域:春日部市,東部地域:草加市,東部地域:越谷市,東部地域:八潮市,東部地域:三郷市,東部地域:吉川市,東部地域:松伏町,県央地域:鴻巣市,県央地域:上尾市,県央地域:桶川市,県央地域:北本市,県央地域:伊奈町,川越比企地域:川越市,川越比企地域:東松山市,川越比企地域:坂戸市,川越比企地域:鶴ヶ島市,川越比企地域:毛呂山町,川越比企地域:越生町,川越比企地域:滑川町,川越比企地域:嵐山町,川越比企地域:小川町,川越比企地域:川島町,川越比企地域:吉見町,川越比企地域:鳩山町,川越比企地域:ときがわ町,川越比企地域:東秩父村,西部地域:所沢市,西部地域:飯能市,西部地域:狭山市,西部地域:入間市,西部地域:日高市,利根地域:行田市,利根地域:加須市,利根地域:羽生市,利根地域:久喜市,利根地域:蓮田市,利根地域:幸手市,利根地域:白岡市,利根地域:宮代町,利根地域:杉戸町,北部地域:熊谷市,北部地域:本庄市,北部地域:深谷市,北部地域:美里町,北部地域:神川町,北部地域:上里町,北部地域:寄居町,秩父地域:秩父市,秩父地域:横瀬町,秩父地域:皆野町,秩父地域:長瀞町,秩父地域:小鹿野町",{"$f":"IF(BE11,BF11,\"\")","v":""},"☑","西区",{"$f":"IF(BH11=\"☑\",TRUE)","v":true},{"$f":"\"さいたま市:\"&BI11","v":"さいたま市:西区"},{"$f":"IF(BJ11,BK11,\"\")","v":"さいたま市:西区"},{"$f":"_xludf.TEXTJOIN(\",\",TRUE,BL11:BL24)","v":"さいたま市:西区,さいたま市:大宮区,さいたま市:中央区,さいたま市:浦和区"},"☑","川口市",{"$f":"IF(BN11=\"☑\",TRUE)","v":true},{"$f":"\"南部地域:\"&BO11","v":"南部地域:川口市"},{"$f":"IF(BP11,BQ11,\"\")","v":"南部地域:川口市"},{"$f":"_xludf.TEXTJOIN(\",\",TRUE,BR11:BR24)","v":"南部地域:川口市"},"☑","朝霞市",{"$f":"IF(BT11=\"☑\",TRUE)","v":true},{"$f":"\"南西部地域:\"&BU11","v":"南西部地域:朝霞市"},{"$f":"IF(BV11,BW11,\"\")","v":"南西部地域:朝霞市"},{"$f":"_xludf.TEXTJOIN(\",\",TRUE,BX11:BX24)","v":"南西部地域:朝霞市,南西部地域:富士見市"},"☑","春日部市",{"$f":"IF(BZ11=\"☑\",TRUE)","v":true},{"$f":"\"東部地域:\"&CA11","v":"東部地域:春日部市"},{"$f":"IF(CB11,CC11,\"\")","v":"東部地域:春日部市"},{"$f":"_xludf.TEXTJOIN(\",\",TRUE,CD11:CD24)","v":"東部地域:春日部市,東部地域:草加市"},"□","鴻巣市",{"$f":"IF(CF11=\"☑\",TRUE)","v":false},{"$f":"\"県央地域:\"&CG11","v":"県央地域:鴻巣市"},{"$f":"IF(CH11,CI11,\"\")","v":""},{"$f":"_xludf.TEXTJOIN(\",\",TRUE,CJ11:CJ24)","v":"県央地域:上尾市,県央地域:北本市"},"☑","川越市",{"$f":"IF(CL11=\"☑\",TRUE)","v":true},{"$f":"\"川越比企地域:\"&CM11","v":"川越比企地域:川越市"},{"$f":"IF(CN11,CO11,\"\")","v":"川越比企地域:川越市"},{"$f":"_xludf.TEXTJOIN(\",\",TRUE,CP11:CP24)","v":"川越比企地域:川越市"},"☑","所沢市",{"$f":"IF(CR11=\"☑\",TRUE)","v":true},{"$f":"\"西部地域:\"&CS11","v":"西部地域:所沢市"},{"$f":"IF(CT11,CU11,\"\")","v":"西部地域:所沢市"},{"$f":"_xludf.TEXTJOIN(\",\",TRUE,CV11:CV24)","v":"西部地域:所沢市,西部地域:狭山市"},"☑","行田市",{"$f":"IF(CX11=\"☑\",TRUE)","v":true},{"$f":"\"利根地域:\"&CY11","v":"利根地域:行田市"},{"$f":"IF(CZ11,DA11,\"\")","v":"利根地域:行田市"},{"$f":"_xludf.TEXTJOIN(\",\",TRUE,DB11:DB24)","v":"利根地域:行田市,利根地域:蓮田市,利根地域:白岡市"},"☑","熊谷市",{"$f":"IF(DD11=\"☑\",TRUE)","v":true},{"$f":"\"北部地域:\"&DE11","v":"北部地域:熊谷市"},{"$f":"IF(DF11,DG11,\"\")","v":"北部地域:熊谷市"},{"$f":"_xludf.TEXTJOIN(\",\",TRUE,DH11:DH24)","v":"北部地域:熊谷市"},"☑","秩父市",{"$f":"IF(DJ11=\"☑\",TRUE)","v":true},{"$f":"\"秩父地域:\"&DK11","v":"秩父地域:秩父市"},{"$f":"IF(DL11,DM11,\"\")","v":"秩父地域:秩父市"},{"$f":"_xludf.TEXTJOIN(\",\",TRUE,DN11:DN24)","v":"秩父地域:秩父市"},{"$f":"_xludf.TEXTJOIN(\",\",TRUE,BG11,BM11,BS11,BY11,CE11,CK11,CQ11,CW11,DC11,DI11,DO11)","v":"さいたま市:西区,さいたま市:大宮区,さいたま市:中央区,さいたま市:浦和区,南部地域:川口市,南西部地域:朝霞市,南西部地域:富士見市,東部地域:春日部市,東部地域:草加市,県央地域:上尾市,県央地域:北本市,川越比企地域:川越市,西部地域:所沢市,西部地域:狭山市,利根地域:行田市,利根地域:蓮田市,利根地域:白岡市,北部地域:熊谷市,秩父地域:秩父市"},"さいたま市浦和区高砂","お買い上げいただいた商品をご自宅まで配送いたします。","条件付き無償","お買い上げ3,000円（税込）以上の場合は配送料無料\n","事前に電話連絡でお知らせください。","9時～18時　※提供日は第2水曜日\n","https://saitama○○○","多目的トイレや休憩スペースもございます。ぜひ、ご来店ください。\n",null,"あり","無期限",null,"☑","月曜日",{"$f":"IF(EC11=\"☑\",TRUE)","v":true},{"$f":"IF(EE11,ED11,\"\")","v":"月曜日"},{"$f":"_xludf.TEXTJOIN(\",\",TRUE,EF11:EF24)","v":"月曜日,火曜日,木曜日,金曜日"},"☑","午前（～12:00）",{"$f":"IF(EH11=\"☑\",TRUE)","v":true},{"$f":"IF(EJ11,EI11,\"\")","v":"午前（～12:00）"},{"$f":"_xludf.TEXTJOIN(\",\",TRUE,EK11:EK24)","v":"午前（～12:00）,午後（12:00～16：00）"},"11時～15時",1,"☑","彩の国「新しい生活様式」安心宣言",{"$f":"IF(EO11=\"☑\",TRUE)","v":true},{"$f":"IF(EQ11,EP11,\"\")","v":"彩の国「新しい生活様式」安心宣言"},{"$f":"_xludf.TEXTJOIN(\",\",TRUE,ER11:ER24)","v":"彩の国「新しい生活様式」安心宣言"},null,"",null,"",null,"",null,"",null,"",null,"",null,"",null,""]
[null,null,null,null,null,null,null,null,null,null,null,null,null,null,null,null,null,null,null,null,null,"□","買物サポート",false,"","□","料理デリバリー（出前）",false,"","□","フィットネス・ジム（送迎）",{"$f":"IF(AD12=\"☑\",TRUE)","v":false},{"$f":"IF(AF12,AE12,\"\")","v":""},"□","出張料理",{"$f":"IF(AH12=\"☑\",TRUE)","v":false},{"$f":"IF(AJ12,AI12,\"\")","v":""},"□","温泉・銭湯（たまり場）",false,{"$f":"IF(AN12,AM12,\"\")","v":""},"☑","多目的トイレ",true,"多目的トイレ","☑","習い事",{"$f":"IF(AT12=\"☑\",TRUE)","v":true},{"$f":"IF(AV12,AU12,\"\")","v":"習い事"},"□","金融・保険",false,"",null,null,null,null,null,"","□","北区",{"$f":"IF(BH12=\"☑\",TRUE)","v":false},{"$f":"\"さいたま市:\"&BI12","v":"さいたま市:北区"},{"$f":"IF(BJ12,BK12,\"\")","v":""},null,"□","蕨市",{"$f":"IF(BN12=\"☑\",TRUE)","v":false},{"$f":"\"南部地域:\"&BO12","v":"南部地域:蕨市"},{"$f":"IF(BP12,BQ12,\"\")","v":""},null,"□","志木市",{"$f":"IF(BT12=\"☑\",TRUE)","v":false},{"$f":"\"南西部地域:\"&BU12","v":"南西部地域:志木市"},{"$f":"IF(BV12,BW12,\"\")","v":""},null,"☑","草加市",{"$f":"IF(BZ12=\"☑\",TRUE)","v":true},{"$f":"\"東部地域:\"&CA12","v":"東部地域:草加市"},"東部地域:草加市",null,"☑","上尾市",{"$f":"IF(CF12=\"☑\",TRUE)","v":true},{"$f":"\"県央地域:\"&CG12","v":"県央地域:上尾市"},{"$f":"IF(CH12,CI12,\"\")","v":"県央地域:上尾市"},null,"□","東松山市",{"$f":"IF(CL12=\"☑\",TRUE)","v":false},{"$f":"\"川越比企地域:\"&CM12","v":"川越比企地域:東松山市"},{"$f":"IF(CN12,CO12,\"\")","v":""},null,"□","飯能市",{"$f":"IF(CR12=\"☑\",TRUE)","v":false},{"$f":"\"西部地域:\"&CS12","v":"西部地域:飯能市"},{"$f":"IF(CT12,CU12,\"\")","v":""},null,"□","加須市",{"$f":"IF(CX12=\"☑\",TRUE)","v":false},{"$f":"\"利根地域:\"&CY12","v":"利根地域:加須市"},{"$f":"IF(CZ12,DA12,\"\")","v":""},null,"□","本庄市",{"$f":"IF(DD12=\"☑\",TRUE)","v":false},{"$f":"\"北部地域:\"&DE12","v":"北部地域:本庄市"},{"$f":"IF(DF12,DG12,\"\")","v":""},null,"□","横瀬町",{"$f":"IF(DJ12=\"☑\",TRUE)","v":false},{"$f":"\"秩父地域:\"&DK12","v":"秩父地域:横瀬町"},{"$f":"IF(DL12,DM12,\"\")","v":""},null,null,null,null,null,null,null,null,null,null,null,null,null,null,"☑","火曜日",{"$f":"IF(EC12=\"☑\",TRUE)","v":true},{"$f":"IF(EE12,ED12,\"\")","v":"火曜日"},null,"☑","午後（12:00～16：00）",{"$f":"IF(EH12=\"☑\",TRUE)","v":true},{"$f":"IF(EJ12,EI12,\"\")","v":"午後（12:00～16：00）"},null,null,null,null,"に基づき感染対策を実施している。",null,{"$f":"IF(EQ12,EP12,\"\")","v":""}]
[null,null,null,null,null,null,null,null,null,null,null,null,null,null,null,null,null,null,null,null,null,"□","買物代行",false,"","☑","食材宅配",true,"食材宅配","□","温泉・銭湯（送迎）",false,"","☑","屋外作業・力仕事",true,"屋外作業・力仕事","☑","カフェ・ファーストフード",true,"カフェ・ファーストフード","☑","休憩スペース",true,"休憩スペース","☑","映画館",true,"映画館","□","住宅・リフォーム",false,"",null,null,null,null,null,"","☑","大宮区",true,"さいたま市:大宮区","さいたま市:大宮区",null,"□","戸田市",{"$f":"IF(BN13=\"☑\",TRUE)","v":false},{"$f":"\"南部地域:\"&BO13","v":"南部地域:戸田市"},{"$f":"IF(BP13,BQ13,\"\")","v":""},null,"□","和光市",false,"南西部地域:和光市","",null,"□","越谷市",false,"東部地域:越谷市","",null,"□","桶川市",{"$f":"IF(CF13=\"☑\",TRUE)","v":false},{"$f":"\"県央地域:\"&CG13","v":"県央地域:桶川市"},"",null,"□","坂戸市",false,"川越比企地域:坂戸市","",null,"☑","狭山市",{"$f":"IF(CR13=\"☑\",TRUE)","v":true},{"$f":"\"西部地域:\"&CS13","v":"西部地域:狭山市"},"西部地域:狭山市",null,"□","羽生市",false,"利根地域:羽生市","",null,"□","深谷市",false,"北部地域:深谷市","",null,"□","皆野町",{"$f":"IF(DJ13=\"☑\",TRUE)","v":false},{"$f":"\"秩父地域:\"&DK13","v":"秩父地域:皆野町"},"",null,null,null,null,null,null,null,null,null,null,null,null,null,null,"□","水曜日",false,"",null,"□","夕方(16:00～18:00)",{"$f":"IF(EH13=\"☑\",TRUE)","v":false},{"$f":"IF(EJ13,EI13,\"\")","v":""},null,null,null,"□","各種団体が定める業種別ガイドライン",{"$f":"IF(EO13=\"☑\",TRUE)","v":false},{"$f":"IF(EQ13,EP13,\"\")","v":""}]
[null,null,null,null,null,null,null,null,null,null,null,null,null,null,null,null,null,null,null,null,null,"☑","移動販売",true,"移動販売","□","日用品配達",false,"","□","整体・マッサージ（送迎）",false,"","□","整体・マッサージ（出張）",false,"","□","飲食店",false,"","□","駐車場",false,"","□","カラオケ店",false,"","□","パソコン・スマートフォン",false,"",null,null,null,null,null,"","□","見沼区",false,"さいたま市:見沼区","",null,null,null,null,null,{"$f":"IF(BP14,BQ14,\"\")","v":""},null,"□","新座市",false,"南西部地域:新座市","",null,"□","八潮市",false,"東部地域:八潮市","",null,"☑","北本市",{"$f":"IF(CF14=\"☑\",TRUE)","v":true},{"$f":"\"県央地域:\"&CG14","v":"県央地域:北本市"},"県央地域:北本市",null,"□","鶴ヶ島市",false,"川越比企地域:鶴ヶ島市","",null,"□","入間市",{"$f":"IF(CR14=\"☑\",TRUE)","v":false},{"$f":"\"西部地域:\"&CS14","v":"西部地域:入間市"},"",null,"□","久喜市",false,"利根地域:久喜市","",null,"□","美里町",false,"北部地域:美里町","",null,"□","長瀞町",{"$f":"IF(DJ14=\"☑\",TRUE)","v":false},{"$f":"\"秩父地域:\"&DK14","v":"秩父地域:長瀞町"},"",null,null,null,null,null,null,null,null,null,null,null,null,null,null,"☑","木曜日",true,"木曜日",null,"□","夜(18:00～）",{"$f":"IF(EH14=\"☑\",TRUE)","v":false},{"$f":"IF(EJ14,EI14,\"\")","v":""},null,null,null,null,"に基づき感染対策を実施している。"]
[null,null,null,null,null,null,null,null,null,null,null,null,null,null,null,null,null,null,null,null,null,"□","割引サービス",false,"","□","薬・介護用品配達",false,"","□","乗り合いサービス",false,"","☑","理容室・美容室（出張）",true,"理容室・美容室（出張）","☑","イートインスペース",true,"イートインスペース","□","貸しスペース",false,"","□","麻雀・将棋・囲碁",false,"","☑","認知症サポート企業",true,"認知症サポート企業",null,null,null,null,null,"","☑","中央区",true,"さいたま市:中央区","さいたま市:中央区",null,null,null,null,null,"",null,"☑","富士見市",true,"南西部地域:富士見市","南西部地域:富士見市",null,"□","三郷市",false,"東部地域:三郷市","",null,"□","伊奈町",{"$f":"IF(CF15=\"☑\",TRUE)","v":false},{"$f":"\"県央地域:\"&CG15","v":"県央地域:伊奈町"},"",null,"□","毛呂山町",false,"川越比企地域:毛呂山町","",null,"□","日高市",{"$f":"IF(CR15=\"☑\",TRUE)","v":false},{"$f":"\"西部地域:\"&CS15","v":"西部地域:日高市"},"",null,"☑","蓮田市",true,"利根地域:蓮田市","利根地域:蓮田市",null,"□","神川町",false,"北部地域:神川町","",null,"□","小鹿野町",{"$f":"IF(DJ15=\"☑\",TRUE)","v":false},{"$f":"\"秩父地域:\"&DK15","v":"秩父地域:小鹿野町"},"",null,null,null,null,null,null,null,null,null,null,null,null,null,null,"☑","金曜日",true,"金曜日",null,null,null,null,null,null,null,null,"□","その他の感染対策を実施している。",{"$f":"IF(EO15=\"☑\",TRUE)","v":false},{"$f":"IF(EQ15,EP15,\"\")","v":""}]
[null,null,null,null,null,null,null,null,null,null,null,null,null,null,null,null,null,null,null,null,null,"□","その他（買物）",false,"","□","その他（宅配・デリバリー）",false,"","□","個別移送サービス",false,"","□","ペット",false,"","□","その他（運動・たまり場）",false,"","□","その他（設備・施設・場所貸し）",false,"","□","ゲームセンター",false,"","☑","その他（生活サービス）",true,"その他（生活サービス）",null,null,null,null,null,"","□","桜区",false,"さいたま市:桜区","",null,null,null,null,null,"",null,"□","ふじみ野市",false,"南西部地域:ふじみ野市","",null,"□","吉川市",false,"東部地域:吉川市","",null,null,null,null,null,"",null,"□","越生町",false,"川越比企地域:越生町","",null,null,null,null,null,"",null,"□","幸手市",false,"利根地域:幸手市","",null,"□","上里町",false,"北部地域:上里町","",null,null,null,null,null,"",null,null,null,null,null,null,null,null,null,null,null,null,null,null,"□","土曜日",false,"",null,null,null,null,null,null,null,null,"□","感染対策を特に実施していない。",{"$f":"IF(EO16=\"☑\",TRUE)","v":false},{"$f":"IF(EQ16,EP16,\"\")","v":""}]
[null,null,null,null,null,null,null,null,null,null,null,null,null,null,null,null,null,null,null,null,null,null,null,null,null,null,null,null,null,"□","交通機関サービス",false,"","□","その他（出張サービス）",false,"",null,null,null,null,null,null,null,null,"☑","旅行代理店",true,"旅行代理店",null,null,null,null,null,null,null,null,null,"","☑","浦和区",true,"さいたま市:浦和区","さいたま市:浦和区",null,null,null,null,null,"",null,"□","三芳町",false,"南西部地域:三芳町","",null,"□","松伏町",false,"東部地域:松伏町","",null,null,null,null,null,"",null,"□","滑川町",false,"川越比企地域:滑川町","",null,null,null,null,null,"",null,"☑","白岡市",true,"利根地域:白岡市","利根地域:白岡市",null,"□","寄居町",false,"北部地域:寄居町","",null,null,null,null,null,"",null,null,null,null,null,null,null,null,null,null,null,null,null,null,"□","日曜日",false,""]
[null,null,null,null,null,null,null,null,null,null,null,null,null,null,null,null,null,null,null,null,null,null,null,null,null,null,null,null,null,"□","その他（送迎・移動支援）",false,"",null,null,null,"",null,null,null,"",null,null,null,{"$f":"IF(AR18,AQ18,\"\")","v":""},"□","その他（学び・趣味）",false,"",null,null,null,null,null,null,null,null,null,"","□","南区",false,"さいたま市:南区","",null,null,null,null,null,"",null,null,null,null,null,"",null,null,null,null,null,"",null,null,null,null,null,"",null,"□","嵐山町",false,"川越比企地域:嵐山町","",null,null,null,null,null,"",null,"□","宮代町",false,"利根地域:宮代町","",null,null,null,null,null,"",null,null,null,null,null,""]
[null,null,null,null,null,null,null,null,null,null,null,null,null,null,null,null,null,null,null,null,null,null,null,null,null,null,null,null,null,null,null,null,null,null,null,null,null,null,null,null,null,null,null,null,null,null,null,null,null,null,null,null,null,null,null,null,null,null,"","□","緑区",false,"さいたま市:緑区","",null,null,null,null,null,"",null,null,null,null,null,"",null,null,null,null,null,"",null,null,null,null,null,"",null,"□","小川町",false,"川越比企地域:小川町","",null,null,null,null,null,"",null,"□","杉戸町",false,"利根地域:杉戸町","",null,null,null,null,null,"",null,null,null,null,null,""]
[null,null,null,null,null,null,null,null,null,null,null,null,null,null,null,null,null,null,null,null,null,null,null,null,null,null,null,null,null,null,null,null,null,null,null,null,null,null,null,null,null,null,null,null,null,null,null,null,null,null,null,null,null,null,null,null,null,null,"","□","岩槻区",{"$f":"IF(BH20=\"☑\",TRUE)","v":false},"さいたま市:岩槻区","",null,null,null,null,null,"",null,null,null,null,null,"",null,null,null,null,null,"",null,null,null,null,null,"",null,"□","川島町",false,"川越比企地域:川島町","",null,null,null,null,null,"",null,null,null,null,null,"",null,null,null,null,null,"",null,null,null,null,null,""]
[null,null,null,null,null,null,null,null,null,null,null,null,null,null,null,null,null,null,null,null,null,null,null,null,null,null,null,null,null,null,null,null,null,null,null,null,null,null,null,null,null,null,null,null,null,null,null,null,null,null,null,null,null,null,null,null,null,null,"",null,null,null,null,null,null,null,null,null,null,null,null,null,null,null,null,null,null,null,null,null,null,null,null,null,null,null,null,null,null,"□","吉見町",false,"川越比企地域:吉見町","",null,null,null,null,null,"",null,null,null,null,null,"",null,null,null,null,null,"",null,null,null,null,null,""]
[null,null,null,null,null,null,null,null,null,null,null,null,null,null,null,null,null,null,null,null,null,null,null,null,null,null,null,null,null,null,null,null,null,null,null,null,null,null,null,null,null,null,null,null,null,null,null,null,null,null,null,null,null,null,null,null,null,null,"",null,null,null,null,null,null,null,null,null,null,null,null,null,null,null,null,null,null,null,null,null,null,null,null,null,null,null,null,null,null,"□","鳩山町",false,"川越比企地域:鳩山町","",null,null,null,null,null,"",null,null,null,null,null,"",null,null,null,null,null,"",null,null,null,null,null,""]
[null,null,null,null,null,null,null,null,null,null,null,null,null,null,null,null,null,null,null,null,null,null,null,null,null,null,null,null,null,null,null,null,null,null,null,null,null,null,null,null,null,null,null,null,null,null,null,null,null,null,null,null,null,null,null,null,null,null,"",null,null,null,null,null,null,null,null,null,null,null,null,null,null,null,null,null,null,null,null,null,null,null,null,null,null,null,null,null,null,"□","ときがわ町",false,"川越比企地域:ときがわ町","",null,null,null,null,null,"",null,null,null,null,null,"",null,null,null,null,null,"",null,null,null,null,null,""]
[null,null,null,null,null,null,null,null,null,null,null,null,null,null,null,null,null,null,null,null,null,null,null,null,null,null,null,null,null,null,null,null,null,null,null,null,null,null,null,null,null,null,null,null,null,null,null,null,null,null,null,null,null,null,null,null,null,null,"",null,null,null,null,null,null,null,null,null,null,null,null,null,null,null,null,null,null,null,null,null,null,null,null,null,null,null,null,null,null,"□","東秩父村",false,"川越比企地域:東秩父村","",null,null,null,null,null,"",null,null,null,null,null,"",null,null,null,null,null,"",null,null,null,null,null,""]
[1,null,null,null,null,null,null,null,null,null,null,null,null,null,null,null,null,null,null,null,null,"□","配送",{"$f":"IF(V25=\"☑\",TRUE)","v":false},{"$f":"IF(X25,W25,\"\")","v":""},"□","弁当配達",{"$f":"IF(Z25=\"☑\",TRUE)","v":false},{"$f":"IF(AB25,AA25,\"\")","v":""},"□","理容室・美容室（送迎）",{"$f":"IF(AD25=\"☑\",TRUE)","v":false},{"$f":"IF(AF25,AE25,\"\")","v":""},"□","家事代行",{"$f":"IF(AH25=\"☑\",TRUE)","v":false},{"$f":"IF(AJ25,AI25,\"\")","v":""},"□","フィットネス・ジム（運動）",{"$f":"IF(AL25=\"☑\",TRUE)","v":false},{"$f":"IF(AN25,AM25,\"\")","v":""},"□","車イス対応（バリアフリー）",{"$f":"IF(AP25=\"☑\",TRUE)","v":false},{"$f":"IF(AR25,AQ25,\"\")","v":""},"□","講座・教室・イベント",{"$f":"IF(AT25=\"☑\",TRUE)","v":false},{"$f":"IF(AV25,AU25,\"\")","v":""},"□","防犯・見守り",{"$f":"IF(AX25=\"☑\",TRUE)","v":false},{"$f":"IF(AZ25,AY25,\"\")","v":""},{"$f":"_xludf.TEXTJOIN(\",\",TRUE,Y25:Y38,AC25:AC38,AG25:AG38,AK25:AK38,AO25:AO38,AS25:AS38,AW25:AW38,BA25:BA38)","v":""},"□","埼玉県全域",{"$f":"IF(BC25=\"☑\",TRUE)","v":false},"さいたま市:西区,さいたま市:北区,さいたま市:大宮区,さいたま市:見沼区,さいたま市:中央区,さいたま市:桜区,さいたま市:浦和区,さいたま市:南区,さいたま市:緑区,さいたま市:岩槻区,南部地域:川口市,南部地域:蕨市,南部地域:戸田市,南西部地域:朝霞市,南西部地域:志木市,南西部地域:和光市,南西部地域:新座市,南西部地域:富士見市,南西部地域:ふじみ野市,南西部地域:三芳町,東部地域:春日部市,東部地域:草加市,東部地域:越谷市,東部地域:八潮市,東部地域:三郷市,東部地域:吉川市,東部地域:松伏町,県央地域:鴻巣市,県央地域:上尾市,県央地域:桶川市,県央地域:北本市,県央地域:伊奈町,川越比企地域:川越市,川越比企地域:東松山市,川越比企地域:坂戸市,川越比企地域:鶴ヶ島市,川越比企地域:毛呂山町,川越比企地域:越生町,川越比企地域:滑川町,川越比企地域:嵐山町,川越比企地域:小川町,川越比企地域:川島町,川越比企地域:吉見町,川越比企地域:鳩山町,川越比企地域:ときがわ町,川越比企地域:東秩父村,西部地域:所沢市,西部地域:飯能市,西部地域:狭山市,西部地域:入間市,西部地域:日高市,利根地域:行田市,利根地域:加須市,利根地域:羽生市,利根地域:久喜市,利根地域:蓮田市,利根地域:幸手市,利根地域:白岡市,利根地域:宮代町,利根地域:杉戸町,北部地域:熊谷市,北部地域:本庄市,北部地域:深谷市,北部地域:美里町,北部地域:神川町,北部地域:上里町,北部地域:寄居町,秩父地域:秩父市,秩父地域:横瀬町,秩父地域:皆野町,秩父地域:長瀞町,秩父地域:小鹿野町","","□","西区",{"$f":"IF(BH25=\"☑\",TRUE)","v":false},{"$f":"\"さいたま市:\"&BI25","v":"さいたま市:西区"},{"$f":"IF(BJ25,BK25,\"\")","v":""},{"$f":"_xludf.TEXTJOIN(\",\",TRUE,BL25:BL38)","v":""},"□","川口市",{"$f":"IF(BN25=\"☑\",TRUE)","v":false},{"$f":"\"南部地域:\"&BO25","v":"南部地域:川口市"},{"$f":"IF(BP25,BQ25,\"\")","v":""},{"$f":"_xludf.TEXTJOIN(\",\",TRUE,BR25:BR38)","v":""},"□","朝霞市",{"$f":"IF(BT25=\"☑\",TRUE)","v":false},{"$f":"\"南西部地域:\"&BU25","v":"南西部地域:朝霞市"},{"$f":"IF(BV25,BW25,\"\")","v":""},{"$f":"_xludf.TEXTJOIN(\",\",TRUE,BX25:BX38)","v":""},"□","春日部市",{"$f":"IF(BZ25=\"☑\",TRUE)","v":false},{"$f":"\"東部地域:\"&CA25","v":"東部地域:春日部市"},{"$f":"IF(CB25,CC25,\"\")","v":""},{"$f":"_xludf.TEXTJOIN(\",\",TRUE,CD25:CD38)","v":""},"□","鴻巣市",{"$f":"IF(CF25=\"☑\",TRUE)","v":false},{"$f":"\"県央地域:\"&CG25","v":"県央地域:鴻巣市"},{"$f":"IF(CH25,CI25,\"\")","v":""},{"$f":"_xludf.TEXTJOIN(\",\",TRUE,CJ25:CJ38)","v":""},"□","川越市",{"$f":"IF(CL25=\"☑\",TRUE)","v":false},{"$f":"\"川越比企地域:\"&CM25","v":"川越比企地域:川越市"},{"$f":"IF(CN25,CO25,\"\")","v":""},{"$f":"_xludf.TEXTJOIN(\",\",TRUE,CP25:CP38)","v":""},"□","所沢市",{"$f":"IF(CR25=\"☑\",TRUE)","v":false},{"$f":"\"西部地域:\"&CS25","v":"西部地域:所沢市"},{"$f":"IF(CT25,CU25,\"\")","v":""},{"$f":"_xludf.TEXTJOIN(\",\",TRUE,CV25:CV38)","v":""},"□","行田市",{"$f":"IF(CX25=\"☑\",TRUE)","v":false},{"$f":"\"利根地域:\"&CY25","v":"利根地域:行田市"},{"$f":"IF(CZ25,DA25,\"\")","v":""},{"$f":"_xludf.TEXTJOIN(\",\",TRUE,DB25:DB38)","v":""},"□","熊谷市",{"$f":"IF(DD25=\"☑\",TRUE)","v":false},{"$f":"\"北部地域:\"&DE25","v":"北部地域:熊谷市"},{"$f":"IF(DF25,DG25,\"\")","v":""},{"$f":"_xludf.TEXTJOIN(\",\",TRUE,DH25:DH38)","v":""},"□","秩父市",{"$f":"IF(DJ25=\"☑\",TRUE)","v":false},{"$f":"\"秩父地域:\"&DK25","v":"秩父地域:秩父市"},{"$f":"IF(DL25,DM25,\"\")","v":""},{"$f":"_xludf.TEXTJOIN(\",\",TRUE,DN25:DN38)","v":""},{"$f":"_xludf.TEXTJOIN(\",\",TRUE,BG25,BM25,BS25,BY25,CE25,CK25,CQ25,CW25,DC25,DI25,DO25)","v":""},null,null,null,null,null,null,null,null,null,null,null,null,"□","月曜日",{"$f":"IF(EC25=\"☑\",TRUE)","v":false},{"$f":"IF(EE25,ED25,\"\")","v":""},{"$f":"_xludf.TEXTJOIN(\",\",TRUE,EF25:EF38)","v":""},"□","午前（～12:00）",{"$f":"IF(EH25=\"☑\",TRUE)","v":false},{"$f":"IF(EJ25,EI25,\"\")","v":""},{"$f":"_xludf.TEXTJOIN(\",\",TRUE,EK25:EK38)","v":""},null,null,"□","彩の国「新しい生活様式」安心宣言",{"$f":"IF(EO25=\"☑\",TRUE)","v":false},{"$f":"IF(EQ25,EP25,\"\")","v":""},{"$f":"_xludf.TEXTJOIN(\",\",TRUE,ER25:ER38)","v":""},null,"",null,"",null,"",null,"",null,"",null,"",null,"",null,""]
[null,null,null,null,null,null,null,null,null,null,null,null,null,null,null,null,null,null,null,null,null,"□","買物サポート",false,"","□","料理デリバリー（出前）",false,"","□","フィットネス・ジム（送迎）",{"$f":"IF(AD26=\"☑\",TRUE)","v":false},{"$f":"IF(AF26,AE26,\"\")","v":""},"□","出張料理",{"$f":"IF(AH26=\"☑\",TRUE)","v":false},{"$f":"IF(AJ26,AI26,\"\")","v":""},"□","温泉・銭湯（たまり場）",false,"","□","多目的トイレ",false,"","□","習い事",{"$f":"IF(AT26=\"☑\",TRUE)","v":false},{"$f":"IF(AV26,AU26,\"\")","v":""},"□","金融・保険",false,"",null,null,null,null,null,"","□","北区",{"$f":"IF(BH26=\"☑\",TRUE)","v":false},{"$f":"\"さいたま市:\"&BI26","v":"さいたま市:北区"},{"$f":"IF(BJ26,BK26,\"\")","v":""},null,"□","蕨市",{"$f":"IF(BN26=\"☑\",TRUE)","v":false},{"$f":"\"南部地域:\"&BO26","v":"南部地域:蕨市"},{"$f":"IF(BP26,BQ26,\"\")","v":""},null,"□","志木市",{"$f":"IF(BT26=\"☑\",TRUE)","v":false},{"$f":"\"南西部地域:\"&BU26","v":"南西部地域:志木市"},{"$f":"IF(BV26,BW26,\"\")","v":""},null,"□","草加市",{"$f":"IF(BZ26=\"☑\",TRUE)","v":false},{"$f":"\"東部地域:\"&CA26","v":"東部地域:草加市"},"",null,"□","上尾市",{"$f":"IF(CF26=\"☑\",TRUE)","v":false},{"$f":"\"県央地域:\"&CG26","v":"県央地域:上尾市"},{"$f":"IF(CH26,CI26,\"\")","v":""},null,"□","東松山市",{"$f":"IF(CL26=\"☑\",TRUE)","v":false},{"$f":"\"川越比企地域:\"&CM26","v":"川越比企地域:東松山市"},{"$f":"IF(CN26,CO26,\"\")","v":""},null,"□","飯能市",{"$f":"IF(CR26=\"☑\",TRUE)","v":false},{"$f":"\"西部地域:\"&CS26","v":"西部地域:飯能市"},{"$f":"IF(CT26,CU26,\"\")","v":""},null,"□","加須市",{"$f":"IF(CX26=\"☑\",TRUE)","v":false},{"$f":"\"利根地域:\"&CY26","v":"利根地域:加須市"},{"$f":"IF(CZ26,DA26,\"\")","v":""},null,"□","本庄市",{"$f":"IF(DD26=\"☑\",TRUE)","v":false},{"$f":"\"北部地域:\"&DE26","v":"北部地域:本庄市"},{"$f":"IF(DF26,DG26,\"\")","v":""},null,"□","横瀬町",{"$f":"IF(DJ26=\"☑\",TRUE)","v":false},{"$f":"\"秩父地域:\"&DK26","v":"秩父地域:横瀬町"},{"$f":"IF(DL26,DM26,\"\")","v":""},null,null,null,null,null,null,null,null,null,null,null,null,null,null,"□","火曜日",{"$f":"IF(EC26=\"☑\",TRUE)","v":false},{"$f":"IF(EE26,ED26,\"\")","v":""},null,"□","午後（12:00～16：00）",{"$f":"IF(EH26=\"☑\",TRUE)","v":false},{"$f":"IF(EJ26,EI26,\"\")","v":""},null,null,null,null,"に基づき感染対策を実施している。",null,{"$f":"IF(EQ26,EP26,\"\")","v":""}]
[null,null,null,null,null,null,null,null,null,null,null,null,null,null,null,null,null,null,null,null,null,"□","買物代行",false,"","□","食材宅配",false,"","□","温泉・銭湯（送迎）",false,"","□","屋外作業・力仕事",false,"","□","カフェ・ファーストフード",false,"","□","休憩スペース",false,"","□","映画館",false,"","□","住宅・リフォーム",false,"",null,null,null,null,null,"","□","大宮区",false,"さいたま市:大宮区","",null,"□","戸田市",{"$f":"IF(BN27=\"☑\",TRUE)","v":false},{"$f":"\"南部地域:\"&BO27","v":"南部地域:戸田市"},"",null,"□","和光市",false,"南西部地域:和光市","",null,"□","越谷市",false,"東部地域:越谷市","",null,"□","桶川市",{"$f":"IF(CF27=\"☑\",TRUE)","v":false},{"$f":"\"県央地域:\"&CG27","v":"県央地域:桶川市"},"",null,"□","坂戸市",false,"川越比企地域:坂戸市","",null,"□","狭山市",{"$f":"IF(CR27=\"☑\",TRUE)","v":false},{"$f":"\"西部地域:\"&CS27","v":"西部地域:狭山市"},"",null,"□","羽生市",false,"利根地域:羽生市","",null,"□","深谷市",false,"北部地域:深谷市","",null,"□","皆野町",{"$f":"IF(DJ27=\"☑\",TRUE)","v":false},{"$f":"\"秩父地域:\"&DK27","v":"秩父地域:皆野町"},"",null,null,null,null,null,null,null,null,null,null,null,null,null,null,"□","水曜日",false,"",null,"□","夕方(16:00～18:00)",{"$f":"IF(EH27=\"☑\",TRUE)","v":false},{"$f":"IF(EJ27,EI27,\"\")","v":""},null,null,null,"□","各種団体が定める業種別ガイドライン",{"$f":"IF(EO27=\"☑\",TRUE)","v":false},{"$f":"IF(EQ27,EP27,\"\")","v":""}]
[null,null,null,null,null,null,null,null,null,null,null,null,null,null,null,null,null,null,null,null,null,"□","移動販売",false,"","□","日用品配達",false,"","□","整体・マッサージ（送迎）",false,"","□","整体・マッサージ（出張）",false,"","□","飲食店",false,"","□","駐車場",false,"","□","カラオケ店",false,"","□","パソコン・スマートフォン",false,"",null,null,null,null,null,"","□","見沼区",false,"さいたま市:見沼区","",null,null,null,null,null,"",null,"□","新座市",false,"南西部地域:新座市","",null,"□","八潮市",false,"東部地域:八潮市","",null,"□","北本市",{"$f":"IF(CF28=\"☑\",TRUE)","v":false},{"$f":"\"県央地域:\"&CG28","v":"県央地域:北本市"},"",null,"□","鶴ヶ島市",false,"川越比企地域:鶴ヶ島市","",null,"□","入間市",{"$f":"IF(CR28=\"☑\",TRUE)","v":false},{"$f":"\"西部地域:\"&CS28","v":"西部地域:入間市"},"",null,"□","久喜市",false,"利根地域:久喜市","",null,"□","美里町",false,"北部地域:美里町","",null,"□","長瀞町",{"$f":"IF(DJ28=\"☑\",TRUE)","v":false},{"$f":"\"秩父地域:\"&DK28","v":"秩父地域:長瀞町"},"",null,null,null,null,null,null,null,null,null,null,null,null,null,null,"□","木曜日",false,"",null,"□","夜(18:00～）",{"$f":"IF(EH28=\"☑\",TRUE)","v":false},{"$f":"IF(EJ28,EI28,\"\")","v":""},null,null,null,null,"に基づき感染対策を実施している。"]
[null,null,null,null,null,null,null,null,null,null,null,null,null,null,null,null,null,null,null,null,null,"□","割引サービス",false,"","□","薬・介護用品配達",false,"","□","乗り合いサービス",false,"","□","理容室・美容室（出張）",false,"","□","イートインスペース",false,"","□","貸しスペース",false,"","□","麻雀・将棋・囲碁",false,"","□","認知症サポート企業",false,"",null,null,null,null,null,"","□","中央区",false,"さいたま市:中央区","",null,null,null,null,null,"",null,"□","富士見市",false,"南西部地域:富士見市","",null,"□","三郷市",false,"東部地域:三郷市","",null,"□","伊奈町",{"$f":"IF(CF29=\"☑\",TRUE)","v":false},{"$f":"\"県央地域:\"&CG29","v":"県央地域:伊奈町"},"",null,"□","毛呂山町",false,"川越比企地域:毛呂山町","",null,"□","日高市",{"$f":"IF(CR29=\"☑\",TRUE)","v":false},{"$f":"\"西部地域:\"&CS29","v":"西部地域:日高市"},"",null,"□","蓮田市",false,"利根地域:蓮田市","",null,"□","神川町",false,"北部地域:神川町","",null,"□","小鹿野町",{"$f":"IF(DJ29=\"☑\",TRUE)","v":false},{"$f":"\"秩父地域:\"&DK29","v":"秩父地域:小鹿野町"},"",null,null,null,null,null,null,null,null,null,null,null,null,null,null,"□","金曜日",false,"",null,null,null,null,null,null,null,null,"□","その他の感染対策を実施している。",{"$f":"IF(EO29=\"☑\",TRUE)","v":false},{"$f":"IF(EQ29,EP29,\"\")","v":""}]
[null,null,null,null,null,null,null,null,null,null,null,null,null,null,null,null,null,null,null,null,null,"□","その他（買物）",false,"","□","その他（宅配・デリバリー）",false,"","□","個別移送サービス",false,"","□","ペット",false,"","□","その他（運動・たまり場）",false,"","□","その他（設備・施設・場所貸し）",false,"","□","ゲームセンター",false,"","□","その他（生活サービス）",false,"",null,null,null,null,null,"","□","桜区",false,"さいたま市:桜区","",null,null,null,null,null,"",null,"□","ふじみ野市",false,"南西部地域:ふじみ野市","",null,"□","吉川市",false,"東部地域:吉川市","",null,null,null,null,null,"",null,"□","越生町",false,"川越比企地域:越生町","",null,null,null,null,null,"",null,"□","幸手市",false,"利根地域:幸手市","",null,"□","上里町",false,"北部地域:上里町","",null,null,null,null,null,"",null,null,null,null,null,null,null,null,null,null,null,null,null,null,"□","土曜日",false,"",null,null,null,null,null,null,null,null,"□","感染対策を特に実施していない。",{"$f":"IF(EO30=\"☑\",TRUE)","v":false},{"$f":"IF(EQ30,EP30,\"\")","v":""}]
[null,null,null,null,null,null,null,null,null,null,null,null,null,null,null,null,null,null,null,null,null,null,null,null,null,null,null,null,null,"□","交通機関サービス",false,"","□","その他（出張サービス）",false,"",null,null,null,null,null,null,null,null,"□","旅行代理店",false,"",null,null,null,null,null,null,null,null,null,"","□","浦和区",false,"さいたま市:浦和区","",null,null,null,null,null,"",null,"□","三芳町",false,"南西部地域:三芳町","",null,"□","松伏町",false,"東部地域:松伏町","",null,null,null,null,null,"",null,"□","滑川町",false,"川越比企地域:滑川町","",null,null,null,null,null,"",null,"□","白岡市",false,"利根地域:白岡市","",null,"□","寄居町",false,"北部地域:寄居町","",null,null,null,null,null,"",null,null,null,null,null,null,null,null,null,null,null,null,null,null,"□","日曜日",false,""]
[null,null,null,null,null,null,null,null,null,null,null,null,null,null,null,null,null,null,null,null,null,null,null,null,null,null,null,null,null,"□","その他（送迎・移動支援）",false,"",null,null,null,"",null,null,null,{"$f":"IF(AN32,AM32,\"\")","v":""},null,null,null,{"$f":"IF(AR32,AQ32,\"\")","v":""},"□","その他（学び・趣味）",false,"",null,null,null,null,null,null,null,null,null,"","□","南区",false,"さいたま市:南区","",null,null,null,null,null,"",null,null,null,null,null,"",null,null,null,null,null,"",null,null,null,null,null,"",null,"□","嵐山町",false,"川越比企地域:嵐山町","",null,null,null,null,null,"",null,"□","宮代町",false,"利根地域:宮代町","",null,null,null,null,null,"",null,null,null,null,null,""]
[null,null,null,null,null,null,null,null,null,null,null,null,null,null,null,null,null,null,null,null,null,null,null,null,null,null,null,null,null,null,null,null,null,null,null,null,null,null,null,null,null,null,null,null,null,null,null,null,null,null,null,null,null,null,null,null,null,null,"","□","緑区",false,"さいたま市:緑区","",null,null,null,null,null,"",null,null,null,null,null,"",null,null,null,null,null,"",null,null,null,null,null,"",null,"□","小川町",false,"川越比企地域:小川町","",null,null,null,null,null,"",null,"□","杉戸町",false,"利根地域:杉戸町","",null,null,null,null,null,"",null,null,null,null,null,""]
[null,null,null,null,null,null,null,null,null,null,null,null,null,null,null,null,null,null,null,null,null,null,null,null,null,null,null,null,null,null,null,null,null,null,null,null,null,null,null,null,null,null,null,null,null,null,null,null,null,null,null,null,null,null,null,null,null,null,"","□","岩槻区",{"$f":"IF(BH34=\"☑\",TRUE)","v":false},"さいたま市:岩槻区","",null,null,null,null,null,"",null,null,null,null,null,"",null,null,null,null,null,"",null,null,null,null,null,"",null,"□","川島町",false,"川越比企地域:川島町","",null,null,null,null,null,"",null,null,null,null,null,"",null,null,null,null,null,"",null,null,null,null,null,""]
[null,null,null,null,null,null,null,null,null,null,null,null,null,null,null,null,null,null,null,null,null,null,null,null,null,null,null,null,null,null,null,null,null,null,null,null,null,null,null,null,null,null,null,null,null,null,null,null,null,null,null,null,null,null,null,null,null,null,"",null,null,null,null,null,null,null,null,null,null,null,null,null,null,null,null,null,null,null,null,null,null,null,null,null,null,null,null,null,null,"□","吉見町",false,"川越比企地域:吉見町","",null,null,null,null,null,"",null,null,null,null,null,"",null,null,null,null,null,"",null,null,null,null,null,""]
[null,null,null,null,null,null,null,null,null,null,null,null,null,null,null,null,null,null,null,null,null,null,null,null,null,null,null,null,null,null,null,null,null,null,null,null,null,null,null,null,null,null,null,null,null,null,null,null,null,null,null,null,null,null,null,null,null,null,"",null,null,null,null,null,null,null,null,null,null,null,null,null,null,null,null,null,null,null,null,null,null,null,null,null,null,null,null,null,null,"□","鳩山町",false,"川越比企地域:鳩山町","",null,null,null,null,null,"",null,null,null,null,null,"",null,null,null,null,null,"",null,null,null,null,null,""]
[null,null,null,null,null,null,null,null,null,null,null,null,null,null,null,null,null,null,null,null,null,null,null,null,null,null,null,null,null,null,null,null,null,null,null,null,null,null,null,null,null,null,null,null,null,null,null,null,null,null,null,null,null,null,null,null,null,null,"",null,null,null,null,null,null,null,null,null,null,null,null,null,null,null,null,null,null,null,null,null,null,null,null,null,null,null,null,null,null,"□","ときがわ町",false,"川越比企地域:ときがわ町","",null,null,null,null,null,"",null,null,null,null,null,"",null,null,null,null,null,"",null,null,null,null,null,""]
[null,null,null,null,null,null,null,null,null,null,null,null,null,null,null,null,null,null,null,null,null,null,null,null,null,null,null,null,null,null,null,null,null,null,null,null,null,null,null,null,null,null,null,null,null,null,null,null,null,null,null,null,null,null,null,null,null,null,"",null,null,null,null,null,null,null,null,null,null,null,null,null,null,null,null,null,null,null,null,null,null,null,null,null,null,null,null,null,null,"□","東秩父村",false,"川越比企地域:東秩父村","",null,null,null,null,null,"",null,null,null,null,null,"",null,null,null,null,null,"",null,null,null,null,null,""]
[2,null,null,null,null,null,null,null,null,null,null,null,null,null,null,null,null,null,null,null,null,"□","配送",{"$f":"IF(V39=\"☑\",TRUE)","v":false},{"$f":"IF(X39,W39,\"\")","v":""},"□","弁当配達",{"$f":"IF(Z39=\"☑\",TRUE)","v":false},{"$f":"IF(AB39,AA39,\"\")","v":""},"□","理容室・美容室（送迎）",{"$f":"IF(AD39=\"☑\",TRUE)","v":false},{"$f":"IF(AF39,AE39,\"\")","v":""},"□","家事代行",{"$f":"IF(AH39=\"☑\",TRUE)","v":false},{"$f":"IF(AJ39,AI39,\"\")","v":""},"□","フィットネス・ジム（運動）",{"$f":"IF(AL39=\"☑\",TRUE)","v":false},{"$f":"IF(AN39,AM39,\"\")","v":""},"□","車イス対応（バリアフリー）",{"$f":"IF(AP39=\"☑\",TRUE)","v":false},{"$f":"IF(AR39,AQ39,\"\")","v":""},"□","講座・教室・イベント",{"$f":"IF(AT39=\"☑\",TRUE)","v":false},{"$f":"IF(AV39,AU39,\"\")","v":""},"□","防犯・見守り",{"$f":"IF(AX39=\"☑\",TRUE)","v":false},{"$f":"IF(AZ39,AY39,\"\")","v":""},{"$f":"_xludf.TEXTJOIN(\",\",TRUE,Y39:Y52,AC39:AC52,AG39:AG52,AK39:AK52,AO39:AO52,AS39:AS52,AW39:AW52,BA39:BA52)","v":""},"□","埼玉県全域",{"$f":"IF(BC39=\"☑\",TRUE)","v":false},"さいたま市:西区,さいたま市:北区,さいたま市:大宮区,さいたま市:見沼区,さいたま市:中央区,さいたま市:桜区,さいたま市:浦和区,さいたま市:南区,さいたま市:緑区,さいたま市:岩槻区,南部地域:川口市,南部地域:蕨市,南部地域:戸田市,南西部地域:朝霞市,南西部地域:志木市,南西部地域:和光市,南西部地域:新座市,南西部地域:富士見市,南西部地域:ふじみ野市,南西部地域:三芳町,東部地域:春日部市,東部地域:草加市,東部地域:越谷市,東部地域:八潮市,東部地域:三郷市,東部地域:吉川市,東部地域:松伏町,県央地域:鴻巣市,県央地域:上尾市,県央地域:桶川市,県央地域:北本市,県央地域:伊奈町,川越比企地域:川越市,川越比企地域:東松山市,川越比企地域:坂戸市,川越比企地域:鶴ヶ島市,川越比企地域:毛呂山町,川越比企地域:越生町,川越比企地域:滑川町,川越比企地域:嵐山町,川越比企地域:小川町,川越比企地域:川島町,川越比企地域:吉見町,川越比企地域:鳩山町,川越比企地域:ときがわ町,川越比企地域:東秩父村,西部地域:所沢市,西部地域:飯能市,西部地域:狭山市,西部地域:入間市,西部地域:日高市,利根地域:行田市,利根地域:加須市,利根地域:羽生市,利根地域:久喜市,利根地域:蓮田市,利根地域:幸手市,利根地域:白岡市,利根地域:宮代町,利根地域:杉戸町,北部地域:熊谷市,北部地域:本庄市,北部地域:深谷市,北部地域:美里町,北部地域:神川町,北部地域:上里町,北部地域:寄居町,秩父地域:秩父市,秩父地域:横瀬町,秩父地域:皆野町,秩父地域:長瀞町,秩父地域:小鹿野町","","□","西区",{"$f":"IF(BH39=\"☑\",TRUE)","v":false},{"$f":"\"さいたま市:\"&BI39","v":"さいたま市:西区"},{"$f":"IF(BJ39,BK39,\"\")","v":""},{"$f":"_xludf.TEXTJOIN(\",\",TRUE,BL39:BL52)","v":""},"□","川口市",{"$f":"IF(BN39=\"☑\",TRUE)","v":false},{"$f":"\"南部地域:\"&BO39","v":"南部地域:川口市"},{"$f":"IF(BP39,BQ39,\"\")","v":""},{"$f":"_xludf.TEXTJOIN(\",\",TRUE,BR39:BR52)","v":""},"□","朝霞市",{"$f":"IF(BT39=\"☑\",TRUE)","v":false},{"$f":"\"南西部地域:\"&BU39","v":"南西部地域:朝霞市"},{"$f":"IF(BV39,BW39,\"\")","v":""},{"$f":"_xludf.TEXTJOIN(\",\",TRUE,BX39:BX52)","v":""},"□","春日部市",{"$f":"IF(BZ39=\"☑\",TRUE)","v":false},{"$f":"\"東部地域:\"&CA39","v":"東部地域:春日部市"},{"$f":"IF(CB39,CC39,\"\")","v":""},{"$f":"_xludf.TEXTJOIN(\",\",TRUE,CD39:CD52)","v":""},"□","鴻巣市",{"$f":"IF(CF39=\"☑\",TRUE)","v":false},{"$f":"\"県央地域:\"&CG39","v":"県央地域:鴻巣市"},{"$f":"IF(CH39,CI39,\"\")","v":""},{"$f":"_xludf.TEXTJOIN(\",\",TRUE,CJ39:CJ52)","v":""},"□","川越市",{"$f":"IF(CL39=\"☑\",TRUE)","v":false},{"$f":"\"川越比企地域:\"&CM39","v":"川越比企地域:川越市"},{"$f":"IF(CN39,CO39,\"\")","v":""},{"$f":"_xludf.TEXTJOIN(\",\",TRUE,CP39:CP52)","v":""},"□","所沢市",{"$f":"IF(CR39=\"☑\",TRUE)","v":false},{"$f":"\"西部地域:\"&CS39","v":"西部地域:所沢市"},{"$f":"IF(CT39,CU39,\"\")","v":""},{"$f":"_xludf.TEXTJOIN(\",\",TRUE,CV39:CV52)","v":""},"□","行田市",{"$f":"IF(CX39=\"☑\",TRUE)","v":false},{"$f":"\"利根地域:\"&CY39","v":"利根地域:行田市"},{"$f":"IF(CZ39,DA39,\"\")","v":""},{"$f":"_xludf.TEXTJOIN(\",\",TRUE,DB39:DB52)","v":""},"□","熊谷市",{"$f":"IF(DD39=\"☑\",TRUE)","v":false},{"$f":"\"北部地域:\"&DE39","v":"北部地域:熊谷市"},{"$f":"IF(DF39,DG39,\"\")","v":""},{"$f":"_xludf.TEXTJOIN(\",\",TRUE,DH39:DH52)","v":""},"□","秩父市",{"$f":"IF(DJ39=\"☑\",TRUE)","v":false},{"$f":"\"秩父地域:\"&DK39","v":"秩父地域:秩父市"},{"$f":"IF(DL39,DM39,\"\")","v":""},{"$f":"_xludf.TEXTJOIN(\",\",TRUE,DN39:DN52)","v":""},{"$f":"_xludf.TEXTJOIN(\",\",TRUE,BG39,BM39,BS39,BY39,CE39,CK39,CQ39,CW39,DC39,DI39,DO39)","v":""},null,null,null,null,null,null,null,null,null,null,null,null,"□","月曜日",{"$f":"IF(EC39=\"☑\",TRUE)","v":false},{"$f":"IF(EE39,ED39,\"\")","v":""},{"$f":"_xludf.TEXTJOIN(\",\",TRUE,EF39:EF52)","v":""},"□","午前（～12:00）",{"$f":"IF(EH39=\"☑\",TRUE)","v":false},{"$f":"IF(EJ39,EI39,\"\")","v":""},{"$f":"_xludf.TEXTJOIN(\",\",TRUE,EK39:EK52)","v":""},null,null,"□","彩の国「新しい生活様式」安心宣言",{"$f":"IF(EO39=\"☑\",TRUE)","v":false},{"$f":"IF(EQ39,EP39,\"\")","v":""},{"$f":"_xludf.TEXTJOIN(\",\",TRUE,ER39:ER52)","v":""},null,"",null,"",null,"",null,"",null,"",null,"",null,"",null,""]
[null,null,null,null,null,null,null,null,null,null,null,null,null,null,null,null,null,null,null,null,null,"□","買物サポート",false,"","□","料理デリバリー（出前）",false,"","□","フィットネス・ジム（送迎）",{"$f":"IF(AD40=\"☑\",TRUE)","v":false},{"$f":"IF(AF40,AE40,\"\")","v":""},"□","出張料理",{"$f":"IF(AH40=\"☑\",TRUE)","v":false},{"$f":"IF(AJ40,AI40,\"\")","v":""},"□","温泉・銭湯（たまり場）",false,"","□","多目的トイレ",false,"","□","習い事",{"$f":"IF(AT40=\"☑\",TRUE)","v":false},{"$f":"IF(AV40,AU40,\"\")","v":""},"□","金融・保険",false,"",null,null,null,null,null,"","□","北区",{"$f":"IF(BH40=\"☑\",TRUE)","v":false},{"$f":"\"さいたま市:\"&BI40","v":"さいたま市:北区"},{"$f":"IF(BJ40,BK40,\"\")","v":""},null,"□","蕨市",{"$f":"IF(BN40=\"☑\",TRUE)","v":false},{"$f":"\"南部地域:\"&BO40","v":"南部地域:蕨市"},{"$f":"IF(BP40,BQ40,\"\")","v":""},null,"□","志木市",{"$f":"IF(BT40=\"☑\",TRUE)","v":false},{"$f":"\"南西部地域:\"&BU40","v":"南西部地域:志木市"},{"$f":"IF(BV40,BW40,\"\")","v":""},null,"□","草加市",{"$f":"IF(BZ40=\"☑\",TRUE)","v":false},{"$f":"\"東部地域:\"&CA40","v":"東部地域:草加市"},"",null,"□","上尾市",{"$f":"IF(CF40=\"☑\",TRUE)","v":false},{"$f":"\"県央地域:\"&CG40","v":"県央地域:上尾市"},{"$f":"IF(CH40,CI40,\"\")","v":""},null,"□","東松山市",{"$f":"IF(CL40=\"☑\",TRUE)","v":false},{"$f":"\"川越比企地域:\"&CM40","v":"川越比企地域:東松山市"},{"$f":"IF(CN40,CO40,\"\")","v":""},null,"□","飯能市",{"$f":"IF(CR40=\"☑\",TRUE)","v":false},{"$f":"\"西部地域:\"&CS40","v":"西部地域:飯能市"},{"$f":"IF(CT40,CU40,\"\")","v":""},null,"□","加須市",{"$f":"IF(CX40=\"☑\",TRUE)","v":false},{"$f":"\"利根地域:\"&CY40","v":"利根地域:加須市"},{"$f":"IF(CZ40,DA40,\"\")","v":""},null,"□","本庄市",{"$f":"IF(DD40=\"☑\",TRUE)","v":false},{"$f":"\"北部地域:\"&DE40","v":"北部地域:本庄市"},{"$f":"IF(DF40,DG40,\"\")","v":""},null,"□","横瀬町",{"$f":"IF(DJ40=\"☑\",TRUE)","v":false},{"$f":"\"秩父地域:\"&DK40","v":"秩父地域:横瀬町"},{"$f":"IF(DL40,DM40,\"\")","v":""},null,null,null,null,null,null,null,null,null,null,null,null,null,null,"□","火曜日",{"$f":"IF(EC40=\"☑\",TRUE)","v":false},{"$f":"IF(EE40,ED40,\"\")","v":""},null,"□","午後（12:00～16：00）",{"$f":"IF(EH40=\"☑\",TRUE)","v":false},{"$f":"IF(EJ40,EI40,\"\")","v":""},null,null,null,null,"に基づき感染対策を実施している。",null,{"$f":"IF(EQ40,EP40,\"\")","v":""}]
[null,null,null,null,null,null,null,null,null,null,null,null,null,null,null,null,null,null,null,null,null,"□","買物代行",false,"","□","食材宅配",false,"","□","温泉・銭湯（送迎）",false,"","□","屋外作業・力仕事",false,"","□","カフェ・ファーストフード",false,"","□","休憩スペース",false,"","□","映画館",false,"","□","住宅・リフォーム",false,"",null,null,null,null,null,"","□","大宮区",false,"さいたま市:大宮区","",null,"□","戸田市",{"$f":"IF(BN41=\"☑\",TRUE)","v":false},{"$f":"\"南部地域:\"&BO41","v":"南部地域:戸田市"},"",null,"□","和光市",false,"南西部地域:和光市","",null,"□","越谷市",false,"東部地域:越谷市","",null,"□","桶川市",{"$f":"IF(CF41=\"☑\",TRUE)","v":false},{"$f":"\"県央地域:\"&CG41","v":"県央地域:桶川市"},"",null,"□","坂戸市",false,"川越比企地域:坂戸市","",null,"□","狭山市",{"$f":"IF(CR41=\"☑\",TRUE)","v":false},{"$f":"\"西部地域:\"&CS41","v":"西部地域:狭山市"},"",null,"□","羽生市",false,"利根地域:羽生市","",null,"□","深谷市",false,"北部地域:深谷市","",null,"□","皆野町",{"$f":"IF(DJ41=\"☑\",TRUE)","v":false},{"$f":"\"秩父地域:\"&DK41","v":"秩父地域:皆野町"},"",null,null,null,null,null,null,null,null,null,null,null,null,null,null,"□","水曜日",false,"",null,"□","夕方(16:00～18:00)",{"$f":"IF(EH41=\"☑\",TRUE)","v":false},{"$f":"IF(EJ41,EI41,\"\")","v":""},null,null,null,"□","各種団体が定める業種別ガイドライン",{"$f":"IF(EO41=\"☑\",TRUE)","v":false},{"$f":"IF(EQ41,EP41,\"\")","v":""}]
[null,null,null,null,null,null,null,null,null,null,null,null,null,null,null,null,null,null,null,null,null,"□","移動販売",false,"","□","日用品配達",false,"","□","整体・マッサージ（送迎）",false,"","□","整体・マッサージ（出張）",false,"","□","飲食店",false,"","□","駐車場",false,"","□","カラオケ店",false,"","□","パソコン・スマートフォン",false,"",null,null,null,null,null,"","□","見沼区",false,"さいたま市:見沼区","",null,null,null,null,null,"",null,"□","新座市",false,"南西部地域:新座市","",null,"□","八潮市",false,"東部地域:八潮市","",null,"□","北本市",{"$f":"IF(CF42=\"☑\",TRUE)","v":false},{"$f":"\"県央地域:\"&CG42","v":"県央地域:北本市"},"",null,"□","鶴ヶ島市",false,"川越比企地域:鶴ヶ島市","",null,"□","入間市",{"$f":"IF(CR42=\"☑\",TRUE)","v":false},{"$f":"\"西部地域:\"&CS42","v":"西部地域:入間市"},"",null,"□","久喜市",false,"利根地域:久喜市","",null,"□","美里町",false,"北部地域:美里町","",null,"□","長瀞町",{"$f":"IF(DJ42=\"☑\",TRUE)","v":false},{"$f":"\"秩父地域:\"&DK42","v":"秩父地域:長瀞町"},"",null,null,null,null,null,null,null,null,null,null,null,null,null,null,"□","木曜日",false,"",null,"□","夜(18:00～）",{"$f":"IF(EH42=\"☑\",TRUE)","v":false},{"$f":"IF(EJ42,EI42,\"\")","v":""},null,null,null,null,"に基づき感染対策を実施している。"]
[null,null,null,null,null,null,null,null,null,null,null,null,null,null,null,null,null,null,null,null,null,"□","割引サービス",false,"","□","薬・介護用品配達",false,"","□","乗り合いサービス",false,"","□","理容室・美容室（出張）",false,"","□","イートインスペース",false,"","□","貸しスペース",false,"","□","麻雀・将棋・囲碁",false,"","□","認知症サポート企業",false,"",null,null,null,null,null,"","□","中央区",false,"さいたま市:中央区","",null,null,null,null,null,"",null,"□","富士見市",false,"南西部地域:富士見市","",null,"□","三郷市",false,"東部地域:三郷市","",null,"□","伊奈町",{"$f":"IF(CF43=\"☑\",TRUE)","v":false},{"$f":"\"県央地域:\"&CG43","v":"県央地域:伊奈町"},"",null,"□","毛呂山町",false,"川越比企地域:毛呂山町","",null,"□","日高市",{"$f":"IF(CR43=\"☑\",TRUE)","v":false},{"$f":"\"西部地域:\"&CS43","v":"西部地域:日高市"},"",null,"□","蓮田市",false,"利根地域:蓮田市","",null,"□","神川町",false,"北部地域:神川町","",null,"□","小鹿野町",{"$f":"IF(DJ43=\"☑\",TRUE)","v":false},{"$f":"\"秩父地域:\"&DK43","v":"秩父地域:小鹿野町"},"",null,null,null,null,null,null,null,null,null,null,null,null,null,null,"□","金曜日",false,"",null,null,null,null,null,null,null,null,"□","その他の感染対策を実施している。",{"$f":"IF(EO43=\"☑\",TRUE)","v":false},{"$f":"IF(EQ43,EP43,\"\")","v":""}]
[null,null,null,null,null,null,null,null,null,null,null,null,null,null,null,null,null,null,null,null,null,"□","その他（買物）",false,"","□","その他（宅配・デリバリー）",false,"","□","個別移送サービス",false,"","□","ペット",false,"","□","その他（運動・たまり場）",false,"","□","その他（設備・施設・場所貸し）",false,"","□","ゲームセンター",false,"","□","その他（生活サービス）",false,"",null,null,null,null,null,"","□","桜区",false,"さいたま市:桜区","",null,null,null,null,null,"",null,"□","ふじみ野市",false,"南西部地域:ふじみ野市","",null,"□","吉川市",false,"東部地域:吉川市","",null,null,null,null,null,"",null,"□","越生町",false,"川越比企地域:越生町","",null,null,null,null,null,"",null,"□","幸手市",false,"利根地域:幸手市","",null,"□","上里町",false,"北部地域:上里町","",null,null,null,null,null,"",null,null,null,null,null,null,null,null,null,null,null,null,null,null,"□","土曜日",false,"",null,null,null,null,null,null,null,null,"□","感染対策を特に実施していない。",{"$f":"IF(EO44=\"☑\",TRUE)","v":false},{"$f":"IF(EQ44,EP44,\"\")","v":""}]
[null,null,null,null,null,null,null,null,null,null,null,null,null,null,null,null,null,null,null,null,null,null,null,null,null,null,null,null,null,"□","交通機関サービス",false,"","□","その他（出張サービス）",false,"",null,null,null,null,null,null,null,null,"□","旅行代理店",false,"",null,null,null,null,null,null,null,null,null,"","□","浦和区",false,"さいたま市:浦和区","",null,null,null,null,null,"",null,"□","三芳町",false,"南西部地域:三芳町","",null,"□","松伏町",false,"東部地域:松伏町","",null,null,null,null,null,"",null,"□","滑川町",false,"川越比企地域:滑川町","",null,null,null,null,null,"",null,"□","白岡市",false,"利根地域:白岡市","",null,"□","寄居町",false,"北部地域:寄居町","",null,null,null,null,null,"",null,null,null,null,null,null,null,null,null,null,null,null,null,null,"□","日曜日",false,""]
[null,null,null,null,null,null,null,null,null,null,null,null,null,null,null,null,null,null,null,null,null,null,null,null,null,null,null,null,null,"□","その他（送迎・移動支援）",false,"",null,null,null,"",null,null,null,{"$f":"IF(AN46,AM46,\"\")","v":""},null,null,null,{"$f":"IF(AR46,AQ46,\"\")","v":""},"□","その他（学び・趣味）",false,"",null,null,null,null,null,null,null,null,null,"","□","南区",false,"さいたま市:南区","",null,null,null,null,null,"",null,null,null,null,null,"",null,null,null,null,null,"",null,null,null,null,null,"",null,"□","嵐山町",false,"川越比企地域:嵐山町","",null,null,null,null,null,"",null,"□","宮代町",false,"利根地域:宮代町","",null,null,null,null,null,"",null,null,null,null,null,""]
[null,null,null,null,null,null,null,null,null,null,null,null,null,null,null,null,null,null,null,null,null,null,null,null,null,null,null,null,null,null,null,null,null,null,null,null,null,null,null,null,null,null,null,null,null,null,null,null,null,null,null,null,null,null,null,null,null,null,"","□","緑区",false,"さいたま市:緑区","",null,null,null,null,null,"",null,null,null,null,null,"",null,null,null,null,null,"",null,null,null,null,null,"",null,"□","小川町",false,"川越比企地域:小川町","",null,null,null,null,null,"",null,"□","杉戸町",false,"利根地域:杉戸町","",null,null,null,null,null,"",null,null,null,null,null,""]
[null,null,null,null,null,null,null,null,null,null,null,null,null,null,null,null,null,null,null,null,null,null,null,null,null,null,null,null,null,null,null,null,null,null,null,null,null,null,null,null,null,null,null,null,null,null,null,null,null,null,null,null,null,null,null,null,null,null,"","□","岩槻区",{"$f":"IF(BH48=\"☑\",TRUE)","v":false},"さいたま市:岩槻区","",null,null,null,null,null,"",null,null,null,null,null,"",null,null,null,null,null,"",null,null,null,null,null,"",null,"□","川島町",false,"川越比企地域:川島町","",null,null,null,null,null,"",null,null,null,null,null,"",null,null,null,null,null,"",null,null,null,null,null,""]
[null,null,null,null,null,null,null,null,null,null,null,null,null,null,null,null,null,null,null,null,null,null,null,null,null,null,null,null,null,null,null,null,null,null,null,null,null,null,null,null,null,null,null,null,null,null,null,null,null,null,null,null,null,null,null,null,null,null,"",null,null,null,null,null,null,null,null,null,null,null,null,null,null,null,null,null,null,null,null,null,null,null,null,null,null,null,null,null,null,"□","吉見町",false,"川越比企地域:吉見町","",null,null,null,null,null,"",null,null,null,null,null,"",null,null,null,null,null,"",null,null,null,null,null,""]
[null,null,null,null,null,null,null,null,null,null,null,null,null,null,null,null,null,null,null,null,null,null,null,null,null,null,null,null,null,null,null,null,null,null,null,null,null,null,null,null,null,null,null,null,null,null,null,null,null,null,null,null,null,null,null,null,null,null,"",null,null,null,null,null,null,null,null,null,null,null,null,null,null,null,null,null,null,null,null,null,null,null,null,null,null,null,null,null,null,"□","鳩山町",false,"川越比企地域:鳩山町","",null,null,null,null,null,"",null,null,null,null,null,"",null,null,null,null,null,"",null,null,null,null,null,""]
[null,null,null,null,null,null,null,null,null,null,null,null,null,null,null,null,null,null,null,null,null,null,null,null,null,null,null,null,null,null,null,null,null,null,null,null,null,null,null,null,null,null,null,null,null,null,null,null,null,null,null,null,null,null,null,null,null,null,"",null,null,null,null,null,null,null,null,null,null,null,null,null,null,null,null,null,null,null,null,null,null,null,null,null,null,null,null,null,null,"□","ときがわ町",false,"川越比企地域:ときがわ町","",null,null,null,null,null,"",null,null,null,null,null,"",null,null,null,null,null,"",null,null,null,null,null,""]
[null,null,null,null,null,null,null,null,null,null,null,null,null,null,null,null,null,null,null,null,null,null,null,null,null,null,null,null,null,null,null,null,null,null,null,null,null,null,null,null,null,null,null,null,null,null,null,null,null,null,null,null,null,null,null,null,null,null,"",null,null,null,null,null,null,null,null,null,null,null,null,null,null,null,null,null,null,null,null,null,null,null,null,null,null,null,null,null,null,"□","東秩父村",false,"川越比企地域:東秩父村","",null,null,null,null,null,"",null,null,null,null,null,"",null,null,null,null,null,"",null,null,null,null,null,""]
[3,null,null,null,null,null,null,null,null,null,null,null,null,null,null,null,null,null,null,null,null,"□","配送",{"$f":"IF(V53=\"☑\",TRUE)","v":false},{"$f":"IF(X53,W53,\"\")","v":""},"□","弁当配達",{"$f":"IF(Z53=\"☑\",TRUE)","v":false},{"$f":"IF(AB53,AA53,\"\")","v":""},"□","理容室・美容室（送迎）",{"$f":"IF(AD53=\"☑\",TRUE)","v":false},{"$f":"IF(AF53,AE53,\"\")","v":""},"□","家事代行",{"$f":"IF(AH53=\"☑\",TRUE)","v":false},{"$f":"IF(AJ53,AI53,\"\")","v":""},"□","フィットネス・ジム（運動）",{"$f":"IF(AL53=\"☑\",TRUE)","v":false},{"$f":"IF(AN53,AM53,\"\")","v":""},"□","車イス対応（バリアフリー）",{"$f":"IF(AP53=\"☑\",TRUE)","v":false},{"$f":"IF(AR53,AQ53,\"\")","v":""},"□","講座・教室・イベント",{"$f":"IF(AT53=\"☑\",TRUE)","v":false},{"$f":"IF(AV53,AU53,\"\")","v":""},"□","防犯・見守り",{"$f":"IF(AX53=\"☑\",TRUE)","v":false},{"$f":"IF(AZ53,AY53,\"\")","v":""},{"$f":"_xludf.TEXTJOIN(\",\",TRUE,Y53:Y66,AC53:AC66,AG53:AG66,AK53:AK66,AO53:AO66,AS53:AS66,AW53:AW66,BA53:BA66)","v":""},"□","埼玉県全域",{"$f":"IF(BC53=\"☑\",TRUE)","v":false},"さいたま市:西区,さいたま市:北区,さいたま市:大宮区,さいたま市:見沼区,さいたま市:中央区,さいたま市:桜区,さいたま市:浦和区,さいたま市:南区,さいたま市:緑区,さいたま市:岩槻区,南部地域:川口市,南部地域:蕨市,南部地域:戸田市,南西部地域:朝霞市,南西部地域:志木市,南西部地域:和光市,南西部地域:新座市,南西部地域:富士見市,南西部地域:ふじみ野市,南西部地域:三芳町,東部地域:春日部市,東部地域:草加市,東部地域:越谷市,東部地域:八潮市,東部地域:三郷市,東部地域:吉川市,東部地域:松伏町,県央地域:鴻巣市,県央地域:上尾市,県央地域:桶川市,県央地域:北本市,県央地域:伊奈町,川越比企地域:川越市,川越比企地域:東松山市,川越比企地域:坂戸市,川越比企地域:鶴ヶ島市,川越比企地域:毛呂山町,川越比企地域:越生町,川越比企地域:滑川町,川越比企地域:嵐山町,川越比企地域:小川町,川越比企地域:川島町,川越比企地域:吉見町,川越比企地域:鳩山町,川越比企地域:ときがわ町,川越比企地域:東秩父村,西部地域:所沢市,西部地域:飯能市,西部地域:狭山市,西部地域:入間市,西部地域:日高市,利根地域:行田市,利根地域:加須市,利根地域:羽生市,利根地域:久喜市,利根地域:蓮田市,利根地域:幸手市,利根地域:白岡市,利根地域:宮代町,利根地域:杉戸町,北部地域:熊谷市,北部地域:本庄市,北部地域:深谷市,北部地域:美里町,北部地域:神川町,北部地域:上里町,北部地域:寄居町,秩父地域:秩父市,秩父地域:横瀬町,秩父地域:皆野町,秩父地域:長瀞町,秩父地域:小鹿野町","","□","西区",{"$f":"IF(BH53=\"☑\",TRUE)","v":false},{"$f":"\"さいたま市:\"&BI53","v":"さいたま市:西区"},{"$f":"IF(BJ53,BK53,\"\")","v":""},{"$f":"_xludf.TEXTJOIN(\",\",TRUE,BL53:BL66)","v":""},"□","川口市",{"$f":"IF(BN53=\"☑\",TRUE)","v":false},{"$f":"\"南部地域:\"&BO53","v":"南部地域:川口市"},{"$f":"IF(BP53,BQ53,\"\")","v":""},{"$f":"_xludf.TEXTJOIN(\",\",TRUE,BR53:BR66)","v":""},"□","朝霞市",{"$f":"IF(BT53=\"☑\",TRUE)","v":false},{"$f":"\"南西部地域:\"&BU53","v":"南西部地域:朝霞市"},{"$f":"IF(BV53,BW53,\"\")","v":""},{"$f":"_xludf.TEXTJOIN(\",\",TRUE,BX53:BX66)","v":""},"□","春日部市",{"$f":"IF(BZ53=\"☑\",TRUE)","v":false},{"$f":"\"東部地域:\"&CA53","v":"東部地域:春日部市"},{"$f":"IF(CB53,CC53,\"\")","v":""},{"$f":"_xludf.TEXTJOIN(\",\",TRUE,CD53:CD66)","v":""},"□","鴻巣市",{"$f":"IF(CF53=\"☑\",TRUE)","v":false},{"$f":"\"県央地域:\"&CG53","v":"県央地域:鴻巣市"},{"$f":"IF(CH53,CI53,\"\")","v":""},{"$f":"_xludf.TEXTJOIN(\",\",TRUE,CJ53:CJ66)","v":""},"□","川越市",{"$f":"IF(CL53=\"☑\",TRUE)","v":false},{"$f":"\"川越比企地域:\"&CM53","v":"川越比企地域:川越市"},{"$f":"IF(CN53,CO53,\"\")","v":""},{"$f":"_xludf.TEXTJOIN(\",\",TRUE,CP53:CP66)","v":""},"□","所沢市",{"$f":"IF(CR53=\"☑\",TRUE)","v":false},{"$f":"\"西部地域:\"&CS53","v":"西部地域:所沢市"},{"$f":"IF(CT53,CU53,\"\")","v":""},{"$f":"_xludf.TEXTJOIN(\",\",TRUE,CV53:CV66)","v":""},"□","行田市",{"$f":"IF(CX53=\"☑\",TRUE)","v":false},{"$f":"\"利根地域:\"&CY53","v":"利根地域:行田市"},{"$f":"IF(CZ53,DA53,\"\")","v":""},{"$f":"_xludf.TEXTJOIN(\",\",TRUE,DB53:DB66)","v":""},"□","熊谷市",{"$f":"IF(DD53=\"☑\",TRUE)","v":false},{"$f":"\"北部地域:\"&DE53","v":"北部地域:熊谷市"},{"$f":"IF(DF53,DG53,\"\")","v":""},{"$f":"_xludf.TEXTJOIN(\",\",TRUE,DH53:DH66)","v":""},"□","秩父市",{"$f":"IF(DJ53=\"☑\",TRUE)","v":false},{"$f":"\"秩父地域:\"&DK53","v":"秩父地域:秩父市"},{"$f":"IF(DL53,DM53,\"\")","v":""},{"$f":"_xludf.TEXTJOIN(\",\",TRUE,DN53:DN66)","v":""},{"$f":"_xludf.TEXTJOIN(\",\",TRUE,BG53,BM53,BS53,BY53,CE53,CK53,CQ53,CW53,DC53,DI53,DO53)","v":""},null,null,null,null,null,null,null,null,null,null,null,null,"□","月曜日",{"$f":"IF(EC53=\"☑\",TRUE)","v":false},{"$f":"IF(EE53,ED53,\"\")","v":""},{"$f":"_xludf.TEXTJOIN(\",\",TRUE,EF53:EF66)","v":""},"□","午前（～12:00）",{"$f":"IF(EH53=\"☑\",TRUE)","v":false},{"$f":"IF(EJ53,EI53,\"\")","v":""},{"$f":"_xludf.TEXTJOIN(\",\",TRUE,EK53:EK66)","v":""},null,null,"□","彩の国「新しい生活様式」安心宣言",{"$f":"IF(EO53=\"☑\",TRUE)","v":false},{"$f":"IF(EQ53,EP53,\"\")","v":""},{"$f":"_xludf.TEXTJOIN(\",\",TRUE,ER53:ER66)","v":""},null,"",null,"",null,"",null,"",null,"",null,"",null,"",null,""]
[null,null,null,null,null,null,null,null,null,null,null,null,null,null,null,null,null,null,null,null,null,"□","買物サポート",false,"","□","料理デリバリー（出前）",false,"","□","フィットネス・ジム（送迎）",{"$f":"IF(AD54=\"☑\",TRUE)","v":false},{"$f":"IF(AF54,AE54,\"\")","v":""},"□","出張料理",{"$f":"IF(AH54=\"☑\",TRUE)","v":false},{"$f":"IF(AJ54,AI54,\"\")","v":""},"□","温泉・銭湯（たまり場）",false,"","□","多目的トイレ",false,"","□","習い事",{"$f":"IF(AT54=\"☑\",TRUE)","v":false},{"$f":"IF(AV54,AU54,\"\")","v":""},"□","金融・保険",false,"",null,null,null,null,null,"","□","北区",{"$f":"IF(BH54=\"☑\",TRUE)","v":false},{"$f":"\"さいたま市:\"&BI54","v":"さいたま市:北区"},{"$f":"IF(BJ54,BK54,\"\")","v":""},null,"□","蕨市",{"$f":"IF(BN54=\"☑\",TRUE)","v":false},{"$f":"\"南部地域:\"&BO54","v":"南部地域:蕨市"},{"$f":"IF(BP54,BQ54,\"\")","v":""},null,"□","志木市",{"$f":"IF(BT54=\"☑\",TRUE)","v":false},{"$f":"\"南西部地域:\"&BU54","v":"南西部地域:志木市"},{"$f":"IF(BV54,BW54,\"\")","v":""},null,"□","草加市",{"$f":"IF(BZ54=\"☑\",TRUE)","v":false},{"$f":"\"東部地域:\"&CA54","v":"東部地域:草加市"},"",null,"□","上尾市",{"$f":"IF(CF54=\"☑\",TRUE)","v":false},{"$f":"\"県央地域:\"&CG54","v":"県央地域:上尾市"},{"$f":"IF(CH54,CI54,\"\")","v":""},null,"□","東松山市",{"$f":"IF(CL54=\"☑\",TRUE)","v":false},{"$f":"\"川越比企地域:\"&CM54","v":"川越比企地域:東松山市"},{"$f":"IF(CN54,CO54,\"\")","v":""},null,"□","飯能市",{"$f":"IF(CR54=\"☑\",TRUE)","v":false},{"$f":"\"西部地域:\"&CS54","v":"西部地域:飯能市"},{"$f":"IF(CT54,CU54,\"\")","v":""},null,"□","加須市",{"$f":"IF(CX54=\"☑\",TRUE)","v":false},{"$f":"\"利根地域:\"&CY54","v":"利根地域:加須市"},{"$f":"IF(CZ54,DA54,\"\")","v":""},null,"□","本庄市",{"$f":"IF(DD54=\"☑\",TRUE)","v":false},{"$f":"\"北部地域:\"&DE54","v":"北部地域:本庄市"},{"$f":"IF(DF54,DG54,\"\")","v":""},null,"□","横瀬町",{"$f":"IF(DJ54=\"☑\",TRUE)","v":false},{"$f":"\"秩父地域:\"&DK54","v":"秩父地域:横瀬町"},{"$f":"IF(DL54,DM54,\"\")","v":""},null,null,null,null,null,null,null,null,null,null,null,null,null,null,"□","火曜日",{"$f":"IF(EC54=\"☑\",TRUE)","v":false},{"$f":"IF(EE54,ED54,\"\")","v":""},null,"□","午後（12:00～16：00）",{"$f":"IF(EH54=\"☑\",TRUE)","v":false},{"$f":"IF(EJ54,EI54,\"\")","v":""},null,null,null,null,"に基づき感染対策を実施している。",null,{"$f":"IF(EQ54,EP54,\"\")","v":""}]
[null,null,null,null,null,null,null,null,null,null,null,null,null,null,null,null,null,null,null,null,null,"□","買物代行",false,"","□","食材宅配",false,"","□","温泉・銭湯（送迎）",false,"","□","屋外作業・力仕事",false,"","□","カフェ・ファーストフード",false,"","□","休憩スペース",false,"","□","映画館",false,"","□","住宅・リフォーム",false,"",null,null,null,null,null,"","□","大宮区",false,"さいたま市:大宮区","",null,"□","戸田市",{"$f":"IF(BN55=\"☑\",TRUE)","v":false},{"$f":"\"南部地域:\"&BO55","v":"南部地域:戸田市"},"",null,"□","和光市",false,"南西部地域:和光市","",null,"□","越谷市",false,"東部地域:越谷市","",null,"□","桶川市",{"$f":"IF(CF55=\"☑\",TRUE)","v":false},{"$f":"\"県央地域:\"&CG55","v":"県央地域:桶川市"},"",null,"□","坂戸市",false,"川越比企地域:坂戸市","",null,"□","狭山市",{"$f":"IF(CR55=\"☑\",TRUE)","v":false},{"$f":"\"西部地域:\"&CS55","v":"西部地域:狭山市"},"",null,"□","羽生市",false,"利根地域:羽生市","",null,"□","深谷市",false,"北部地域:深谷市","",null,"□","皆野町",{"$f":"IF(DJ55=\"☑\",TRUE)","v":false},{"$f":"\"秩父地域:\"&DK55","v":"秩父地域:皆野町"},"",null,null,null,null,null,null,null,null,null,null,null,null,null,null,"□","水曜日",false,"",null,"□","夕方(16:00～18:00)",{"$f":"IF(EH55=\"☑\",TRUE)","v":false},{"$f":"IF(EJ55,EI55,\"\")","v":""},null,null,null,"□","各種団体が定める業種別ガイドライン",{"$f":"IF(EO55=\"☑\",TRUE)","v":false},{"$f":"IF(EQ55,EP55,\"\")","v":""}]
[null,null,null,null,null,null,null,null,null,null,null,null,null,null,null,null,null,null,null,null,null,"□","移動販売",false,"","□","日用品配達",false,"","□","整体・マッサージ（送迎）",false,"","□","整体・マッサージ（出張）",false,"","□","飲食店",false,"","□","駐車場",false,"","□","カラオケ店",false,"","□","パソコン・スマートフォン",false,"",null,null,null,null,null,"","□","見沼区",false,"さいたま市:見沼区","",null,null,null,null,null,"",null,"□","新座市",false,"南西部地域:新座市","",null,"□","八潮市",false,"東部地域:八潮市","",null,"□","北本市",{"$f":"IF(CF56=\"☑\",TRUE)","v":false},{"$f":"\"県央地域:\"&CG56","v":"県央地域:北本市"},"",null,"□","鶴ヶ島市",false,"川越比企地域:鶴ヶ島市","",null,"□","入間市",{"$f":"IF(CR56=\"☑\",TRUE)","v":false},{"$f":"\"西部地域:\"&CS56","v":"西部地域:入間市"},"",null,"□","久喜市",false,"利根地域:久喜市","",null,"□","美里町",false,"北部地域:美里町","",null,"□","長瀞町",{"$f":"IF(DJ56=\"☑\",TRUE)","v":false},{"$f":"\"秩父地域:\"&DK56","v":"秩父地域:長瀞町"},"",null,null,null,null,null,null,null,null,null,null,null,null,null,null,"□","木曜日",false,"",null,"□","夜(18:00～）",{"$f":"IF(EH56=\"☑\",TRUE)","v":false},{"$f":"IF(EJ56,EI56,\"\")","v":""},null,null,null,null,"に基づき感染対策を実施している。"]
[null,null,null,null,null,null,null,null,null,null,null,null,null,null,null,null,null,null,null,null,null,"□","割引サービス",false,"","□","薬・介護用品配達",false,"","□","乗り合いサービス",false,"","□","理容室・美容室（出張）",false,"","□","イートインスペース",false,"","□","貸しスペース",false,"","□","麻雀・将棋・囲碁",false,"","□","認知症サポート企業",false,"",null,null,null,null,null,"","□","中央区",false,"さいたま市:中央区","",null,null,null,null,null,"",null,"□","富士見市",false,"南西部地域:富士見市","",null,"□","三郷市",false,"東部地域:三郷市","",null,"□","伊奈町",{"$f":"IF(CF57=\"☑\",TRUE)","v":false},{"$f":"\"県央地域:\"&CG57","v":"県央地域:伊奈町"},"",null,"□","毛呂山町",false,"川越比企地域:毛呂山町","",null,"□","日高市",{"$f":"IF(CR57=\"☑\",TRUE)","v":false},{"$f":"\"西部地域:\"&CS57","v":"西部地域:日高市"},"",null,"□","蓮田市",false,"利根地域:蓮田市","",null,"□","神川町",false,"北部地域:神川町","",null,"□","小鹿野町",{"$f":"IF(DJ57=\"☑\",TRUE)","v":false},{"$f":"\"秩父地域:\"&DK57","v":"秩父地域:小鹿野町"},"",null,null,null,null,null,null,null,null,null,null,null,null,null,null,"□","金曜日",false,"",null,null,null,null,null,null,null,null,"□","その他の感染対策を実施している。",{"$f":"IF(EO57=\"☑\",TRUE)","v":false},{"$f":"IF(EQ57,EP57,\"\")","v":""}]
[null,null,null,null,null,null,null,null,null,null,null,null,null,null,null,null,null,null,null,null,null,"□","その他（買物）",false,"","□","その他（宅配・デリバリー）",false,"","□","個別移送サービス",false,"","□","ペット",false,"","□","その他（運動・たまり場）",false,"","□","その他（設備・施設・場所貸し）",false,"","□","ゲームセンター",false,"","□","その他（生活サービス）",false,"",null,null,null,null,null,"","□","桜区",false,"さいたま市:桜区","",null,null,null,null,null,"",null,"□","ふじみ野市",false,"南西部地域:ふじみ野市","",null,"□","吉川市",false,"東部地域:吉川市","",null,null,null,null,null,"",null,"□","越生町",false,"川越比企地域:越生町","",null,null,null,null,null,"",null,"□","幸手市",false,"利根地域:幸手市","",null,"□","上里町",false,"北部地域:上里町","",null,null,null,null,null,"",null,null,null,null,null,null,null,null,null,null,null,null,null,null,"□","土曜日",false,"",null,null,null,null,null,null,null,null,"□","感染対策を特に実施していない。",{"$f":"IF(EO58=\"☑\",TRUE)","v":false},{"$f":"IF(EQ58,EP58,\"\")","v":""}]
[null,null,null,null,null,null,null,null,null,null,null,null,null,null,null,null,null,null,null,null,null,null,null,null,null,null,null,null,null,"□","交通機関サービス",false,"","□","その他（出張サービス）",false,"",null,null,null,null,null,null,null,null,"□","旅行代理店",false,"",null,null,null,null,null,null,null,null,null,"","□","浦和区",false,"さいたま市:浦和区","",null,null,null,null,null,"",null,"□","三芳町",false,"南西部地域:三芳町","",null,"□","松伏町",false,"東部地域:松伏町","",null,null,null,null,null,"",null,"□","滑川町",false,"川越比企地域:滑川町","",null,null,null,null,null,"",null,"□","白岡市",false,"利根地域:白岡市","",null,"□","寄居町",false,"北部地域:寄居町","",null,null,null,null,null,"",null,null,null,null,null,null,null,null,null,null,null,null,null,null,"□","日曜日",false,""]
[null,null,null,null,null,null,null,null,null,null,null,null,null,null,null,null,null,null,null,null,null,null,null,null,null,null,null,null,null,"□","その他（送迎・移動支援）",false,"",null,null,null,"",null,null,null,{"$f":"IF(AN60,AM60,\"\")","v":""},null,null,null,{"$f":"IF(AR60,AQ60,\"\")","v":""},"□","その他（学び・趣味）",false,"",null,null,null,null,null,null,null,null,null,"","□","南区",false,"さいたま市:南区","",null,null,null,null,null,"",null,null,null,null,null,"",null,null,null,null,null,"",null,null,null,null,null,"",null,"□","嵐山町",false,"川越比企地域:嵐山町","",null,null,null,null,null,"",null,"□","宮代町",false,"利根地域:宮代町","",null,null,null,null,null,"",null,null,null,null,null,""]
[null,null,null,null,null,null,null,null,null,null,null,null,null,null,null,null,null,null,null,null,null,null,null,null,null,null,null,null,null,null,null,null,null,null,null,null,null,null,null,null,null,null,null,null,null,null,null,null,null,null,null,null,null,null,null,null,null,null,"","□","緑区",false,"さいたま市:緑区","",null,null,null,null,null,"",null,null,null,null,null,"",null,null,null,null,null,"",null,null,null,null,null,"",null,"□","小川町",false,"川越比企地域:小川町","",null,null,null,null,null,"",null,"□","杉戸町",false,"利根地域:杉戸町","",null,null,null,null,null,"",null,null,null,null,null,""]
[null,null,null,null,null,null,null,null,null,null,null,null,null,null,null,null,null,null,null,null,null,null,null,null,null,null,null,null,null,null,null,null,null,null,null,null,null,null,null,null,null,null,null,null,null,null,null,null,null,null,null,null,null,null,null,null,null,null,"","□","岩槻区",{"$f":"IF(BH62=\"☑\",TRUE)","v":false},"さいたま市:岩槻区","",null,null,null,null,null,"",null,null,null,null,null,"",null,null,null,null,null,"",null,null,null,null,null,"",null,"□","川島町",false,"川越比企地域:川島町","",null,null,null,null,null,"",null,null,null,null,null,"",null,null,null,null,null,"",null,null,null,null,null,""]
[null,null,null,null,null,null,null,null,null,null,null,null,null,null,null,null,null,null,null,null,null,null,null,null,null,null,null,null,null,null,null,null,null,null,null,null,null,null,null,null,null,null,null,null,null,null,null,null,null,null,null,null,null,null,null,null,null,null,"",null,null,null,null,null,null,null,null,null,null,null,null,null,null,null,null,null,null,null,null,null,null,null,null,null,null,null,null,null,null,"□","吉見町",false,"川越比企地域:吉見町","",null,null,null,null,null,"",null,null,null,null,null,"",null,null,null,null,null,"",null,null,null,null,null,""]
[null,null,null,null,null,null,null,null,null,null,null,null,null,null,null,null,null,null,null,null,null,null,null,null,null,null,null,null,null,null,null,null,null,null,null,null,null,null,null,null,null,null,null,null,null,null,null,null,null,null,null,null,null,null,null,null,null,null,"",null,null,null,null,null,null,null,null,null,null,null,null,null,null,null,null,null,null,null,null,null,null,null,null,null,null,null,null,null,null,"□","鳩山町",false,"川越比企地域:鳩山町","",null,null,null,null,null,"",null,null,null,null,null,"",null,null,null,null,null,"",null,null,null,null,null,""]
[null,null,null,null,null,null,null,null,null,null,null,null,null,null,null,null,null,null,null,null,null,null,null,null,null,null,null,null,null,null,null,null,null,null,null,null,null,null,null,null,null,null,null,null,null,null,null,null,null,null,null,null,null,null,null,null,null,null,"",null,null,null,null,null,null,null,null,null,null,null,null,null,null,null,null,null,null,null,null,null,null,null,null,null,null,null,null,null,null,"□","ときがわ町",false,"川越比企地域:ときがわ町","",null,null,null,null,null,"",null,null,null,null,null,"",null,null,null,null,null,"",null,null,null,null,null,""]
[null,null,null,null,null,null,null,null,null,null,null,null,null,null,null,null,null,null,null,null,null,null,null,null,null,null,null,null,null,null,null,null,null,null,null,null,null,null,null,null,null,null,null,null,null,null,null,null,null,null,null,null,null,null,null,null,null,null,"",null,null,null,null,null,null,null,null,null,null,null,null,null,null,null,null,null,null,null,null,null,null,null,null,null,null,null,null,null,null,"□","東秩父村",false,"川越比企地域:東秩父村","",null,null,null,null,null,"",null,null,null,null,null,"",null,null,null,null,null,"",null,null,null,null,null,""]
[4,null,null,null,null,null,null,null,null,null,null,null,null,null,null,null,null,null,null,null,null,"□","配送",{"$f":"IF(V67=\"☑\",TRUE)","v":false},{"$f":"IF(X67,W67,\"\")","v":""},"□","弁当配達",{"$f":"IF(Z67=\"☑\",TRUE)","v":false},{"$f":"IF(AB67,AA67,\"\")","v":""},"□","理容室・美容室（送迎）",{"$f":"IF(AD67=\"☑\",TRUE)","v":false},{"$f":"IF(AF67,AE67,\"\")","v":""},"□","家事代行",{"$f":"IF(AH67=\"☑\",TRUE)","v":false},{"$f":"IF(AJ67,AI67,\"\")","v":""},"□","フィットネス・ジム（運動）",{"$f":"IF(AL67=\"☑\",TRUE)","v":false},{"$f":"IF(AN67,AM67,\"\")","v":""},"□","車イス対応（バリアフリー）",{"$f":"IF(AP67=\"☑\",TRUE)","v":false},{"$f":"IF(AR67,AQ67,\"\")","v":""},"□","講座・教室・イベント",{"$f":"IF(AT67=\"☑\",TRUE)","v":false},{"$f":"IF(AV67,AU67,\"\")","v":""},"□","防犯・見守り",{"$f":"IF(AX67=\"☑\",TRUE)","v":false},{"$f":"IF(AZ67,AY67,\"\")","v":""},{"$f":"_xludf.TEXTJOIN(\",\",TRUE,Y67:Y80,AC67:AC80,AG67:AG80,AK67:AK80,AO67:AO80,AS67:AS80,AW67:AW80,BA67:BA80)","v":""},"□","埼玉県全域",{"$f":"IF(BC67=\"☑\",TRUE)","v":false},"さいたま市:西区,さいたま市:北区,さいたま市:大宮区,さいたま市:見沼区,さいたま市:中央区,さいたま市:桜区,さいたま市:浦和区,さいたま市:南区,さいたま市:緑区,さいたま市:岩槻区,南部地域:川口市,南部地域:蕨市,南部地域:戸田市,南西部地域:朝霞市,南西部地域:志木市,南西部地域:和光市,南西部地域:新座市,南西部地域:富士見市,南西部地域:ふじみ野市,南西部地域:三芳町,東部地域:春日部市,東部地域:草加市,東部地域:越谷市,東部地域:八潮市,東部地域:三郷市,東部地域:吉川市,東部地域:松伏町,県央地域:鴻巣市,県央地域:上尾市,県央地域:桶川市,県央地域:北本市,県央地域:伊奈町,川越比企地域:川越市,川越比企地域:東松山市,川越比企地域:坂戸市,川越比企地域:鶴ヶ島市,川越比企地域:毛呂山町,川越比企地域:越生町,川越比企地域:滑川町,川越比企地域:嵐山町,川越比企地域:小川町,川越比企地域:川島町,川越比企地域:吉見町,川越比企地域:鳩山町,川越比企地域:ときがわ町,川越比企地域:東秩父村,西部地域:所沢市,西部地域:飯能市,西部地域:狭山市,西部地域:入間市,西部地域:日高市,利根地域:行田市,利根地域:加須市,利根地域:羽生市,利根地域:久喜市,利根地域:蓮田市,利根地域:幸手市,利根地域:白岡市,利根地域:宮代町,利根地域:杉戸町,北部地域:熊谷市,北部地域:本庄市,北部地域:深谷市,北部地域:美里町,北部地域:神川町,北部地域:上里町,北部地域:寄居町,秩父地域:秩父市,秩父地域:横瀬町,秩父地域:皆野町,秩父地域:長瀞町,秩父地域:小鹿野町","","□","西区",{"$f":"IF(BH67=\"☑\",TRUE)","v":false},{"$f":"\"さいたま市:\"&BI67","v":"さいたま市:西区"},{"$f":"IF(BJ67,BK67,\"\")","v":""},{"$f":"_xludf.TEXTJOIN(\",\",TRUE,BL67:BL80)","v":""},"□","川口市",{"$f":"IF(BN67=\"☑\",TRUE)","v":false},{"$f":"\"南部地域:\"&BO67","v":"南部地域:川口市"},{"$f":"IF(BP67,BQ67,\"\")","v":""},{"$f":"_xludf.TEXTJOIN(\",\",TRUE,BR67:BR80)","v":""},"□","朝霞市",{"$f":"IF(BT67=\"☑\",TRUE)","v":false},{"$f":"\"南西部地域:\"&BU67","v":"南西部地域:朝霞市"},{"$f":"IF(BV67,BW67,\"\")","v":""},{"$f":"_xludf.TEXTJOIN(\",\",TRUE,BX67:BX80)","v":""},"□","春日部市",{"$f":"IF(BZ67=\"☑\",TRUE)","v":false},{"$f":"\"東部地域:\"&CA67","v":"東部地域:春日部市"},{"$f":"IF(CB67,CC67,\"\")","v":""},{"$f":"_xludf.TEXTJOIN(\",\",TRUE,CD67:CD80)","v":""},"□","鴻巣市",{"$f":"IF(CF67=\"☑\",TRUE)","v":false},{"$f":"\"県央地域:\"&CG67","v":"県央地域:鴻巣市"},{"$f":"IF(CH67,CI67,\"\")","v":""},{"$f":"_xludf.TEXTJOIN(\",\",TRUE,CJ67:CJ80)","v":""},"□","川越市",{"$f":"IF(CL67=\"☑\",TRUE)","v":false},{"$f":"\"川越比企地域:\"&CM67","v":"川越比企地域:川越市"},{"$f":"IF(CN67,CO67,\"\")","v":""},{"$f":"_xludf.TEXTJOIN(\",\",TRUE,CP67:CP80)","v":""},"□","所沢市",{"$f":"IF(CR67=\"☑\",TRUE)","v":false},{"$f":"\"西部地域:\"&CS67","v":"西部地域:所沢市"},{"$f":"IF(CT67,CU67,\"\")","v":""},{"$f":"_xludf.TEXTJOIN(\",\",TRUE,CV67:CV80)","v":""},"□","行田市",{"$f":"IF(CX67=\"☑\",TRUE)","v":false},{"$f":"\"利根地域:\"&CY67","v":"利根地域:行田市"},{"$f":"IF(CZ67,DA67,\"\")","v":""},{"$f":"_xludf.TEXTJOIN(\",\",TRUE,DB67:DB80)","v":""},"□","熊谷市",{"$f":"IF(DD67=\"☑\",TRUE)","v":false},{"$f":"\"北部地域:\"&DE67","v":"北部地域:熊谷市"},{"$f":"IF(DF67,DG67,\"\")","v":""},{"$f":"_xludf.TEXTJOIN(\",\",TRUE,DH67:DH80)","v":""},"□","秩父市",{"$f":"IF(DJ67=\"☑\",TRUE)","v":false},{"$f":"\"秩父地域:\"&DK67","v":"秩父地域:秩父市"},{"$f":"IF(DL67,DM67,\"\")","v":""},{"$f":"_xludf.TEXTJOIN(\",\",TRUE,DN67:DN80)","v":""},{"$f":"_xludf.TEXTJOIN(\",\",TRUE,BG67,BM67,BS67,BY67,CE67,CK67,CQ67,CW67,DC67,DI67,DO67)","v":""},null,null,null,null,null,null,null,null,null,null,null,null,"□","月曜日",{"$f":"IF(EC67=\"☑\",TRUE)","v":false},{"$f":"IF(EE67,ED67,\"\")","v":""},{"$f":"_xludf.TEXTJOIN(\",\",TRUE,EF67:EF80)","v":""},"□","午前（～12:00）",{"$f":"IF(EH67=\"☑\",TRUE)","v":false},{"$f":"IF(EJ67,EI67,\"\")","v":""},{"$f":"_xludf.TEXTJOIN(\",\",TRUE,EK67:EK80)","v":""},null,null,"□","彩の国「新しい生活様式」安心宣言",{"$f":"IF(EO67=\"☑\",TRUE)","v":false},{"$f":"IF(EQ67,EP67,\"\")","v":""},{"$f":"_xludf.TEXTJOIN(\",\",TRUE,ER67:ER80)","v":""},null,"",null,"",null,"",null,"",null,"",null,"",null,"",null,""]
[null,null,null,null,null,null,null,null,null,null,null,null,null,null,null,null,null,null,null,null,null,"□","買物サポート",false,"","□","料理デリバリー（出前）",false,"","□","フィットネス・ジム（送迎）",{"$f":"IF(AD68=\"☑\",TRUE)","v":false},{"$f":"IF(AF68,AE68,\"\")","v":""},"□","出張料理",{"$f":"IF(AH68=\"☑\",TRUE)","v":false},{"$f":"IF(AJ68,AI68,\"\")","v":""},"□","温泉・銭湯（たまり場）",false,"","□","多目的トイレ",false,"","□","習い事",{"$f":"IF(AT68=\"☑\",TRUE)","v":false},{"$f":"IF(AV68,AU68,\"\")","v":""},"□","金融・保険",false,"",null,null,null,null,null,"","□","北区",{"$f":"IF(BH68=\"☑\",TRUE)","v":false},{"$f":"\"さいたま市:\"&BI68","v":"さいたま市:北区"},{"$f":"IF(BJ68,BK68,\"\")","v":""},null,"□","蕨市",{"$f":"IF(BN68=\"☑\",TRUE)","v":false},{"$f":"\"南部地域:\"&BO68","v":"南部地域:蕨市"},{"$f":"IF(BP68,BQ68,\"\")","v":""},null,"□","志木市",{"$f":"IF(BT68=\"☑\",TRUE)","v":false},{"$f":"\"南西部地域:\"&BU68","v":"南西部地域:志木市"},{"$f":"IF(BV68,BW68,\"\")","v":""},null,"□","草加市",{"$f":"IF(BZ68=\"☑\",TRUE)","v":false},{"$f":"\"東部地域:\"&CA68","v":"東部地域:草加市"},"",null,"□","上尾市",{"$f":"IF(CF68=\"☑\",TRUE)","v":false},{"$f":"\"県央地域:\"&CG68","v":"県央地域:上尾市"},{"$f":"IF(CH68,CI68,\"\")","v":""},null,"□","東松山市",{"$f":"IF(CL68=\"☑\",TRUE)","v":false},{"$f":"\"川越比企地域:\"&CM68","v":"川越比企地域:東松山市"},{"$f":"IF(CN68,CO68,\"\")","v":""},null,"□","飯能市",{"$f":"IF(CR68=\"☑\",TRUE)","v":false},{"$f":"\"西部地域:\"&CS68","v":"西部地域:飯能市"},{"$f":"IF(CT68,CU68,\"\")","v":""},null,"□","加須市",{"$f":"IF(CX68=\"☑\",TRUE)","v":false},{"$f":"\"利根地域:\"&CY68","v":"利根地域:加須市"},{"$f":"IF(CZ68,DA68,\"\")","v":""},null,"□","本庄市",{"$f":"IF(DD68=\"☑\",TRUE)","v":false},{"$f":"\"北部地域:\"&DE68","v":"北部地域:本庄市"},{"$f":"IF(DF68,DG68,\"\")","v":""},null,"□","横瀬町",{"$f":"IF(DJ68=\"☑\",TRUE)","v":false},{"$f":"\"秩父地域:\"&DK68","v":"秩父地域:横瀬町"},{"$f":"IF(DL68,DM68,\"\")","v":""},null,null,null,null,null,null,null,null,null,null,null,null,null,null,"□","火曜日",{"$f":"IF(EC68=\"☑\",TRUE)","v":false},{"$f":"IF(EE68,ED68,\"\")","v":""},null,"□","午後（12:00～16：00）",{"$f":"IF(EH68=\"☑\",TRUE)","v":false},{"$f":"IF(EJ68,EI68,\"\")","v":""},null,null,null,null,"に基づき感染対策を実施している。",null,{"$f":"IF(EQ68,EP68,\"\")","v":""}]
[null,null,null,null,null,null,null,null,null,null,null,null,null,null,null,null,null,null,null,null,null,"□","買物代行",false,"","□","食材宅配",false,"","□","温泉・銭湯（送迎）",false,"","□","屋外作業・力仕事",false,"","□","カフェ・ファーストフード",false,"","□","休憩スペース",false,"","□","映画館",false,"","□","住宅・リフォーム",false,"",null,null,null,null,null,"","□","大宮区",false,"さいたま市:大宮区","",null,"□","戸田市",{"$f":"IF(BN69=\"☑\",TRUE)","v":false},{"$f":"\"南部地域:\"&BO69","v":"南部地域:戸田市"},"",null,"□","和光市",false,"南西部地域:和光市","",null,"□","越谷市",false,"東部地域:越谷市","",null,"□","桶川市",{"$f":"IF(CF69=\"☑\",TRUE)","v":false},{"$f":"\"県央地域:\"&CG69","v":"県央地域:桶川市"},"",null,"□","坂戸市",false,"川越比企地域:坂戸市","",null,"□","狭山市",{"$f":"IF(CR69=\"☑\",TRUE)","v":false},{"$f":"\"西部地域:\"&CS69","v":"西部地域:狭山市"},"",null,"□","羽生市",false,"利根地域:羽生市","",null,"□","深谷市",false,"北部地域:深谷市","",null,"□","皆野町",{"$f":"IF(DJ69=\"☑\",TRUE)","v":false},{"$f":"\"秩父地域:\"&DK69","v":"秩父地域:皆野町"},"",null,null,null,null,null,null,null,null,null,null,null,null,null,null,"□","水曜日",false,"",null,"□","夕方(16:00～18:00)",{"$f":"IF(EH69=\"☑\",TRUE)","v":false},{"$f":"IF(EJ69,EI69,\"\")","v":""},null,null,null,"□","各種団体が定める業種別ガイドライン",{"$f":"IF(EO69=\"☑\",TRUE)","v":false},{"$f":"IF(EQ69,EP69,\"\")","v":""}]
[null,null,null,null,null,null,null,null,null,null,null,null,null,null,null,null,null,null,null,null,null,"□","移動販売",false,"","□","日用品配達",false,"","□","整体・マッサージ（送迎）",false,"","□","整体・マッサージ（出張）",false,"","□","飲食店",false,"","□","駐車場",false,"","□","カラオケ店",false,"","□","パソコン・スマートフォン",false,"",null,null,null,null,null,"","□","見沼区",false,"さいたま市:見沼区","",null,null,null,null,null,"",null,"□","新座市",false,"南西部地域:新座市","",null,"□","八潮市",false,"東部地域:八潮市","",null,"□","北本市",{"$f":"IF(CF70=\"☑\",TRUE)","v":false},{"$f":"\"県央地域:\"&CG70","v":"県央地域:北本市"},"",null,"□","鶴ヶ島市",false,"川越比企地域:鶴ヶ島市","",null,"□","入間市",{"$f":"IF(CR70=\"☑\",TRUE)","v":false},{"$f":"\"西部地域:\"&CS70","v":"西部地域:入間市"},"",null,"□","久喜市",false,"利根地域:久喜市","",null,"□","美里町",false,"北部地域:美里町","",null,"□","長瀞町",{"$f":"IF(DJ70=\"☑\",TRUE)","v":false},{"$f":"\"秩父地域:\"&DK70","v":"秩父地域:長瀞町"},"",null,null,null,null,null,null,null,null,null,null,null,null,null,null,"□","木曜日",false,"",null,"□","夜(18:00～）",{"$f":"IF(EH70=\"☑\",TRUE)","v":false},{"$f":"IF(EJ70,EI70,\"\")","v":""},null,null,null,null,"に基づき感染対策を実施している。"]
[null,null,null,null,null,null,null,null,null,null,null,null,null,null,null,null,null,null,null,null,null,"□","割引サービス",false,"","□","薬・介護用品配達",false,"","□","乗り合いサービス",false,"","□","理容室・美容室（出張）",false,"","□","イートインスペース",false,"","□","貸しスペース",false,"","□","麻雀・将棋・囲碁",false,"","□","認知症サポート企業",false,"",null,null,null,null,null,"","□","中央区",false,"さいたま市:中央区","",null,null,null,null,null,"",null,"□","富士見市",false,"南西部地域:富士見市","",null,"□","三郷市",false,"東部地域:三郷市","",null,"□","伊奈町",{"$f":"IF(CF71=\"☑\",TRUE)","v":false},{"$f":"\"県央地域:\"&CG71","v":"県央地域:伊奈町"},"",null,"□","毛呂山町",false,"川越比企地域:毛呂山町","",null,"□","日高市",{"$f":"IF(CR71=\"☑\",TRUE)","v":false},{"$f":"\"西部地域:\"&CS71","v":"西部地域:日高市"},"",null,"□","蓮田市",false,"利根地域:蓮田市","",null,"□","神川町",false,"北部地域:神川町","",null,"□","小鹿野町",{"$f":"IF(DJ71=\"☑\",TRUE)","v":false},{"$f":"\"秩父地域:\"&DK71","v":"秩父地域:小鹿野町"},"",null,null,null,null,null,null,null,null,null,null,null,null,null,null,"□","金曜日",false,"",null,null,null,null,null,null,null,null,"□","その他の感染対策を実施している。",{"$f":"IF(EO71=\"☑\",TRUE)","v":false},{"$f":"IF(EQ71,EP71,\"\")","v":""}]
[null,null,null,null,null,null,null,null,null,null,null,null,null,null,null,null,null,null,null,null,null,"□","その他（買物）",false,"","□","その他（宅配・デリバリー）",false,"","□","個別移送サービス",false,"","□","ペット",false,"","□","その他（運動・たまり場）",false,"","□","その他（設備・施設・場所貸し）",false,"","□","ゲームセンター",false,"","□","その他（生活サービス）",false,"",null,null,null,null,null,"","□","桜区",false,"さいたま市:桜区","",null,null,null,null,null,"",null,"□","ふじみ野市",false,"南西部地域:ふじみ野市","",null,"□","吉川市",false,"東部地域:吉川市","",null,null,null,null,null,"",null,"□","越生町",false,"川越比企地域:越生町","",null,null,null,null,null,"",null,"□","幸手市",false,"利根地域:幸手市","",null,"□","上里町",false,"北部地域:上里町","",null,null,null,null,null,"",null,null,null,null,null,null,null,null,null,null,null,null,null,null,"□","土曜日",false,"",null,null,null,null,null,null,null,null,"□","感染対策を特に実施していない。",{"$f":"IF(EO72=\"☑\",TRUE)","v":false},{"$f":"IF(EQ72,EP72,\"\")","v":""}]
[null,null,null,null,null,null,null,null,null,null,null,null,null,null,null,null,null,null,null,null,null,null,null,null,null,null,null,null,null,"□","交通機関サービス",false,"","□","その他（出張サービス）",false,"",null,null,null,null,null,null,null,null,"□","旅行代理店",false,"",null,null,null,null,null,null,null,null,null,"","□","浦和区",false,"さいたま市:浦和区","",null,null,null,null,null,"",null,"□","三芳町",false,"南西部地域:三芳町","",null,"□","松伏町",false,"東部地域:松伏町","",null,null,null,null,null,"",null,"□","滑川町",false,"川越比企地域:滑川町","",null,null,null,null,null,"",null,"□","白岡市",false,"利根地域:白岡市","",null,"□","寄居町",false,"北部地域:寄居町","",null,null,null,null,null,"",null,null,null,null,null,null,null,null,null,null,null,null,null,null,"□","日曜日",false,""]
[null,null,null,null,null,null,null,null,null,null,null,null,null,null,null,null,null,null,null,null,null,null,null,null,null,null,null,null,null,"□","その他（送迎・移動支援）",false,"",null,null,null,"",null,null,null,{"$f":"IF(AN74,AM74,\"\")","v":""},null,null,null,{"$f":"IF(AR74,AQ74,\"\")","v":""},"□","その他（学び・趣味）",false,"",null,null,null,null,null,null,null,null,null,"","□","南区",false,"さいたま市:南区","",null,null,null,null,null,"",null,null,null,null,null,"",null,null,null,null,null,"",null,null,null,null,null,"",null,"□","嵐山町",false,"川越比企地域:嵐山町","",null,null,null,null,null,"",null,"□","宮代町",false,"利根地域:宮代町","",null,null,null,null,null,"",null,null,null,null,null,""]
[null,null,null,null,null,null,null,null,null,null,null,null,null,null,null,null,null,null,null,null,null,null,null,null,null,null,null,null,null,null,null,null,null,null,null,null,null,null,null,null,null,null,null,null,null,null,null,null,null,null,null,null,null,null,null,null,null,null,{"$f":"IF(BE75,BF75,\"\")","v":""},"□","緑区",false,"さいたま市:緑区","",null,null,null,null,null,"",null,null,null,null,null,"",null,null,null,null,null,"",null,null,null,null,null,"",null,"□","小川町",false,"川越比企地域:小川町","",null,null,null,null,null,"",null,"□","杉戸町",false,"利根地域:杉戸町","",null,null,null,null,null,"",null,null,null,null,null,""]
[null,null,null,null,null,null,null,null,null,null,null,null,null,null,null,null,null,null,null,null,null,null,null,null,null,null,null,null,null,null,null,null,null,null,null,null,null,null,null,null,null,null,null,null,null,null,null,null,null,null,null,null,null,null,null,null,null,null,"","□","岩槻区",{"$f":"IF(BH76=\"☑\",TRUE)","v":false},"さいたま市:岩槻区","",null,null,null,null,null,"",null,null,null,null,null,"",null,null,null,null,null,"",null,null,null,null,null,"",null,"□","川島町",false,"川越比企地域:川島町","",null,null,null,null,null,"",null,null,null,null,null,"",null,null,null,null,null,"",null,null,null,null,null,""]
[null,null,null,null,null,null,null,null,null,null,null,null,null,null,null,null,null,null,null,null,null,null,null,null,null,null,null,null,null,null,null,null,null,null,null,null,null,null,null,null,null,null,null,null,null,null,null,null,null,null,null,null,null,null,null,null,null,null,"",null,null,null,null,null,null,null,null,null,null,null,null,null,null,null,null,null,null,null,null,null,null,null,null,null,null,null,null,null,null,"□","吉見町",false,"川越比企地域:吉見町","",null,null,null,null,null,"",null,null,null,null,null,"",null,null,null,null,null,"",null,null,null,null,null,""]
[null,null,null,null,null,null,null,null,null,null,null,null,null,null,null,null,null,null,null,null,null,null,null,null,null,null,null,null,null,null,null,null,null,null,null,null,null,null,null,null,null,null,null,null,null,null,null,null,null,null,null,null,null,null,null,null,null,null,"",null,null,null,null,null,null,null,null,null,null,null,null,null,null,null,null,null,null,null,null,null,null,null,null,null,null,null,null,null,null,"□","鳩山町",false,"川越比企地域:鳩山町","",null,null,null,null,null,"",null,null,null,null,null,"",null,null,null,null,null,"",null,null,null,null,null,""]
[null,null,null,null,null,null,null,null,null,null,null,null,null,null,null,null,null,null,null,null,null,null,null,null,null,null,null,null,null,null,null,null,null,null,null,null,null,null,null,null,null,null,null,null,null,null,null,null,null,null,null,null,null,null,null,null,null,null,"",null,null,null,null,null,null,null,null,null,null,null,null,null,null,null,null,null,null,null,null,null,null,null,null,null,null,null,null,null,null,"□","ときがわ町",false,"川越比企地域:ときがわ町","",null,null,null,null,null,"",null,null,null,null,null,"",null,null,null,null,null,"",null,null,null,null,null,""]
[null,null,null,null,null,null,null,null,null,null,null,null,null,null,null,null,null,null,null,null,null,null,null,null,null,null,null,null,null,null,null,null,null,null,null,null,null,null,null,null,null,null,null,null,null,null,null,null,null,null,null,null,null,null,null,null,null,null,"",null,null,null,null,null,null,null,null,null,null,null,null,null,null,null,null,null,null,null,null,null,null,null,null,null,null,null,null,null,null,"□","東秩父村",false,"川越比企地域:東秩父村","",null,null,null,null,null,"",null,null,null,null,null,"",null,null,null,null,null,"",null,null,null,null,null,""]
[5,null,null,null,null,null,null,null,null,null,null,null,null,null,null,null,null,null,null,null,null,"□","配送",{"$f":"IF(V81=\"☑\",TRUE)","v":false},{"$f":"IF(X81,W81,\"\")","v":""},"□","弁当配達",{"$f":"IF(Z81=\"☑\",TRUE)","v":false},{"$f":"IF(AB81,AA81,\"\")","v":""},"□","理容室・美容室（送迎）",{"$f":"IF(AD81=\"☑\",TRUE)","v":false},{"$f":"IF(AF81,AE81,\"\")","v":""},"□","家事代行",{"$f":"IF(AH81=\"☑\",TRUE)","v":false},{"$f":"IF(AJ81,AI81,\"\")","v":""},"□","フィットネス・ジム（運動）",{"$f":"IF(AL81=\"☑\",TRUE)","v":false},{"$f":"IF(AN81,AM81,\"\")","v":""},"□","車イス対応（バリアフリー）",{"$f":"IF(AP81=\"☑\",TRUE)","v":false},{"$f":"IF(AR81,AQ81,\"\")","v":""},"□","講座・教室・イベント",{"$f":"IF(AT81=\"☑\",TRUE)","v":false},{"$f":"IF(AV81,AU81,\"\")","v":""},"□","防犯・見守り",{"$f":"IF(AX81=\"☑\",TRUE)","v":false},{"$f":"IF(AZ81,AY81,\"\")","v":""},{"$f":"_xludf.TEXTJOIN(\",\",TRUE,Y81:Y94,AC81:AC94,AG81:AG94,AK81:AK94,AO81:AO94,AS81:AS94,AW81:AW94,BA81:BA94)","v":""},"□","埼玉県全域",{"$f":"IF(BC81=\"☑\",TRUE)","v":false},"さいたま市:西区,さいたま市:北区,さいたま市:大宮区,さいたま市:見沼区,さいたま市:中央区,さいたま市:桜区,さいたま市:浦和区,さいたま市:南区,さいたま市:緑区,さいたま市:岩槻区,南部地域:川口市,南部地域:蕨市,南部地域:戸田市,南西部地域:朝霞市,南西部地域:志木市,南西部地域:和光市,南西部地域:新座市,南西部地域:富士見市,南西部地域:ふじみ野市,南西部地域:三芳町,東部地域:春日部市,東部地域:草加市,東部地域:越谷市,東部地域:八潮市,東部地域:三郷市,東部地域:吉川市,東部地域:松伏町,県央地域:鴻巣市,県央地域:上尾市,県央地域:桶川市,県央地域:北本市,県央地域:伊奈町,川越比企地域:川越市,川越比企地域:東松山市,川越比企地域:坂戸市,川越比企地域:鶴ヶ島市,川越比企地域:毛呂山町,川越比企地域:越生町,川越比企地域:滑川町,川越比企地域:嵐山町,川越比企地域:小川町,川越比企地域:川島町,川越比企地域:吉見町,川越比企地域:鳩山町,川越比企地域:ときがわ町,川越比企地域:東秩父村,西部地域:所沢市,西部地域:飯能市,西部地域:狭山市,西部地域:入間市,西部地域:日高市,利根地域:行田市,利根地域:加須市,利根地域:羽生市,利根地域:久喜市,利根地域:蓮田市,利根地域:幸手市,利根地域:白岡市,利根地域:宮代町,利根地域:杉戸町,北部地域:熊谷市,北部地域:本庄市,北部地域:深谷市,北部地域:美里町,北部地域:神川町,北部地域:上里町,北部地域:寄居町,秩父地域:秩父市,秩父地域:横瀬町,秩父地域:皆野町,秩父地域:長瀞町,秩父地域:小鹿野町","","□","西区",{"$f":"IF(BH81=\"☑\",TRUE)","v":false},{"$f":"\"さいたま市:\"&BI81","v":"さいたま市:西区"},{"$f":"IF(BJ81,BK81,\"\")","v":""},{"$f":"_xludf.TEXTJOIN(\",\",TRUE,BL81:BL94)","v":""},"□","川口市",{"$f":"IF(BN81=\"☑\",TRUE)","v":false},{"$f":"\"南部地域:\"&BO81","v":"南部地域:川口市"},{"$f":"IF(BP81,BQ81,\"\")","v":""},{"$f":"_xludf.TEXTJOIN(\",\",TRUE,BR81:BR94)","v":""},"□","朝霞市",{"$f":"IF(BT81=\"☑\",TRUE)","v":false},{"$f":"\"南西部地域:\"&BU81","v":"南西部地域:朝霞市"},{"$f":"IF(BV81,BW81,\"\")","v":""},{"$f":"_xludf.TEXTJOIN(\",\",TRUE,BX81:BX94)","v":""},"□","春日部市",{"$f":"IF(BZ81=\"☑\",TRUE)","v":false},{"$f":"\"東部地域:\"&CA81","v":"東部地域:春日部市"},{"$f":"IF(CB81,CC81,\"\")","v":""},{"$f":"_xludf.TEXTJOIN(\",\",TRUE,CD81:CD94)","v":""},"□","鴻巣市",{"$f":"IF(CF81=\"☑\",TRUE)","v":false},{"$f":"\"県央地域:\"&CG81","v":"県央地域:鴻巣市"},{"$f":"IF(CH81,CI81,\"\")","v":""},{"$f":"_xludf.TEXTJOIN(\",\",TRUE,CJ81:CJ94)","v":""},"□","川越市",{"$f":"IF(CL81=\"☑\",TRUE)","v":false},{"$f":"\"川越比企地域:\"&CM81","v":"川越比企地域:川越市"},{"$f":"IF(CN81,CO81,\"\")","v":""},{"$f":"_xludf.TEXTJOIN(\",\",TRUE,CP81:CP94)","v":""},"□","所沢市",{"$f":"IF(CR81=\"☑\",TRUE)","v":false},{"$f":"\"西部地域:\"&CS81","v":"西部地域:所沢市"},{"$f":"IF(CT81,CU81,\"\")","v":""},{"$f":"_xludf.TEXTJOIN(\",\",TRUE,CV81:CV94)","v":""},"□","行田市",{"$f":"IF(CX81=\"☑\",TRUE)","v":false},{"$f":"\"利根地域:\"&CY81","v":"利根地域:行田市"},{"$f":"IF(CZ81,DA81,\"\")","v":""},{"$f":"_xludf.TEXTJOIN(\",\",TRUE,DB81:DB94)","v":""},"□","熊谷市",{"$f":"IF(DD81=\"☑\",TRUE)","v":false},{"$f":"\"北部地域:\"&DE81","v":"北部地域:熊谷市"},{"$f":"IF(DF81,DG81,\"\")","v":""},{"$f":"_xludf.TEXTJOIN(\",\",TRUE,DH81:DH94)","v":""},"□","秩父市",{"$f":"IF(DJ81=\"☑\",TRUE)","v":false},{"$f":"\"秩父地域:\"&DK81","v":"秩父地域:秩父市"},{"$f":"IF(DL81,DM81,\"\")","v":""},{"$f":"_xludf.TEXTJOIN(\",\",TRUE,DN81:DN94)","v":""},{"$f":"_xludf.TEXTJOIN(\",\",TRUE,BG81,BM81,BS81,BY81,CE81,CK81,CQ81,CW81,DC81,DI81,DO81)","v":""},null,null,null,null,null,null,null,null,null,null,null,null,"□","月曜日",{"$f":"IF(EC81=\"☑\",TRUE)","v":false},{"$f":"IF(EE81,ED81,\"\")","v":""},{"$f":"_xludf.TEXTJOIN(\",\",TRUE,EF81:EF94)","v":""},"□","午前（～12:00）",{"$f":"IF(EH81=\"☑\",TRUE)","v":false},{"$f":"IF(EJ81,EI81,\"\")","v":""},{"$f":"_xludf.TEXTJOIN(\",\",TRUE,EK81:EK94)","v":""},null,null,"□","彩の国「新しい生活様式」安心宣言",{"$f":"IF(EO81=\"☑\",TRUE)","v":false},{"$f":"IF(EQ81,EP81,\"\")","v":""},{"$f":"_xludf.TEXTJOIN(\",\",TRUE,ER81:ER94)","v":""},null,"",null,"",null,"",null,"",null,"",null,"",null,"",null,""]
[null,null,null,null,null,null,null,null,null,null,null,null,null,null,null,null,null,null,null,null,null,"□","買物サポート",false,"","□","料理デリバリー（出前）",false,"","□","フィットネス・ジム（送迎）",{"$f":"IF(AD82=\"☑\",TRUE)","v":false},{"$f":"IF(AF82,AE82,\"\")","v":""},"□","出張料理",{"$f":"IF(AH82=\"☑\",TRUE)","v":false},{"$f":"IF(AJ82,AI82,\"\")","v":""},"□","温泉・銭湯（たまり場）",false,"","□","多目的トイレ",false,"","□","習い事",{"$f":"IF(AT82=\"☑\",TRUE)","v":false},{"$f":"IF(AV82,AU82,\"\")","v":""},"□","金融・保険",false,"",null,null,null,null,null,"","□","北区",{"$f":"IF(BH82=\"☑\",TRUE)","v":false},{"$f":"\"さいたま市:\"&BI82","v":"さいたま市:北区"},{"$f":"IF(BJ82,BK82,\"\")","v":""},null,"□","蕨市",{"$f":"IF(BN82=\"☑\",TRUE)","v":false},{"$f":"\"南部地域:\"&BO82","v":"南部地域:蕨市"},{"$f":"IF(BP82,BQ82,\"\")","v":""},null,"□","志木市",{"$f":"IF(BT82=\"☑\",TRUE)","v":false},{"$f":"\"南西部地域:\"&BU82","v":"南西部地域:志木市"},{"$f":"IF(BV82,BW82,\"\")","v":""},null,"□","草加市",{"$f":"IF(BZ82=\"☑\",TRUE)","v":false},{"$f":"\"東部地域:\"&CA82","v":"東部地域:草加市"},"",null,"□","上尾市",{"$f":"IF(CF82=\"☑\",TRUE)","v":false},{"$f":"\"県央地域:\"&CG82","v":"県央地域:上尾市"},{"$f":"IF(CH82,CI82,\"\")","v":""},null,"□","東松山市",{"$f":"IF(CL82=\"☑\",TRUE)","v":false},{"$f":"\"川越比企地域:\"&CM82","v":"川越比企地域:東松山市"},{"$f":"IF(CN82,CO82,\"\")","v":""},null,"□","飯能市",{"$f":"IF(CR82=\"☑\",TRUE)","v":false},{"$f":"\"西部地域:\"&CS82","v":"西部地域:飯能市"},{"$f":"IF(CT82,CU82,\"\")","v":""},null,"□","加須市",{"$f":"IF(CX82=\"☑\",TRUE)","v":false},{"$f":"\"利根地域:\"&CY82","v":"利根地域:加須市"},{"$f":"IF(CZ82,DA82,\"\")","v":""},null,"□","本庄市",{"$f":"IF(DD82=\"☑\",TRUE)","v":false},{"$f":"\"北部地域:\"&DE82","v":"北部地域:本庄市"},{"$f":"IF(DF82,DG82,\"\")","v":""},null,"□","横瀬町",{"$f":"IF(DJ82=\"☑\",TRUE)","v":false},{"$f":"\"秩父地域:\"&DK82","v":"秩父地域:横瀬町"},{"$f":"IF(DL82,DM82,\"\")","v":""},null,null,null,null,null,null,null,null,null,null,null,null,null,null,"□","火曜日",{"$f":"IF(EC82=\"☑\",TRUE)","v":false},{"$f":"IF(EE82,ED82,\"\")","v":""},null,"□","午後（12:00～16：00）",{"$f":"IF(EH82=\"☑\",TRUE)","v":false},{"$f":"IF(EJ82,EI82,\"\")","v":""},null,null,null,null,"に基づき感染対策を実施している。",null,{"$f":"IF(EQ82,EP82,\"\")","v":""}]
[null,null,null,null,null,null,null,null,null,null,null,null,null,null,null,null,null,null,null,null,null,"□","買物代行",false,"","□","食材宅配",false,"","□","温泉・銭湯（送迎）",false,"","□","屋外作業・力仕事",false,"","□","カフェ・ファーストフード",false,"","□","休憩スペース",false,"","□","映画館",false,"","□","住宅・リフォーム",false,"",null,null,null,null,null,"","□","大宮区",false,"さいたま市:大宮区","",null,"□","戸田市",{"$f":"IF(BN83=\"☑\",TRUE)","v":false},{"$f":"\"南部地域:\"&BO83","v":"南部地域:戸田市"},"",null,"□","和光市",false,"南西部地域:和光市","",null,"□","越谷市",false,"東部地域:越谷市","",null,"□","桶川市",{"$f":"IF(CF83=\"☑\",TRUE)","v":false},{"$f":"\"県央地域:\"&CG83","v":"県央地域:桶川市"},"",null,"□","坂戸市",false,"川越比企地域:坂戸市","",null,"□","狭山市",{"$f":"IF(CR83=\"☑\",TRUE)","v":false},{"$f":"\"西部地域:\"&CS83","v":"西部地域:狭山市"},"",null,"□","羽生市",false,"利根地域:羽生市","",null,"□","深谷市",false,"北部地域:深谷市","",null,"□","皆野町",{"$f":"IF(DJ83=\"☑\",TRUE)","v":false},{"$f":"\"秩父地域:\"&DK83","v":"秩父地域:皆野町"},"",null,null,null,null,null,null,null,null,null,null,null,null,null,null,"□","水曜日",false,"",null,"□","夕方(16:00～18:00)",{"$f":"IF(EH83=\"☑\",TRUE)","v":false},{"$f":"IF(EJ83,EI83,\"\")","v":""},null,null,null,"□","各種団体が定める業種別ガイドライン",{"$f":"IF(EO83=\"☑\",TRUE)","v":false},{"$f":"IF(EQ83,EP83,\"\")","v":""}]
[null,null,null,null,null,null,null,null,null,null,null,null,null,null,null,null,null,null,null,null,null,"□","移動販売",false,"","□","日用品配達",false,"","□","整体・マッサージ（送迎）",false,"","□","整体・マッサージ（出張）",false,"","□","飲食店",false,"","□","駐車場",false,"","□","カラオケ店",false,"","□","パソコン・スマートフォン",false,"",null,null,null,null,null,"","□","見沼区",false,"さいたま市:見沼区","",null,null,null,null,null,"",null,"□","新座市",false,"南西部地域:新座市","",null,"□","八潮市",false,"東部地域:八潮市","",null,"□","北本市",{"$f":"IF(CF84=\"☑\",TRUE)","v":false},{"$f":"\"県央地域:\"&CG84","v":"県央地域:北本市"},"",null,"□","鶴ヶ島市",false,"川越比企地域:鶴ヶ島市","",null,"□","入間市",{"$f":"IF(CR84=\"☑\",TRUE)","v":false},{"$f":"\"西部地域:\"&CS84","v":"西部地域:入間市"},"",null,"□","久喜市",false,"利根地域:久喜市","",null,"□","美里町",false,"北部地域:美里町","",null,"□","長瀞町",{"$f":"IF(DJ84=\"☑\",TRUE)","v":false},{"$f":"\"秩父地域:\"&DK84","v":"秩父地域:長瀞町"},"",null,null,null,null,null,null,null,null,null,null,null,null,null,null,"□","木曜日",false,"",null,"□","夜(18:00～）",{"$f":"IF(EH84=\"☑\",TRUE)","v":false},{"$f":"IF(EJ84,EI84,\"\")","v":""},null,null,null,null,"に基づき感染対策を実施している。"]
[null,null,null,null,null,null,null,null,null,null,null,null,null,null,null,null,null,null,null,null,null,"□","割引サービス",false,"","□","薬・介護用品配達",false,"","□","乗り合いサービス",false,"","□","理容室・美容室（出張）",false,"","□","イートインスペース",false,"","□","貸しスペース",false,"","□","麻雀・将棋・囲碁",false,"","□","認知症サポート企業",false,"",null,null,null,null,null,"","□","中央区",false,"さいたま市:中央区","",null,null,null,null,null,"",null,"□","富士見市",false,"南西部地域:富士見市","",null,"□","三郷市",false,"東部地域:三郷市","",null,"□","伊奈町",{"$f":"IF(CF85=\"☑\",TRUE)","v":false},{"$f":"\"県央地域:\"&CG85","v":"県央地域:伊奈町"},"",null,"□","毛呂山町",false,"川越比企地域:毛呂山町","",null,"□","日高市",{"$f":"IF(CR85=\"☑\",TRUE)","v":false},{"$f":"\"西部地域:\"&CS85","v":"西部地域:日高市"},"",null,"□","蓮田市",false,"利根地域:蓮田市","",null,"□","神川町",false,"北部地域:神川町","",null,"□","小鹿野町",{"$f":"IF(DJ85=\"☑\",TRUE)","v":false},{"$f":"\"秩父地域:\"&DK85","v":"秩父地域:小鹿野町"},"",null,null,null,null,null,null,null,null,null,null,null,null,null,null,"□","金曜日",false,"",null,null,null,null,null,null,null,null,"□","その他の感染対策を実施している。",{"$f":"IF(EO85=\"☑\",TRUE)","v":false},{"$f":"IF(EQ85,EP85,\"\")","v":""}]
[null,null,null,null,null,null,null,null,null,null,null,null,null,null,null,null,null,null,null,null,null,"□","その他（買物）",false,"","□","その他（宅配・デリバリー）",false,"","□","個別移送サービス",false,"","□","ペット",false,"","□","その他（運動・たまり場）",false,"","□","その他（設備・施設・場所貸し）",false,"","□","ゲームセンター",false,"","□","その他（生活サービス）",false,"",null,null,null,null,null,"","□","桜区",false,"さいたま市:桜区","",null,null,null,null,null,"",null,"□","ふじみ野市",false,"南西部地域:ふじみ野市","",null,"□","吉川市",false,"東部地域:吉川市","",null,null,null,null,null,"",null,"□","越生町",false,"川越比企地域:越生町","",null,null,null,null,null,"",null,"□","幸手市",false,"利根地域:幸手市","",null,"□","上里町",false,"北部地域:上里町","",null,null,null,null,null,"",null,null,null,null,null,null,null,null,null,null,null,null,null,null,"□","土曜日",false,"",null,null,null,null,null,null,null,null,"□","感染対策を特に実施していない。",{"$f":"IF(EO86=\"☑\",TRUE)","v":false},{"$f":"IF(EQ86,EP86,\"\")","v":""}]
[null,null,null,null,null,null,null,null,null,null,null,null,null,null,null,null,null,null,null,null,null,null,null,null,null,null,null,null,null,"□","交通機関サービス",false,"","□","その他（出張サービス）",false,"",null,null,null,null,null,null,null,null,"□","旅行代理店",false,"",null,null,null,null,null,null,null,null,null,"","□","浦和区",false,"さいたま市:浦和区","",null,null,null,null,null,"",null,"□","三芳町",false,"南西部地域:三芳町","",null,"□","松伏町",false,"東部地域:松伏町","",null,null,null,null,null,"",null,"□","滑川町",false,"川越比企地域:滑川町","",null,null,null,null,null,"",null,"□","白岡市",false,"利根地域:白岡市","",null,"□","寄居町",false,"北部地域:寄居町","",null,null,null,null,null,"",null,null,null,null,null,null,null,null,null,null,null,null,null,null,"□","日曜日",false,""]
[null,null,null,null,null,null,null,null,null,null,null,null,null,null,null,null,null,null,null,null,null,null,null,null,null,null,null,null,null,"□","その他（送迎・移動支援）",false,"",null,null,null,"",null,null,null,{"$f":"IF(AN88,AM88,\"\")","v":""},null,null,null,{"$f":"IF(AR88,AQ88,\"\")","v":""},"□","その他（学び・趣味）",false,"",null,null,null,null,null,null,null,null,null,"","□","南区",false,"さいたま市:南区","",null,null,null,null,null,"",null,null,null,null,null,"",null,null,null,null,null,"",null,null,null,null,null,"",null,"□","嵐山町",false,"川越比企地域:嵐山町","",null,null,null,null,null,"",null,"□","宮代町",false,"利根地域:宮代町","",null,null,null,null,null,"",null,null,null,null,null,""]
[null,null,null,null,null,null,null,null,null,null,null,null,null,null,null,null,null,null,null,null,null,null,null,null,null,null,null,null,null,null,null,null,null,null,null,null,null,null,null,null,null,null,null,null,null,null,null,null,null,null,null,null,null,null,null,null,null,null,"","□","緑区",false,"さいたま市:緑区","",null,null,null,null,null,"",null,null,null,null,null,"",null,null,null,null,null,"",null,null,null,null,null,"",null,"□","小川町",false,"川越比企地域:小川町","",null,null,null,null,null,"",null,"□","杉戸町",false,"利根地域:杉戸町","",null,null,null,null,null,"",null,null,null,null,null,""]
[null,null,null,null,null,null,null,null,null,null,null,null,null,null,null,null,null,null,null,null,null,null,null,null,null,null,null,null,null,null,null,null,null,null,null,null,null,null,null,null,null,null,null,null,null,null,null,null,null,null,null,null,null,null,null,null,null,null,"","□","岩槻区",{"$f":"IF(BH90=\"☑\",TRUE)","v":false},"さいたま市:岩槻区","",null,null,null,null,null,"",null,null,null,null,null,"",null,null,null,null,null,"",null,null,null,null,null,"",null,"□","川島町",false,"川越比企地域:川島町","",null,null,null,null,null,"",null,null,null,null,null,"",null,null,null,null,null,"",null,null,null,null,null,""]
[null,null,null,null,null,null,null,null,null,null,null,null,null,null,null,null,null,null,null,null,null,null,null,null,null,null,null,null,null,null,null,null,null,null,null,null,null,null,null,null,null,null,null,null,null,null,null,null,null,null,null,null,null,null,null,null,null,null,"",null,null,null,null,null,null,null,null,null,null,null,null,null,null,null,null,null,null,null,null,null,null,null,null,null,null,null,null,null,null,"□","吉見町",false,"川越比企地域:吉見町","",null,null,null,null,null,"",null,null,null,null,null,"",null,null,null,null,null,"",null,null,null,null,null,""]
[null,null,null,null,null,null,null,null,null,null,null,null,null,null,null,null,null,null,null,null,null,null,null,null,null,null,null,null,null,null,null,null,null,null,null,null,null,null,null,null,null,null,null,null,null,null,null,null,null,null,null,null,null,null,null,null,null,null,"",null,null,null,null,null,null,null,null,null,null,null,null,null,null,null,null,null,null,null,null,null,null,null,null,null,null,null,null,null,null,"□","鳩山町",false,"川越比企地域:鳩山町","",null,null,null,null,null,"",null,null,null,null,null,"",null,null,null,null,null,"",null,null,null,null,null,""]
[null,null,null,null,null,null,null,null,null,null,null,null,null,null,null,null,null,null,null,null,null,null,null,null,null,null,null,null,null,null,null,null,null,null,null,null,null,null,null,null,null,null,null,null,null,null,null,null,null,null,null,null,null,null,null,null,null,null,"",null,null,null,null,null,null,null,null,null,null,null,null,null,null,null,null,null,null,null,null,null,null,null,null,null,null,null,null,null,null,"□","ときがわ町",false,"川越比企地域:ときがわ町","",null,null,null,null,null,"",null,null,null,null,null,"",null,null,null,null,null,"",null,null,null,null,null,""]
[null,null,null,null,null,null,null,null,null,null,null,null,null,null,null,null,null,null,null,null,null,null,null,null,null,null,null,null,null,null,null,null,null,null,null,null,null,null,null,null,null,null,null,null,null,null,null,null,null,null,null,null,null,null,null,null,null,null,"",null,null,null,null,null,null,null,null,null,null,null,null,null,null,null,null,null,null,null,null,null,null,null,null,null,null,null,null,null,null,"□","東秩父村",false,"川越比企地域:東秩父村","",null,null,null,null,null,"",null,null,null,null,null,"",null,null,null,null,null,"",null,null,null,null,null,""]
[6,null,null,null,null,null,null,null,null,null,null,null,null,null,null,null,null,null,null,null,null,"□","配送",{"$f":"IF(V95=\"☑\",TRUE)","v":false},{"$f":"IF(X95,W95,\"\")","v":""},"□","弁当配達",{"$f":"IF(Z95=\"☑\",TRUE)","v":false},{"$f":"IF(AB95,AA95,\"\")","v":""},"□","理容室・美容室（送迎）",{"$f":"IF(AD95=\"☑\",TRUE)","v":false},{"$f":"IF(AF95,AE95,\"\")","v":""},"□","家事代行",{"$f":"IF(AH95=\"☑\",TRUE)","v":false},{"$f":"IF(AJ95,AI95,\"\")","v":""},"□","フィットネス・ジム（運動）",{"$f":"IF(AL95=\"☑\",TRUE)","v":false},{"$f":"IF(AN95,AM95,\"\")","v":""},"□","車イス対応（バリアフリー）",{"$f":"IF(AP95=\"☑\",TRUE)","v":false},{"$f":"IF(AR95,AQ95,\"\")","v":""},"□","講座・教室・イベント",{"$f":"IF(AT95=\"☑\",TRUE)","v":false},{"$f":"IF(AV95,AU95,\"\")","v":""},"□","防犯・見守り",{"$f":"IF(AX95=\"☑\",TRUE)","v":false},{"$f":"IF(AZ95,AY95,\"\")","v":""},{"$f":"_xludf.TEXTJOIN(\",\",TRUE,Y95:Y108,AC95:AC108,AG95:AG108,AK95:AK108,AO95:AO108,AS95:AS108,AW95:AW108,BA95:BA108)","v":""},"□","埼玉県全域",{"$f":"IF(BC95=\"☑\",TRUE)","v":false},"さいたま市:西区,さいたま市:北区,さいたま市:大宮区,さいたま市:見沼区,さいたま市:中央区,さいたま市:桜区,さいたま市:浦和区,さいたま市:南区,さいたま市:緑区,さいたま市:岩槻区,南部地域:川口市,南部地域:蕨市,南部地域:戸田市,南西部地域:朝霞市,南西部地域:志木市,南西部地域:和光市,南西部地域:新座市,南西部地域:富士見市,南西部地域:ふじみ野市,南西部地域:三芳町,東部地域:春日部市,東部地域:草加市,東部地域:越谷市,東部地域:八潮市,東部地域:三郷市,東部地域:吉川市,東部地域:松伏町,県央地域:鴻巣市,県央地域:上尾市,県央地域:桶川市,県央地域:北本市,県央地域:伊奈町,川越比企地域:川越市,川越比企地域:東松山市,川越比企地域:坂戸市,川越比企地域:鶴ヶ島市,川越比企地域:毛呂山町,川越比企地域:越生町,川越比企地域:滑川町,川越比企地域:嵐山町,川越比企地域:小川町,川越比企地域:川島町,川越比企地域:吉見町,川越比企地域:鳩山町,川越比企地域:ときがわ町,川越比企地域:東秩父村,西部地域:所沢市,西部地域:飯能市,西部地域:狭山市,西部地域:入間市,西部地域:日高市,利根地域:行田市,利根地域:加須市,利根地域:羽生市,利根地域:久喜市,利根地域:蓮田市,利根地域:幸手市,利根地域:白岡市,利根地域:宮代町,利根地域:杉戸町,北部地域:熊谷市,北部地域:本庄市,北部地域:深谷市,北部地域:美里町,北部地域:神川町,北部地域:上里町,北部地域:寄居町,秩父地域:秩父市,秩父地域:横瀬町,秩父地域:皆野町,秩父地域:長瀞町,秩父地域:小鹿野町","","□","西区",{"$f":"IF(BH95=\"☑\",TRUE)","v":false},{"$f":"\"さいたま市:\"&BI95","v":"さいたま市:西区"},{"$f":"IF(BJ95,BK95,\"\")","v":""},{"$f":"_xludf.TEXTJOIN(\",\",TRUE,BL95:BL108)","v":""},"□","川口市",{"$f":"IF(BN95=\"☑\",TRUE)","v":false},{"$f":"\"南部地域:\"&BO95","v":"南部地域:川口市"},{"$f":"IF(BP95,BQ95,\"\")","v":""},{"$f":"_xludf.TEXTJOIN(\",\",TRUE,BR95:BR108)","v":""},"□","朝霞市",{"$f":"IF(BT95=\"☑\",TRUE)","v":false},{"$f":"\"南西部地域:\"&BU95","v":"南西部地域:朝霞市"},{"$f":"IF(BV95,BW95,\"\")","v":""},{"$f":"_xludf.TEXTJOIN(\",\",TRUE,BX95:BX108)","v":""},"□","春日部市",{"$f":"IF(BZ95=\"☑\",TRUE)","v":false},{"$f":"\"東部地域:\"&CA95","v":"東部地域:春日部市"},{"$f":"IF(CB95,CC95,\"\")","v":""},{"$f":"_xludf.TEXTJOIN(\",\",TRUE,CD95:CD108)","v":""},"□","鴻巣市",{"$f":"IF(CF95=\"☑\",TRUE)","v":false},{"$f":"\"県央地域:\"&CG95","v":"県央地域:鴻巣市"},{"$f":"IF(CH95,CI95,\"\")","v":""},{"$f":"_xludf.TEXTJOIN(\",\",TRUE,CJ95:CJ108)","v":""},"□","川越市",{"$f":"IF(CL95=\"☑\",TRUE)","v":false},{"$f":"\"川越比企地域:\"&CM95","v":"川越比企地域:川越市"},{"$f":"IF(CN95,CO95,\"\")","v":""},{"$f":"_xludf.TEXTJOIN(\",\",TRUE,CP95:CP108)","v":""},"□","所沢市",{"$f":"IF(CR95=\"☑\",TRUE)","v":false},{"$f":"\"西部地域:\"&CS95","v":"西部地域:所沢市"},{"$f":"IF(CT95,CU95,\"\")","v":""},{"$f":"_xludf.TEXTJOIN(\",\",TRUE,CV95:CV108)","v":""},"□","行田市",{"$f":"IF(CX95=\"☑\",TRUE)","v":false},{"$f":"\"利根地域:\"&CY95","v":"利根地域:行田市"},{"$f":"IF(CZ95,DA95,\"\")","v":""},{"$f":"_xludf.TEXTJOIN(\",\",TRUE,DB95:DB108)","v":""},"□","熊谷市",{"$f":"IF(DD95=\"☑\",TRUE)","v":false},{"$f":"\"北部地域:\"&DE95","v":"北部地域:熊谷市"},{"$f":"IF(DF95,DG95,\"\")","v":""},{"$f":"_xludf.TEXTJOIN(\",\",TRUE,DH95:DH108)","v":""},"□","秩父市",{"$f":"IF(DJ95=\"☑\",TRUE)","v":false},{"$f":"\"秩父地域:\"&DK95","v":"秩父地域:秩父市"},{"$f":"IF(DL95,DM95,\"\")","v":""},{"$f":"_xludf.TEXTJOIN(\",\",TRUE,DN95:DN108)","v":""},{"$f":"_xludf.TEXTJOIN(\",\",TRUE,BG95,BM95,BS95,BY95,CE95,CK95,CQ95,CW95,DC95,DI95,DO95)","v":""},null,null,null,null,null,null,null,null,null,null,null,null,"□","月曜日",{"$f":"IF(EC95=\"☑\",TRUE)","v":false},{"$f":"IF(EE95,ED95,\"\")","v":""},{"$f":"_xludf.TEXTJOIN(\",\",TRUE,EF95:EF108)","v":""},"□","午前（～12:00）",{"$f":"IF(EH95=\"☑\",TRUE)","v":false},{"$f":"IF(EJ95,EI95,\"\")","v":""},{"$f":"_xludf.TEXTJOIN(\",\",TRUE,EK95:EK108)","v":""},null,null,"□","彩の国「新しい生活様式」安心宣言",{"$f":"IF(EO95=\"☑\",TRUE)","v":false},{"$f":"IF(EQ95,EP95,\"\")","v":""},{"$f":"_xludf.TEXTJOIN(\",\",TRUE,ER95:ER108)","v":""},null,"",null,"",null,"",null,"",null,"",null,"",null,"",null,""]
[null,null,null,null,null,null,null,null,null,null,null,null,null,null,null,null,null,null,null,null,null,"□","買物サポート",false,"","□","料理デリバリー（出前）",false,"","□","フィットネス・ジム（送迎）",{"$f":"IF(AD96=\"☑\",TRUE)","v":false},{"$f":"IF(AF96,AE96,\"\")","v":""},"□","出張料理",{"$f":"IF(AH96=\"☑\",TRUE)","v":false},{"$f":"IF(AJ96,AI96,\"\")","v":""},"□","温泉・銭湯（たまり場）",false,"","□","多目的トイレ",false,"","□","習い事",{"$f":"IF(AT96=\"☑\",TRUE)","v":false},{"$f":"IF(AV96,AU96,\"\")","v":""},"□","金融・保険",false,"",null,null,null,null,null,"","□","北区",{"$f":"IF(BH96=\"☑\",TRUE)","v":false},{"$f":"\"さいたま市:\"&BI96","v":"さいたま市:北区"},{"$f":"IF(BJ96,BK96,\"\")","v":""},null,"□","蕨市",{"$f":"IF(BN96=\"☑\",TRUE)","v":false},{"$f":"\"南部地域:\"&BO96","v":"南部地域:蕨市"},{"$f":"IF(BP96,BQ96,\"\")","v":""},null,"□","志木市",{"$f":"IF(BT96=\"☑\",TRUE)","v":false},{"$f":"\"南西部地域:\"&BU96","v":"南西部地域:志木市"},{"$f":"IF(BV96,BW96,\"\")","v":""},null,"□","草加市",{"$f":"IF(BZ96=\"☑\",TRUE)","v":false},{"$f":"\"東部地域:\"&CA96","v":"東部地域:草加市"},"",null,"□","上尾市",{"$f":"IF(CF96=\"☑\",TRUE)","v":false},{"$f":"\"県央地域:\"&CG96","v":"県央地域:上尾市"},{"$f":"IF(CH96,CI96,\"\")","v":""},null,"□","東松山市",{"$f":"IF(CL96=\"☑\",TRUE)","v":false},{"$f":"\"川越比企地域:\"&CM96","v":"川越比企地域:東松山市"},{"$f":"IF(CN96,CO96,\"\")","v":""},null,"□","飯能市",{"$f":"IF(CR96=\"☑\",TRUE)","v":false},{"$f":"\"西部地域:\"&CS96","v":"西部地域:飯能市"},{"$f":"IF(CT96,CU96,\"\")","v":""},null,"□","加須市",{"$f":"IF(CX96=\"☑\",TRUE)","v":false},{"$f":"\"利根地域:\"&CY96","v":"利根地域:加須市"},{"$f":"IF(CZ96,DA96,\"\")","v":""},null,"□","本庄市",{"$f":"IF(DD96=\"☑\",TRUE)","v":false},{"$f":"\"北部地域:\"&DE96","v":"北部地域:本庄市"},{"$f":"IF(DF96,DG96,\"\")","v":""},null,"□","横瀬町",{"$f":"IF(DJ96=\"☑\",TRUE)","v":false},{"$f":"\"秩父地域:\"&DK96","v":"秩父地域:横瀬町"},{"$f":"IF(DL96,DM96,\"\")","v":""},null,null,null,null,null,null,null,null,null,null,null,null,null,null,"□","火曜日",{"$f":"IF(EC96=\"☑\",TRUE)","v":false},{"$f":"IF(EE96,ED96,\"\")","v":""},null,"□","午後（12:00～16：00）",{"$f":"IF(EH96=\"☑\",TRUE)","v":false},{"$f":"IF(EJ96,EI96,\"\")","v":""},null,null,null,null,"に基づき感染対策を実施している。",null,{"$f":"IF(EQ96,EP96,\"\")","v":""}]
[null,null,null,null,null,null,null,null,null,null,null,null,null,null,null,null,null,null,null,null,null,"□","買物代行",false,"","□","食材宅配",false,"","□","温泉・銭湯（送迎）",false,"","□","屋外作業・力仕事",false,"","□","カフェ・ファーストフード",false,"","□","休憩スペース",false,"","□","映画館",false,"","□","住宅・リフォーム",false,"",null,null,null,null,null,"","□","大宮区",false,"さいたま市:大宮区","",null,"□","戸田市",{"$f":"IF(BN97=\"☑\",TRUE)","v":false},{"$f":"\"南部地域:\"&BO97","v":"南部地域:戸田市"},"",null,"□","和光市",false,"南西部地域:和光市","",null,"□","越谷市",false,"東部地域:越谷市","",null,"□","桶川市",{"$f":"IF(CF97=\"☑\",TRUE)","v":false},{"$f":"\"県央地域:\"&CG97","v":"県央地域:桶川市"},"",null,"□","坂戸市",false,"川越比企地域:坂戸市","",null,"□","狭山市",{"$f":"IF(CR97=\"☑\",TRUE)","v":false},{"$f":"\"西部地域:\"&CS97","v":"西部地域:狭山市"},"",null,"□","羽生市",false,"利根地域:羽生市","",null,"□","深谷市",false,"北部地域:深谷市","",null,"□","皆野町",{"$f":"IF(DJ97=\"☑\",TRUE)","v":false},{"$f":"\"秩父地域:\"&DK97","v":"秩父地域:皆野町"},"",null,null,null,null,null,null,null,null,null,null,null,null,null,null,"□","水曜日",false,"",null,"□","夕方(16:00～18:00)",{"$f":"IF(EH97=\"☑\",TRUE)","v":false},{"$f":"IF(EJ97,EI97,\"\")","v":""},null,null,null,"□","各種団体が定める業種別ガイドライン",{"$f":"IF(EO97=\"☑\",TRUE)","v":false},{"$f":"IF(EQ97,EP97,\"\")","v":""}]
[null,null,null,null,null,null,null,null,null,null,null,null,null,null,null,null,null,null,null,null,null,"□","移動販売",false,"","□","日用品配達",false,"","□","整体・マッサージ（送迎）",false,"","□","整体・マッサージ（出張）",false,"","□","飲食店",false,"","□","駐車場",false,"","□","カラオケ店",false,"","□","パソコン・スマートフォン",false,"",null,null,null,null,null,"","□","見沼区",false,"さいたま市:見沼区","",null,null,null,null,null,"",null,"□","新座市",false,"南西部地域:新座市","",null,"□","八潮市",false,"東部地域:八潮市","",null,"□","北本市",{"$f":"IF(CF98=\"☑\",TRUE)","v":false},{"$f":"\"県央地域:\"&CG98","v":"県央地域:北本市"},"",null,"□","鶴ヶ島市",false,"川越比企地域:鶴ヶ島市","",null,"□","入間市",{"$f":"IF(CR98=\"☑\",TRUE)","v":false},{"$f":"\"西部地域:\"&CS98","v":"西部地域:入間市"},"",null,"□","久喜市",false,"利根地域:久喜市","",null,"□","美里町",false,"北部地域:美里町","",null,"□","長瀞町",{"$f":"IF(DJ98=\"☑\",TRUE)","v":false},{"$f":"\"秩父地域:\"&DK98","v":"秩父地域:長瀞町"},"",null,null,null,null,null,null,null,null,null,null,null,null,null,null,"□","木曜日",false,"",null,"□","夜(18:00～）",{"$f":"IF(EH98=\"☑\",TRUE)","v":false},{"$f":"IF(EJ98,EI98,\"\")","v":""},null,null,null,null,"に基づき感染対策を実施している。"]
[null,null,null,null,null,null,null,null,null,null,null,null,null,null,null,null,null,null,null,null,null,"□","割引サービス",false,"","□","薬・介護用品配達",false,"","□","乗り合いサービス",false,"","□","理容室・美容室（出張）",false,"","□","イートインスペース",false,"","□","貸しスペース",false,"","□","麻雀・将棋・囲碁",false,"","□","認知症サポート企業",false,"",null,null,null,null,null,"","□","中央区",false,"さいたま市:中央区","",null,null,null,null,null,"",null,"□","富士見市",false,"南西部地域:富士見市","",null,"□","三郷市",false,"東部地域:三郷市","",null,"□","伊奈町",{"$f":"IF(CF99=\"☑\",TRUE)","v":false},{"$f":"\"県央地域:\"&CG99","v":"県央地域:伊奈町"},"",null,"□","毛呂山町",false,"川越比企地域:毛呂山町","",null,"□","日高市",{"$f":"IF(CR99=\"☑\",TRUE)","v":false},{"$f":"\"西部地域:\"&CS99","v":"西部地域:日高市"},"",null,"□","蓮田市",false,"利根地域:蓮田市","",null,"□","神川町",false,"北部地域:神川町","",null,"□","小鹿野町",{"$f":"IF(DJ99=\"☑\",TRUE)","v":false},{"$f":"\"秩父地域:\"&DK99","v":"秩父地域:小鹿野町"},"",null,null,null,null,null,null,null,null,null,null,null,null,null,null,"□","金曜日",false,"",null,null,null,null,null,null,null,null,"□","その他の感染対策を実施している。",{"$f":"IF(EO99=\"☑\",TRUE)","v":false},{"$f":"IF(EQ99,EP99,\"\")","v":""}]
[null,null,null,null,null,null,null,null,null,null,null,null,null,null,null,null,null,null,null,null,null,"□","その他（買物）",false,"","□","その他（宅配・デリバリー）",false,"","□","個別移送サービス",false,"","□","ペット",false,"","□","その他（運動・たまり場）",false,"","□","その他（設備・施設・場所貸し）",false,"","□","ゲームセンター",false,"","□","その他（生活サービス）",false,"",null,null,null,null,null,"","□","桜区",false,"さいたま市:桜区","",null,null,null,null,null,"",null,"□","ふじみ野市",false,"南西部地域:ふじみ野市","",null,"□","吉川市",false,"東部地域:吉川市","",null,null,null,null,null,"",null,"□","越生町",false,"川越比企地域:越生町","",null,null,null,null,null,"",null,"□","幸手市",false,"利根地域:幸手市","",null,"□","上里町",false,"北部地域:上里町","",null,null,null,null,null,"",null,null,null,null,null,null,null,null,null,null,null,null,null,null,"□","土曜日",false,"",null,null,null,null,null,null,null,null,"□","感染対策を特に実施していない。",{"$f":"IF(EO100=\"☑\",TRUE)","v":false},{"$f":"IF(EQ100,EP100,\"\")","v":""}]
[null,null,null,null,null,null,null,null,null,null,null,null,null,null,null,null,null,null,null,null,null,null,null,null,null,null,null,null,null,"□","交通機関サービス",false,"","□","その他（出張サービス）",false,"",null,null,null,null,null,null,null,null,"□","旅行代理店",false,"",null,null,null,null,null,null,null,null,null,"","□","浦和区",false,"さいたま市:浦和区","",null,null,null,null,null,"",null,"□","三芳町",false,"南西部地域:三芳町","",null,"□","松伏町",false,"東部地域:松伏町","",null,null,null,null,null,"",null,"□","滑川町",false,"川越比企地域:滑川町","",null,null,null,null,null,"",null,"□","白岡市",false,"利根地域:白岡市","",null,"□","寄居町",false,"北部地域:寄居町","",null,null,null,null,null,"",null,null,null,null,null,null,null,null,null,null,null,null,null,null,"□","日曜日",false,""]
[null,null,null,null,null,null,null,null,null,null,null,null,null,null,null,null,null,null,null,null,null,null,null,null,null,null,null,null,null,"□","その他（送迎・移動支援）",false,"",null,null,null,"",null,null,null,{"$f":"IF(AN102,AM102,\"\")","v":""},null,null,null,{"$f":"IF(AR102,AQ102,\"\")","v":""},"□","その他（学び・趣味）",false,"",null,null,null,null,null,null,null,null,null,"","□","南区",false,"さいたま市:南区","",null,null,null,null,null,"",null,null,null,null,null,"",null,null,null,null,null,"",null,null,null,null,null,"",null,"□","嵐山町",false,"川越比企地域:嵐山町","",null,null,null,null,null,"",null,"□","宮代町",false,"利根地域:宮代町","",null,null,null,null,null,"",null,null,null,null,null,""]
[null,null,null,null,null,null,null,null,null,null,null,null,null,null,null,null,null,null,null,null,null,null,null,null,null,null,null,null,null,null,null,null,null,null,null,null,null,null,null,null,null,null,null,null,null,null,null,null,null,null,null,null,null,null,null,null,null,null,"","□","緑区",false,"さいたま市:緑区","",null,null,null,null,null,"",null,null,null,null,null,"",null,null,null,null,null,"",null,null,null,null,null,"",null,"□","小川町",false,"川越比企地域:小川町","",null,null,null,null,null,"",null,"□","杉戸町",false,"利根地域:杉戸町","",null,null,null,null,null,"",null,null,null,null,null,""]
[null,null,null,null,null,null,null,null,null,null,null,null,null,null,null,null,null,null,null,null,null,null,null,null,null,null,null,null,null,null,null,null,null,null,null,null,null,null,null,null,null,null,null,null,null,null,null,null,null,null,null,null,null,null,null,null,null,null,"","□","岩槻区",{"$f":"IF(BH104=\"☑\",TRUE)","v":false},"さいたま市:岩槻区","",null,null,null,null,null,"",null,null,null,null,null,"",null,null,null,null,null,"",null,null,null,null,null,"",null,"□","川島町",false,"川越比企地域:川島町","",null,null,null,null,null,"",null,null,null,null,null,"",null,null,null,null,null,"",null,null,null,null,null,""]
[null,null,null,null,null,null,null,null,null,null,null,null,null,null,null,null,null,null,null,null,null,null,null,null,null,null,null,null,null,null,null,null,null,null,null,null,null,null,null,null,null,null,null,null,null,null,null,null,null,null,null,null,null,null,null,null,null,null,"",null,null,null,null,null,null,null,null,null,null,null,null,null,null,null,null,null,null,null,null,null,null,null,null,null,null,null,null,null,null,"□","吉見町",false,"川越比企地域:吉見町","",null,null,null,null,null,"",null,null,null,null,null,"",null,null,null,null,null,"",null,null,null,null,null,""]
[null,null,null,null,null,null,null,null,null,null,null,null,null,null,null,null,null,null,null,null,null,null,null,null,null,null,null,null,null,null,null,null,null,null,null,null,null,null,null,null,null,null,null,null,null,null,null,null,null,null,null,null,null,null,null,null,null,null,"",null,null,null,null,null,null,null,null,null,null,null,null,null,null,null,null,null,null,null,null,null,null,null,null,null,null,null,null,null,null,"□","鳩山町",false,"川越比企地域:鳩山町","",null,null,null,null,null,"",null,null,null,null,null,"",null,null,null,null,null,"",null,null,null,null,null,""]
[null,null,null,null,null,null,null,null,null,null,null,null,null,null,null,null,null,null,null,null,null,null,null,null,null,null,null,null,null,null,null,null,null,null,null,null,null,null,null,null,null,null,null,null,null,null,null,null,null,null,null,null,null,null,null,null,null,null,"",null,null,null,null,null,null,null,null,null,null,null,null,null,null,null,null,null,null,null,null,null,null,null,null,null,null,null,null,null,null,"□","ときがわ町",false,"川越比企地域:ときがわ町","",null,null,null,null,null,"",null,null,null,null,null,"",null,null,null,null,null,"",null,null,null,null,null,""]
[null,null,null,null,null,null,null,null,null,null,null,null,null,null,null,null,null,null,null,null,null,null,null,null,null,null,null,null,null,null,null,null,null,null,null,null,null,null,null,null,null,null,null,null,null,null,null,null,null,null,null,null,null,null,null,null,null,null,"",null,null,null,null,null,null,null,null,null,null,null,null,null,null,null,null,null,null,null,null,null,null,null,null,null,null,null,null,null,null,"□","東秩父村",false,"川越比企地域:東秩父村","",null,null,null,null,null,"",null,null,null,null,null,"",null,null,null,null,null,"",null,null,null,null,null,""]
[7,null,null,null,null,null,null,null,null,null,null,null,null,null,null,null,null,null,null,null,null,"□","配送",{"$f":"IF(V109=\"☑\",TRUE)","v":false},{"$f":"IF(X109,W109,\"\")","v":""},"□","弁当配達",{"$f":"IF(Z109=\"☑\",TRUE)","v":false},{"$f":"IF(AB109,AA109,\"\")","v":""},"□","理容室・美容室（送迎）",{"$f":"IF(AD109=\"☑\",TRUE)","v":false},{"$f":"IF(AF109,AE109,\"\")","v":""},"□","家事代行",{"$f":"IF(AH109=\"☑\",TRUE)","v":false},{"$f":"IF(AJ109,AI109,\"\")","v":""},"□","フィットネス・ジム（運動）",{"$f":"IF(AL109=\"☑\",TRUE)","v":false},{"$f":"IF(AN109,AM109,\"\")","v":""},"□","車イス対応（バリアフリー）",{"$f":"IF(AP109=\"☑\",TRUE)","v":false},{"$f":"IF(AR109,AQ109,\"\")","v":""},"□","講座・教室・イベント",{"$f":"IF(AT109=\"☑\",TRUE)","v":false},{"$f":"IF(AV109,AU109,\"\")","v":""},"□","防犯・見守り",{"$f":"IF(AX109=\"☑\",TRUE)","v":false},{"$f":"IF(AZ109,AY109,\"\")","v":""},{"$f":"_xludf.TEXTJOIN(\",\",TRUE,Y109:Y122,AC109:AC122,AG109:AG122,AK109:AK122,AO109:AO122,AS109:AS122,AW109:AW122,BA109:BA122)","v":""},"□","埼玉県全域",{"$f":"IF(BC109=\"☑\",TRUE)","v":false},"さいたま市:西区,さいたま市:北区,さいたま市:大宮区,さいたま市:見沼区,さいたま市:中央区,さいたま市:桜区,さいたま市:浦和区,さいたま市:南区,さいたま市:緑区,さいたま市:岩槻区,南部地域:川口市,南部地域:蕨市,南部地域:戸田市,南西部地域:朝霞市,南西部地域:志木市,南西部地域:和光市,南西部地域:新座市,南西部地域:富士見市,南西部地域:ふじみ野市,南西部地域:三芳町,東部地域:春日部市,東部地域:草加市,東部地域:越谷市,東部地域:八潮市,東部地域:三郷市,東部地域:吉川市,東部地域:松伏町,県央地域:鴻巣市,県央地域:上尾市,県央地域:桶川市,県央地域:北本市,県央地域:伊奈町,川越比企地域:川越市,川越比企地域:東松山市,川越比企地域:坂戸市,川越比企地域:鶴ヶ島市,川越比企地域:毛呂山町,川越比企地域:越生町,川越比企地域:滑川町,川越比企地域:嵐山町,川越比企地域:小川町,川越比企地域:川島町,川越比企地域:吉見町,川越比企地域:鳩山町,川越比企地域:ときがわ町,川越比企地域:東秩父村,西部地域:所沢市,西部地域:飯能市,西部地域:狭山市,西部地域:入間市,西部地域:日高市,利根地域:行田市,利根地域:加須市,利根地域:羽生市,利根地域:久喜市,利根地域:蓮田市,利根地域:幸手市,利根地域:白岡市,利根地域:宮代町,利根地域:杉戸町,北部地域:熊谷市,北部地域:本庄市,北部地域:深谷市,北部地域:美里町,北部地域:神川町,北部地域:上里町,北部地域:寄居町,秩父地域:秩父市,秩父地域:横瀬町,秩父地域:皆野町,秩父地域:長瀞町,秩父地域:小鹿野町","","□","西区",{"$f":"IF(BH109=\"☑\",TRUE)","v":false},{"$f":"\"さいたま市:\"&BI109","v":"さいたま市:西区"},{"$f":"IF(BJ109,BK109,\"\")","v":""},{"$f":"_xludf.TEXTJOIN(\",\",TRUE,BL109:BL122)","v":""},"□","川口市",{"$f":"IF(BN109=\"☑\",TRUE)","v":false},{"$f":"\"南部地域:\"&BO109","v":"南部地域:川口市"},{"$f":"IF(BP109,BQ109,\"\")","v":""},{"$f":"_xludf.TEXTJOIN(\",\",TRUE,BR109:BR122)","v":""},"□","朝霞市",{"$f":"IF(BT109=\"☑\",TRUE)","v":false},{"$f":"\"南西部地域:\"&BU109","v":"南西部地域:朝霞市"},{"$f":"IF(BV109,BW109,\"\")","v":""},{"$f":"_xludf.TEXTJOIN(\",\",TRUE,BX109:BX122)","v":""},"□","春日部市",{"$f":"IF(BZ109=\"☑\",TRUE)","v":false},{"$f":"\"東部地域:\"&CA109","v":"東部地域:春日部市"},{"$f":"IF(CB109,CC109,\"\")","v":""},{"$f":"_xludf.TEXTJOIN(\",\",TRUE,CD109:CD122)","v":""},"□","鴻巣市",{"$f":"IF(CF109=\"☑\",TRUE)","v":false},{"$f":"\"県央地域:\"&CG109","v":"県央地域:鴻巣市"},{"$f":"IF(CH109,CI109,\"\")","v":""},{"$f":"_xludf.TEXTJOIN(\",\",TRUE,CJ109:CJ122)","v":""},"□","川越市",{"$f":"IF(CL109=\"☑\",TRUE)","v":false},{"$f":"\"川越比企地域:\"&CM109","v":"川越比企地域:川越市"},{"$f":"IF(CN109,CO109,\"\")","v":""},{"$f":"_xludf.TEXTJOIN(\",\",TRUE,CP109:CP122)","v":""},"□","所沢市",{"$f":"IF(CR109=\"☑\",TRUE)","v":false},{"$f":"\"西部地域:\"&CS109","v":"西部地域:所沢市"},{"$f":"IF(CT109,CU109,\"\")","v":""},{"$f":"_xludf.TEXTJOIN(\",\",TRUE,CV109:CV122)","v":""},"□","行田市",{"$f":"IF(CX109=\"☑\",TRUE)","v":false},{"$f":"\"利根地域:\"&CY109","v":"利根地域:行田市"},{"$f":"IF(CZ109,DA109,\"\")","v":""},{"$f":"_xludf.TEXTJOIN(\",\",TRUE,DB109:DB122)","v":""},"□","熊谷市",{"$f":"IF(DD109=\"☑\",TRUE)","v":false},{"$f":"\"北部地域:\"&DE109","v":"北部地域:熊谷市"},{"$f":"IF(DF109,DG109,\"\")","v":""},{"$f":"_xludf.TEXTJOIN(\",\",TRUE,DH109:DH122)","v":""},"□","秩父市",{"$f":"IF(DJ109=\"☑\",TRUE)","v":false},{"$f":"\"秩父地域:\"&DK109","v":"秩父地域:秩父市"},{"$f":"IF(DL109,DM109,\"\")","v":""},{"$f":"_xludf.TEXTJOIN(\",\",TRUE,DN109:DN122)","v":""},{"$f":"_xludf.TEXTJOIN(\",\",TRUE,BG109,BM109,BS109,BY109,CE109,CK109,CQ109,CW109,DC109,DI109,DO109)","v":""},null,null,null,null,null,null,null,null,null,null,null,null,"□","月曜日",{"$f":"IF(EC109=\"☑\",TRUE)","v":false},{"$f":"IF(EE109,ED109,\"\")","v":""},{"$f":"_xludf.TEXTJOIN(\",\",TRUE,EF109:EF122)","v":""},"□","午前（～12:00）",{"$f":"IF(EH109=\"☑\",TRUE)","v":false},{"$f":"IF(EJ109,EI109,\"\")","v":""},{"$f":"_xludf.TEXTJOIN(\",\",TRUE,EK109:EK122)","v":""},null,null,"□","彩の国「新しい生活様式」安心宣言",{"$f":"IF(EO109=\"☑\",TRUE)","v":false},{"$f":"IF(EQ109,EP109,\"\")","v":""},{"$f":"_xludf.TEXTJOIN(\",\",TRUE,ER109:ER122)","v":""},null,"",null,"",null,"",null,"",null,"",null,"",null,"",null,""]
[null,null,null,null,null,null,null,null,null,null,null,null,null,null,null,null,null,null,null,null,null,"□","買物サポート",false,"","□","料理デリバリー（出前）",false,"","□","フィットネス・ジム（送迎）",{"$f":"IF(AD110=\"☑\",TRUE)","v":false},{"$f":"IF(AF110,AE110,\"\")","v":""},"□","出張料理",{"$f":"IF(AH110=\"☑\",TRUE)","v":false},{"$f":"IF(AJ110,AI110,\"\")","v":""},"□","温泉・銭湯（たまり場）",false,"","□","多目的トイレ",false,"","□","習い事",{"$f":"IF(AT110=\"☑\",TRUE)","v":false},{"$f":"IF(AV110,AU110,\"\")","v":""},"□","金融・保険",false,"",null,null,null,null,null,"","□","北区",{"$f":"IF(BH110=\"☑\",TRUE)","v":false},{"$f":"\"さいたま市:\"&BI110","v":"さいたま市:北区"},{"$f":"IF(BJ110,BK110,\"\")","v":""},null,"□","蕨市",{"$f":"IF(BN110=\"☑\",TRUE)","v":false},{"$f":"\"南部地域:\"&BO110","v":"南部地域:蕨市"},{"$f":"IF(BP110,BQ110,\"\")","v":""},null,"□","志木市",{"$f":"IF(BT110=\"☑\",TRUE)","v":false},{"$f":"\"南西部地域:\"&BU110","v":"南西部地域:志木市"},{"$f":"IF(BV110,BW110,\"\")","v":""},null,"□","草加市",{"$f":"IF(BZ110=\"☑\",TRUE)","v":false},{"$f":"\"東部地域:\"&CA110","v":"東部地域:草加市"},"",null,"□","上尾市",{"$f":"IF(CF110=\"☑\",TRUE)","v":false},{"$f":"\"県央地域:\"&CG110","v":"県央地域:上尾市"},{"$f":"IF(CH110,CI110,\"\")","v":""},null,"□","東松山市",{"$f":"IF(CL110=\"☑\",TRUE)","v":false},{"$f":"\"川越比企地域:\"&CM110","v":"川越比企地域:東松山市"},{"$f":"IF(CN110,CO110,\"\")","v":""},null,"□","飯能市",{"$f":"IF(CR110=\"☑\",TRUE)","v":false},{"$f":"\"西部地域:\"&CS110","v":"西部地域:飯能市"},{"$f":"IF(CT110,CU110,\"\")","v":""},null,"□","加須市",{"$f":"IF(CX110=\"☑\",TRUE)","v":false},{"$f":"\"利根地域:\"&CY110","v":"利根地域:加須市"},{"$f":"IF(CZ110,DA110,\"\")","v":""},null,"□","本庄市",{"$f":"IF(DD110=\"☑\",TRUE)","v":false},{"$f":"\"北部地域:\"&DE110","v":"北部地域:本庄市"},{"$f":"IF(DF110,DG110,\"\")","v":""},null,"□","横瀬町",{"$f":"IF(DJ110=\"☑\",TRUE)","v":false},{"$f":"\"秩父地域:\"&DK110","v":"秩父地域:横瀬町"},{"$f":"IF(DL110,DM110,\"\")","v":""},null,null,null,null,null,null,null,null,null,null,null,null,null,null,"□","火曜日",{"$f":"IF(EC110=\"☑\",TRUE)","v":false},{"$f":"IF(EE110,ED110,\"\")","v":""},null,"□","午後（12:00～16：00）",{"$f":"IF(EH110=\"☑\",TRUE)","v":false},{"$f":"IF(EJ110,EI110,\"\")","v":""},null,null,null,null,"に基づき感染対策を実施している。",null,{"$f":"IF(EQ110,EP110,\"\")","v":""}]
[null,null,null,null,null,null,null,null,null,null,null,null,null,null,null,null,null,null,null,null,null,"□","買物代行",false,"","□","食材宅配",false,"","□","温泉・銭湯（送迎）",false,"","□","屋外作業・力仕事",false,"","□","カフェ・ファーストフード",false,"","□","休憩スペース",false,"","□","映画館",false,"","□","住宅・リフォーム",false,"",null,null,null,null,null,"","□","大宮区",false,"さいたま市:大宮区","",null,"□","戸田市",{"$f":"IF(BN111=\"☑\",TRUE)","v":false},{"$f":"\"南部地域:\"&BO111","v":"南部地域:戸田市"},"",null,"□","和光市",false,"南西部地域:和光市","",null,"□","越谷市",false,"東部地域:越谷市","",null,"□","桶川市",{"$f":"IF(CF111=\"☑\",TRUE)","v":false},{"$f":"\"県央地域:\"&CG111","v":"県央地域:桶川市"},"",null,"□","坂戸市",false,"川越比企地域:坂戸市","",null,"□","狭山市",{"$f":"IF(CR111=\"☑\",TRUE)","v":false},{"$f":"\"西部地域:\"&CS111","v":"西部地域:狭山市"},"",null,"□","羽生市",false,"利根地域:羽生市","",null,"□","深谷市",false,"北部地域:深谷市","",null,"□","皆野町",{"$f":"IF(DJ111=\"☑\",TRUE)","v":false},{"$f":"\"秩父地域:\"&DK111","v":"秩父地域:皆野町"},"",null,null,null,null,null,null,null,null,null,null,null,null,null,null,"□","水曜日",false,"",null,"□","夕方(16:00～18:00)",{"$f":"IF(EH111=\"☑\",TRUE)","v":false},{"$f":"IF(EJ111,EI111,\"\")","v":""},null,null,null,"□","各種団体が定める業種別ガイドライン",{"$f":"IF(EO111=\"☑\",TRUE)","v":false},{"$f":"IF(EQ111,EP111,\"\")","v":""}]
[null,null,null,null,null,null,null,null,null,null,null,null,null,null,null,null,null,null,null,null,null,"□","移動販売",false,"","□","日用品配達",false,"","□","整体・マッサージ（送迎）",false,"","□","整体・マッサージ（出張）",false,"","□","飲食店",false,"","□","駐車場",false,"","□","カラオケ店",false,"","□","パソコン・スマートフォン",false,"",null,null,null,null,null,"","□","見沼区",false,"さいたま市:見沼区","",null,null,null,null,null,"",null,"□","新座市",false,"南西部地域:新座市","",null,"□","八潮市",false,"東部地域:八潮市","",null,"□","北本市",{"$f":"IF(CF112=\"☑\",TRUE)","v":false},{"$f":"\"県央地域:\"&CG112","v":"県央地域:北本市"},"",null,"□","鶴ヶ島市",false,"川越比企地域:鶴ヶ島市","",null,"□","入間市",{"$f":"IF(CR112=\"☑\",TRUE)","v":false},{"$f":"\"西部地域:\"&CS112","v":"西部地域:入間市"},"",null,"□","久喜市",false,"利根地域:久喜市","",null,"□","美里町",false,"北部地域:美里町","",null,"□","長瀞町",{"$f":"IF(DJ112=\"☑\",TRUE)","v":false},{"$f":"\"秩父地域:\"&DK112","v":"秩父地域:長瀞町"},"",null,null,null,null,null,null,null,null,null,null,null,null,null,null,"□","木曜日",false,"",null,"□","夜(18:00～）",{"$f":"IF(EH112=\"☑\",TRUE)","v":false},{"$f":"IF(EJ112,EI112,\"\")","v":""},null,null,null,null,"に基づき感染対策を実施している。"]
[null,null,null,null,null,null,null,null,null,null,null,null,null,null,null,null,null,null,null,null,null,"□","割引サービス",false,"","□","薬・介護用品配達",false,"","□","乗り合いサービス",false,"","□","理容室・美容室（出張）",false,"","□","イートインスペース",false,"","□","貸しスペース",false,"","□","麻雀・将棋・囲碁",false,"","□","認知症サポート企業",false,"",null,null,null,null,null,"","□","中央区",false,"さいたま市:中央区","",null,null,null,null,null,"",null,"□","富士見市",false,"南西部地域:富士見市","",null,"□","三郷市",false,"東部地域:三郷市","",null,"□","伊奈町",{"$f":"IF(CF113=\"☑\",TRUE)","v":false},{"$f":"\"県央地域:\"&CG113","v":"県央地域:伊奈町"},"",null,"□","毛呂山町",false,"川越比企地域:毛呂山町","",null,"□","日高市",{"$f":"IF(CR113=\"☑\",TRUE)","v":false},{"$f":"\"西部地域:\"&CS113","v":"西部地域:日高市"},"",null,"□","蓮田市",false,"利根地域:蓮田市","",null,"□","神川町",false,"北部地域:神川町","",null,"□","小鹿野町",{"$f":"IF(DJ113=\"☑\",TRUE)","v":false},{"$f":"\"秩父地域:\"&DK113","v":"秩父地域:小鹿野町"},"",null,null,null,null,null,null,null,null,null,null,null,null,null,null,"□","金曜日",false,"",null,null,null,null,null,null,null,null,"□","その他の感染対策を実施している。",{"$f":"IF(EO113=\"☑\",TRUE)","v":false},{"$f":"IF(EQ113,EP113,\"\")","v":""}]
[null,null,null,null,null,null,null,null,null,null,null,null,null,null,null,null,null,null,null,null,null,"□","その他（買物）",false,"","□","その他（宅配・デリバリー）",false,"","□","個別移送サービス",false,"","□","ペット",false,"","□","その他（運動・たまり場）",false,"","□","その他（設備・施設・場所貸し）",false,"","□","ゲームセンター",false,"","□","その他（生活サービス）",false,"",null,null,null,null,null,"","□","桜区",false,"さいたま市:桜区","",null,null,null,null,null,"",null,"□","ふじみ野市",false,"南西部地域:ふじみ野市","",null,"□","吉川市",false,"東部地域:吉川市","",null,null,null,null,null,"",null,"□","越生町",false,"川越比企地域:越生町","",null,null,null,null,null,"",null,"□","幸手市",false,"利根地域:幸手市","",null,"□","上里町",false,"北部地域:上里町","",null,null,null,null,null,"",null,null,null,null,null,null,null,null,null,null,null,null,null,null,"□","土曜日",false,"",null,null,null,null,null,null,null,null,"□","感染対策を特に実施していない。",{"$f":"IF(EO114=\"☑\",TRUE)","v":false},{"$f":"IF(EQ114,EP114,\"\")","v":""}]
[null,null,null,null,null,null,null,null,null,null,null,null,null,null,null,null,null,null,null,null,null,null,null,null,null,null,null,null,null,"□","交通機関サービス",false,"","□","その他（出張サービス）",false,"",null,null,null,null,null,null,null,null,"□","旅行代理店",false,"",null,null,null,null,null,null,null,null,null,"","□","浦和区",false,"さいたま市:浦和区","",null,null,null,null,null,"",null,"□","三芳町",false,"南西部地域:三芳町","",null,"□","松伏町",false,"東部地域:松伏町","",null,null,null,null,null,"",null,"□","滑川町",false,"川越比企地域:滑川町","",null,null,null,null,null,"",null,"□","白岡市",false,"利根地域:白岡市","",null,"□","寄居町",false,"北部地域:寄居町","",null,null,null,null,null,"",null,null,null,null,null,null,null,null,null,null,null,null,null,null,"□","日曜日",false,""]
[null,null,null,null,null,null,null,null,null,null,null,null,null,null,null,null,null,null,null,null,null,null,null,null,null,null,null,null,null,"□","その他（送迎・移動支援）",false,"",null,null,null,"",null,null,null,{"$f":"IF(AN116,AM116,\"\")","v":""},null,null,null,{"$f":"IF(AR116,AQ116,\"\")","v":""},"□","その他（学び・趣味）",false,"",null,null,null,null,null,null,null,null,null,"","□","南区",false,"さいたま市:南区","",null,null,null,null,null,"",null,null,null,null,null,"",null,null,null,null,null,"",null,null,null,null,null,"",null,"□","嵐山町",false,"川越比企地域:嵐山町","",null,null,null,null,null,"",null,"□","宮代町",false,"利根地域:宮代町","",null,null,null,null,null,"",null,null,null,null,null,""]
[null,null,null,null,null,null,null,null,null,null,null,null,null,null,null,null,null,null,null,null,null,null,null,null,null,null,null,null,null,null,null,null,null,null,null,null,null,null,null,null,null,null,null,null,null,null,null,null,null,null,null,null,null,null,null,null,null,null,"","□","緑区",false,"さいたま市:緑区","",null,null,null,null,null,"",null,null,null,null,null,"",null,null,null,null,null,"",null,null,null,null,null,"",null,"□","小川町",false,"川越比企地域:小川町","",null,null,null,null,null,"",null,"□","杉戸町",false,"利根地域:杉戸町","",null,null,null,null,null,"",null,null,null,null,null,""]
[null,null,null,null,null,null,null,null,null,null,null,null,null,null,null,null,null,null,null,null,null,null,null,null,null,null,null,null,null,null,null,null,null,null,null,null,null,null,null,null,null,null,null,null,null,null,null,null,null,null,null,null,null,null,null,null,null,null,"","□","岩槻区",{"$f":"IF(BH118=\"☑\",TRUE)","v":false},"さいたま市:岩槻区","",null,null,null,null,null,"",null,null,null,null,null,"",null,null,null,null,null,"",null,null,null,null,null,"",null,"□","川島町",false,"川越比企地域:川島町","",null,null,null,null,null,"",null,null,null,null,null,"",null,null,null,null,null,"",null,null,null,null,null,""]
[null,null,null,null,null,null,null,null,null,null,null,null,null,null,null,null,null,null,null,null,null,null,null,null,null,null,null,null,null,null,null,null,null,null,null,null,null,null,null,null,null,null,null,null,null,null,null,null,null,null,null,null,null,null,null,null,null,null,"",null,null,null,null,null,null,null,null,null,null,null,null,null,null,null,null,null,null,null,null,null,null,null,null,null,null,null,null,null,null,"□","吉見町",false,"川越比企地域:吉見町","",null,null,null,null,null,"",null,null,null,null,null,"",null,null,null,null,null,"",null,null,null,null,null,""]
[null,null,null,null,null,null,null,null,null,null,null,null,null,null,null,null,null,null,null,null,null,null,null,null,null,null,null,null,null,null,null,null,null,null,null,null,null,null,null,null,null,null,null,null,null,null,null,null,null,null,null,null,null,null,null,null,null,null,"",null,null,null,null,null,null,null,null,null,null,null,null,null,null,null,null,null,null,null,null,null,null,null,null,null,null,null,null,null,null,"□","鳩山町",false,"川越比企地域:鳩山町","",null,null,null,null,null,"",null,null,null,null,null,"",null,null,null,null,null,"",null,null,null,null,null,""]
[null,null,null,null,null,null,null,null,null,null,null,null,null,null,null,null,null,null,null,null,null,null,null,null,null,null,null,null,null,null,null,null,null,null,null,null,null,null,null,null,null,null,null,null,null,null,null,null,null,null,null,null,null,null,null,null,null,null,"",null,null,null,null,null,null,null,null,null,null,null,null,null,null,null,null,null,null,null,null,null,null,null,null,null,null,null,null,null,null,"□","ときがわ町",false,"川越比企地域:ときがわ町","",null,null,null,null,null,"",null,null,null,null,null,"",null,null,null,null,null,"",null,null,null,null,null,""]
[null,null,null,null,null,null,null,null,null,null,null,null,null,null,null,null,null,null,null,null,null,null,null,null,null,null,null,null,null,null,null,null,null,null,null,null,null,null,null,null,null,null,null,null,null,null,null,null,null,null,null,null,null,null,null,null,null,null,"",null,null,null,null,null,null,null,null,null,null,null,null,null,null,null,null,null,null,null,null,null,null,null,null,null,null,null,null,null,null,"□","東秩父村",false,"川越比企地域:東秩父村","",null,null,null,null,null,"",null,null,null,null,null,"",null,null,null,null,null,"",null,null,null,null,null,""]
[8,null,null,null,null,null,null,null,null,null,null,null,null,null,null,null,null,null,null,null,null,"□","配送",{"$f":"IF(V123=\"☑\",TRUE)","v":false},{"$f":"IF(X123,W123,\"\")","v":""},"□","弁当配達",{"$f":"IF(Z123=\"☑\",TRUE)","v":false},{"$f":"IF(AB123,AA123,\"\")","v":""},"□","理容室・美容室（送迎）",{"$f":"IF(AD123=\"☑\",TRUE)","v":false},{"$f":"IF(AF123,AE123,\"\")","v":""},"□","家事代行",{"$f":"IF(AH123=\"☑\",TRUE)","v":false},{"$f":"IF(AJ123,AI123,\"\")","v":""},"□","フィットネス・ジム（運動）",{"$f":"IF(AL123=\"☑\",TRUE)","v":false},{"$f":"IF(AN123,AM123,\"\")","v":""},"□","車イス対応（バリアフリー）",{"$f":"IF(AP123=\"☑\",TRUE)","v":false},{"$f":"IF(AR123,AQ123,\"\")","v":""},"□","講座・教室・イベント",{"$f":"IF(AT123=\"☑\",TRUE)","v":false},{"$f":"IF(AV123,AU123,\"\")","v":""},"□","防犯・見守り",{"$f":"IF(AX123=\"☑\",TRUE)","v":false},{"$f":"IF(AZ123,AY123,\"\")","v":""},{"$f":"_xludf.TEXTJOIN(\",\",TRUE,Y123:Y136,AC123:AC136,AG123:AG136,AK123:AK136,AO123:AO136,AS123:AS136,AW123:AW136,BA123:BA136)","v":""},"□","埼玉県全域",{"$f":"IF(BC123=\"☑\",TRUE)","v":false},"さいたま市:西区,さいたま市:北区,さいたま市:大宮区,さいたま市:見沼区,さいたま市:中央区,さいたま市:桜区,さいたま市:浦和区,さいたま市:南区,さいたま市:緑区,さいたま市:岩槻区,南部地域:川口市,南部地域:蕨市,南部地域:戸田市,南西部地域:朝霞市,南西部地域:志木市,南西部地域:和光市,南西部地域:新座市,南西部地域:富士見市,南西部地域:ふじみ野市,南西部地域:三芳町,東部地域:春日部市,東部地域:草加市,東部地域:越谷市,東部地域:八潮市,東部地域:三郷市,東部地域:吉川市,東部地域:松伏町,県央地域:鴻巣市,県央地域:上尾市,県央地域:桶川市,県央地域:北本市,県央地域:伊奈町,川越比企地域:川越市,川越比企地域:東松山市,川越比企地域:坂戸市,川越比企地域:鶴ヶ島市,川越比企地域:毛呂山町,川越比企地域:越生町,川越比企地域:滑川町,川越比企地域:嵐山町,川越比企地域:小川町,川越比企地域:川島町,川越比企地域:吉見町,川越比企地域:鳩山町,川越比企地域:ときがわ町,川越比企地域:東秩父村,西部地域:所沢市,西部地域:飯能市,西部地域:狭山市,西部地域:入間市,西部地域:日高市,利根地域:行田市,利根地域:加須市,利根地域:羽生市,利根地域:久喜市,利根地域:蓮田市,利根地域:幸手市,利根地域:白岡市,利根地域:宮代町,利根地域:杉戸町,北部地域:熊谷市,北部地域:本庄市,北部地域:深谷市,北部地域:美里町,北部地域:神川町,北部地域:上里町,北部地域:寄居町,秩父地域:秩父市,秩父地域:横瀬町,秩父地域:皆野町,秩父地域:長瀞町,秩父地域:小鹿野町","","□","西区",{"$f":"IF(BH123=\"☑\",TRUE)","v":false},{"$f":"\"さいたま市:\"&BI123","v":"さいたま市:西区"},{"$f":"IF(BJ123,BK123,\"\")","v":""},{"$f":"_xludf.TEXTJOIN(\",\",TRUE,BL123:BL136)","v":""},"□","川口市",{"$f":"IF(BN123=\"☑\",TRUE)","v":false},{"$f":"\"南部地域:\"&BO123","v":"南部地域:川口市"},{"$f":"IF(BP123,BQ123,\"\")","v":""},{"$f":"_xludf.TEXTJOIN(\",\",TRUE,BR123:BR136)","v":""},"□","朝霞市",{"$f":"IF(BT123=\"☑\",TRUE)","v":false},{"$f":"\"南西部地域:\"&BU123","v":"南西部地域:朝霞市"},{"$f":"IF(BV123,BW123,\"\")","v":""},{"$f":"_xludf.TEXTJOIN(\",\",TRUE,BX123:BX136)","v":""},"□","春日部市",{"$f":"IF(BZ123=\"☑\",TRUE)","v":false},{"$f":"\"東部地域:\"&CA123","v":"東部地域:春日部市"},{"$f":"IF(CB123,CC123,\"\")","v":""},{"$f":"_xludf.TEXTJOIN(\",\",TRUE,CD123:CD136)","v":""},"□","鴻巣市",{"$f":"IF(CF123=\"☑\",TRUE)","v":false},{"$f":"\"県央地域:\"&CG123","v":"県央地域:鴻巣市"},{"$f":"IF(CH123,CI123,\"\")","v":""},{"$f":"_xludf.TEXTJOIN(\",\",TRUE,CJ123:CJ136)","v":""},"□","川越市",{"$f":"IF(CL123=\"☑\",TRUE)","v":false},{"$f":"\"川越比企地域:\"&CM123","v":"川越比企地域:川越市"},{"$f":"IF(CN123,CO123,\"\")","v":""},{"$f":"_xludf.TEXTJOIN(\",\",TRUE,CP123:CP136)","v":""},"□","所沢市",{"$f":"IF(CR123=\"☑\",TRUE)","v":false},{"$f":"\"西部地域:\"&CS123","v":"西部地域:所沢市"},{"$f":"IF(CT123,CU123,\"\")","v":""},{"$f":"_xludf.TEXTJOIN(\",\",TRUE,CV123:CV136)","v":""},"□","行田市",{"$f":"IF(CX123=\"☑\",TRUE)","v":false},{"$f":"\"利根地域:\"&CY123","v":"利根地域:行田市"},{"$f":"IF(CZ123,DA123,\"\")","v":""},{"$f":"_xludf.TEXTJOIN(\",\",TRUE,DB123:DB136)","v":""},"□","熊谷市",{"$f":"IF(DD123=\"☑\",TRUE)","v":false},{"$f":"\"北部地域:\"&DE123","v":"北部地域:熊谷市"},{"$f":"IF(DF123,DG123,\"\")","v":""},{"$f":"_xludf.TEXTJOIN(\",\",TRUE,DH123:DH136)","v":""},"□","秩父市",{"$f":"IF(DJ123=\"☑\",TRUE)","v":false},{"$f":"\"秩父地域:\"&DK123","v":"秩父地域:秩父市"},{"$f":"IF(DL123,DM123,\"\")","v":""},{"$f":"_xludf.TEXTJOIN(\",\",TRUE,DN123:DN136)","v":""},{"$f":"_xludf.TEXTJOIN(\",\",TRUE,BG123,BM123,BS123,BY123,CE123,CK123,CQ123,CW123,DC123,DI123,DO123)","v":""},null,null,null,null,null,null,null,null,null,null,null,null,"□","月曜日",{"$f":"IF(EC123=\"☑\",TRUE)","v":false},{"$f":"IF(EE123,ED123,\"\")","v":""},{"$f":"_xludf.TEXTJOIN(\",\",TRUE,EF123:EF136)","v":""},"□","午前（～12:00）",{"$f":"IF(EH123=\"☑\",TRUE)","v":false},{"$f":"IF(EJ123,EI123,\"\")","v":""},{"$f":"_xludf.TEXTJOIN(\",\",TRUE,EK123:EK136)","v":""},null,null,"□","彩の国「新しい生活様式」安心宣言",{"$f":"IF(EO123=\"☑\",TRUE)","v":false},{"$f":"IF(EQ123,EP123,\"\")","v":""},{"$f":"_xludf.TEXTJOIN(\",\",TRUE,ER123:ER136)","v":""},null,"",null,"",null,"",null,"",null,"",null,"",null,"",null,""]
[null,null,null,null,null,null,null,null,null,null,null,null,null,null,null,null,null,null,null,null,null,"□","買物サポート",false,"","□","料理デリバリー（出前）",false,"","□","フィットネス・ジム（送迎）",{"$f":"IF(AD124=\"☑\",TRUE)","v":false},{"$f":"IF(AF124,AE124,\"\")","v":""},"□","出張料理",{"$f":"IF(AH124=\"☑\",TRUE)","v":false},{"$f":"IF(AJ124,AI124,\"\")","v":""},"□","温泉・銭湯（たまり場）",false,"","□","多目的トイレ",false,"","□","習い事",{"$f":"IF(AT124=\"☑\",TRUE)","v":false},{"$f":"IF(AV124,AU124,\"\")","v":""},"□","金融・保険",false,"",null,null,null,null,null,"","□","北区",{"$f":"IF(BH124=\"☑\",TRUE)","v":false},{"$f":"\"さいたま市:\"&BI124","v":"さいたま市:北区"},{"$f":"IF(BJ124,BK124,\"\")","v":""},null,"□","蕨市",{"$f":"IF(BN124=\"☑\",TRUE)","v":false},{"$f":"\"南部地域:\"&BO124","v":"南部地域:蕨市"},{"$f":"IF(BP124,BQ124,\"\")","v":""},null,"□","志木市",{"$f":"IF(BT124=\"☑\",TRUE)","v":false},{"$f":"\"南西部地域:\"&BU124","v":"南西部地域:志木市"},{"$f":"IF(BV124,BW124,\"\")","v":""},null,"□","草加市",{"$f":"IF(BZ124=\"☑\",TRUE)","v":false},{"$f":"\"東部地域:\"&CA124","v":"東部地域:草加市"},"",null,"□","上尾市",{"$f":"IF(CF124=\"☑\",TRUE)","v":false},{"$f":"\"県央地域:\"&CG124","v":"県央地域:上尾市"},{"$f":"IF(CH124,CI124,\"\")","v":""},null,"□","東松山市",{"$f":"IF(CL124=\"☑\",TRUE)","v":false},{"$f":"\"川越比企地域:\"&CM124","v":"川越比企地域:東松山市"},{"$f":"IF(CN124,CO124,\"\")","v":""},null,"□","飯能市",{"$f":"IF(CR124=\"☑\",TRUE)","v":false},{"$f":"\"西部地域:\"&CS124","v":"西部地域:飯能市"},{"$f":"IF(CT124,CU124,\"\")","v":""},null,"□","加須市",{"$f":"IF(CX124=\"☑\",TRUE)","v":false},{"$f":"\"利根地域:\"&CY124","v":"利根地域:加須市"},{"$f":"IF(CZ124,DA124,\"\")","v":""},null,"□","本庄市",{"$f":"IF(DD124=\"☑\",TRUE)","v":false},{"$f":"\"北部地域:\"&DE124","v":"北部地域:本庄市"},{"$f":"IF(DF124,DG124,\"\")","v":""},null,"□","横瀬町",{"$f":"IF(DJ124=\"☑\",TRUE)","v":false},{"$f":"\"秩父地域:\"&DK124","v":"秩父地域:横瀬町"},{"$f":"IF(DL124,DM124,\"\")","v":""},null,null,null,null,null,null,null,null,null,null,null,null,null,null,"□","火曜日",{"$f":"IF(EC124=\"☑\",TRUE)","v":false},{"$f":"IF(EE124,ED124,\"\")","v":""},null,"□","午後（12:00～16：00）",{"$f":"IF(EH124=\"☑\",TRUE)","v":false},{"$f":"IF(EJ124,EI124,\"\")","v":""},null,null,null,null,"に基づき感染対策を実施している。",null,{"$f":"IF(EQ124,EP124,\"\")","v":""}]
[null,null,null,null,null,null,null,null,null,null,null,null,null,null,null,null,null,null,null,null,null,"□","買物代行",false,"","□","食材宅配",false,"","□","温泉・銭湯（送迎）",false,"","□","屋外作業・力仕事",false,"","□","カフェ・ファーストフード",false,"","□","休憩スペース",false,"","□","映画館",false,"","□","住宅・リフォーム",false,"",null,null,null,null,null,"","□","大宮区",false,"さいたま市:大宮区","",null,"□","戸田市",{"$f":"IF(BN125=\"☑\",TRUE)","v":false},{"$f":"\"南部地域:\"&BO125","v":"南部地域:戸田市"},"",null,"□","和光市",false,"南西部地域:和光市","",null,"□","越谷市",false,"東部地域:越谷市","",null,"□","桶川市",{"$f":"IF(CF125=\"☑\",TRUE)","v":false},{"$f":"\"県央地域:\"&CG125","v":"県央地域:桶川市"},"",null,"□","坂戸市",false,"川越比企地域:坂戸市","",null,"□","狭山市",{"$f":"IF(CR125=\"☑\",TRUE)","v":false},{"$f":"\"西部地域:\"&CS125","v":"西部地域:狭山市"},"",null,"□","羽生市",false,"利根地域:羽生市","",null,"□","深谷市",false,"北部地域:深谷市","",null,"□","皆野町",{"$f":"IF(DJ125=\"☑\",TRUE)","v":false},{"$f":"\"秩父地域:\"&DK125","v":"秩父地域:皆野町"},"",null,null,null,null,null,null,null,null,null,null,null,null,null,null,"□","水曜日",false,"",null,"□","夕方(16:00～18:00)",{"$f":"IF(EH125=\"☑\",TRUE)","v":false},{"$f":"IF(EJ125,EI125,\"\")","v":""},null,null,null,"□","各種団体が定める業種別ガイドライン",{"$f":"IF(EO125=\"☑\",TRUE)","v":false},{"$f":"IF(EQ125,EP125,\"\")","v":""}]
[null,null,null,null,null,null,null,null,null,null,null,null,null,null,null,null,null,null,null,null,null,"□","移動販売",false,"","□","日用品配達",false,"","□","整体・マッサージ（送迎）",false,"","□","整体・マッサージ（出張）",false,"","□","飲食店",false,"","□","駐車場",false,"","□","カラオケ店",false,"","□","パソコン・スマートフォン",false,"",null,null,null,null,null,"","□","見沼区",false,"さいたま市:見沼区","",null,null,null,null,null,"",null,"□","新座市",false,"南西部地域:新座市","",null,"□","八潮市",false,"東部地域:八潮市","",null,"□","北本市",{"$f":"IF(CF126=\"☑\",TRUE)","v":false},{"$f":"\"県央地域:\"&CG126","v":"県央地域:北本市"},"",null,"□","鶴ヶ島市",false,"川越比企地域:鶴ヶ島市","",null,"□","入間市",{"$f":"IF(CR126=\"☑\",TRUE)","v":false},{"$f":"\"西部地域:\"&CS126","v":"西部地域:入間市"},"",null,"□","久喜市",false,"利根地域:久喜市","",null,"□","美里町",false,"北部地域:美里町","",null,"□","長瀞町",{"$f":"IF(DJ126=\"☑\",TRUE)","v":false},{"$f":"\"秩父地域:\"&DK126","v":"秩父地域:長瀞町"},"",null,null,null,null,null,null,null,null,null,null,null,null,null,null,"□","木曜日",false,"",null,"□","夜(18:00～）",{"$f":"IF(EH126=\"☑\",TRUE)","v":false},{"$f":"IF(EJ126,EI126,\"\")","v":""},null,null,null,null,"に基づき感染対策を実施している。"]
[null,null,null,null,null,null,null,null,null,null,null,null,null,null,null,null,null,null,null,null,null,"□","割引サービス",false,"","□","薬・介護用品配達",false,"","□","乗り合いサービス",false,"","□","理容室・美容室（出張）",false,"","□","イートインスペース",false,"","□","貸しスペース",false,"","□","麻雀・将棋・囲碁",false,"","□","認知症サポート企業",false,"",null,null,null,null,null,"","□","中央区",false,"さいたま市:中央区","",null,null,null,null,null,"",null,"□","富士見市",false,"南西部地域:富士見市","",null,"□","三郷市",false,"東部地域:三郷市","",null,"□","伊奈町",{"$f":"IF(CF127=\"☑\",TRUE)","v":false},{"$f":"\"県央地域:\"&CG127","v":"県央地域:伊奈町"},"",null,"□","毛呂山町",false,"川越比企地域:毛呂山町","",null,"□","日高市",{"$f":"IF(CR127=\"☑\",TRUE)","v":false},{"$f":"\"西部地域:\"&CS127","v":"西部地域:日高市"},"",null,"□","蓮田市",false,"利根地域:蓮田市","",null,"□","神川町",false,"北部地域:神川町","",null,"□","小鹿野町",{"$f":"IF(DJ127=\"☑\",TRUE)","v":false},{"$f":"\"秩父地域:\"&DK127","v":"秩父地域:小鹿野町"},"",null,null,null,null,null,null,null,null,null,null,null,null,null,null,"□","金曜日",false,"",null,null,null,null,null,null,null,null,"□","その他の感染対策を実施している。",{"$f":"IF(EO127=\"☑\",TRUE)","v":false},{"$f":"IF(EQ127,EP127,\"\")","v":""}]
[null,null,null,null,null,null,null,null,null,null,null,null,null,null,null,null,null,null,null,null,null,"□","その他（買物）",false,"","□","その他（宅配・デリバリー）",false,"","□","個別移送サービス",false,"","□","ペット",false,"","□","その他（運動・たまり場）",false,"","□","その他（設備・施設・場所貸し）",false,"","□","ゲームセンター",false,"","□","その他（生活サービス）",false,"",null,null,null,null,null,"","□","桜区",false,"さいたま市:桜区","",null,null,null,null,null,"",null,"□","ふじみ野市",false,"南西部地域:ふじみ野市","",null,"□","吉川市",false,"東部地域:吉川市","",null,null,null,null,null,"",null,"□","越生町",false,"川越比企地域:越生町","",null,null,null,null,null,"",null,"□","幸手市",false,"利根地域:幸手市","",null,"□","上里町",false,"北部地域:上里町","",null,null,null,null,null,"",null,null,null,null,null,null,null,null,null,null,null,null,null,null,"□","土曜日",false,"",null,null,null,null,null,null,null,null,"□","感染対策を特に実施していない。",{"$f":"IF(EO128=\"☑\",TRUE)","v":false},{"$f":"IF(EQ128,EP128,\"\")","v":""}]
[null,null,null,null,null,null,null,null,null,null,null,null,null,null,null,null,null,null,null,null,null,null,null,null,null,null,null,null,null,"□","交通機関サービス",false,"","□","その他（出張サービス）",false,"",null,null,null,null,null,null,null,null,"□","旅行代理店",false,"",null,null,null,null,null,null,null,null,null,"","□","浦和区",false,"さいたま市:浦和区","",null,null,null,null,null,"",null,"□","三芳町",false,"南西部地域:三芳町","",null,"□","松伏町",false,"東部地域:松伏町","",null,null,null,null,null,"",null,"□","滑川町",false,"川越比企地域:滑川町","",null,null,null,null,null,"",null,"□","白岡市",false,"利根地域:白岡市","",null,"□","寄居町",false,"北部地域:寄居町","",null,null,null,null,null,"",null,null,null,null,null,null,null,null,null,null,null,null,null,null,"□","日曜日",false,""]
[null,null,null,null,null,null,null,null,null,null,null,null,null,null,null,null,null,null,null,null,null,null,null,null,null,null,null,null,null,"□","その他（送迎・移動支援）",false,"",null,null,null,"",null,null,null,{"$f":"IF(AN130,AM130,\"\")","v":""},null,null,null,{"$f":"IF(AR130,AQ130,\"\")","v":""},"□","その他（学び・趣味）",false,"",null,null,null,null,null,null,null,null,null,"","□","南区",false,"さいたま市:南区","",null,null,null,null,null,"",null,null,null,null,null,"",null,null,null,null,null,"",null,null,null,null,null,"",null,"□","嵐山町",false,"川越比企地域:嵐山町","",null,null,null,null,null,"",null,"□","宮代町",false,"利根地域:宮代町","",null,null,null,null,null,"",null,null,null,null,null,""]
[null,null,null,null,null,null,null,null,null,null,null,null,null,null,null,null,null,null,null,null,null,null,null,null,null,null,null,null,null,null,null,null,null,null,null,null,null,null,null,null,null,null,null,null,null,null,null,null,null,null,null,null,null,null,null,null,null,null,"","□","緑区",false,"さいたま市:緑区","",null,null,null,null,null,"",null,null,null,null,null,"",null,null,null,null,null,"",null,null,null,null,null,"",null,"□","小川町",false,"川越比企地域:小川町","",null,null,null,null,null,"",null,"□","杉戸町",false,"利根地域:杉戸町","",null,null,null,null,null,"",null,null,null,null,null,""]
[null,null,null,null,null,null,null,null,null,null,null,null,null,null,null,null,null,null,null,null,null,null,null,null,null,null,null,null,null,null,null,null,null,null,null,null,null,null,null,null,null,null,null,null,null,null,null,null,null,null,null,null,null,null,null,null,null,null,"","□","岩槻区",{"$f":"IF(BH132=\"☑\",TRUE)","v":false},"さいたま市:岩槻区","",null,null,null,null,null,"",null,null,null,null,null,"",null,null,null,null,null,"",null,null,null,null,null,"",null,"□","川島町",false,"川越比企地域:川島町","",null,null,null,null,null,"",null,null,null,null,null,"",null,null,null,null,null,"",null,null,null,null,null,""]
[null,null,null,null,null,null,null,null,null,null,null,null,null,null,null,null,null,null,null,null,null,null,null,null,null,null,null,null,null,null,null,null,null,null,null,null,null,null,null,null,null,null,null,null,null,null,null,null,null,null,null,null,null,null,null,null,null,null,"",null,null,null,null,null,null,null,null,null,null,null,null,null,null,null,null,null,null,null,null,null,null,null,null,null,null,null,null,null,null,"□","吉見町",false,"川越比企地域:吉見町","",null,null,null,null,null,"",null,null,null,null,null,"",null,null,null,null,null,"",null,null,null,null,null,""]
[null,null,null,null,null,null,null,null,null,null,null,null,null,null,null,null,null,null,null,null,null,null,null,null,null,null,null,null,null,null,null,null,null,null,null,null,null,null,null,null,null,null,null,null,null,null,null,null,null,null,null,null,null,null,null,null,null,null,"",null,null,null,null,null,null,null,null,null,null,null,null,null,null,null,null,null,null,null,null,null,null,null,null,null,null,null,null,null,null,"□","鳩山町",false,"川越比企地域:鳩山町","",null,null,null,null,null,"",null,null,null,null,null,"",null,null,null,null,null,"",null,null,null,null,null,""]
[null,null,null,null,null,null,null,null,null,null,null,null,null,null,null,null,null,null,null,null,null,null,null,null,null,null,null,null,null,null,null,null,null,null,null,null,null,null,null,null,null,null,null,null,null,null,null,null,null,null,null,null,null,null,null,null,null,null,"",null,null,null,null,null,null,null,null,null,null,null,null,null,null,null,null,null,null,null,null,null,null,null,null,null,null,null,null,null,null,"□","ときがわ町",false,"川越比企地域:ときがわ町","",null,null,null,null,null,"",null,null,null,null,null,"",null,null,null,null,null,"",null,null,null,null,null,""]
[null,null,null,null,null,null,null,null,null,null,null,null,null,null,null,null,null,null,null,null,null,null,null,null,null,null,null,null,null,null,null,null,null,null,null,null,null,null,null,null,null,null,null,null,null,null,null,null,null,null,null,null,null,null,null,null,null,null,"",null,null,null,null,null,null,null,null,null,null,null,null,null,null,null,null,null,null,null,null,null,null,null,null,null,null,null,null,null,null,"□","東秩父村",false,"川越比企地域:東秩父村","",null,null,null,null,null,"",null,null,null,null,null,"",null,null,null,null,null,"",null,null,null,null,null,""]
[9,null,null,null,null,null,null,null,null,null,null,null,null,null,null,null,null,null,null,null,null,"□","配送",{"$f":"IF(V137=\"☑\",TRUE)","v":false},{"$f":"IF(X137,W137,\"\")","v":""},"□","弁当配達",{"$f":"IF(Z137=\"☑\",TRUE)","v":false},{"$f":"IF(AB137,AA137,\"\")","v":""},"□","理容室・美容室（送迎）",{"$f":"IF(AD137=\"☑\",TRUE)","v":false},{"$f":"IF(AF137,AE137,\"\")","v":""},"□","家事代行",{"$f":"IF(AH137=\"☑\",TRUE)","v":false},{"$f":"IF(AJ137,AI137,\"\")","v":""},"□","フィットネス・ジム（運動）",{"$f":"IF(AL137=\"☑\",TRUE)","v":false},{"$f":"IF(AN137,AM137,\"\")","v":""},"□","車イス対応（バリアフリー）",{"$f":"IF(AP137=\"☑\",TRUE)","v":false},{"$f":"IF(AR137,AQ137,\"\")","v":""},"□","講座・教室・イベント",{"$f":"IF(AT137=\"☑\",TRUE)","v":false},{"$f":"IF(AV137,AU137,\"\")","v":""},"□","防犯・見守り",{"$f":"IF(AX137=\"☑\",TRUE)","v":false},{"$f":"IF(AZ137,AY137,\"\")","v":""},{"$f":"_xludf.TEXTJOIN(\",\",TRUE,Y137:Y150,AC137:AC150,AG137:AG150,AK137:AK150,AO137:AO150,AS137:AS150,AW137:AW150,BA137:BA150)","v":""},"□","埼玉県全域",{"$f":"IF(BC137=\"☑\",TRUE)","v":false},"さいたま市:西区,さいたま市:北区,さいたま市:大宮区,さいたま市:見沼区,さいたま市:中央区,さいたま市:桜区,さいたま市:浦和区,さいたま市:南区,さいたま市:緑区,さいたま市:岩槻区,南部地域:川口市,南部地域:蕨市,南部地域:戸田市,南西部地域:朝霞市,南西部地域:志木市,南西部地域:和光市,南西部地域:新座市,南西部地域:富士見市,南西部地域:ふじみ野市,南西部地域:三芳町,東部地域:春日部市,東部地域:草加市,東部地域:越谷市,東部地域:八潮市,東部地域:三郷市,東部地域:吉川市,東部地域:松伏町,県央地域:鴻巣市,県央地域:上尾市,県央地域:桶川市,県央地域:北本市,県央地域:伊奈町,川越比企地域:川越市,川越比企地域:東松山市,川越比企地域:坂戸市,川越比企地域:鶴ヶ島市,川越比企地域:毛呂山町,川越比企地域:越生町,川越比企地域:滑川町,川越比企地域:嵐山町,川越比企地域:小川町,川越比企地域:川島町,川越比企地域:吉見町,川越比企地域:鳩山町,川越比企地域:ときがわ町,川越比企地域:東秩父村,西部地域:所沢市,西部地域:飯能市,西部地域:狭山市,西部地域:入間市,西部地域:日高市,利根地域:行田市,利根地域:加須市,利根地域:羽生市,利根地域:久喜市,利根地域:蓮田市,利根地域:幸手市,利根地域:白岡市,利根地域:宮代町,利根地域:杉戸町,北部地域:熊谷市,北部地域:本庄市,北部地域:深谷市,北部地域:美里町,北部地域:神川町,北部地域:上里町,北部地域:寄居町,秩父地域:秩父市,秩父地域:横瀬町,秩父地域:皆野町,秩父地域:長瀞町,秩父地域:小鹿野町","","□","西区",{"$f":"IF(BH137=\"☑\",TRUE)","v":false},{"$f":"\"さいたま市:\"&BI137","v":"さいたま市:西区"},{"$f":"IF(BJ137,BK137,\"\")","v":""},{"$f":"_xludf.TEXTJOIN(\",\",TRUE,BL137:BL150)","v":""},"□","川口市",{"$f":"IF(BN137=\"☑\",TRUE)","v":false},{"$f":"\"南部地域:\"&BO137","v":"南部地域:川口市"},{"$f":"IF(BP137,BQ137,\"\")","v":""},{"$f":"_xludf.TEXTJOIN(\",\",TRUE,BR137:BR150)","v":""},"□","朝霞市",{"$f":"IF(BT137=\"☑\",TRUE)","v":false},{"$f":"\"南西部地域:\"&BU137","v":"南西部地域:朝霞市"},{"$f":"IF(BV137,BW137,\"\")","v":""},{"$f":"_xludf.TEXTJOIN(\",\",TRUE,BX137:BX150)","v":""},"□","春日部市",{"$f":"IF(BZ137=\"☑\",TRUE)","v":false},{"$f":"\"東部地域:\"&CA137","v":"東部地域:春日部市"},{"$f":"IF(CB137,CC137,\"\")","v":""},{"$f":"_xludf.TEXTJOIN(\",\",TRUE,CD137:CD150)","v":""},"□","鴻巣市",{"$f":"IF(CF137=\"☑\",TRUE)","v":false},{"$f":"\"県央地域:\"&CG137","v":"県央地域:鴻巣市"},{"$f":"IF(CH137,CI137,\"\")","v":""},{"$f":"_xludf.TEXTJOIN(\",\",TRUE,CJ137:CJ150)","v":""},"□","川越市",{"$f":"IF(CL137=\"☑\",TRUE)","v":false},{"$f":"\"川越比企地域:\"&CM137","v":"川越比企地域:川越市"},{"$f":"IF(CN137,CO137,\"\")","v":""},{"$f":"_xludf.TEXTJOIN(\",\",TRUE,CP137:CP150)","v":""},"□","所沢市",{"$f":"IF(CR137=\"☑\",TRUE)","v":false},{"$f":"\"西部地域:\"&CS137","v":"西部地域:所沢市"},{"$f":"IF(CT137,CU137,\"\")","v":""},{"$f":"_xludf.TEXTJOIN(\",\",TRUE,CV137:CV150)","v":""},"□","行田市",{"$f":"IF(CX137=\"☑\",TRUE)","v":false},{"$f":"\"利根地域:\"&CY137","v":"利根地域:行田市"},{"$f":"IF(CZ137,DA137,\"\")","v":""},{"$f":"_xludf.TEXTJOIN(\",\",TRUE,DB137:DB150)","v":""},"□","熊谷市",{"$f":"IF(DD137=\"☑\",TRUE)","v":false},{"$f":"\"北部地域:\"&DE137","v":"北部地域:熊谷市"},{"$f":"IF(DF137,DG137,\"\")","v":""},{"$f":"_xludf.TEXTJOIN(\",\",TRUE,DH137:DH150)","v":""},"□","秩父市",{"$f":"IF(DJ137=\"☑\",TRUE)","v":false},{"$f":"\"秩父地域:\"&DK137","v":"秩父地域:秩父市"},{"$f":"IF(DL137,DM137,\"\")","v":""},{"$f":"_xludf.TEXTJOIN(\",\",TRUE,DN137:DN150)","v":""},{"$f":"_xludf.TEXTJOIN(\",\",TRUE,BG137,BM137,BS137,BY137,CE137,CK137,CQ137,CW137,DC137,DI137,DO137)","v":""},null,null,null,null,null,null,null,null,null,null,null,null,"□","月曜日",{"$f":"IF(EC137=\"☑\",TRUE)","v":false},{"$f":"IF(EE137,ED137,\"\")","v":""},{"$f":"_xludf.TEXTJOIN(\",\",TRUE,EF137:EF150)","v":""},"□","午前（～12:00）",{"$f":"IF(EH137=\"☑\",TRUE)","v":false},{"$f":"IF(EJ137,EI137,\"\")","v":""},{"$f":"_xludf.TEXTJOIN(\",\",TRUE,EK137:EK150)","v":""},null,null,"□","彩の国「新しい生活様式」安心宣言",{"$f":"IF(EO137=\"☑\",TRUE)","v":false},{"$f":"IF(EQ137,EP137,\"\")","v":""},{"$f":"_xludf.TEXTJOIN(\",\",TRUE,ER137:ER150)","v":""},null,"",null,"",null,"",null,"",null,"",null,"",null,"",null,""]
[null,null,null,null,null,null,null,null,null,null,null,null,null,null,null,null,null,null,null,null,null,"□","買物サポート",false,"","□","料理デリバリー（出前）",false,"","□","フィットネス・ジム（送迎）",{"$f":"IF(AD138=\"☑\",TRUE)","v":false},{"$f":"IF(AF138,AE138,\"\")","v":""},"□","出張料理",{"$f":"IF(AH138=\"☑\",TRUE)","v":false},{"$f":"IF(AJ138,AI138,\"\")","v":""},"□","温泉・銭湯（たまり場）",false,"","□","多目的トイレ",false,"","□","習い事",{"$f":"IF(AT138=\"☑\",TRUE)","v":false},{"$f":"IF(AV138,AU138,\"\")","v":""},"□","金融・保険",false,"",null,null,null,null,null,"","□","北区",{"$f":"IF(BH138=\"☑\",TRUE)","v":false},{"$f":"\"さいたま市:\"&BI138","v":"さいたま市:北区"},{"$f":"IF(BJ138,BK138,\"\")","v":""},null,"□","蕨市",{"$f":"IF(BN138=\"☑\",TRUE)","v":false},{"$f":"\"南部地域:\"&BO138","v":"南部地域:蕨市"},{"$f":"IF(BP138,BQ138,\"\")","v":""},null,"□","志木市",{"$f":"IF(BT138=\"☑\",TRUE)","v":false},{"$f":"\"南西部地域:\"&BU138","v":"南西部地域:志木市"},{"$f":"IF(BV138,BW138,\"\")","v":""},null,"□","草加市",{"$f":"IF(BZ138=\"☑\",TRUE)","v":false},{"$f":"\"東部地域:\"&CA138","v":"東部地域:草加市"},"",null,"□","上尾市",{"$f":"IF(CF138=\"☑\",TRUE)","v":false},{"$f":"\"県央地域:\"&CG138","v":"県央地域:上尾市"},{"$f":"IF(CH138,CI138,\"\")","v":""},null,"□","東松山市",{"$f":"IF(CL138=\"☑\",TRUE)","v":false},{"$f":"\"川越比企地域:\"&CM138","v":"川越比企地域:東松山市"},{"$f":"IF(CN138,CO138,\"\")","v":""},null,"□","飯能市",{"$f":"IF(CR138=\"☑\",TRUE)","v":false},{"$f":"\"西部地域:\"&CS138","v":"西部地域:飯能市"},{"$f":"IF(CT138,CU138,\"\")","v":""},null,"□","加須市",{"$f":"IF(CX138=\"☑\",TRUE)","v":false},{"$f":"\"利根地域:\"&CY138","v":"利根地域:加須市"},{"$f":"IF(CZ138,DA138,\"\")","v":""},null,"□","本庄市",{"$f":"IF(DD138=\"☑\",TRUE)","v":false},{"$f":"\"北部地域:\"&DE138","v":"北部地域:本庄市"},{"$f":"IF(DF138,DG138,\"\")","v":""},null,"□","横瀬町",{"$f":"IF(DJ138=\"☑\",TRUE)","v":false},{"$f":"\"秩父地域:\"&DK138","v":"秩父地域:横瀬町"},{"$f":"IF(DL138,DM138,\"\")","v":""},null,null,null,null,null,null,null,null,null,null,null,null,null,null,"□","火曜日",{"$f":"IF(EC138=\"☑\",TRUE)","v":false},{"$f":"IF(EE138,ED138,\"\")","v":""},null,"□","午後（12:00～16：00）",{"$f":"IF(EH138=\"☑\",TRUE)","v":false},{"$f":"IF(EJ138,EI138,\"\")","v":""},null,null,null,null,"に基づき感染対策を実施している。",null,{"$f":"IF(EQ138,EP138,\"\")","v":""}]
[null,null,null,null,null,null,null,null,null,null,null,null,null,null,null,null,null,null,null,null,null,"□","買物代行",false,"","□","食材宅配",false,"","□","温泉・銭湯（送迎）",false,"","□","屋外作業・力仕事",false,"","□","カフェ・ファーストフード",false,"","□","休憩スペース",false,"","□","映画館",false,"","□","住宅・リフォーム",false,"",null,null,null,null,null,{"$f":"IF(BE139,BF139,\"\")","v":""},"□","大宮区",false,"さいたま市:大宮区","",null,"□","戸田市",{"$f":"IF(BN139=\"☑\",TRUE)","v":false},{"$f":"\"南部地域:\"&BO139","v":"南部地域:戸田市"},"",null,"□","和光市",false,"南西部地域:和光市","",null,"□","越谷市",false,"東部地域:越谷市","",null,"□","桶川市",{"$f":"IF(CF139=\"☑\",TRUE)","v":false},{"$f":"\"県央地域:\"&CG139","v":"県央地域:桶川市"},"",null,"□","坂戸市",false,"川越比企地域:坂戸市","",null,"□","狭山市",{"$f":"IF(CR139=\"☑\",TRUE)","v":false},{"$f":"\"西部地域:\"&CS139","v":"西部地域:狭山市"},"",null,"□","羽生市",false,"利根地域:羽生市","",null,"□","深谷市",false,"北部地域:深谷市","",null,"□","皆野町",{"$f":"IF(DJ139=\"☑\",TRUE)","v":false},{"$f":"\"秩父地域:\"&DK139","v":"秩父地域:皆野町"},"",null,null,null,null,null,null,null,null,null,null,null,null,null,null,"□","水曜日",false,"",null,"□","夕方(16:00～18:00)",{"$f":"IF(EH139=\"☑\",TRUE)","v":false},{"$f":"IF(EJ139,EI139,\"\")","v":""},null,null,null,"□","各種団体が定める業種別ガイドライン",{"$f":"IF(EO139=\"☑\",TRUE)","v":false},{"$f":"IF(EQ139,EP139,\"\")","v":""}]
[null,null,null,null,null,null,null,null,null,null,null,null,null,null,null,null,null,null,null,null,null,"□","移動販売",false,"","□","日用品配達",false,"","□","整体・マッサージ（送迎）",false,"","□","整体・マッサージ（出張）",false,"","□","飲食店",false,"","□","駐車場",false,"","□","カラオケ店",false,"","□","パソコン・スマートフォン",false,"",null,null,null,null,null,"","□","見沼区",false,"さいたま市:見沼区","",null,null,null,null,null,"",null,"□","新座市",false,"南西部地域:新座市","",null,"□","八潮市",false,"東部地域:八潮市","",null,"□","北本市",{"$f":"IF(CF140=\"☑\",TRUE)","v":false},{"$f":"\"県央地域:\"&CG140","v":"県央地域:北本市"},"",null,"□","鶴ヶ島市",false,"川越比企地域:鶴ヶ島市","",null,"□","入間市",{"$f":"IF(CR140=\"☑\",TRUE)","v":false},{"$f":"\"西部地域:\"&CS140","v":"西部地域:入間市"},"",null,"□","久喜市",false,"利根地域:久喜市","",null,"□","美里町",false,"北部地域:美里町","",null,"□","長瀞町",{"$f":"IF(DJ140=\"☑\",TRUE)","v":false},{"$f":"\"秩父地域:\"&DK140","v":"秩父地域:長瀞町"},"",null,null,null,null,null,null,null,null,null,null,null,null,null,null,"□","木曜日",false,"",null,"□","夜(18:00～）",{"$f":"IF(EH140=\"☑\",TRUE)","v":false},{"$f":"IF(EJ140,EI140,\"\")","v":""},null,null,null,null,"に基づき感染対策を実施している。"]
[null,null,null,null,null,null,null,null,null,null,null,null,null,null,null,null,null,null,null,null,null,"□","割引サービス",false,"","□","薬・介護用品配達",false,"","□","乗り合いサービス",false,"","□","理容室・美容室（出張）",false,"","□","イートインスペース",false,"","□","貸しスペース",false,"","□","麻雀・将棋・囲碁",false,"","□","認知症サポート企業",false,"",null,null,null,null,null,"","□","中央区",false,"さいたま市:中央区","",null,null,null,null,null,"",null,"□","富士見市",false,"南西部地域:富士見市","",null,"□","三郷市",false,"東部地域:三郷市","",null,"□","伊奈町",{"$f":"IF(CF141=\"☑\",TRUE)","v":false},{"$f":"\"県央地域:\"&CG141","v":"県央地域:伊奈町"},"",null,"□","毛呂山町",false,"川越比企地域:毛呂山町","",null,"□","日高市",{"$f":"IF(CR141=\"☑\",TRUE)","v":false},{"$f":"\"西部地域:\"&CS141","v":"西部地域:日高市"},"",null,"□","蓮田市",false,"利根地域:蓮田市","",null,"□","神川町",false,"北部地域:神川町","",null,"□","小鹿野町",{"$f":"IF(DJ141=\"☑\",TRUE)","v":false},{"$f":"\"秩父地域:\"&DK141","v":"秩父地域:小鹿野町"},"",null,null,null,null,null,null,null,null,null,null,null,null,null,null,"□","金曜日",false,"",null,null,null,null,null,null,null,null,"□","その他の感染対策を実施している。",{"$f":"IF(EO141=\"☑\",TRUE)","v":false},{"$f":"IF(EQ141,EP141,\"\")","v":""}]
[null,null,null,null,null,null,null,null,null,null,null,null,null,null,null,null,null,null,null,null,null,"□","その他（買物）",false,"","□","その他（宅配・デリバリー）",false,"","□","個別移送サービス",false,"","□","ペット",false,"","□","その他（運動・たまり場）",false,"","□","その他（設備・施設・場所貸し）",false,"","□","ゲームセンター",false,"","□","その他（生活サービス）",false,"",null,null,null,null,null,"","□","桜区",false,"さいたま市:桜区","",null,null,null,null,null,"",null,"□","ふじみ野市",false,"南西部地域:ふじみ野市","",null,"□","吉川市",false,"東部地域:吉川市","",null,null,null,null,null,"",null,"□","越生町",false,"川越比企地域:越生町","",null,null,null,null,null,"",null,"□","幸手市",false,"利根地域:幸手市","",null,"□","上里町",false,"北部地域:上里町","",null,null,null,null,null,"",null,null,null,null,null,null,null,null,null,null,null,null,null,null,"□","土曜日",false,"",null,null,null,null,null,null,null,null,"□","感染対策を特に実施していない。",{"$f":"IF(EO142=\"☑\",TRUE)","v":false},{"$f":"IF(EQ142,EP142,\"\")","v":""}]
[null,null,null,null,null,null,null,null,null,null,null,null,null,null,null,null,null,null,null,null,null,null,null,null,null,null,null,null,null,"□","交通機関サービス",false,"","□","その他（出張サービス）",false,"",null,null,null,null,null,null,null,null,"□","旅行代理店",false,"",null,null,null,null,null,null,null,null,null,"","□","浦和区",false,"さいたま市:浦和区","",null,null,null,null,null,"",null,"□","三芳町",false,"南西部地域:三芳町","",null,"□","松伏町",false,"東部地域:松伏町","",null,null,null,null,null,"",null,"□","滑川町",false,"川越比企地域:滑川町","",null,null,null,null,null,"",null,"□","白岡市",false,"利根地域:白岡市","",null,"□","寄居町",false,"北部地域:寄居町","",null,null,null,null,null,"",null,null,null,null,null,null,null,null,null,null,null,null,null,null,"□","日曜日",false,""]
[null,null,null,null,null,null,null,null,null,null,null,null,null,null,null,null,null,null,null,null,null,null,null,null,null,null,null,null,null,"□","その他（送迎・移動支援）",false,"",null,null,null,"",null,null,null,{"$f":"IF(AN144,AM144,\"\")","v":""},null,null,null,{"$f":"IF(AR144,AQ144,\"\")","v":""},"□","その他（学び・趣味）",false,"",null,null,null,null,null,null,null,null,null,"","□","南区",false,"さいたま市:南区","",null,null,null,null,null,"",null,null,null,null,null,"",null,null,null,null,null,"",null,null,null,null,null,"",null,"□","嵐山町",false,"川越比企地域:嵐山町","",null,null,null,null,null,"",null,"□","宮代町",false,"利根地域:宮代町","",null,null,null,null,null,"",null,null,null,null,null,""]
[null,null,null,null,null,null,null,null,null,null,null,null,null,null,null,null,null,null,null,null,null,null,null,null,null,null,null,null,null,null,null,null,null,null,null,null,null,null,null,null,null,null,null,null,null,null,null,null,null,null,null,null,null,null,null,null,null,null,"","□","緑区",false,"さいたま市:緑区","",null,null,null,null,null,"",null,null,null,null,null,"",null,null,null,null,null,"",null,null,null,null,null,"",null,"□","小川町",false,"川越比企地域:小川町","",null,null,null,null,null,"",null,"□","杉戸町",false,"利根地域:杉戸町","",null,null,null,null,null,"",null,null,null,null,null,""]
[null,null,null,null,null,null,null,null,null,null,null,null,null,null,null,null,null,null,null,null,null,null,null,null,null,null,null,null,null,null,null,null,null,null,null,null,null,null,null,null,null,null,null,null,null,null,null,null,null,null,null,null,null,null,null,null,null,null,"","□","岩槻区",{"$f":"IF(BH146=\"☑\",TRUE)","v":false},"さいたま市:岩槻区","",null,null,null,null,null,"",null,null,null,null,null,"",null,null,null,null,null,"",null,null,null,null,null,"",null,"□","川島町",false,"川越比企地域:川島町","",null,null,null,null,null,"",null,null,null,null,null,"",null,null,null,null,null,"",null,null,null,null,null,""]
[null,null,null,null,null,null,null,null,null,null,null,null,null,null,null,null,null,null,null,null,null,null,null,null,null,null,null,null,null,null,null,null,null,null,null,null,null,null,null,null,null,null,null,null,null,null,null,null,null,null,null,null,null,null,null,null,null,null,"",null,null,null,null,null,null,null,null,null,null,null,null,null,null,null,null,null,null,null,null,null,null,null,null,null,null,null,null,null,null,"□","吉見町",false,"川越比企地域:吉見町","",null,null,null,null,null,"",null,null,null,null,null,"",null,null,null,null,null,"",null,null,null,null,null,""]
[null,null,null,null,null,null,null,null,null,null,null,null,null,null,null,null,null,null,null,null,null,null,null,null,null,null,null,null,null,null,null,null,null,null,null,null,null,null,null,null,null,null,null,null,null,null,null,null,null,null,null,null,null,null,null,null,null,null,"",null,null,null,null,null,null,null,null,null,null,null,null,null,null,null,null,null,null,null,null,null,null,null,null,null,null,null,null,null,null,"□","鳩山町",false,"川越比企地域:鳩山町","",null,null,null,null,null,"",null,null,null,null,null,"",null,null,null,null,null,"",null,null,null,null,null,""]
[null,null,null,null,null,null,null,null,null,null,null,null,null,null,null,null,null,null,null,null,null,null,null,null,null,null,null,null,null,null,null,null,null,null,null,null,null,null,null,null,null,null,null,null,null,null,null,null,null,null,null,null,null,null,null,null,null,null,"",null,null,null,null,null,null,null,null,null,null,null,null,null,null,null,null,null,null,null,null,null,null,null,null,null,null,null,null,null,null,"□","ときがわ町",false,"川越比企地域:ときがわ町","",null,null,null,null,null,"",null,null,null,null,null,"",null,null,null,null,null,"",null,null,null,null,null,""]
[null,null,null,null,null,null,null,null,null,null,null,null,null,null,null,null,null,null,null,null,null,null,null,null,null,null,null,null,null,null,null,null,null,null,null,null,null,null,null,null,null,null,null,null,null,null,null,null,null,null,null,null,null,null,null,null,null,null,"",null,null,null,null,null,null,null,null,null,null,null,null,null,null,null,null,null,null,null,null,null,null,null,null,null,null,null,null,null,null,"□","東秩父村",false,"川越比企地域:東秩父村","",null,null,null,null,null,"",null,null,null,null,null,"",null,null,null,null,null,"",null,null,null,null,null,""]
[10,null,null,null,null,null,null,null,null,null,null,null,null,null,null,null,null,null,null,null,null,"□","配送",{"$f":"IF(V151=\"☑\",TRUE)","v":false},{"$f":"IF(X151,W151,\"\")","v":""},"□","弁当配達",{"$f":"IF(Z151=\"☑\",TRUE)","v":false},{"$f":"IF(AB151,AA151,\"\")","v":""},"□","理容室・美容室（送迎）",{"$f":"IF(AD151=\"☑\",TRUE)","v":false},{"$f":"IF(AF151,AE151,\"\")","v":""},"□","家事代行",{"$f":"IF(AH151=\"☑\",TRUE)","v":false},{"$f":"IF(AJ151,AI151,\"\")","v":""},"□","フィットネス・ジム（運動）",{"$f":"IF(AL151=\"☑\",TRUE)","v":false},{"$f":"IF(AN151,AM151,\"\")","v":""},"□","車イス対応（バリアフリー）",{"$f":"IF(AP151=\"☑\",TRUE)","v":false},{"$f":"IF(AR151,AQ151,\"\")","v":""},"□","講座・教室・イベント",{"$f":"IF(AT151=\"☑\",TRUE)","v":false},{"$f":"IF(AV151,AU151,\"\")","v":""},"□","防犯・見守り",{"$f":"IF(AX151=\"☑\",TRUE)","v":false},{"$f":"IF(AZ151,AY151,\"\")","v":""},{"$f":"_xludf.TEXTJOIN(\",\",TRUE,Y151:Y164,AC151:AC164,AG151:AG164,AK151:AK164,AO151:AO164,AS151:AS164,AW151:AW164,BA151:BA164)","v":""},"□","埼玉県全域",{"$f":"IF(BC151=\"☑\",TRUE)","v":false},"さいたま市:西区,さいたま市:北区,さいたま市:大宮区,さいたま市:見沼区,さいたま市:中央区,さいたま市:桜区,さいたま市:浦和区,さいたま市:南区,さいたま市:緑区,さいたま市:岩槻区,南部地域:川口市,南部地域:蕨市,南部地域:戸田市,南西部地域:朝霞市,南西部地域:志木市,南西部地域:和光市,南西部地域:新座市,南西部地域:富士見市,南西部地域:ふじみ野市,南西部地域:三芳町,東部地域:春日部市,東部地域:草加市,東部地域:越谷市,東部地域:八潮市,東部地域:三郷市,東部地域:吉川市,東部地域:松伏町,県央地域:鴻巣市,県央地域:上尾市,県央地域:桶川市,県央地域:北本市,県央地域:伊奈町,川越比企地域:川越市,川越比企地域:東松山市,川越比企地域:坂戸市,川越比企地域:鶴ヶ島市,川越比企地域:毛呂山町,川越比企地域:越生町,川越比企地域:滑川町,川越比企地域:嵐山町,川越比企地域:小川町,川越比企地域:川島町,川越比企地域:吉見町,川越比企地域:鳩山町,川越比企地域:ときがわ町,川越比企地域:東秩父村,西部地域:所沢市,西部地域:飯能市,西部地域:狭山市,西部地域:入間市,西部地域:日高市,利根地域:行田市,利根地域:加須市,利根地域:羽生市,利根地域:久喜市,利根地域:蓮田市,利根地域:幸手市,利根地域:白岡市,利根地域:宮代町,利根地域:杉戸町,北部地域:熊谷市,北部地域:本庄市,北部地域:深谷市,北部地域:美里町,北部地域:神川町,北部地域:上里町,北部地域:寄居町,秩父地域:秩父市,秩父地域:横瀬町,秩父地域:皆野町,秩父地域:長瀞町,秩父地域:小鹿野町","","□","西区",{"$f":"IF(BH151=\"☑\",TRUE)","v":false},{"$f":"\"さいたま市:\"&BI151","v":"さいたま市:西区"},{"$f":"IF(BJ151,BK151,\"\")","v":""},{"$f":"_xludf.TEXTJOIN(\",\",TRUE,BL151:BL164)","v":""},"□","川口市",{"$f":"IF(BN151=\"☑\",TRUE)","v":false},{"$f":"\"南部地域:\"&BO151","v":"南部地域:川口市"},{"$f":"IF(BP151,BQ151,\"\")","v":""},{"$f":"_xludf.TEXTJOIN(\",\",TRUE,BR151:BR164)","v":""},"□","朝霞市",{"$f":"IF(BT151=\"☑\",TRUE)","v":false},{"$f":"\"南西部地域:\"&BU151","v":"南西部地域:朝霞市"},{"$f":"IF(BV151,BW151,\"\")","v":""},{"$f":"_xludf.TEXTJOIN(\",\",TRUE,BX151:BX164)","v":""},"□","春日部市",{"$f":"IF(BZ151=\"☑\",TRUE)","v":false},{"$f":"\"東部地域:\"&CA151","v":"東部地域:春日部市"},{"$f":"IF(CB151,CC151,\"\")","v":""},{"$f":"_xludf.TEXTJOIN(\",\",TRUE,CD151:CD164)","v":""},"□","鴻巣市",{"$f":"IF(CF151=\"☑\",TRUE)","v":false},{"$f":"\"県央地域:\"&CG151","v":"県央地域:鴻巣市"},{"$f":"IF(CH151,CI151,\"\")","v":""},{"$f":"_xludf.TEXTJOIN(\",\",TRUE,CJ151:CJ164)","v":""},"□","川越市",{"$f":"IF(CL151=\"☑\",TRUE)","v":false},{"$f":"\"川越比企地域:\"&CM151","v":"川越比企地域:川越市"},{"$f":"IF(CN151,CO151,\"\")","v":""},{"$f":"_xludf.TEXTJOIN(\",\",TRUE,CP151:CP164)","v":""},"□","所沢市",{"$f":"IF(CR151=\"☑\",TRUE)","v":false},{"$f":"\"西部地域:\"&CS151","v":"西部地域:所沢市"},{"$f":"IF(CT151,CU151,\"\")","v":""},{"$f":"_xludf.TEXTJOIN(\",\",TRUE,CV151:CV164)","v":""},"□","行田市",{"$f":"IF(CX151=\"☑\",TRUE)","v":false},{"$f":"\"利根地域:\"&CY151","v":"利根地域:行田市"},{"$f":"IF(CZ151,DA151,\"\")","v":""},{"$f":"_xludf.TEXTJOIN(\",\",TRUE,DB151:DB164)","v":""},"□","熊谷市",{"$f":"IF(DD151=\"☑\",TRUE)","v":false},{"$f":"\"北部地域:\"&DE151","v":"北部地域:熊谷市"},{"$f":"IF(DF151,DG151,\"\")","v":""},{"$f":"_xludf.TEXTJOIN(\",\",TRUE,DH151:DH164)","v":""},"□","秩父市",{"$f":"IF(DJ151=\"☑\",TRUE)","v":false},{"$f":"\"秩父地域:\"&DK151","v":"秩父地域:秩父市"},{"$f":"IF(DL151,DM151,\"\")","v":""},{"$f":"_xludf.TEXTJOIN(\",\",TRUE,DN151:DN164)","v":""},{"$f":"_xludf.TEXTJOIN(\",\",TRUE,BG151,BM151,BS151,BY151,CE151,CK151,CQ151,CW151,DC151,DI151,DO151)","v":""},null,null,null,null,null,null,null,null,null,null,null,null,"□","月曜日",{"$f":"IF(EC151=\"☑\",TRUE)","v":false},{"$f":"IF(EE151,ED151,\"\")","v":""},{"$f":"_xludf.TEXTJOIN(\",\",TRUE,EF151:EF164)","v":""},"□","午前（～12:00）",{"$f":"IF(EH151=\"☑\",TRUE)","v":false},{"$f":"IF(EJ151,EI151,\"\")","v":""},{"$f":"_xludf.TEXTJOIN(\",\",TRUE,EK151:EK164)","v":""},null,null,"□","彩の国「新しい生活様式」安心宣言",{"$f":"IF(EO151=\"☑\",TRUE)","v":false},{"$f":"IF(EQ151,EP151,\"\")","v":""},{"$f":"_xludf.TEXTJOIN(\",\",TRUE,ER151:ER164)","v":""},null,"",null,"",null,"",null,"",null,"",null,"",null,"",null,""]
[null,null,null,null,null,null,null,null,null,null,null,null,null,null,null,null,null,null,null,null,null,"□","買物サポート",false,"","□","料理デリバリー（出前）",false,"","□","フィットネス・ジム（送迎）",{"$f":"IF(AD152=\"☑\",TRUE)","v":false},{"$f":"IF(AF152,AE152,\"\")","v":""},"□","出張料理",{"$f":"IF(AH152=\"☑\",TRUE)","v":false},{"$f":"IF(AJ152,AI152,\"\")","v":""},"□","温泉・銭湯（たまり場）",false,"","□","多目的トイレ",false,"","□","習い事",{"$f":"IF(AT152=\"☑\",TRUE)","v":false},{"$f":"IF(AV152,AU152,\"\")","v":""},"□","金融・保険",false,"",null,null,null,null,null,"","□","北区",{"$f":"IF(BH152=\"☑\",TRUE)","v":false},{"$f":"\"さいたま市:\"&BI152","v":"さいたま市:北区"},{"$f":"IF(BJ152,BK152,\"\")","v":""},null,"□","蕨市",{"$f":"IF(BN152=\"☑\",TRUE)","v":false},{"$f":"\"南部地域:\"&BO152","v":"南部地域:蕨市"},{"$f":"IF(BP152,BQ152,\"\")","v":""},null,"□","志木市",{"$f":"IF(BT152=\"☑\",TRUE)","v":false},{"$f":"\"南西部地域:\"&BU152","v":"南西部地域:志木市"},{"$f":"IF(BV152,BW152,\"\")","v":""},null,"□","草加市",{"$f":"IF(BZ152=\"☑\",TRUE)","v":false},{"$f":"\"東部地域:\"&CA152","v":"東部地域:草加市"},"",null,"□","上尾市",{"$f":"IF(CF152=\"☑\",TRUE)","v":false},{"$f":"\"県央地域:\"&CG152","v":"県央地域:上尾市"},{"$f":"IF(CH152,CI152,\"\")","v":""},null,"□","東松山市",{"$f":"IF(CL152=\"☑\",TRUE)","v":false},{"$f":"\"川越比企地域:\"&CM152","v":"川越比企地域:東松山市"},{"$f":"IF(CN152,CO152,\"\")","v":""},null,"□","飯能市",{"$f":"IF(CR152=\"☑\",TRUE)","v":false},{"$f":"\"西部地域:\"&CS152","v":"西部地域:飯能市"},{"$f":"IF(CT152,CU152,\"\")","v":""},null,"□","加須市",{"$f":"IF(CX152=\"☑\",TRUE)","v":false},{"$f":"\"利根地域:\"&CY152","v":"利根地域:加須市"},{"$f":"IF(CZ152,DA152,\"\")","v":""},null,"□","本庄市",{"$f":"IF(DD152=\"☑\",TRUE)","v":false},{"$f":"\"北部地域:\"&DE152","v":"北部地域:本庄市"},{"$f":"IF(DF152,DG152,\"\")","v":""},null,"□","横瀬町",{"$f":"IF(DJ152=\"☑\",TRUE)","v":false},{"$f":"\"秩父地域:\"&DK152","v":"秩父地域:横瀬町"},{"$f":"IF(DL152,DM152,\"\")","v":""},null,null,null,null,null,null,null,null,null,null,null,null,null,null,"□","火曜日",{"$f":"IF(EC152=\"☑\",TRUE)","v":false},{"$f":"IF(EE152,ED152,\"\")","v":""},null,"□","午後（12:00～16：00）",{"$f":"IF(EH152=\"☑\",TRUE)","v":false},{"$f":"IF(EJ152,EI152,\"\")","v":""},null,null,null,null,"に基づき感染対策を実施している。",null,{"$f":"IF(EQ152,EP152,\"\")","v":""}]
[null,null,null,null,null,null,null,null,null,null,null,null,null,null,null,null,null,null,null,null,null,"□","買物代行",false,"","□","食材宅配",false,"","□","温泉・銭湯（送迎）",false,"","□","屋外作業・力仕事",false,"","□","カフェ・ファーストフード",false,"","□","休憩スペース",false,"","□","映画館",false,"","□","住宅・リフォーム",false,"",null,null,null,null,null,"","□","大宮区",false,"さいたま市:大宮区","",null,"□","戸田市",{"$f":"IF(BN153=\"☑\",TRUE)","v":false},{"$f":"\"南部地域:\"&BO153","v":"南部地域:戸田市"},"",null,"□","和光市",false,"南西部地域:和光市","",null,"□","越谷市",false,"東部地域:越谷市","",null,"□","桶川市",{"$f":"IF(CF153=\"☑\",TRUE)","v":false},{"$f":"\"県央地域:\"&CG153","v":"県央地域:桶川市"},"",null,"□","坂戸市",false,"川越比企地域:坂戸市","",null,"□","狭山市",{"$f":"IF(CR153=\"☑\",TRUE)","v":false},{"$f":"\"西部地域:\"&CS153","v":"西部地域:狭山市"},"",null,"□","羽生市",false,"利根地域:羽生市","",null,"□","深谷市",false,"北部地域:深谷市","",null,"□","皆野町",{"$f":"IF(DJ153=\"☑\",TRUE)","v":false},{"$f":"\"秩父地域:\"&DK153","v":"秩父地域:皆野町"},"",null,null,null,null,null,null,null,null,null,null,null,null,null,null,"□","水曜日",false,"",null,"□","夕方(16:00～18:00)",{"$f":"IF(EH153=\"☑\",TRUE)","v":false},{"$f":"IF(EJ153,EI153,\"\")","v":""},null,null,null,"□","各種団体が定める業種別ガイドライン",{"$f":"IF(EO153=\"☑\",TRUE)","v":false},{"$f":"IF(EQ153,EP153,\"\")","v":""}]
[null,null,null,null,null,null,null,null,null,null,null,null,null,null,null,null,null,null,null,null,null,"□","移動販売",false,"","□","日用品配達",false,"","□","整体・マッサージ（送迎）",false,"","□","整体・マッサージ（出張）",false,"","□","飲食店",false,"","□","駐車場",false,"","□","カラオケ店",false,"","□","パソコン・スマートフォン",false,"",null,null,null,null,null,"","□","見沼区",false,"さいたま市:見沼区","",null,null,null,null,null,"",null,"□","新座市",false,"南西部地域:新座市","",null,"□","八潮市",false,"東部地域:八潮市","",null,"□","北本市",{"$f":"IF(CF154=\"☑\",TRUE)","v":false},{"$f":"\"県央地域:\"&CG154","v":"県央地域:北本市"},"",null,"□","鶴ヶ島市",false,"川越比企地域:鶴ヶ島市","",null,"□","入間市",{"$f":"IF(CR154=\"☑\",TRUE)","v":false},{"$f":"\"西部地域:\"&CS154","v":"西部地域:入間市"},"",null,"□","久喜市",false,"利根地域:久喜市","",null,"□","美里町",false,"北部地域:美里町","",null,"□","長瀞町",{"$f":"IF(DJ154=\"☑\",TRUE)","v":false},{"$f":"\"秩父地域:\"&DK154","v":"秩父地域:長瀞町"},"",null,null,null,null,null,null,null,null,null,null,null,null,null,null,"□","木曜日",false,"",null,"□","夜(18:00～）",{"$f":"IF(EH154=\"☑\",TRUE)","v":false},{"$f":"IF(EJ154,EI154,\"\")","v":""},null,null,null,null,"に基づき感染対策を実施している。"]
[null,null,null,null,null,null,null,null,null,null,null,null,null,null,null,null,null,null,null,null,null,"□","割引サービス",false,"","□","薬・介護用品配達",false,"","□","乗り合いサービス",false,"","□","理容室・美容室（出張）",false,"","□","イートインスペース",false,"","□","貸しスペース",false,"","□","麻雀・将棋・囲碁",false,"","□","認知症サポート企業",false,"",null,null,null,null,null,"","□","中央区",false,"さいたま市:中央区","",null,null,null,null,null,"",null,"□","富士見市",false,"南西部地域:富士見市","",null,"□","三郷市",false,"東部地域:三郷市","",null,"□","伊奈町",{"$f":"IF(CF155=\"☑\",TRUE)","v":false},{"$f":"\"県央地域:\"&CG155","v":"県央地域:伊奈町"},"",null,"□","毛呂山町",false,"川越比企地域:毛呂山町","",null,"□","日高市",{"$f":"IF(CR155=\"☑\",TRUE)","v":false},{"$f":"\"西部地域:\"&CS155","v":"西部地域:日高市"},"",null,"□","蓮田市",false,"利根地域:蓮田市","",null,"□","神川町",false,"北部地域:神川町","",null,"□","小鹿野町",{"$f":"IF(DJ155=\"☑\",TRUE)","v":false},{"$f":"\"秩父地域:\"&DK155","v":"秩父地域:小鹿野町"},"",null,null,null,null,null,null,null,null,null,null,null,null,null,null,"□","金曜日",false,"",null,null,null,null,null,null,null,null,"□","その他の感染対策を実施している。",{"$f":"IF(EO155=\"☑\",TRUE)","v":false},{"$f":"IF(EQ155,EP155,\"\")","v":""}]
[null,null,null,null,null,null,null,null,null,null,null,null,null,null,null,null,null,null,null,null,null,"□","その他（買物）",false,"","□","その他（宅配・デリバリー）",false,"","□","個別移送サービス",false,"","□","ペット",false,"","□","その他（運動・たまり場）",false,"","□","その他（設備・施設・場所貸し）",false,"","□","ゲームセンター",false,"","□","その他（生活サービス）",false,"",null,null,null,null,null,"","□","桜区",false,"さいたま市:桜区","",null,null,null,null,null,"",null,"□","ふじみ野市",false,"南西部地域:ふじみ野市","",null,"□","吉川市",false,"東部地域:吉川市","",null,null,null,null,null,"",null,"□","越生町",false,"川越比企地域:越生町","",null,null,null,null,null,"",null,"□","幸手市",false,"利根地域:幸手市","",null,"□","上里町",false,"北部地域:上里町","",null,null,null,null,null,"",null,null,null,null,null,null,null,null,null,null,null,null,null,null,"□","土曜日",false,"",null,null,null,null,null,null,null,null,"□","感染対策を特に実施していない。",{"$f":"IF(EO156=\"☑\",TRUE)","v":false},{"$f":"IF(EQ156,EP156,\"\")","v":""}]
[null,null,null,null,null,null,null,null,null,null,null,null,null,null,null,null,null,null,null,null,null,null,null,null,null,null,null,null,null,"□","交通機関サービス",false,"","□","その他（出張サービス）",false,"",null,null,null,null,null,null,null,null,"□","旅行代理店",false,"",null,null,null,null,null,null,null,null,null,"","□","浦和区",false,"さいたま市:浦和区","",null,null,null,null,null,"",null,"□","三芳町",false,"南西部地域:三芳町","",null,"□","松伏町",false,"東部地域:松伏町","",null,null,null,null,null,"",null,"□","滑川町",false,"川越比企地域:滑川町","",null,null,null,null,null,"",null,"□","白岡市",false,"利根地域:白岡市","",null,"□","寄居町",false,"北部地域:寄居町","",null,null,null,null,null,"",null,null,null,null,null,null,null,null,null,null,null,null,null,null,"□","日曜日",false,""]
[null,null,null,null,null,null,null,null,null,null,null,null,null,null,null,null,null,null,null,null,null,null,null,null,null,null,null,null,null,"□","その他（送迎・移動支援）",false,"",null,null,null,"",null,null,null,{"$f":"IF(AN158,AM158,\"\")","v":""},null,null,null,{"$f":"IF(AR158,AQ158,\"\")","v":""},"□","その他（学び・趣味）",false,"",null,null,null,null,null,null,null,null,null,"","□","南区",false,"さいたま市:南区","",null,null,null,null,null,"",null,null,null,null,null,"",null,null,null,null,null,"",null,null,null,null,null,"",null,"□","嵐山町",false,"川越比企地域:嵐山町","",null,null,null,null,null,"",null,"□","宮代町",false,"利根地域:宮代町","",null,null,null,null,null,"",null,null,null,null,null,""]
[null,null,null,null,null,null,null,null,null,null,null,null,null,null,null,null,null,null,null,null,null,null,null,null,null,null,null,null,null,null,null,null,null,null,null,null,null,null,null,null,null,null,null,null,null,null,null,null,null,null,null,null,null,null,null,null,null,null,"","□","緑区",false,"さいたま市:緑区","",null,null,null,null,null,"",null,null,null,null,null,"",null,null,null,null,null,"",null,null,null,null,null,"",null,"□","小川町",false,"川越比企地域:小川町","",null,null,null,null,null,"",null,"□","杉戸町",false,"利根地域:杉戸町","",null,null,null,null,null,"",null,null,null,null,null,""]
[null,null,null,null,null,null,null,null,null,null,null,null,null,null,null,null,null,null,null,null,null,null,null,null,null,null,null,null,null,null,null,null,null,null,null,null,null,null,null,null,null,null,null,null,null,null,null,null,null,null,null,null,null,null,null,null,null,null,"","□","岩槻区",{"$f":"IF(BH160=\"☑\",TRUE)","v":false},"さいたま市:岩槻区","",null,null,null,null,null,"",null,null,null,null,null,"",null,null,null,null,null,"",null,null,null,null,null,"",null,"□","川島町",false,"川越比企地域:川島町","",null,null,null,null,null,"",null,null,null,null,null,"",null,null,null,null,null,"",null,null,null,null,null,""]
[null,null,null,null,null,null,null,null,null,null,null,null,null,null,null,null,null,null,null,null,null,null,null,null,null,null,null,null,null,null,null,null,null,null,null,null,null,null,null,null,null,null,null,null,null,null,null,null,null,null,null,null,null,null,null,null,null,null,"",null,null,null,null,null,null,null,null,null,null,null,null,null,null,null,null,null,null,null,null,null,null,null,null,null,null,null,null,null,null,"□","吉見町",false,"川越比企地域:吉見町","",null,null,null,null,null,"",null,null,null,null,null,"",null,null,null,null,null,"",null,null,null,null,null,""]
[null,null,null,null,null,null,null,null,null,null,null,null,null,null,null,null,null,null,null,null,null,null,null,null,null,null,null,null,null,null,null,null,null,null,null,null,null,null,null,null,null,null,null,null,null,null,null,null,null,null,null,null,null,null,null,null,null,null,"",null,null,null,null,null,null,null,null,null,null,null,null,null,null,null,null,null,null,null,null,null,null,null,null,null,null,null,null,null,null,"□","鳩山町",false,"川越比企地域:鳩山町","",null,null,null,null,null,"",null,null,null,null,null,"",null,null,null,null,null,"",null,null,null,null,null,""]
[null,null,null,null,null,null,null,null,null,null,null,null,null,null,null,null,null,null,null,null,null,null,null,null,null,null,null,null,null,null,null,null,null,null,null,null,null,null,null,null,null,null,null,null,null,null,null,null,null,null,null,null,null,null,null,null,null,null,"",null,null,null,null,null,null,null,null,null,null,null,null,null,null,null,null,null,null,null,null,null,null,null,null,null,null,null,null,null,null,"□","ときがわ町",false,"川越比企地域:ときがわ町","",null,null,null,null,null,"",null,null,null,null,null,"",null,null,null,null,null,"",null,null,null,null,null,""]
[null,null,null,null,null,null,null,null,null,null,null,null,null,null,null,null,null,null,null,null,null,null,null,null,null,null,null,null,null,null,null,null,null,null,null,null,null,null,null,null,null,null,null,null,null,null,null,null,null,null,null,null,null,null,null,null,null,null,"",null,null,null,null,null,null,null,null,null,null,null,null,null,null,null,null,null,null,null,null,null,null,null,null,null,null,null,null,null,null,"□","東秩父村",false,"川越比企地域:東秩父村","",null,null,null,null,null,"",null,null,null,null,null,"",null,null,null,null,null,"",null,null,null,null,null,""]
[11,null,null,null,null,null,null,null,null,null,null,null,null,null,null,null,null,null,null,null,null,"□","配送",{"$f":"IF(V165=\"☑\",TRUE)","v":false},{"$f":"IF(X165,W165,\"\")","v":""},"□","弁当配達",{"$f":"IF(Z165=\"☑\",TRUE)","v":false},{"$f":"IF(AB165,AA165,\"\")","v":""},"□","理容室・美容室（送迎）",{"$f":"IF(AD165=\"☑\",TRUE)","v":false},{"$f":"IF(AF165,AE165,\"\")","v":""},"□","家事代行",{"$f":"IF(AH165=\"☑\",TRUE)","v":false},{"$f":"IF(AJ165,AI165,\"\")","v":""},"□","フィットネス・ジム（運動）",{"$f":"IF(AL165=\"☑\",TRUE)","v":false},{"$f":"IF(AN165,AM165,\"\")","v":""},"□","車イス対応（バリアフリー）",{"$f":"IF(AP165=\"☑\",TRUE)","v":false},{"$f":"IF(AR165,AQ165,\"\")","v":""},"□","講座・教室・イベント",{"$f":"IF(AT165=\"☑\",TRUE)","v":false},{"$f":"IF(AV165,AU165,\"\")","v":""},"□","防犯・見守り",{"$f":"IF(AX165=\"☑\",TRUE)","v":false},{"$f":"IF(AZ165,AY165,\"\")","v":""},{"$f":"_xludf.TEXTJOIN(\",\",TRUE,Y165:Y178,AC165:AC178,AG165:AG178,AK165:AK178,AO165:AO178,AS165:AS178,AW165:AW178,BA165:BA178)","v":""},"□","埼玉県全域",{"$f":"IF(BC165=\"☑\",TRUE)","v":false},"さいたま市:西区,さいたま市:北区,さいたま市:大宮区,さいたま市:見沼区,さいたま市:中央区,さいたま市:桜区,さいたま市:浦和区,さいたま市:南区,さいたま市:緑区,さいたま市:岩槻区,南部地域:川口市,南部地域:蕨市,南部地域:戸田市,南西部地域:朝霞市,南西部地域:志木市,南西部地域:和光市,南西部地域:新座市,南西部地域:富士見市,南西部地域:ふじみ野市,南西部地域:三芳町,東部地域:春日部市,東部地域:草加市,東部地域:越谷市,東部地域:八潮市,東部地域:三郷市,東部地域:吉川市,東部地域:松伏町,県央地域:鴻巣市,県央地域:上尾市,県央地域:桶川市,県央地域:北本市,県央地域:伊奈町,川越比企地域:川越市,川越比企地域:東松山市,川越比企地域:坂戸市,川越比企地域:鶴ヶ島市,川越比企地域:毛呂山町,川越比企地域:越生町,川越比企地域:滑川町,川越比企地域:嵐山町,川越比企地域:小川町,川越比企地域:川島町,川越比企地域:吉見町,川越比企地域:鳩山町,川越比企地域:ときがわ町,川越比企地域:東秩父村,西部地域:所沢市,西部地域:飯能市,西部地域:狭山市,西部地域:入間市,西部地域:日高市,利根地域:行田市,利根地域:加須市,利根地域:羽生市,利根地域:久喜市,利根地域:蓮田市,利根地域:幸手市,利根地域:白岡市,利根地域:宮代町,利根地域:杉戸町,北部地域:熊谷市,北部地域:本庄市,北部地域:深谷市,北部地域:美里町,北部地域:神川町,北部地域:上里町,北部地域:寄居町,秩父地域:秩父市,秩父地域:横瀬町,秩父地域:皆野町,秩父地域:長瀞町,秩父地域:小鹿野町","","□","西区",{"$f":"IF(BH165=\"☑\",TRUE)","v":false},{"$f":"\"さいたま市:\"&BI165","v":"さいたま市:西区"},{"$f":"IF(BJ165,BK165,\"\")","v":""},{"$f":"_xludf.TEXTJOIN(\",\",TRUE,BL165:BL178)","v":""},"□","川口市",{"$f":"IF(BN165=\"☑\",TRUE)","v":false},{"$f":"\"南部地域:\"&BO165","v":"南部地域:川口市"},{"$f":"IF(BP165,BQ165,\"\")","v":""},{"$f":"_xludf.TEXTJOIN(\",\",TRUE,BR165:BR178)","v":""},"□","朝霞市",{"$f":"IF(BT165=\"☑\",TRUE)","v":false},{"$f":"\"南西部地域:\"&BU165","v":"南西部地域:朝霞市"},{"$f":"IF(BV165,BW165,\"\")","v":""},{"$f":"_xludf.TEXTJOIN(\",\",TRUE,BX165:BX178)","v":""},"□","春日部市",{"$f":"IF(BZ165=\"☑\",TRUE)","v":false},{"$f":"\"東部地域:\"&CA165","v":"東部地域:春日部市"},{"$f":"IF(CB165,CC165,\"\")","v":""},{"$f":"_xludf.TEXTJOIN(\",\",TRUE,CD165:CD178)","v":""},"□","鴻巣市",{"$f":"IF(CF165=\"☑\",TRUE)","v":false},{"$f":"\"県央地域:\"&CG165","v":"県央地域:鴻巣市"},{"$f":"IF(CH165,CI165,\"\")","v":""},{"$f":"_xludf.TEXTJOIN(\",\",TRUE,CJ165:CJ178)","v":""},"□","川越市",{"$f":"IF(CL165=\"☑\",TRUE)","v":false},{"$f":"\"川越比企地域:\"&CM165","v":"川越比企地域:川越市"},{"$f":"IF(CN165,CO165,\"\")","v":""},{"$f":"_xludf.TEXTJOIN(\",\",TRUE,CP165:CP178)","v":""},"□","所沢市",{"$f":"IF(CR165=\"☑\",TRUE)","v":false},{"$f":"\"西部地域:\"&CS165","v":"西部地域:所沢市"},{"$f":"IF(CT165,CU165,\"\")","v":""},{"$f":"_xludf.TEXTJOIN(\",\",TRUE,CV165:CV178)","v":""},"□","行田市",{"$f":"IF(CX165=\"☑\",TRUE)","v":false},{"$f":"\"利根地域:\"&CY165","v":"利根地域:行田市"},{"$f":"IF(CZ165,DA165,\"\")","v":""},{"$f":"_xludf.TEXTJOIN(\",\",TRUE,DB165:DB178)","v":""},"□","熊谷市",{"$f":"IF(DD165=\"☑\",TRUE)","v":false},{"$f":"\"北部地域:\"&DE165","v":"北部地域:熊谷市"},{"$f":"IF(DF165,DG165,\"\")","v":""},{"$f":"_xludf.TEXTJOIN(\",\",TRUE,DH165:DH178)","v":""},"□","秩父市",{"$f":"IF(DJ165=\"☑\",TRUE)","v":false},{"$f":"\"秩父地域:\"&DK165","v":"秩父地域:秩父市"},{"$f":"IF(DL165,DM165,\"\")","v":""},{"$f":"_xludf.TEXTJOIN(\",\",TRUE,DN165:DN178)","v":""},{"$f":"_xludf.TEXTJOIN(\",\",TRUE,BG165,BM165,BS165,BY165,CE165,CK165,CQ165,CW165,DC165,DI165,DO165)","v":""},null,null,null,null,null,null,null,null,null,null,null,null,"□","月曜日",{"$f":"IF(EC165=\"☑\",TRUE)","v":false},{"$f":"IF(EE165,ED165,\"\")","v":""},{"$f":"_xludf.TEXTJOIN(\",\",TRUE,EF165:EF178)","v":""},"□","午前（～12:00）",{"$f":"IF(EH165=\"☑\",TRUE)","v":false},{"$f":"IF(EJ165,EI165,\"\")","v":""},{"$f":"_xludf.TEXTJOIN(\",\",TRUE,EK165:EK178)","v":""},null,null,"□","彩の国「新しい生活様式」安心宣言",{"$f":"IF(EO165=\"☑\",TRUE)","v":false},{"$f":"IF(EQ165,EP165,\"\")","v":""},{"$f":"_xludf.TEXTJOIN(\",\",TRUE,ER165:ER178)","v":""},null,"",null,"",null,"",null,"",null,"",null,"",null,"",null,""]
[null,null,null,null,null,null,null,null,null,null,null,null,null,null,null,null,null,null,null,null,null,"□","買物サポート",false,"","□","料理デリバリー（出前）",false,"","□","フィットネス・ジム（送迎）",{"$f":"IF(AD166=\"☑\",TRUE)","v":false},{"$f":"IF(AF166,AE166,\"\")","v":""},"□","出張料理",{"$f":"IF(AH166=\"☑\",TRUE)","v":false},{"$f":"IF(AJ166,AI166,\"\")","v":""},"□","温泉・銭湯（たまり場）",false,"","□","多目的トイレ",false,"","□","習い事",{"$f":"IF(AT166=\"☑\",TRUE)","v":false},{"$f":"IF(AV166,AU166,\"\")","v":""},"□","金融・保険",false,"",null,null,null,null,null,"","□","北区",{"$f":"IF(BH166=\"☑\",TRUE)","v":false},{"$f":"\"さいたま市:\"&BI166","v":"さいたま市:北区"},{"$f":"IF(BJ166,BK166,\"\")","v":""},null,"□","蕨市",{"$f":"IF(BN166=\"☑\",TRUE)","v":false},{"$f":"\"南部地域:\"&BO166","v":"南部地域:蕨市"},{"$f":"IF(BP166,BQ166,\"\")","v":""},null,"□","志木市",{"$f":"IF(BT166=\"☑\",TRUE)","v":false},{"$f":"\"南西部地域:\"&BU166","v":"南西部地域:志木市"},{"$f":"IF(BV166,BW166,\"\")","v":""},null,"□","草加市",{"$f":"IF(BZ166=\"☑\",TRUE)","v":false},{"$f":"\"東部地域:\"&CA166","v":"東部地域:草加市"},"",null,"□","上尾市",{"$f":"IF(CF166=\"☑\",TRUE)","v":false},{"$f":"\"県央地域:\"&CG166","v":"県央地域:上尾市"},{"$f":"IF(CH166,CI166,\"\")","v":""},null,"□","東松山市",{"$f":"IF(CL166=\"☑\",TRUE)","v":false},{"$f":"\"川越比企地域:\"&CM166","v":"川越比企地域:東松山市"},{"$f":"IF(CN166,CO166,\"\")","v":""},null,"□","飯能市",{"$f":"IF(CR166=\"☑\",TRUE)","v":false},{"$f":"\"西部地域:\"&CS166","v":"西部地域:飯能市"},{"$f":"IF(CT166,CU166,\"\")","v":""},null,"□","加須市",{"$f":"IF(CX166=\"☑\",TRUE)","v":false},{"$f":"\"利根地域:\"&CY166","v":"利根地域:加須市"},{"$f":"IF(CZ166,DA166,\"\")","v":""},null,"□","本庄市",{"$f":"IF(DD166=\"☑\",TRUE)","v":false},{"$f":"\"北部地域:\"&DE166","v":"北部地域:本庄市"},{"$f":"IF(DF166,DG166,\"\")","v":""},null,"□","横瀬町",{"$f":"IF(DJ166=\"☑\",TRUE)","v":false},{"$f":"\"秩父地域:\"&DK166","v":"秩父地域:横瀬町"},{"$f":"IF(DL166,DM166,\"\")","v":""},null,null,null,null,null,null,null,null,null,null,null,null,null,null,"□","火曜日",{"$f":"IF(EC166=\"☑\",TRUE)","v":false},{"$f":"IF(EE166,ED166,\"\")","v":""},null,"□","午後（12:00～16：00）",{"$f":"IF(EH166=\"☑\",TRUE)","v":false},{"$f":"IF(EJ166,EI166,\"\")","v":""},null,null,null,null,"に基づき感染対策を実施している。",null,{"$f":"IF(EQ166,EP166,\"\")","v":""}]
[null,null,null,null,null,null,null,null,null,null,null,null,null,null,null,null,null,null,null,null,null,"□","買物代行",false,"","□","食材宅配",false,"","□","温泉・銭湯（送迎）",false,"","□","屋外作業・力仕事",false,"","□","カフェ・ファーストフード",false,"","□","休憩スペース",false,"","□","映画館",false,"","□","住宅・リフォーム",false,"",null,null,null,null,null,"","□","大宮区",false,"さいたま市:大宮区","",null,"□","戸田市",{"$f":"IF(BN167=\"☑\",TRUE)","v":false},{"$f":"\"南部地域:\"&BO167","v":"南部地域:戸田市"},"",null,"□","和光市",false,"南西部地域:和光市","",null,"□","越谷市",false,"東部地域:越谷市","",null,"□","桶川市",{"$f":"IF(CF167=\"☑\",TRUE)","v":false},{"$f":"\"県央地域:\"&CG167","v":"県央地域:桶川市"},"",null,"□","坂戸市",false,"川越比企地域:坂戸市","",null,"□","狭山市",{"$f":"IF(CR167=\"☑\",TRUE)","v":false},{"$f":"\"西部地域:\"&CS167","v":"西部地域:狭山市"},"",null,"□","羽生市",false,"利根地域:羽生市","",null,"□","深谷市",false,"北部地域:深谷市","",null,"□","皆野町",{"$f":"IF(DJ167=\"☑\",TRUE)","v":false},{"$f":"\"秩父地域:\"&DK167","v":"秩父地域:皆野町"},"",null,null,null,null,null,null,null,null,null,null,null,null,null,null,"□","水曜日",false,"",null,"□","夕方(16:00～18:00)",{"$f":"IF(EH167=\"☑\",TRUE)","v":false},{"$f":"IF(EJ167,EI167,\"\")","v":""},null,null,null,"□","各種団体が定める業種別ガイドライン",{"$f":"IF(EO167=\"☑\",TRUE)","v":false},{"$f":"IF(EQ167,EP167,\"\")","v":""}]
[null,null,null,null,null,null,null,null,null,null,null,null,null,null,null,null,null,null,null,null,null,"□","移動販売",false,"","□","日用品配達",false,"","□","整体・マッサージ（送迎）",false,"","□","整体・マッサージ（出張）",false,"","□","飲食店",false,"","□","駐車場",false,"","□","カラオケ店",false,"","□","パソコン・スマートフォン",false,"",null,null,null,null,null,"","□","見沼区",false,"さいたま市:見沼区","",null,null,null,null,null,"",null,"□","新座市",false,"南西部地域:新座市","",null,"□","八潮市",false,"東部地域:八潮市","",null,"□","北本市",{"$f":"IF(CF168=\"☑\",TRUE)","v":false},{"$f":"\"県央地域:\"&CG168","v":"県央地域:北本市"},"",null,"□","鶴ヶ島市",false,"川越比企地域:鶴ヶ島市","",null,"□","入間市",{"$f":"IF(CR168=\"☑\",TRUE)","v":false},{"$f":"\"西部地域:\"&CS168","v":"西部地域:入間市"},"",null,"□","久喜市",false,"利根地域:久喜市","",null,"□","美里町",false,"北部地域:美里町","",null,"□","長瀞町",{"$f":"IF(DJ168=\"☑\",TRUE)","v":false},{"$f":"\"秩父地域:\"&DK168","v":"秩父地域:長瀞町"},"",null,null,null,null,null,null,null,null,null,null,null,null,null,null,"□","木曜日",false,"",null,"□","夜(18:00～）",{"$f":"IF(EH168=\"☑\",TRUE)","v":false},{"$f":"IF(EJ168,EI168,\"\")","v":""},null,null,null,null,"に基づき感染対策を実施している。"]
[null,null,null,null,null,null,null,null,null,null,null,null,null,null,null,null,null,null,null,null,null,"□","割引サービス",false,"","□","薬・介護用品配達",false,"","□","乗り合いサービス",false,"","□","理容室・美容室（出張）",false,"","□","イートインスペース",false,"","□","貸しスペース",false,"","□","麻雀・将棋・囲碁",false,"","□","認知症サポート企業",false,"",null,null,null,null,null,"","□","中央区",false,"さいたま市:中央区","",null,null,null,null,null,"",null,"□","富士見市",false,"南西部地域:富士見市","",null,"□","三郷市",false,"東部地域:三郷市","",null,"□","伊奈町",{"$f":"IF(CF169=\"☑\",TRUE)","v":false},{"$f":"\"県央地域:\"&CG169","v":"県央地域:伊奈町"},"",null,"□","毛呂山町",false,"川越比企地域:毛呂山町","",null,"□","日高市",{"$f":"IF(CR169=\"☑\",TRUE)","v":false},{"$f":"\"西部地域:\"&CS169","v":"西部地域:日高市"},"",null,"□","蓮田市",false,"利根地域:蓮田市","",null,"□","神川町",false,"北部地域:神川町","",null,"□","小鹿野町",{"$f":"IF(DJ169=\"☑\",TRUE)","v":false},{"$f":"\"秩父地域:\"&DK169","v":"秩父地域:小鹿野町"},"",null,null,null,null,null,null,null,null,null,null,null,null,null,null,"□","金曜日",false,"",null,null,null,null,null,null,null,null,"□","その他の感染対策を実施している。",{"$f":"IF(EO169=\"☑\",TRUE)","v":false},{"$f":"IF(EQ169,EP169,\"\")","v":""}]
[null,null,null,null,null,null,null,null,null,null,null,null,null,null,null,null,null,null,null,null,null,"□","その他（買物）",false,"","□","その他（宅配・デリバリー）",false,"","□","個別移送サービス",false,"","□","ペット",false,"","□","その他（運動・たまり場）",false,"","□","その他（設備・施設・場所貸し）",false,"","□","ゲームセンター",false,"","□","その他（生活サービス）",false,"",null,null,null,null,null,"","□","桜区",false,"さいたま市:桜区","",null,null,null,null,null,"",null,"□","ふじみ野市",false,"南西部地域:ふじみ野市","",null,"□","吉川市",false,"東部地域:吉川市","",null,null,null,null,null,"",null,"□","越生町",false,"川越比企地域:越生町","",null,null,null,null,null,"",null,"□","幸手市",false,"利根地域:幸手市","",null,"□","上里町",false,"北部地域:上里町","",null,null,null,null,null,"",null,null,null,null,null,null,null,null,null,null,null,null,null,null,"□","土曜日",false,"",null,null,null,null,null,null,null,null,"□","感染対策を特に実施していない。",{"$f":"IF(EO170=\"☑\",TRUE)","v":false},{"$f":"IF(EQ170,EP170,\"\")","v":""}]
[null,null,null,null,null,null,null,null,null,null,null,null,null,null,null,null,null,null,null,null,null,null,null,null,null,null,null,null,null,"□","交通機関サービス",false,"","□","その他（出張サービス）",false,"",null,null,null,null,null,null,null,null,"□","旅行代理店",false,"",null,null,null,null,null,null,null,null,null,"","□","浦和区",false,"さいたま市:浦和区","",null,null,null,null,null,"",null,"□","三芳町",false,"南西部地域:三芳町","",null,"□","松伏町",false,"東部地域:松伏町","",null,null,null,null,null,"",null,"□","滑川町",false,"川越比企地域:滑川町","",null,null,null,null,null,"",null,"□","白岡市",false,"利根地域:白岡市","",null,"□","寄居町",false,"北部地域:寄居町","",null,null,null,null,null,"",null,null,null,null,null,null,null,null,null,null,null,null,null,null,"□","日曜日",false,""]
[null,null,null,null,null,null,null,null,null,null,null,null,null,null,null,null,null,null,null,null,null,null,null,null,null,null,null,null,null,"□","その他（送迎・移動支援）",false,"",null,null,null,"",null,null,null,{"$f":"IF(AN172,AM172,\"\")","v":""},null,null,null,{"$f":"IF(AR172,AQ172,\"\")","v":""},"□","その他（学び・趣味）",false,"",null,null,null,null,null,null,null,null,null,"","□","南区",false,"さいたま市:南区","",null,null,null,null,null,"",null,null,null,null,null,"",null,null,null,null,null,"",null,null,null,null,null,"",null,"□","嵐山町",false,"川越比企地域:嵐山町","",null,null,null,null,null,"",null,"□","宮代町",false,"利根地域:宮代町","",null,null,null,null,null,"",null,null,null,null,null,""]
[null,null,null,null,null,null,null,null,null,null,null,null,null,null,null,null,null,null,null,null,null,null,null,null,null,null,null,null,null,null,null,null,null,null,null,null,null,null,null,null,null,null,null,null,null,null,null,null,null,null,null,null,null,null,null,null,null,null,"","□","緑区",false,"さいたま市:緑区","",null,null,null,null,null,"",null,null,null,null,null,"",null,null,null,null,null,"",null,null,null,null,null,"",null,"□","小川町",false,"川越比企地域:小川町","",null,null,null,null,null,"",null,"□","杉戸町",false,"利根地域:杉戸町","",null,null,null,null,null,"",null,null,null,null,null,""]
[null,null,null,null,null,null,null,null,null,null,null,null,null,null,null,null,null,null,null,null,null,null,null,null,null,null,null,null,null,null,null,null,null,null,null,null,null,null,null,null,null,null,null,null,null,null,null,null,null,null,null,null,null,null,null,null,null,null,"","□","岩槻区",{"$f":"IF(BH174=\"☑\",TRUE)","v":false},"さいたま市:岩槻区","",null,null,null,null,null,"",null,null,null,null,null,"",null,null,null,null,null,"",null,null,null,null,null,"",null,"□","川島町",false,"川越比企地域:川島町","",null,null,null,null,null,"",null,null,null,null,null,"",null,null,null,null,null,"",null,null,null,null,null,""]
[null,null,null,null,null,null,null,null,null,null,null,null,null,null,null,null,null,null,null,null,null,null,null,null,null,null,null,null,null,null,null,null,null,null,null,null,null,null,null,null,null,null,null,null,null,null,null,null,null,null,null,null,null,null,null,null,null,null,"",null,null,null,null,null,null,null,null,null,null,null,null,null,null,null,null,null,null,null,null,null,null,null,null,null,null,null,null,null,null,"□","吉見町",false,"川越比企地域:吉見町","",null,null,null,null,null,"",null,null,null,null,null,"",null,null,null,null,null,"",null,null,null,null,null,""]
[null,null,null,null,null,null,null,null,null,null,null,null,null,null,null,null,null,null,null,null,null,null,null,null,null,null,null,null,null,null,null,null,null,null,null,null,null,null,null,null,null,null,null,null,null,null,null,null,null,null,null,null,null,null,null,null,null,null,"",null,null,null,null,null,null,null,null,null,null,null,null,null,null,null,null,null,null,null,null,null,null,null,null,null,null,null,null,null,null,"□","鳩山町",false,"川越比企地域:鳩山町","",null,null,null,null,null,"",null,null,null,null,null,"",null,null,null,null,null,"",null,null,null,null,null,""]
[null,null,null,null,null,null,null,null,null,null,null,null,null,null,null,null,null,null,null,null,null,null,null,null,null,null,null,null,null,null,null,null,null,null,null,null,null,null,null,null,null,null,null,null,null,null,null,null,null,null,null,null,null,null,null,null,null,null,"",null,null,null,null,null,null,null,null,null,null,null,null,null,null,null,null,null,null,null,null,null,null,null,null,null,null,null,null,null,null,"□","ときがわ町",false,"川越比企地域:ときがわ町","",null,null,null,null,null,"",null,null,null,null,null,"",null,null,null,null,null,"",null,null,null,null,null,""]
[null,null,null,null,null,null,null,null,null,null,null,null,null,null,null,null,null,null,null,null,null,null,null,null,null,null,null,null,null,null,null,null,null,null,null,null,null,null,null,null,null,null,null,null,null,null,null,null,null,null,null,null,null,null,null,null,null,null,"",null,null,null,null,null,null,null,null,null,null,null,null,null,null,null,null,null,null,null,null,null,null,null,null,null,null,null,null,null,null,"□","東秩父村",false,"川越比企地域:東秩父村","",null,null,null,null,null,"",null,null,null,null,null,"",null,null,null,null,null,"",null,null,null,null,null,""]
[12,null,null,null,null,null,null,null,null,null,null,null,null,null,null,null,null,null,null,null,null,"□","配送",{"$f":"IF(V179=\"☑\",TRUE)","v":false},{"$f":"IF(X179,W179,\"\")","v":""},"□","弁当配達",{"$f":"IF(Z179=\"☑\",TRUE)","v":false},{"$f":"IF(AB179,AA179,\"\")","v":""},"□","理容室・美容室（送迎）",{"$f":"IF(AD179=\"☑\",TRUE)","v":false},{"$f":"IF(AF179,AE179,\"\")","v":""},"□","家事代行",{"$f":"IF(AH179=\"☑\",TRUE)","v":false},{"$f":"IF(AJ179,AI179,\"\")","v":""},"□","フィットネス・ジム（運動）",{"$f":"IF(AL179=\"☑\",TRUE)","v":false},{"$f":"IF(AN179,AM179,\"\")","v":""},"□","車イス対応（バリアフリー）",{"$f":"IF(AP179=\"☑\",TRUE)","v":false},{"$f":"IF(AR179,AQ179,\"\")","v":""},"□","講座・教室・イベント",{"$f":"IF(AT179=\"☑\",TRUE)","v":false},{"$f":"IF(AV179,AU179,\"\")","v":""},"□","防犯・見守り",{"$f":"IF(AX179=\"☑\",TRUE)","v":false},{"$f":"IF(AZ179,AY179,\"\")","v":""},{"$f":"_xludf.TEXTJOIN(\",\",TRUE,Y179:Y192,AC179:AC192,AG179:AG192,AK179:AK192,AO179:AO192,AS179:AS192,AW179:AW192,BA179:BA192)","v":""},"□","埼玉県全域",{"$f":"IF(BC179=\"☑\",TRUE)","v":false},"さいたま市:西区,さいたま市:北区,さいたま市:大宮区,さいたま市:見沼区,さいたま市:中央区,さいたま市:桜区,さいたま市:浦和区,さいたま市:南区,さいたま市:緑区,さいたま市:岩槻区,南部地域:川口市,南部地域:蕨市,南部地域:戸田市,南西部地域:朝霞市,南西部地域:志木市,南西部地域:和光市,南西部地域:新座市,南西部地域:富士見市,南西部地域:ふじみ野市,南西部地域:三芳町,東部地域:春日部市,東部地域:草加市,東部地域:越谷市,東部地域:八潮市,東部地域:三郷市,東部地域:吉川市,東部地域:松伏町,県央地域:鴻巣市,県央地域:上尾市,県央地域:桶川市,県央地域:北本市,県央地域:伊奈町,川越比企地域:川越市,川越比企地域:東松山市,川越比企地域:坂戸市,川越比企地域:鶴ヶ島市,川越比企地域:毛呂山町,川越比企地域:越生町,川越比企地域:滑川町,川越比企地域:嵐山町,川越比企地域:小川町,川越比企地域:川島町,川越比企地域:吉見町,川越比企地域:鳩山町,川越比企地域:ときがわ町,川越比企地域:東秩父村,西部地域:所沢市,西部地域:飯能市,西部地域:狭山市,西部地域:入間市,西部地域:日高市,利根地域:行田市,利根地域:加須市,利根地域:羽生市,利根地域:久喜市,利根地域:蓮田市,利根地域:幸手市,利根地域:白岡市,利根地域:宮代町,利根地域:杉戸町,北部地域:熊谷市,北部地域:本庄市,北部地域:深谷市,北部地域:美里町,北部地域:神川町,北部地域:上里町,北部地域:寄居町,秩父地域:秩父市,秩父地域:横瀬町,秩父地域:皆野町,秩父地域:長瀞町,秩父地域:小鹿野町","","□","西区",{"$f":"IF(BH179=\"☑\",TRUE)","v":false},{"$f":"\"さいたま市:\"&BI179","v":"さいたま市:西区"},{"$f":"IF(BJ179,BK179,\"\")","v":""},{"$f":"_xludf.TEXTJOIN(\",\",TRUE,BL179:BL192)","v":""},"□","川口市",{"$f":"IF(BN179=\"☑\",TRUE)","v":false},{"$f":"\"南部地域:\"&BO179","v":"南部地域:川口市"},{"$f":"IF(BP179,BQ179,\"\")","v":""},{"$f":"_xludf.TEXTJOIN(\",\",TRUE,BR179:BR192)","v":""},"□","朝霞市",{"$f":"IF(BT179=\"☑\",TRUE)","v":false},{"$f":"\"南西部地域:\"&BU179","v":"南西部地域:朝霞市"},{"$f":"IF(BV179,BW179,\"\")","v":""},{"$f":"_xludf.TEXTJOIN(\",\",TRUE,BX179:BX192)","v":""},"□","春日部市",{"$f":"IF(BZ179=\"☑\",TRUE)","v":false},{"$f":"\"東部地域:\"&CA179","v":"東部地域:春日部市"},{"$f":"IF(CB179,CC179,\"\")","v":""},{"$f":"_xludf.TEXTJOIN(\",\",TRUE,CD179:CD192)","v":""},"□","鴻巣市",{"$f":"IF(CF179=\"☑\",TRUE)","v":false},{"$f":"\"県央地域:\"&CG179","v":"県央地域:鴻巣市"},{"$f":"IF(CH179,CI179,\"\")","v":""},{"$f":"_xludf.TEXTJOIN(\",\",TRUE,CJ179:CJ192)","v":""},"□","川越市",{"$f":"IF(CL179=\"☑\",TRUE)","v":false},{"$f":"\"川越比企地域:\"&CM179","v":"川越比企地域:川越市"},{"$f":"IF(CN179,CO179,\"\")","v":""},{"$f":"_xludf.TEXTJOIN(\",\",TRUE,CP179:CP192)","v":""},"□","所沢市",{"$f":"IF(CR179=\"☑\",TRUE)","v":false},{"$f":"\"西部地域:\"&CS179","v":"西部地域:所沢市"},{"$f":"IF(CT179,CU179,\"\")","v":""},{"$f":"_xludf.TEXTJOIN(\",\",TRUE,CV179:CV192)","v":""},"□","行田市",{"$f":"IF(CX179=\"☑\",TRUE)","v":false},{"$f":"\"利根地域:\"&CY179","v":"利根地域:行田市"},{"$f":"IF(CZ179,DA179,\"\")","v":""},{"$f":"_xludf.TEXTJOIN(\",\",TRUE,DB179:DB192)","v":""},"□","熊谷市",{"$f":"IF(DD179=\"☑\",TRUE)","v":false},{"$f":"\"北部地域:\"&DE179","v":"北部地域:熊谷市"},{"$f":"IF(DF179,DG179,\"\")","v":""},{"$f":"_xludf.TEXTJOIN(\",\",TRUE,DH179:DH192)","v":""},"□","秩父市",{"$f":"IF(DJ179=\"☑\",TRUE)","v":false},{"$f":"\"秩父地域:\"&DK179","v":"秩父地域:秩父市"},{"$f":"IF(DL179,DM179,\"\")","v":""},{"$f":"_xludf.TEXTJOIN(\",\",TRUE,DN179:DN192)","v":""},{"$f":"_xludf.TEXTJOIN(\",\",TRUE,BG179,BM179,BS179,BY179,CE179,CK179,CQ179,CW179,DC179,DI179,DO179)","v":""},null,null,null,null,null,null,null,null,null,null,null,null,"□","月曜日",{"$f":"IF(EC179=\"☑\",TRUE)","v":false},{"$f":"IF(EE179,ED179,\"\")","v":""},{"$f":"_xludf.TEXTJOIN(\",\",TRUE,EF179:EF192)","v":""},"□","午前（～12:00）",{"$f":"IF(EH179=\"☑\",TRUE)","v":false},{"$f":"IF(EJ179,EI179,\"\")","v":""},{"$f":"_xludf.TEXTJOIN(\",\",TRUE,EK179:EK192)","v":""},null,null,"□","彩の国「新しい生活様式」安心宣言",{"$f":"IF(EO179=\"☑\",TRUE)","v":false},{"$f":"IF(EQ179,EP179,\"\")","v":""},{"$f":"_xludf.TEXTJOIN(\",\",TRUE,ER179:ER192)","v":""},null,"",null,"",null,"",null,"",null,"",null,"",null,"",null,""]
[null,null,null,null,null,null,null,null,null,null,null,null,null,null,null,null,null,null,null,null,null,"□","買物サポート",false,"","□","料理デリバリー（出前）",false,"","□","フィットネス・ジム（送迎）",{"$f":"IF(AD180=\"☑\",TRUE)","v":false},{"$f":"IF(AF180,AE180,\"\")","v":""},"□","出張料理",{"$f":"IF(AH180=\"☑\",TRUE)","v":false},{"$f":"IF(AJ180,AI180,\"\")","v":""},"□","温泉・銭湯（たまり場）",false,"","□","多目的トイレ",false,"","□","習い事",{"$f":"IF(AT180=\"☑\",TRUE)","v":false},{"$f":"IF(AV180,AU180,\"\")","v":""},"□","金融・保険",false,"",null,null,null,null,null,"","□","北区",{"$f":"IF(BH180=\"☑\",TRUE)","v":false},{"$f":"\"さいたま市:\"&BI180","v":"さいたま市:北区"},{"$f":"IF(BJ180,BK180,\"\")","v":""},null,"□","蕨市",{"$f":"IF(BN180=\"☑\",TRUE)","v":false},{"$f":"\"南部地域:\"&BO180","v":"南部地域:蕨市"},{"$f":"IF(BP180,BQ180,\"\")","v":""},null,"□","志木市",{"$f":"IF(BT180=\"☑\",TRUE)","v":false},{"$f":"\"南西部地域:\"&BU180","v":"南西部地域:志木市"},{"$f":"IF(BV180,BW180,\"\")","v":""},null,"□","草加市",{"$f":"IF(BZ180=\"☑\",TRUE)","v":false},{"$f":"\"東部地域:\"&CA180","v":"東部地域:草加市"},"",null,"□","上尾市",{"$f":"IF(CF180=\"☑\",TRUE)","v":false},{"$f":"\"県央地域:\"&CG180","v":"県央地域:上尾市"},{"$f":"IF(CH180,CI180,\"\")","v":""},null,"□","東松山市",{"$f":"IF(CL180=\"☑\",TRUE)","v":false},{"$f":"\"川越比企地域:\"&CM180","v":"川越比企地域:東松山市"},{"$f":"IF(CN180,CO180,\"\")","v":""},null,"□","飯能市",{"$f":"IF(CR180=\"☑\",TRUE)","v":false},{"$f":"\"西部地域:\"&CS180","v":"西部地域:飯能市"},{"$f":"IF(CT180,CU180,\"\")","v":""},null,"□","加須市",{"$f":"IF(CX180=\"☑\",TRUE)","v":false},{"$f":"\"利根地域:\"&CY180","v":"利根地域:加須市"},{"$f":"IF(CZ180,DA180,\"\")","v":""},null,"□","本庄市",{"$f":"IF(DD180=\"☑\",TRUE)","v":false},{"$f":"\"北部地域:\"&DE180","v":"北部地域:本庄市"},{"$f":"IF(DF180,DG180,\"\")","v":""},null,"□","横瀬町",{"$f":"IF(DJ180=\"☑\",TRUE)","v":false},{"$f":"\"秩父地域:\"&DK180","v":"秩父地域:横瀬町"},{"$f":"IF(DL180,DM180,\"\")","v":""},null,null,null,null,null,null,null,null,null,null,null,null,null,null,"□","火曜日",{"$f":"IF(EC180=\"☑\",TRUE)","v":false},{"$f":"IF(EE180,ED180,\"\")","v":""},null,"□","午後（12:00～16：00）",{"$f":"IF(EH180=\"☑\",TRUE)","v":false},{"$f":"IF(EJ180,EI180,\"\")","v":""},null,null,null,null,"に基づき感染対策を実施している。",null,{"$f":"IF(EQ180,EP180,\"\")","v":""}]
[null,null,null,null,null,null,null,null,null,null,null,null,null,null,null,null,null,null,null,null,null,"□","買物代行",false,"","□","食材宅配",false,"","□","温泉・銭湯（送迎）",false,"","□","屋外作業・力仕事",false,"","□","カフェ・ファーストフード",false,"","□","休憩スペース",false,"","□","映画館",false,"","□","住宅・リフォーム",false,"",null,null,null,null,null,"","□","大宮区",false,"さいたま市:大宮区","",null,"□","戸田市",{"$f":"IF(BN181=\"☑\",TRUE)","v":false},{"$f":"\"南部地域:\"&BO181","v":"南部地域:戸田市"},"",null,"□","和光市",false,"南西部地域:和光市","",null,"□","越谷市",false,"東部地域:越谷市","",null,"□","桶川市",{"$f":"IF(CF181=\"☑\",TRUE)","v":false},{"$f":"\"県央地域:\"&CG181","v":"県央地域:桶川市"},"",null,"□","坂戸市",false,"川越比企地域:坂戸市","",null,"□","狭山市",{"$f":"IF(CR181=\"☑\",TRUE)","v":false},{"$f":"\"西部地域:\"&CS181","v":"西部地域:狭山市"},"",null,"□","羽生市",false,"利根地域:羽生市","",null,"□","深谷市",false,"北部地域:深谷市","",null,"□","皆野町",{"$f":"IF(DJ181=\"☑\",TRUE)","v":false},{"$f":"\"秩父地域:\"&DK181","v":"秩父地域:皆野町"},"",null,null,null,null,null,null,null,null,null,null,null,null,null,null,"□","水曜日",false,"",null,"□","夕方(16:00～18:00)",{"$f":"IF(EH181=\"☑\",TRUE)","v":false},{"$f":"IF(EJ181,EI181,\"\")","v":""},null,null,null,"□","各種団体が定める業種別ガイドライン",{"$f":"IF(EO181=\"☑\",TRUE)","v":false},{"$f":"IF(EQ181,EP181,\"\")","v":""}]
[null,null,null,null,null,null,null,null,null,null,null,null,null,null,null,null,null,null,null,null,null,"□","移動販売",false,"","□","日用品配達",false,"","□","整体・マッサージ（送迎）",false,"","□","整体・マッサージ（出張）",false,"","□","飲食店",false,"","□","駐車場",false,"","□","カラオケ店",false,"","□","パソコン・スマートフォン",false,"",null,null,null,null,null,"","□","見沼区",false,"さいたま市:見沼区","",null,null,null,null,null,"",null,"□","新座市",false,"南西部地域:新座市","",null,"□","八潮市",false,"東部地域:八潮市","",null,"□","北本市",{"$f":"IF(CF182=\"☑\",TRUE)","v":false},{"$f":"\"県央地域:\"&CG182","v":"県央地域:北本市"},"",null,"□","鶴ヶ島市",false,"川越比企地域:鶴ヶ島市","",null,"□","入間市",{"$f":"IF(CR182=\"☑\",TRUE)","v":false},{"$f":"\"西部地域:\"&CS182","v":"西部地域:入間市"},"",null,"□","久喜市",false,"利根地域:久喜市","",null,"□","美里町",false,"北部地域:美里町","",null,"□","長瀞町",{"$f":"IF(DJ182=\"☑\",TRUE)","v":false},{"$f":"\"秩父地域:\"&DK182","v":"秩父地域:長瀞町"},"",null,null,null,null,null,null,null,null,null,null,null,null,null,null,"□","木曜日",false,"",null,"□","夜(18:00～）",{"$f":"IF(EH182=\"☑\",TRUE)","v":false},{"$f":"IF(EJ182,EI182,\"\")","v":""},null,null,null,null,"に基づき感染対策を実施している。"]
[null,null,null,null,null,null,null,null,null,null,null,null,null,null,null,null,null,null,null,null,null,"□","割引サービス",false,"","□","薬・介護用品配達",false,"","□","乗り合いサービス",false,"","□","理容室・美容室（出張）",false,"","□","イートインスペース",false,"","□","貸しスペース",false,"","□","麻雀・将棋・囲碁",false,"","□","認知症サポート企業",false,"",null,null,null,null,null,"","□","中央区",false,"さいたま市:中央区","",null,null,null,null,null,"",null,"□","富士見市",false,"南西部地域:富士見市","",null,"□","三郷市",false,"東部地域:三郷市","",null,"□","伊奈町",{"$f":"IF(CF183=\"☑\",TRUE)","v":false},{"$f":"\"県央地域:\"&CG183","v":"県央地域:伊奈町"},"",null,"□","毛呂山町",false,"川越比企地域:毛呂山町","",null,"□","日高市",{"$f":"IF(CR183=\"☑\",TRUE)","v":false},{"$f":"\"西部地域:\"&CS183","v":"西部地域:日高市"},"",null,"□","蓮田市",false,"利根地域:蓮田市","",null,"□","神川町",false,"北部地域:神川町","",null,"□","小鹿野町",{"$f":"IF(DJ183=\"☑\",TRUE)","v":false},{"$f":"\"秩父地域:\"&DK183","v":"秩父地域:小鹿野町"},"",null,null,null,null,null,null,null,null,null,null,null,null,null,null,"□","金曜日",false,"",null,null,null,null,null,null,null,null,"□","その他の感染対策を実施している。",{"$f":"IF(EO183=\"☑\",TRUE)","v":false},{"$f":"IF(EQ183,EP183,\"\")","v":""}]
[null,null,null,null,null,null,null,null,null,null,null,null,null,null,null,null,null,null,null,null,null,"□","その他（買物）",false,"","□","その他（宅配・デリバリー）",false,"","□","個別移送サービス",false,"","□","ペット",false,"","□","その他（運動・たまり場）",false,"","□","その他（設備・施設・場所貸し）",false,"","□","ゲームセンター",false,"","□","その他（生活サービス）",false,"",null,null,null,null,null,"","□","桜区",false,"さいたま市:桜区","",null,null,null,null,null,"",null,"□","ふじみ野市",false,"南西部地域:ふじみ野市","",null,"□","吉川市",false,"東部地域:吉川市","",null,null,null,null,null,"",null,"□","越生町",false,"川越比企地域:越生町","",null,null,null,null,null,"",null,"□","幸手市",false,"利根地域:幸手市","",null,"□","上里町",false,"北部地域:上里町","",null,null,null,null,null,"",null,null,null,null,null,null,null,null,null,null,null,null,null,null,"□","土曜日",false,"",null,null,null,null,null,null,null,null,"□","感染対策を特に実施していない。",{"$f":"IF(EO184=\"☑\",TRUE)","v":false},{"$f":"IF(EQ184,EP184,\"\")","v":""}]
[null,null,null,null,null,null,null,null,null,null,null,null,null,null,null,null,null,null,null,null,null,null,null,null,null,null,null,null,null,"□","交通機関サービス",false,"","□","その他（出張サービス）",false,"",null,null,null,null,null,null,null,null,"□","旅行代理店",false,"",null,null,null,null,null,null,null,null,null,"","□","浦和区",false,"さいたま市:浦和区","",null,null,null,null,null,"",null,"□","三芳町",false,"南西部地域:三芳町","",null,"□","松伏町",false,"東部地域:松伏町","",null,null,null,null,null,"",null,"□","滑川町",false,"川越比企地域:滑川町","",null,null,null,null,null,"",null,"□","白岡市",false,"利根地域:白岡市","",null,"□","寄居町",false,"北部地域:寄居町","",null,null,null,null,null,"",null,null,null,null,null,null,null,null,null,null,null,null,null,null,"□","日曜日",false,""]
[null,null,null,null,null,null,null,null,null,null,null,null,null,null,null,null,null,null,null,null,null,null,null,null,null,null,null,null,null,"□","その他（送迎・移動支援）",false,"",null,null,null,"",null,null,null,{"$f":"IF(AN186,AM186,\"\")","v":""},null,null,null,{"$f":"IF(AR186,AQ186,\"\")","v":""},"□","その他（学び・趣味）",false,"",null,null,null,null,null,null,null,null,null,"","□","南区",false,"さいたま市:南区","",null,null,null,null,null,"",null,null,null,null,null,"",null,null,null,null,null,"",null,null,null,null,null,"",null,"□","嵐山町",false,"川越比企地域:嵐山町","",null,null,null,null,null,"",null,"□","宮代町",false,"利根地域:宮代町","",null,null,null,null,null,"",null,null,null,null,null,""]
[null,null,null,null,null,null,null,null,null,null,null,null,null,null,null,null,null,null,null,null,null,null,null,null,null,null,null,null,null,null,null,null,null,null,null,null,null,null,null,null,null,null,null,null,null,null,null,null,null,null,null,null,null,null,null,null,null,null,"","□","緑区",false,"さいたま市:緑区","",null,null,null,null,null,"",null,null,null,null,null,"",null,null,null,null,null,"",null,null,null,null,null,"",null,"□","小川町",false,"川越比企地域:小川町","",null,null,null,null,null,"",null,"□","杉戸町",false,"利根地域:杉戸町","",null,null,null,null,null,"",null,null,null,null,null,""]
[null,null,null,null,null,null,null,null,null,null,null,null,null,null,null,null,null,null,null,null,null,null,null,null,null,null,null,null,null,null,null,null,null,null,null,null,null,null,null,null,null,null,null,null,null,null,null,null,null,null,null,null,null,null,null,null,null,null,"","□","岩槻区",{"$f":"IF(BH188=\"☑\",TRUE)","v":false},"さいたま市:岩槻区","",null,null,null,null,null,"",null,null,null,null,null,"",null,null,null,null,null,"",null,null,null,null,null,"",null,"□","川島町",false,"川越比企地域:川島町","",null,null,null,null,null,"",null,null,null,null,null,"",null,null,null,null,null,"",null,null,null,null,null,""]
[null,null,null,null,null,null,null,null,null,null,null,null,null,null,null,null,null,null,null,null,null,null,null,null,null,null,null,null,null,null,null,null,null,null,null,null,null,null,null,null,null,null,null,null,null,null,null,null,null,null,null,null,null,null,null,null,null,null,"",null,null,null,null,null,null,null,null,null,null,null,null,null,null,null,null,null,null,null,null,null,null,null,null,null,null,null,null,null,null,"□","吉見町",false,"川越比企地域:吉見町","",null,null,null,null,null,"",null,null,null,null,null,"",null,null,null,null,null,"",null,null,null,null,null,""]
[null,null,null,null,null,null,null,null,null,null,null,null,null,null,null,null,null,null,null,null,null,null,null,null,null,null,null,null,null,null,null,null,null,null,null,null,null,null,null,null,null,null,null,null,null,null,null,null,null,null,null,null,null,null,null,null,null,null,"",null,null,null,null,null,null,null,null,null,null,null,null,null,null,null,null,null,null,null,null,null,null,null,null,null,null,null,null,null,null,"□","鳩山町",false,"川越比企地域:鳩山町","",null,null,null,null,null,"",null,null,null,null,null,"",null,null,null,null,null,"",null,null,null,null,null,""]
[null,null,null,null,null,null,null,null,null,null,null,null,null,null,null,null,null,null,null,null,null,null,null,null,null,null,null,null,null,null,null,null,null,null,null,null,null,null,null,null,null,null,null,null,null,null,null,null,null,null,null,null,null,null,null,null,null,null,"",null,null,null,null,null,null,null,null,null,null,null,null,null,null,null,null,null,null,null,null,null,null,null,null,null,null,null,null,null,null,"□","ときがわ町",false,"川越比企地域:ときがわ町","",null,null,null,null,null,"",null,null,null,null,null,"",null,null,null,null,null,"",null,null,null,null,null,""]
[null,null,null,null,null,null,null,null,null,null,null,null,null,null,null,null,null,null,null,null,null,null,null,null,null,null,null,null,null,null,null,null,null,null,null,null,null,null,null,null,null,null,null,null,null,null,null,null,null,null,null,null,null,null,null,null,null,null,"",null,null,null,null,null,null,null,null,null,null,null,null,null,null,null,null,null,null,null,null,null,null,null,null,null,null,null,null,null,null,"□","東秩父村",false,"川越比企地域:東秩父村","",null,null,null,null,null,"",null,null,null,null,null,"",null,null,null,null,null,"",null,null,null,null,null,""]
[13,null,null,null,null,null,null,null,null,null,null,null,null,null,null,null,null,null,null,null,null,"□","配送",{"$f":"IF(V193=\"☑\",TRUE)","v":false},{"$f":"IF(X193,W193,\"\")","v":""},"□","弁当配達",{"$f":"IF(Z193=\"☑\",TRUE)","v":false},{"$f":"IF(AB193,AA193,\"\")","v":""},"□","理容室・美容室（送迎）",{"$f":"IF(AD193=\"☑\",TRUE)","v":false},{"$f":"IF(AF193,AE193,\"\")","v":""},"□","家事代行",{"$f":"IF(AH193=\"☑\",TRUE)","v":false},{"$f":"IF(AJ193,AI193,\"\")","v":""},"□","フィットネス・ジム（運動）",{"$f":"IF(AL193=\"☑\",TRUE)","v":false},{"$f":"IF(AN193,AM193,\"\")","v":""},"□","車イス対応（バリアフリー）",{"$f":"IF(AP193=\"☑\",TRUE)","v":false},{"$f":"IF(AR193,AQ193,\"\")","v":""},"□","講座・教室・イベント",{"$f":"IF(AT193=\"☑\",TRUE)","v":false},{"$f":"IF(AV193,AU193,\"\")","v":""},"□","防犯・見守り",{"$f":"IF(AX193=\"☑\",TRUE)","v":false},{"$f":"IF(AZ193,AY193,\"\")","v":""},{"$f":"_xludf.TEXTJOIN(\",\",TRUE,Y193:Y206,AC193:AC206,AG193:AG206,AK193:AK206,AO193:AO206,AS193:AS206,AW193:AW206,BA193:BA206)","v":""},"□","埼玉県全域",{"$f":"IF(BC193=\"☑\",TRUE)","v":false},"さいたま市:西区,さいたま市:北区,さいたま市:大宮区,さいたま市:見沼区,さいたま市:中央区,さいたま市:桜区,さいたま市:浦和区,さいたま市:南区,さいたま市:緑区,さいたま市:岩槻区,南部地域:川口市,南部地域:蕨市,南部地域:戸田市,南西部地域:朝霞市,南西部地域:志木市,南西部地域:和光市,南西部地域:新座市,南西部地域:富士見市,南西部地域:ふじみ野市,南西部地域:三芳町,東部地域:春日部市,東部地域:草加市,東部地域:越谷市,東部地域:八潮市,東部地域:三郷市,東部地域:吉川市,東部地域:松伏町,県央地域:鴻巣市,県央地域:上尾市,県央地域:桶川市,県央地域:北本市,県央地域:伊奈町,川越比企地域:川越市,川越比企地域:東松山市,川越比企地域:坂戸市,川越比企地域:鶴ヶ島市,川越比企地域:毛呂山町,川越比企地域:越生町,川越比企地域:滑川町,川越比企地域:嵐山町,川越比企地域:小川町,川越比企地域:川島町,川越比企地域:吉見町,川越比企地域:鳩山町,川越比企地域:ときがわ町,川越比企地域:東秩父村,西部地域:所沢市,西部地域:飯能市,西部地域:狭山市,西部地域:入間市,西部地域:日高市,利根地域:行田市,利根地域:加須市,利根地域:羽生市,利根地域:久喜市,利根地域:蓮田市,利根地域:幸手市,利根地域:白岡市,利根地域:宮代町,利根地域:杉戸町,北部地域:熊谷市,北部地域:本庄市,北部地域:深谷市,北部地域:美里町,北部地域:神川町,北部地域:上里町,北部地域:寄居町,秩父地域:秩父市,秩父地域:横瀬町,秩父地域:皆野町,秩父地域:長瀞町,秩父地域:小鹿野町","","□","西区",{"$f":"IF(BH193=\"☑\",TRUE)","v":false},{"$f":"\"さいたま市:\"&BI193","v":"さいたま市:西区"},{"$f":"IF(BJ193,BK193,\"\")","v":""},{"$f":"_xludf.TEXTJOIN(\",\",TRUE,BL193:BL206)","v":""},"□","川口市",{"$f":"IF(BN193=\"☑\",TRUE)","v":false},{"$f":"\"南部地域:\"&BO193","v":"南部地域:川口市"},{"$f":"IF(BP193,BQ193,\"\")","v":""},{"$f":"_xludf.TEXTJOIN(\",\",TRUE,BR193:BR206)","v":""},"□","朝霞市",{"$f":"IF(BT193=\"☑\",TRUE)","v":false},{"$f":"\"南西部地域:\"&BU193","v":"南西部地域:朝霞市"},{"$f":"IF(BV193,BW193,\"\")","v":""},{"$f":"_xludf.TEXTJOIN(\",\",TRUE,BX193:BX206)","v":""},"□","春日部市",{"$f":"IF(BZ193=\"☑\",TRUE)","v":false},{"$f":"\"東部地域:\"&CA193","v":"東部地域:春日部市"},{"$f":"IF(CB193,CC193,\"\")","v":""},{"$f":"_xludf.TEXTJOIN(\",\",TRUE,CD193:CD206)","v":""},"□","鴻巣市",{"$f":"IF(CF193=\"☑\",TRUE)","v":false},{"$f":"\"県央地域:\"&CG193","v":"県央地域:鴻巣市"},{"$f":"IF(CH193,CI193,\"\")","v":""},{"$f":"_xludf.TEXTJOIN(\",\",TRUE,CJ193:CJ206)","v":""},"□","川越市",{"$f":"IF(CL193=\"☑\",TRUE)","v":false},{"$f":"\"川越比企地域:\"&CM193","v":"川越比企地域:川越市"},{"$f":"IF(CN193,CO193,\"\")","v":""},{"$f":"_xludf.TEXTJOIN(\",\",TRUE,CP193:CP206)","v":""},"□","所沢市",{"$f":"IF(CR193=\"☑\",TRUE)","v":false},{"$f":"\"西部地域:\"&CS193","v":"西部地域:所沢市"},{"$f":"IF(CT193,CU193,\"\")","v":""},{"$f":"_xludf.TEXTJOIN(\",\",TRUE,CV193:CV206)","v":""},"□","行田市",{"$f":"IF(CX193=\"☑\",TRUE)","v":false},{"$f":"\"利根地域:\"&CY193","v":"利根地域:行田市"},{"$f":"IF(CZ193,DA193,\"\")","v":""},{"$f":"_xludf.TEXTJOIN(\",\",TRUE,DB193:DB206)","v":""},"□","熊谷市",{"$f":"IF(DD193=\"☑\",TRUE)","v":false},{"$f":"\"北部地域:\"&DE193","v":"北部地域:熊谷市"},{"$f":"IF(DF193,DG193,\"\")","v":""},{"$f":"_xludf.TEXTJOIN(\",\",TRUE,DH193:DH206)","v":""},"□","秩父市",{"$f":"IF(DJ193=\"☑\",TRUE)","v":false},{"$f":"\"秩父地域:\"&DK193","v":"秩父地域:秩父市"},{"$f":"IF(DL193,DM193,\"\")","v":""},{"$f":"_xludf.TEXTJOIN(\",\",TRUE,DN193:DN206)","v":""},{"$f":"_xludf.TEXTJOIN(\",\",TRUE,BG193,BM193,BS193,BY193,CE193,CK193,CQ193,CW193,DC193,DI193,DO193)","v":""},null,null,null,null,null,null,null,null,null,null,null,null,"□","月曜日",{"$f":"IF(EC193=\"☑\",TRUE)","v":false},{"$f":"IF(EE193,ED193,\"\")","v":""},{"$f":"_xludf.TEXTJOIN(\",\",TRUE,EF193:EF206)","v":""},"□","午前（～12:00）",{"$f":"IF(EH193=\"☑\",TRUE)","v":false},{"$f":"IF(EJ193,EI193,\"\")","v":""},{"$f":"_xludf.TEXTJOIN(\",\",TRUE,EK193:EK206)","v":""},null,null,"□","彩の国「新しい生活様式」安心宣言",{"$f":"IF(EO193=\"☑\",TRUE)","v":false},{"$f":"IF(EQ193,EP193,\"\")","v":""},{"$f":"_xludf.TEXTJOIN(\",\",TRUE,ER193:ER206)","v":""},null,"",null,"",null,"",null,"",null,"",null,"",null,"",null,""]
[null,null,null,null,null,null,null,null,null,null,null,null,null,null,null,null,null,null,null,null,null,"□","買物サポート",false,"","□","料理デリバリー（出前）",false,"","□","フィットネス・ジム（送迎）",{"$f":"IF(AD194=\"☑\",TRUE)","v":false},{"$f":"IF(AF194,AE194,\"\")","v":""},"□","出張料理",{"$f":"IF(AH194=\"☑\",TRUE)","v":false},{"$f":"IF(AJ194,AI194,\"\")","v":""},"□","温泉・銭湯（たまり場）",false,"","□","多目的トイレ",false,"","□","習い事",{"$f":"IF(AT194=\"☑\",TRUE)","v":false},{"$f":"IF(AV194,AU194,\"\")","v":""},"□","金融・保険",false,"",null,null,null,null,null,"","□","北区",{"$f":"IF(BH194=\"☑\",TRUE)","v":false},{"$f":"\"さいたま市:\"&BI194","v":"さいたま市:北区"},{"$f":"IF(BJ194,BK194,\"\")","v":""},null,"□","蕨市",{"$f":"IF(BN194=\"☑\",TRUE)","v":false},{"$f":"\"南部地域:\"&BO194","v":"南部地域:蕨市"},{"$f":"IF(BP194,BQ194,\"\")","v":""},null,"□","志木市",{"$f":"IF(BT194=\"☑\",TRUE)","v":false},{"$f":"\"南西部地域:\"&BU194","v":"南西部地域:志木市"},{"$f":"IF(BV194,BW194,\"\")","v":""},null,"□","草加市",{"$f":"IF(BZ194=\"☑\",TRUE)","v":false},{"$f":"\"東部地域:\"&CA194","v":"東部地域:草加市"},"",null,"□","上尾市",{"$f":"IF(CF194=\"☑\",TRUE)","v":false},{"$f":"\"県央地域:\"&CG194","v":"県央地域:上尾市"},{"$f":"IF(CH194,CI194,\"\")","v":""},null,"□","東松山市",{"$f":"IF(CL194=\"☑\",TRUE)","v":false},{"$f":"\"川越比企地域:\"&CM194","v":"川越比企地域:東松山市"},{"$f":"IF(CN194,CO194,\"\")","v":""},null,"□","飯能市",{"$f":"IF(CR194=\"☑\",TRUE)","v":false},{"$f":"\"西部地域:\"&CS194","v":"西部地域:飯能市"},{"$f":"IF(CT194,CU194,\"\")","v":""},null,"□","加須市",{"$f":"IF(CX194=\"☑\",TRUE)","v":false},{"$f":"\"利根地域:\"&CY194","v":"利根地域:加須市"},{"$f":"IF(CZ194,DA194,\"\")","v":""},null,"□","本庄市",{"$f":"IF(DD194=\"☑\",TRUE)","v":false},{"$f":"\"北部地域:\"&DE194","v":"北部地域:本庄市"},{"$f":"IF(DF194,DG194,\"\")","v":""},null,"□","横瀬町",{"$f":"IF(DJ194=\"☑\",TRUE)","v":false},{"$f":"\"秩父地域:\"&DK194","v":"秩父地域:横瀬町"},{"$f":"IF(DL194,DM194,\"\")","v":""},null,null,null,null,null,null,null,null,null,null,null,null,null,null,"□","火曜日",{"$f":"IF(EC194=\"☑\",TRUE)","v":false},{"$f":"IF(EE194,ED194,\"\")","v":""},null,"□","午後（12:00～16：00）",{"$f":"IF(EH194=\"☑\",TRUE)","v":false},{"$f":"IF(EJ194,EI194,\"\")","v":""},null,null,null,null,"に基づき感染対策を実施している。",null,{"$f":"IF(EQ194,EP194,\"\")","v":""}]
[null,null,null,null,null,null,null,null,null,null,null,null,null,null,null,null,null,null,null,null,null,"□","買物代行",false,"","□","食材宅配",false,"","□","温泉・銭湯（送迎）",false,"","□","屋外作業・力仕事",false,"","□","カフェ・ファーストフード",false,"","□","休憩スペース",false,"","□","映画館",false,"","□","住宅・リフォーム",false,"",null,null,null,null,null,"","□","大宮区",false,"さいたま市:大宮区","",null,"□","戸田市",{"$f":"IF(BN195=\"☑\",TRUE)","v":false},{"$f":"\"南部地域:\"&BO195","v":"南部地域:戸田市"},"",null,"□","和光市",false,"南西部地域:和光市","",null,"□","越谷市",false,"東部地域:越谷市","",null,"□","桶川市",{"$f":"IF(CF195=\"☑\",TRUE)","v":false},{"$f":"\"県央地域:\"&CG195","v":"県央地域:桶川市"},"",null,"□","坂戸市",false,"川越比企地域:坂戸市","",null,"□","狭山市",{"$f":"IF(CR195=\"☑\",TRUE)","v":false},{"$f":"\"西部地域:\"&CS195","v":"西部地域:狭山市"},"",null,"□","羽生市",false,"利根地域:羽生市","",null,"□","深谷市",false,"北部地域:深谷市","",null,"□","皆野町",{"$f":"IF(DJ195=\"☑\",TRUE)","v":false},{"$f":"\"秩父地域:\"&DK195","v":"秩父地域:皆野町"},"",null,null,null,null,null,null,null,null,null,null,null,null,null,null,"□","水曜日",false,"",null,"□","夕方(16:00～18:00)",{"$f":"IF(EH195=\"☑\",TRUE)","v":false},{"$f":"IF(EJ195,EI195,\"\")","v":""},null,null,null,"□","各種団体が定める業種別ガイドライン",{"$f":"IF(EO195=\"☑\",TRUE)","v":false},{"$f":"IF(EQ195,EP195,\"\")","v":""}]
[null,null,null,null,null,null,null,null,null,null,null,null,null,null,null,null,null,null,null,null,null,"□","移動販売",false,"","□","日用品配達",false,"","□","整体・マッサージ（送迎）",false,"","□","整体・マッサージ（出張）",false,"","□","飲食店",false,"","□","駐車場",false,"","□","カラオケ店",false,"","□","パソコン・スマートフォン",false,"",null,null,null,null,null,"","□","見沼区",false,"さいたま市:見沼区","",null,null,null,null,null,"",null,"□","新座市",false,"南西部地域:新座市","",null,"□","八潮市",false,"東部地域:八潮市","",null,"□","北本市",{"$f":"IF(CF196=\"☑\",TRUE)","v":false},{"$f":"\"県央地域:\"&CG196","v":"県央地域:北本市"},"",null,"□","鶴ヶ島市",false,"川越比企地域:鶴ヶ島市","",null,"□","入間市",{"$f":"IF(CR196=\"☑\",TRUE)","v":false},{"$f":"\"西部地域:\"&CS196","v":"西部地域:入間市"},"",null,"□","久喜市",false,"利根地域:久喜市","",null,"□","美里町",false,"北部地域:美里町","",null,"□","長瀞町",{"$f":"IF(DJ196=\"☑\",TRUE)","v":false},{"$f":"\"秩父地域:\"&DK196","v":"秩父地域:長瀞町"},"",null,null,null,null,null,null,null,null,null,null,null,null,null,null,"□","木曜日",false,"",null,"□","夜(18:00～）",{"$f":"IF(EH196=\"☑\",TRUE)","v":false},{"$f":"IF(EJ196,EI196,\"\")","v":""},null,null,null,null,"に基づき感染対策を実施している。"]
[null,null,null,null,null,null,null,null,null,null,null,null,null,null,null,null,null,null,null,null,null,"□","割引サービス",false,"","□","薬・介護用品配達",false,"","□","乗り合いサービス",false,"","□","理容室・美容室（出張）",false,"","□","イートインスペース",false,"","□","貸しスペース",false,"","□","麻雀・将棋・囲碁",false,"","□","認知症サポート企業",false,"",null,null,null,null,null,"","□","中央区",false,"さいたま市:中央区","",null,null,null,null,null,"",null,"□","富士見市",false,"南西部地域:富士見市","",null,"□","三郷市",false,"東部地域:三郷市","",null,"□","伊奈町",{"$f":"IF(CF197=\"☑\",TRUE)","v":false},{"$f":"\"県央地域:\"&CG197","v":"県央地域:伊奈町"},"",null,"□","毛呂山町",false,"川越比企地域:毛呂山町","",null,"□","日高市",{"$f":"IF(CR197=\"☑\",TRUE)","v":false},{"$f":"\"西部地域:\"&CS197","v":"西部地域:日高市"},"",null,"□","蓮田市",false,"利根地域:蓮田市","",null,"□","神川町",false,"北部地域:神川町","",null,"□","小鹿野町",{"$f":"IF(DJ197=\"☑\",TRUE)","v":false},{"$f":"\"秩父地域:\"&DK197","v":"秩父地域:小鹿野町"},"",null,null,null,null,null,null,null,null,null,null,null,null,null,null,"□","金曜日",false,"",null,null,null,null,null,null,null,null,"□","その他の感染対策を実施している。",{"$f":"IF(EO197=\"☑\",TRUE)","v":false},{"$f":"IF(EQ197,EP197,\"\")","v":""}]
[null,null,null,null,null,null,null,null,null,null,null,null,null,null,null,null,null,null,null,null,null,"□","その他（買物）",false,"","□","その他（宅配・デリバリー）",false,"","□","個別移送サービス",false,"","□","ペット",false,"","□","その他（運動・たまり場）",false,"","□","その他（設備・施設・場所貸し）",false,"","□","ゲームセンター",false,"","□","その他（生活サービス）",false,"",null,null,null,null,null,"","□","桜区",false,"さいたま市:桜区","",null,null,null,null,null,"",null,"□","ふじみ野市",false,"南西部地域:ふじみ野市","",null,"□","吉川市",false,"東部地域:吉川市","",null,null,null,null,null,"",null,"□","越生町",false,"川越比企地域:越生町","",null,null,null,null,null,"",null,"□","幸手市",false,"利根地域:幸手市","",null,"□","上里町",false,"北部地域:上里町","",null,null,null,null,null,"",null,null,null,null,null,null,null,null,null,null,null,null,null,null,"□","土曜日",false,"",null,null,null,null,null,null,null,null,"□","感染対策を特に実施していない。",{"$f":"IF(EO198=\"☑\",TRUE)","v":false},{"$f":"IF(EQ198,EP198,\"\")","v":""}]
[null,null,null,null,null,null,null,null,null,null,null,null,null,null,null,null,null,null,null,null,null,null,null,null,null,null,null,null,null,"□","交通機関サービス",false,"","□","その他（出張サービス）",false,"",null,null,null,null,null,null,null,null,"□","旅行代理店",false,"",null,null,null,null,null,null,null,null,null,"","□","浦和区",false,"さいたま市:浦和区","",null,null,null,null,null,"",null,"□","三芳町",false,"南西部地域:三芳町","",null,"□","松伏町",false,"東部地域:松伏町","",null,null,null,null,null,"",null,"□","滑川町",false,"川越比企地域:滑川町","",null,null,null,null,null,"",null,"□","白岡市",false,"利根地域:白岡市","",null,"□","寄居町",false,"北部地域:寄居町","",null,null,null,null,null,"",null,null,null,null,null,null,null,null,null,null,null,null,null,null,"□","日曜日",false,""]
[null,null,null,null,null,null,null,null,null,null,null,null,null,null,null,null,null,null,null,null,null,null,null,null,null,null,null,null,null,"□","その他（送迎・移動支援）",false,"",null,null,null,"",null,null,null,{"$f":"IF(AN200,AM200,\"\")","v":""},null,null,null,{"$f":"IF(AR200,AQ200,\"\")","v":""},"□","その他（学び・趣味）",false,"",null,null,null,null,null,null,null,null,null,"","□","南区",false,"さいたま市:南区","",null,null,null,null,null,"",null,null,null,null,null,"",null,null,null,null,null,"",null,null,null,null,null,"",null,"□","嵐山町",false,"川越比企地域:嵐山町","",null,null,null,null,null,"",null,"□","宮代町",false,"利根地域:宮代町","",null,null,null,null,null,"",null,null,null,null,null,""]
[null,null,null,null,null,null,null,null,null,null,null,null,null,null,null,null,null,null,null,null,null,null,null,null,null,null,null,null,null,null,null,null,null,null,null,null,null,null,null,null,null,null,null,null,null,null,null,null,null,null,null,null,null,null,null,null,null,null,"","□","緑区",false,"さいたま市:緑区","",null,null,null,null,null,"",null,null,null,null,null,"",null,null,null,null,null,"",null,null,null,null,null,"",null,"□","小川町",false,"川越比企地域:小川町","",null,null,null,null,null,"",null,"□","杉戸町",false,"利根地域:杉戸町","",null,null,null,null,null,"",null,null,null,null,null,""]
[null,null,null,null,null,null,null,null,null,null,null,null,null,null,null,null,null,null,null,null,null,null,null,null,null,null,null,null,null,null,null,null,null,null,null,null,null,null,null,null,null,null,null,null,null,null,null,null,null,null,null,null,null,null,null,null,null,null,"","□","岩槻区",{"$f":"IF(BH202=\"☑\",TRUE)","v":false},"さいたま市:岩槻区","",null,null,null,null,null,"",null,null,null,null,null,"",null,null,null,null,null,"",null,null,null,null,null,"",null,"□","川島町",false,"川越比企地域:川島町","",null,null,null,null,null,"",null,null,null,null,null,"",null,null,null,null,null,"",null,null,null,null,null,""]
[null,null,null,null,null,null,null,null,null,null,null,null,null,null,null,null,null,null,null,null,null,null,null,null,null,null,null,null,null,null,null,null,null,null,null,null,null,null,null,null,null,null,null,null,null,null,null,null,null,null,null,null,null,null,null,null,null,null,{"$f":"IF(BE203,BF203,\"\")","v":""},null,null,null,null,null,null,null,null,null,null,null,null,null,null,null,null,null,null,null,null,null,null,null,null,null,null,null,null,null,null,"□","吉見町",false,"川越比企地域:吉見町","",null,null,null,null,null,"",null,null,null,null,null,"",null,null,null,null,null,"",null,null,null,null,null,""]
[null,null,null,null,null,null,null,null,null,null,null,null,null,null,null,null,null,null,null,null,null,null,null,null,null,null,null,null,null,null,null,null,null,null,null,null,null,null,null,null,null,null,null,null,null,null,null,null,null,null,null,null,null,null,null,null,null,null,"",null,null,null,null,null,null,null,null,null,null,null,null,null,null,null,null,null,null,null,null,null,null,null,null,null,null,null,null,null,null,"□","鳩山町",false,"川越比企地域:鳩山町","",null,null,null,null,null,"",null,null,null,null,null,"",null,null,null,null,null,"",null,null,null,null,null,""]
[null,null,null,null,null,null,null,null,null,null,null,null,null,null,null,null,null,null,null,null,null,null,null,null,null,null,null,null,null,null,null,null,null,null,null,null,null,null,null,null,null,null,null,null,null,null,null,null,null,null,null,null,null,null,null,null,null,null,"",null,null,null,null,null,null,null,null,null,null,null,null,null,null,null,null,null,null,null,null,null,null,null,null,null,null,null,null,null,null,"□","ときがわ町",false,"川越比企地域:ときがわ町","",null,null,null,null,null,"",null,null,null,null,null,"",null,null,null,null,null,"",null,null,null,null,null,""]
[null,null,null,null,null,null,null,null,null,null,null,null,null,null,null,null,null,null,null,null,null,null,null,null,null,null,null,null,null,null,null,null,null,null,null,null,null,null,null,null,null,null,null,null,null,null,null,null,null,null,null,null,null,null,null,null,null,null,"",null,null,null,null,null,null,null,null,null,null,null,null,null,null,null,null,null,null,null,null,null,null,null,null,null,null,null,null,null,null,"□","東秩父村",false,"川越比企地域:東秩父村","",null,null,null,null,null,"",null,null,null,null,null,"",null,null,null,null,null,"",null,null,null,null,null,""]
[14,null,null,null,null,null,null,null,null,null,null,null,null,null,null,null,null,null,null,null,null,"□","配送",{"$f":"IF(V207=\"☑\",TRUE)","v":false},{"$f":"IF(X207,W207,\"\")","v":""},"□","弁当配達",{"$f":"IF(Z207=\"☑\",TRUE)","v":false},{"$f":"IF(AB207,AA207,\"\")","v":""},"□","理容室・美容室（送迎）",{"$f":"IF(AD207=\"☑\",TRUE)","v":false},{"$f":"IF(AF207,AE207,\"\")","v":""},"□","家事代行",{"$f":"IF(AH207=\"☑\",TRUE)","v":false},{"$f":"IF(AJ207,AI207,\"\")","v":""},"□","フィットネス・ジム（運動）",{"$f":"IF(AL207=\"☑\",TRUE)","v":false},{"$f":"IF(AN207,AM207,\"\")","v":""},"□","車イス対応（バリアフリー）",{"$f":"IF(AP207=\"☑\",TRUE)","v":false},{"$f":"IF(AR207,AQ207,\"\")","v":""},"□","講座・教室・イベント",{"$f":"IF(AT207=\"☑\",TRUE)","v":false},{"$f":"IF(AV207,AU207,\"\")","v":""},"□","防犯・見守り",{"$f":"IF(AX207=\"☑\",TRUE)","v":false},{"$f":"IF(AZ207,AY207,\"\")","v":""},{"$f":"_xludf.TEXTJOIN(\",\",TRUE,Y207:Y220,AC207:AC220,AG207:AG220,AK207:AK220,AO207:AO220,AS207:AS220,AW207:AW220,BA207:BA220)","v":""},"□","埼玉県全域",{"$f":"IF(BC207=\"☑\",TRUE)","v":false},"さいたま市:西区,さいたま市:北区,さいたま市:大宮区,さいたま市:見沼区,さいたま市:中央区,さいたま市:桜区,さいたま市:浦和区,さいたま市:南区,さいたま市:緑区,さいたま市:岩槻区,南部地域:川口市,南部地域:蕨市,南部地域:戸田市,南西部地域:朝霞市,南西部地域:志木市,南西部地域:和光市,南西部地域:新座市,南西部地域:富士見市,南西部地域:ふじみ野市,南西部地域:三芳町,東部地域:春日部市,東部地域:草加市,東部地域:越谷市,東部地域:八潮市,東部地域:三郷市,東部地域:吉川市,東部地域:松伏町,県央地域:鴻巣市,県央地域:上尾市,県央地域:桶川市,県央地域:北本市,県央地域:伊奈町,川越比企地域:川越市,川越比企地域:東松山市,川越比企地域:坂戸市,川越比企地域:鶴ヶ島市,川越比企地域:毛呂山町,川越比企地域:越生町,川越比企地域:滑川町,川越比企地域:嵐山町,川越比企地域:小川町,川越比企地域:川島町,川越比企地域:吉見町,川越比企地域:鳩山町,川越比企地域:ときがわ町,川越比企地域:東秩父村,西部地域:所沢市,西部地域:飯能市,西部地域:狭山市,西部地域:入間市,西部地域:日高市,利根地域:行田市,利根地域:加須市,利根地域:羽生市,利根地域:久喜市,利根地域:蓮田市,利根地域:幸手市,利根地域:白岡市,利根地域:宮代町,利根地域:杉戸町,北部地域:熊谷市,北部地域:本庄市,北部地域:深谷市,北部地域:美里町,北部地域:神川町,北部地域:上里町,北部地域:寄居町,秩父地域:秩父市,秩父地域:横瀬町,秩父地域:皆野町,秩父地域:長瀞町,秩父地域:小鹿野町","","□","西区",{"$f":"IF(BH207=\"☑\",TRUE)","v":false},{"$f":"\"さいたま市:\"&BI207","v":"さいたま市:西区"},{"$f":"IF(BJ207,BK207,\"\")","v":""},{"$f":"_xludf.TEXTJOIN(\",\",TRUE,BL207:BL220)","v":""},"□","川口市",{"$f":"IF(BN207=\"☑\",TRUE)","v":false},{"$f":"\"南部地域:\"&BO207","v":"南部地域:川口市"},{"$f":"IF(BP207,BQ207,\"\")","v":""},{"$f":"_xludf.TEXTJOIN(\",\",TRUE,BR207:BR220)","v":""},"□","朝霞市",{"$f":"IF(BT207=\"☑\",TRUE)","v":false},{"$f":"\"南西部地域:\"&BU207","v":"南西部地域:朝霞市"},{"$f":"IF(BV207,BW207,\"\")","v":""},{"$f":"_xludf.TEXTJOIN(\",\",TRUE,BX207:BX220)","v":""},"□","春日部市",{"$f":"IF(BZ207=\"☑\",TRUE)","v":false},{"$f":"\"東部地域:\"&CA207","v":"東部地域:春日部市"},{"$f":"IF(CB207,CC207,\"\")","v":""},{"$f":"_xludf.TEXTJOIN(\",\",TRUE,CD207:CD220)","v":""},"□","鴻巣市",{"$f":"IF(CF207=\"☑\",TRUE)","v":false},{"$f":"\"県央地域:\"&CG207","v":"県央地域:鴻巣市"},{"$f":"IF(CH207,CI207,\"\")","v":""},{"$f":"_xludf.TEXTJOIN(\",\",TRUE,CJ207:CJ220)","v":""},"□","川越市",{"$f":"IF(CL207=\"☑\",TRUE)","v":false},{"$f":"\"川越比企地域:\"&CM207","v":"川越比企地域:川越市"},{"$f":"IF(CN207,CO207,\"\")","v":""},{"$f":"_xludf.TEXTJOIN(\",\",TRUE,CP207:CP220)","v":""},"□","所沢市",{"$f":"IF(CR207=\"☑\",TRUE)","v":false},{"$f":"\"西部地域:\"&CS207","v":"西部地域:所沢市"},{"$f":"IF(CT207,CU207,\"\")","v":""},{"$f":"_xludf.TEXTJOIN(\",\",TRUE,CV207:CV220)","v":""},"□","行田市",{"$f":"IF(CX207=\"☑\",TRUE)","v":false},{"$f":"\"利根地域:\"&CY207","v":"利根地域:行田市"},{"$f":"IF(CZ207,DA207,\"\")","v":""},{"$f":"_xludf.TEXTJOIN(\",\",TRUE,DB207:DB220)","v":""},"□","熊谷市",{"$f":"IF(DD207=\"☑\",TRUE)","v":false},{"$f":"\"北部地域:\"&DE207","v":"北部地域:熊谷市"},{"$f":"IF(DF207,DG207,\"\")","v":""},{"$f":"_xludf.TEXTJOIN(\",\",TRUE,DH207:DH220)","v":""},"□","秩父市",{"$f":"IF(DJ207=\"☑\",TRUE)","v":false},{"$f":"\"秩父地域:\"&DK207","v":"秩父地域:秩父市"},{"$f":"IF(DL207,DM207,\"\")","v":""},{"$f":"_xludf.TEXTJOIN(\",\",TRUE,DN207:DN220)","v":""},{"$f":"_xludf.TEXTJOIN(\",\",TRUE,BG207,BM207,BS207,BY207,CE207,CK207,CQ207,CW207,DC207,DI207,DO207)","v":""},null,null,null,null,null,null,null,null,null,null,null,null,"□","月曜日",{"$f":"IF(EC207=\"☑\",TRUE)","v":false},{"$f":"IF(EE207,ED207,\"\")","v":""},{"$f":"_xludf.TEXTJOIN(\",\",TRUE,EF207:EF220)","v":""},"□","午前（～12:00）",{"$f":"IF(EH207=\"☑\",TRUE)","v":false},{"$f":"IF(EJ207,EI207,\"\")","v":""},{"$f":"_xludf.TEXTJOIN(\",\",TRUE,EK207:EK220)","v":""},null,null,"□","彩の国「新しい生活様式」安心宣言",{"$f":"IF(EO207=\"☑\",TRUE)","v":false},{"$f":"IF(EQ207,EP207,\"\")","v":""},{"$f":"_xludf.TEXTJOIN(\",\",TRUE,ER207:ER220)","v":""},null,"",null,"",null,"",null,"",null,"",null,"",null,"",null,""]
[null,null,null,null,null,null,null,null,null,null,null,null,null,null,null,null,null,null,null,null,null,"□","買物サポート",false,"","□","料理デリバリー（出前）",false,"","□","フィットネス・ジム（送迎）",{"$f":"IF(AD208=\"☑\",TRUE)","v":false},{"$f":"IF(AF208,AE208,\"\")","v":""},"□","出張料理",{"$f":"IF(AH208=\"☑\",TRUE)","v":false},{"$f":"IF(AJ208,AI208,\"\")","v":""},"□","温泉・銭湯（たまり場）",false,"","□","多目的トイレ",false,"","□","習い事",{"$f":"IF(AT208=\"☑\",TRUE)","v":false},{"$f":"IF(AV208,AU208,\"\")","v":""},"□","金融・保険",false,"",null,null,null,null,null,"","□","北区",{"$f":"IF(BH208=\"☑\",TRUE)","v":false},{"$f":"\"さいたま市:\"&BI208","v":"さいたま市:北区"},{"$f":"IF(BJ208,BK208,\"\")","v":""},null,"□","蕨市",{"$f":"IF(BN208=\"☑\",TRUE)","v":false},{"$f":"\"南部地域:\"&BO208","v":"南部地域:蕨市"},{"$f":"IF(BP208,BQ208,\"\")","v":""},null,"□","志木市",{"$f":"IF(BT208=\"☑\",TRUE)","v":false},{"$f":"\"南西部地域:\"&BU208","v":"南西部地域:志木市"},{"$f":"IF(BV208,BW208,\"\")","v":""},null,"□","草加市",{"$f":"IF(BZ208=\"☑\",TRUE)","v":false},{"$f":"\"東部地域:\"&CA208","v":"東部地域:草加市"},"",null,"□","上尾市",{"$f":"IF(CF208=\"☑\",TRUE)","v":false},{"$f":"\"県央地域:\"&CG208","v":"県央地域:上尾市"},{"$f":"IF(CH208,CI208,\"\")","v":""},null,"□","東松山市",{"$f":"IF(CL208=\"☑\",TRUE)","v":false},{"$f":"\"川越比企地域:\"&CM208","v":"川越比企地域:東松山市"},{"$f":"IF(CN208,CO208,\"\")","v":""},null,"□","飯能市",{"$f":"IF(CR208=\"☑\",TRUE)","v":false},{"$f":"\"西部地域:\"&CS208","v":"西部地域:飯能市"},{"$f":"IF(CT208,CU208,\"\")","v":""},null,"□","加須市",{"$f":"IF(CX208=\"☑\",TRUE)","v":false},{"$f":"\"利根地域:\"&CY208","v":"利根地域:加須市"},{"$f":"IF(CZ208,DA208,\"\")","v":""},null,"□","本庄市",{"$f":"IF(DD208=\"☑\",TRUE)","v":false},{"$f":"\"北部地域:\"&DE208","v":"北部地域:本庄市"},{"$f":"IF(DF208,DG208,\"\")","v":""},null,"□","横瀬町",{"$f":"IF(DJ208=\"☑\",TRUE)","v":false},{"$f":"\"秩父地域:\"&DK208","v":"秩父地域:横瀬町"},{"$f":"IF(DL208,DM208,\"\")","v":""},null,null,null,null,null,null,null,null,null,null,null,null,null,null,"□","火曜日",{"$f":"IF(EC208=\"☑\",TRUE)","v":false},{"$f":"IF(EE208,ED208,\"\")","v":""},null,"□","午後（12:00～16：00）",{"$f":"IF(EH208=\"☑\",TRUE)","v":false},{"$f":"IF(EJ208,EI208,\"\")","v":""},null,null,null,null,"に基づき感染対策を実施している。",null,{"$f":"IF(EQ208,EP208,\"\")","v":""}]
[null,null,null,null,null,null,null,null,null,null,null,null,null,null,null,null,null,null,null,null,null,"□","買物代行",false,"","□","食材宅配",false,"","□","温泉・銭湯（送迎）",false,"","□","屋外作業・力仕事",false,"","□","カフェ・ファーストフード",false,"","□","休憩スペース",false,"","□","映画館",false,"","□","住宅・リフォーム",false,"",null,null,null,null,null,"","□","大宮区",false,"さいたま市:大宮区","",null,"□","戸田市",{"$f":"IF(BN209=\"☑\",TRUE)","v":false},{"$f":"\"南部地域:\"&BO209","v":"南部地域:戸田市"},"",null,"□","和光市",false,"南西部地域:和光市","",null,"□","越谷市",false,"東部地域:越谷市","",null,"□","桶川市",{"$f":"IF(CF209=\"☑\",TRUE)","v":false},{"$f":"\"県央地域:\"&CG209","v":"県央地域:桶川市"},"",null,"□","坂戸市",false,"川越比企地域:坂戸市","",null,"□","狭山市",{"$f":"IF(CR209=\"☑\",TRUE)","v":false},{"$f":"\"西部地域:\"&CS209","v":"西部地域:狭山市"},"",null,"□","羽生市",false,"利根地域:羽生市","",null,"□","深谷市",false,"北部地域:深谷市","",null,"□","皆野町",{"$f":"IF(DJ209=\"☑\",TRUE)","v":false},{"$f":"\"秩父地域:\"&DK209","v":"秩父地域:皆野町"},"",null,null,null,null,null,null,null,null,null,null,null,null,null,null,"□","水曜日",false,"",null,"□","夕方(16:00～18:00)",{"$f":"IF(EH209=\"☑\",TRUE)","v":false},{"$f":"IF(EJ209,EI209,\"\")","v":""},null,null,null,"□","各種団体が定める業種別ガイドライン",{"$f":"IF(EO209=\"☑\",TRUE)","v":false},{"$f":"IF(EQ209,EP209,\"\")","v":""}]
[null,null,null,null,null,null,null,null,null,null,null,null,null,null,null,null,null,null,null,null,null,"□","移動販売",false,"","□","日用品配達",false,"","□","整体・マッサージ（送迎）",false,"","□","整体・マッサージ（出張）",false,"","□","飲食店",false,"","□","駐車場",false,"","□","カラオケ店",false,"","□","パソコン・スマートフォン",false,"",null,null,null,null,null,"","□","見沼区",false,"さいたま市:見沼区","",null,null,null,null,null,"",null,"□","新座市",false,"南西部地域:新座市","",null,"□","八潮市",false,"東部地域:八潮市","",null,"□","北本市",{"$f":"IF(CF210=\"☑\",TRUE)","v":false},{"$f":"\"県央地域:\"&CG210","v":"県央地域:北本市"},"",null,"□","鶴ヶ島市",false,"川越比企地域:鶴ヶ島市","",null,"□","入間市",{"$f":"IF(CR210=\"☑\",TRUE)","v":false},{"$f":"\"西部地域:\"&CS210","v":"西部地域:入間市"},"",null,"□","久喜市",false,"利根地域:久喜市","",null,"□","美里町",false,"北部地域:美里町","",null,"□","長瀞町",{"$f":"IF(DJ210=\"☑\",TRUE)","v":false},{"$f":"\"秩父地域:\"&DK210","v":"秩父地域:長瀞町"},"",null,null,null,null,null,null,null,null,null,null,null,null,null,null,"□","木曜日",false,"",null,"□","夜(18:00～）",{"$f":"IF(EH210=\"☑\",TRUE)","v":false},{"$f":"IF(EJ210,EI210,\"\")","v":""},null,null,null,null,"に基づき感染対策を実施している。"]
[null,null,null,null,null,null,null,null,null,null,null,null,null,null,null,null,null,null,null,null,null,"□","割引サービス",false,"","□","薬・介護用品配達",false,"","□","乗り合いサービス",false,"","□","理容室・美容室（出張）",false,"","□","イートインスペース",false,"","□","貸しスペース",false,"","□","麻雀・将棋・囲碁",false,"","□","認知症サポート企業",false,"",null,null,null,null,null,"","□","中央区",false,"さいたま市:中央区","",null,null,null,null,null,"",null,"□","富士見市",false,"南西部地域:富士見市","",null,"□","三郷市",false,"東部地域:三郷市","",null,"□","伊奈町",{"$f":"IF(CF211=\"☑\",TRUE)","v":false},{"$f":"\"県央地域:\"&CG211","v":"県央地域:伊奈町"},"",null,"□","毛呂山町",false,"川越比企地域:毛呂山町","",null,"□","日高市",{"$f":"IF(CR211=\"☑\",TRUE)","v":false},{"$f":"\"西部地域:\"&CS211","v":"西部地域:日高市"},"",null,"□","蓮田市",false,"利根地域:蓮田市","",null,"□","神川町",false,"北部地域:神川町","",null,"□","小鹿野町",{"$f":"IF(DJ211=\"☑\",TRUE)","v":false},{"$f":"\"秩父地域:\"&DK211","v":"秩父地域:小鹿野町"},"",null,null,null,null,null,null,null,null,null,null,null,null,null,null,"□","金曜日",false,"",null,null,null,null,null,null,null,null,"□","その他の感染対策を実施している。",{"$f":"IF(EO211=\"☑\",TRUE)","v":false},{"$f":"IF(EQ211,EP211,\"\")","v":""}]
[null,null,null,null,null,null,null,null,null,null,null,null,null,null,null,null,null,null,null,null,null,"□","その他（買物）",false,"","□","その他（宅配・デリバリー）",false,"","□","個別移送サービス",false,"","□","ペット",false,"","□","その他（運動・たまり場）",false,"","□","その他（設備・施設・場所貸し）",false,"","□","ゲームセンター",false,"","□","その他（生活サービス）",false,"",null,null,null,null,null,"","□","桜区",false,"さいたま市:桜区","",null,null,null,null,null,"",null,"□","ふじみ野市",false,"南西部地域:ふじみ野市","",null,"□","吉川市",false,"東部地域:吉川市","",null,null,null,null,null,"",null,"□","越生町",false,"川越比企地域:越生町","",null,null,null,null,null,"",null,"□","幸手市",false,"利根地域:幸手市","",null,"□","上里町",false,"北部地域:上里町","",null,null,null,null,null,"",null,null,null,null,null,null,null,null,null,null,null,null,null,null,"□","土曜日",false,"",null,null,null,null,null,null,null,null,"□","感染対策を特に実施していない。",{"$f":"IF(EO212=\"☑\",TRUE)","v":false},{"$f":"IF(EQ212,EP212,\"\")","v":""}]
[null,null,null,null,null,null,null,null,null,null,null,null,null,null,null,null,null,null,null,null,null,null,null,null,null,null,null,null,null,"□","交通機関サービス",false,"","□","その他（出張サービス）",false,"",null,null,null,null,null,null,null,null,"□","旅行代理店",false,"",null,null,null,null,null,null,null,null,null,"","□","浦和区",false,"さいたま市:浦和区","",null,null,null,null,null,"",null,"□","三芳町",false,"南西部地域:三芳町","",null,"□","松伏町",false,"東部地域:松伏町","",null,null,null,null,null,"",null,"□","滑川町",false,"川越比企地域:滑川町","",null,null,null,null,null,"",null,"□","白岡市",false,"利根地域:白岡市","",null,"□","寄居町",false,"北部地域:寄居町","",null,null,null,null,null,"",null,null,null,null,null,null,null,null,null,null,null,null,null,null,"□","日曜日",false,""]
[null,null,null,null,null,null,null,null,null,null,null,null,null,null,null,null,null,null,null,null,null,null,null,null,null,null,null,null,null,"□","その他（送迎・移動支援）",false,"",null,null,null,"",null,null,null,{"$f":"IF(AN214,AM214,\"\")","v":""},null,null,null,{"$f":"IF(AR214,AQ214,\"\")","v":""},"□","その他（学び・趣味）",false,"",null,null,null,null,null,null,null,null,null,"","□","南区",false,"さいたま市:南区","",null,null,null,null,null,"",null,null,null,null,null,"",null,null,null,null,null,"",null,null,null,null,null,"",null,"□","嵐山町",false,"川越比企地域:嵐山町","",null,null,null,null,null,"",null,"□","宮代町",false,"利根地域:宮代町","",null,null,null,null,null,"",null,null,null,null,null,""]
[null,null,null,null,null,null,null,null,null,null,null,null,null,null,null,null,null,null,null,null,null,null,null,null,null,null,null,null,null,null,null,null,null,null,null,null,null,null,null,null,null,null,null,null,null,null,null,null,null,null,null,null,null,null,null,null,null,null,"","□","緑区",false,"さいたま市:緑区","",null,null,null,null,null,"",null,null,null,null,null,"",null,null,null,null,null,"",null,null,null,null,null,"",null,"□","小川町",false,"川越比企地域:小川町","",null,null,null,null,null,"",null,"□","杉戸町",false,"利根地域:杉戸町","",null,null,null,null,null,"",null,null,null,null,null,""]
[null,null,null,null,null,null,null,null,null,null,null,null,null,null,null,null,null,null,null,null,null,null,null,null,null,null,null,null,null,null,null,null,null,null,null,null,null,null,null,null,null,null,null,null,null,null,null,null,null,null,null,null,null,null,null,null,null,null,"","□","岩槻区",{"$f":"IF(BH216=\"☑\",TRUE)","v":false},"さいたま市:岩槻区","",null,null,null,null,null,"",null,null,null,null,null,"",null,null,null,null,null,"",null,null,null,null,null,"",null,"□","川島町",false,"川越比企地域:川島町","",null,null,null,null,null,"",null,null,null,null,null,"",null,null,null,null,null,"",null,null,null,null,null,""]
[null,null,null,null,null,null,null,null,null,null,null,null,null,null,null,null,null,null,null,null,null,null,null,null,null,null,null,null,null,null,null,null,null,null,null,null,null,null,null,null,null,null,null,null,null,null,null,null,null,null,null,null,null,null,null,null,null,null,"",null,null,null,null,null,null,null,null,null,null,null,null,null,null,null,null,null,null,null,null,null,null,null,null,null,null,null,null,null,null,"□","吉見町",false,"川越比企地域:吉見町","",null,null,null,null,null,"",null,null,null,null,null,"",null,null,null,null,null,"",null,null,null,null,null,""]
[null,null,null,null,null,null,null,null,null,null,null,null,null,null,null,null,null,null,null,null,null,null,null,null,null,null,null,null,null,null,null,null,null,null,null,null,null,null,null,null,null,null,null,null,null,null,null,null,null,null,null,null,null,null,null,null,null,null,"",null,null,null,null,null,null,null,null,null,null,null,null,null,null,null,null,null,null,null,null,null,null,null,null,null,null,null,null,null,null,"□","鳩山町",false,"川越比企地域:鳩山町","",null,null,null,null,null,"",null,null,null,null,null,"",null,null,null,null,null,"",null,null,null,null,null,""]
[null,null,null,null,null,null,null,null,null,null,null,null,null,null,null,null,null,null,null,null,null,null,null,null,null,null,null,null,null,null,null,null,null,null,null,null,null,null,null,null,null,null,null,null,null,null,null,null,null,null,null,null,null,null,null,null,null,null,"",null,null,null,null,null,null,null,null,null,null,null,null,null,null,null,null,null,null,null,null,null,null,null,null,null,null,null,null,null,null,"□","ときがわ町",false,"川越比企地域:ときがわ町","",null,null,null,null,null,"",null,null,null,null,null,"",null,null,null,null,null,"",null,null,null,null,null,""]
[null,null,null,null,null,null,null,null,null,null,null,null,null,null,null,null,null,null,null,null,null,null,null,null,null,null,null,null,null,null,null,null,null,null,null,null,null,null,null,null,null,null,null,null,null,null,null,null,null,null,null,null,null,null,null,null,null,null,"",null,null,null,null,null,null,null,null,null,null,null,null,null,null,null,null,null,null,null,null,null,null,null,null,null,null,null,null,null,null,"□","東秩父村",false,"川越比企地域:東秩父村","",null,null,null,null,null,"",null,null,null,null,null,"",null,null,null,null,null,"",null,null,null,null,null,""]
[15,null,null,null,null,null,null,null,null,null,null,null,null,null,null,null,null,null,null,null,null,"□","配送",{"$f":"IF(V221=\"☑\",TRUE)","v":false},{"$f":"IF(X221,W221,\"\")","v":""},"□","弁当配達",{"$f":"IF(Z221=\"☑\",TRUE)","v":false},{"$f":"IF(AB221,AA221,\"\")","v":""},"□","理容室・美容室（送迎）",{"$f":"IF(AD221=\"☑\",TRUE)","v":false},{"$f":"IF(AF221,AE221,\"\")","v":""},"□","家事代行",{"$f":"IF(AH221=\"☑\",TRUE)","v":false},{"$f":"IF(AJ221,AI221,\"\")","v":""},"□","フィットネス・ジム（運動）",{"$f":"IF(AL221=\"☑\",TRUE)","v":false},{"$f":"IF(AN221,AM221,\"\")","v":""},"□","車イス対応（バリアフリー）",{"$f":"IF(AP221=\"☑\",TRUE)","v":false},{"$f":"IF(AR221,AQ221,\"\")","v":""},"□","講座・教室・イベント",{"$f":"IF(AT221=\"☑\",TRUE)","v":false},{"$f":"IF(AV221,AU221,\"\")","v":""},"□","防犯・見守り",{"$f":"IF(AX221=\"☑\",TRUE)","v":false},{"$f":"IF(AZ221,AY221,\"\")","v":""},{"$f":"_xludf.TEXTJOIN(\",\",TRUE,Y221:Y234,AC221:AC234,AG221:AG234,AK221:AK234,AO221:AO234,AS221:AS234,AW221:AW234,BA221:BA234)","v":""},"□","埼玉県全域",{"$f":"IF(BC221=\"☑\",TRUE)","v":false},"さいたま市:西区,さいたま市:北区,さいたま市:大宮区,さいたま市:見沼区,さいたま市:中央区,さいたま市:桜区,さいたま市:浦和区,さいたま市:南区,さいたま市:緑区,さいたま市:岩槻区,南部地域:川口市,南部地域:蕨市,南部地域:戸田市,南西部地域:朝霞市,南西部地域:志木市,南西部地域:和光市,南西部地域:新座市,南西部地域:富士見市,南西部地域:ふじみ野市,南西部地域:三芳町,東部地域:春日部市,東部地域:草加市,東部地域:越谷市,東部地域:八潮市,東部地域:三郷市,東部地域:吉川市,東部地域:松伏町,県央地域:鴻巣市,県央地域:上尾市,県央地域:桶川市,県央地域:北本市,県央地域:伊奈町,川越比企地域:川越市,川越比企地域:東松山市,川越比企地域:坂戸市,川越比企地域:鶴ヶ島市,川越比企地域:毛呂山町,川越比企地域:越生町,川越比企地域:滑川町,川越比企地域:嵐山町,川越比企地域:小川町,川越比企地域:川島町,川越比企地域:吉見町,川越比企地域:鳩山町,川越比企地域:ときがわ町,川越比企地域:東秩父村,西部地域:所沢市,西部地域:飯能市,西部地域:狭山市,西部地域:入間市,西部地域:日高市,利根地域:行田市,利根地域:加須市,利根地域:羽生市,利根地域:久喜市,利根地域:蓮田市,利根地域:幸手市,利根地域:白岡市,利根地域:宮代町,利根地域:杉戸町,北部地域:熊谷市,北部地域:本庄市,北部地域:深谷市,北部地域:美里町,北部地域:神川町,北部地域:上里町,北部地域:寄居町,秩父地域:秩父市,秩父地域:横瀬町,秩父地域:皆野町,秩父地域:長瀞町,秩父地域:小鹿野町","","□","西区",{"$f":"IF(BH221=\"☑\",TRUE)","v":false},{"$f":"\"さいたま市:\"&BI221","v":"さいたま市:西区"},{"$f":"IF(BJ221,BK221,\"\")","v":""},{"$f":"_xludf.TEXTJOIN(\",\",TRUE,BL221:BL234)","v":""},"□","川口市",{"$f":"IF(BN221=\"☑\",TRUE)","v":false},{"$f":"\"南部地域:\"&BO221","v":"南部地域:川口市"},{"$f":"IF(BP221,BQ221,\"\")","v":""},{"$f":"_xludf.TEXTJOIN(\",\",TRUE,BR221:BR234)","v":""},"□","朝霞市",{"$f":"IF(BT221=\"☑\",TRUE)","v":false},{"$f":"\"南西部地域:\"&BU221","v":"南西部地域:朝霞市"},{"$f":"IF(BV221,BW221,\"\")","v":""},{"$f":"_xludf.TEXTJOIN(\",\",TRUE,BX221:BX234)","v":""},"□","春日部市",{"$f":"IF(BZ221=\"☑\",TRUE)","v":false},{"$f":"\"東部地域:\"&CA221","v":"東部地域:春日部市"},{"$f":"IF(CB221,CC221,\"\")","v":""},{"$f":"_xludf.TEXTJOIN(\",\",TRUE,CD221:CD234)","v":""},"□","鴻巣市",{"$f":"IF(CF221=\"☑\",TRUE)","v":false},{"$f":"\"県央地域:\"&CG221","v":"県央地域:鴻巣市"},{"$f":"IF(CH221,CI221,\"\")","v":""},{"$f":"_xludf.TEXTJOIN(\",\",TRUE,CJ221:CJ234)","v":""},"□","川越市",{"$f":"IF(CL221=\"☑\",TRUE)","v":false},{"$f":"\"川越比企地域:\"&CM221","v":"川越比企地域:川越市"},{"$f":"IF(CN221,CO221,\"\")","v":""},{"$f":"_xludf.TEXTJOIN(\",\",TRUE,CP221:CP234)","v":""},"□","所沢市",{"$f":"IF(CR221=\"☑\",TRUE)","v":false},{"$f":"\"西部地域:\"&CS221","v":"西部地域:所沢市"},{"$f":"IF(CT221,CU221,\"\")","v":""},{"$f":"_xludf.TEXTJOIN(\",\",TRUE,CV221:CV234)","v":""},"□","行田市",{"$f":"IF(CX221=\"☑\",TRUE)","v":false},{"$f":"\"利根地域:\"&CY221","v":"利根地域:行田市"},{"$f":"IF(CZ221,DA221,\"\")","v":""},{"$f":"_xludf.TEXTJOIN(\",\",TRUE,DB221:DB234)","v":""},"□","熊谷市",{"$f":"IF(DD221=\"☑\",TRUE)","v":false},{"$f":"\"北部地域:\"&DE221","v":"北部地域:熊谷市"},{"$f":"IF(DF221,DG221,\"\")","v":""},{"$f":"_xludf.TEXTJOIN(\",\",TRUE,DH221:DH234)","v":""},"□","秩父市",{"$f":"IF(DJ221=\"☑\",TRUE)","v":false},{"$f":"\"秩父地域:\"&DK221","v":"秩父地域:秩父市"},{"$f":"IF(DL221,DM221,\"\")","v":""},{"$f":"_xludf.TEXTJOIN(\",\",TRUE,DN221:DN234)","v":""},{"$f":"_xludf.TEXTJOIN(\",\",TRUE,BG221,BM221,BS221,BY221,CE221,CK221,CQ221,CW221,DC221,DI221,DO221)","v":""},null,null,null,null,null,null,null,null,null,null,null,null,"□","月曜日",{"$f":"IF(EC221=\"☑\",TRUE)","v":false},{"$f":"IF(EE221,ED221,\"\")","v":""},{"$f":"_xludf.TEXTJOIN(\",\",TRUE,EF221:EF234)","v":""},"□","午前（～12:00）",{"$f":"IF(EH221=\"☑\",TRUE)","v":false},{"$f":"IF(EJ221,EI221,\"\")","v":""},{"$f":"_xludf.TEXTJOIN(\",\",TRUE,EK221:EK234)","v":""},null,null,"□","彩の国「新しい生活様式」安心宣言",{"$f":"IF(EO221=\"☑\",TRUE)","v":false},{"$f":"IF(EQ221,EP221,\"\")","v":""},{"$f":"_xludf.TEXTJOIN(\",\",TRUE,ER221:ER234)","v":""},null,"",null,"",null,"",null,"",null,"",null,"",null,"",null,""]
[null,null,null,null,null,null,null,null,null,null,null,null,null,null,null,null,null,null,null,null,null,"□","買物サポート",false,"","□","料理デリバリー（出前）",false,"","□","フィットネス・ジム（送迎）",{"$f":"IF(AD222=\"☑\",TRUE)","v":false},{"$f":"IF(AF222,AE222,\"\")","v":""},"□","出張料理",{"$f":"IF(AH222=\"☑\",TRUE)","v":false},{"$f":"IF(AJ222,AI222,\"\")","v":""},"□","温泉・銭湯（たまり場）",false,"","□","多目的トイレ",false,"","□","習い事",{"$f":"IF(AT222=\"☑\",TRUE)","v":false},{"$f":"IF(AV222,AU222,\"\")","v":""},"□","金融・保険",false,"",null,null,null,null,null,"","□","北区",{"$f":"IF(BH222=\"☑\",TRUE)","v":false},{"$f":"\"さいたま市:\"&BI222","v":"さいたま市:北区"},{"$f":"IF(BJ222,BK222,\"\")","v":""},null,"□","蕨市",{"$f":"IF(BN222=\"☑\",TRUE)","v":false},{"$f":"\"南部地域:\"&BO222","v":"南部地域:蕨市"},{"$f":"IF(BP222,BQ222,\"\")","v":""},null,"□","志木市",{"$f":"IF(BT222=\"☑\",TRUE)","v":false},{"$f":"\"南西部地域:\"&BU222","v":"南西部地域:志木市"},{"$f":"IF(BV222,BW222,\"\")","v":""},null,"□","草加市",{"$f":"IF(BZ222=\"☑\",TRUE)","v":false},{"$f":"\"東部地域:\"&CA222","v":"東部地域:草加市"},"",null,"□","上尾市",{"$f":"IF(CF222=\"☑\",TRUE)","v":false},{"$f":"\"県央地域:\"&CG222","v":"県央地域:上尾市"},{"$f":"IF(CH222,CI222,\"\")","v":""},null,"□","東松山市",{"$f":"IF(CL222=\"☑\",TRUE)","v":false},{"$f":"\"川越比企地域:\"&CM222","v":"川越比企地域:東松山市"},{"$f":"IF(CN222,CO222,\"\")","v":""},null,"□","飯能市",{"$f":"IF(CR222=\"☑\",TRUE)","v":false},{"$f":"\"西部地域:\"&CS222","v":"西部地域:飯能市"},{"$f":"IF(CT222,CU222,\"\")","v":""},null,"□","加須市",{"$f":"IF(CX222=\"☑\",TRUE)","v":false},{"$f":"\"利根地域:\"&CY222","v":"利根地域:加須市"},{"$f":"IF(CZ222,DA222,\"\")","v":""},null,"□","本庄市",{"$f":"IF(DD222=\"☑\",TRUE)","v":false},{"$f":"\"北部地域:\"&DE222","v":"北部地域:本庄市"},{"$f":"IF(DF222,DG222,\"\")","v":""},null,"□","横瀬町",{"$f":"IF(DJ222=\"☑\",TRUE)","v":false},{"$f":"\"秩父地域:\"&DK222","v":"秩父地域:横瀬町"},{"$f":"IF(DL222,DM222,\"\")","v":""},null,null,null,null,null,null,null,null,null,null,null,null,null,null,"□","火曜日",{"$f":"IF(EC222=\"☑\",TRUE)","v":false},{"$f":"IF(EE222,ED222,\"\")","v":""},null,"□","午後（12:00～16：00）",{"$f":"IF(EH222=\"☑\",TRUE)","v":false},{"$f":"IF(EJ222,EI222,\"\")","v":""},null,null,null,null,"に基づき感染対策を実施している。",null,{"$f":"IF(EQ222,EP222,\"\")","v":""}]
[null,null,null,null,null,null,null,null,null,null,null,null,null,null,null,null,null,null,null,null,null,"□","買物代行",false,"","□","食材宅配",false,"","□","温泉・銭湯（送迎）",false,"","□","屋外作業・力仕事",false,"","□","カフェ・ファーストフード",false,"","□","休憩スペース",false,"","□","映画館",false,"","□","住宅・リフォーム",false,"",null,null,null,null,null,"","□","大宮区",false,"さいたま市:大宮区","",null,"□","戸田市",{"$f":"IF(BN223=\"☑\",TRUE)","v":false},{"$f":"\"南部地域:\"&BO223","v":"南部地域:戸田市"},"",null,"□","和光市",false,"南西部地域:和光市","",null,"□","越谷市",false,"東部地域:越谷市","",null,"□","桶川市",{"$f":"IF(CF223=\"☑\",TRUE)","v":false},{"$f":"\"県央地域:\"&CG223","v":"県央地域:桶川市"},"",null,"□","坂戸市",false,"川越比企地域:坂戸市","",null,"□","狭山市",{"$f":"IF(CR223=\"☑\",TRUE)","v":false},{"$f":"\"西部地域:\"&CS223","v":"西部地域:狭山市"},"",null,"□","羽生市",false,"利根地域:羽生市","",null,"□","深谷市",false,"北部地域:深谷市","",null,"□","皆野町",{"$f":"IF(DJ223=\"☑\",TRUE)","v":false},{"$f":"\"秩父地域:\"&DK223","v":"秩父地域:皆野町"},"",null,null,null,null,null,null,null,null,null,null,null,null,null,null,"□","水曜日",false,"",null,"□","夕方(16:00～18:00)",{"$f":"IF(EH223=\"☑\",TRUE)","v":false},{"$f":"IF(EJ223,EI223,\"\")","v":""},null,null,null,"□","各種団体が定める業種別ガイドライン",{"$f":"IF(EO223=\"☑\",TRUE)","v":false},{"$f":"IF(EQ223,EP223,\"\")","v":""}]
[null,null,null,null,null,null,null,null,null,null,null,null,null,null,null,null,null,null,null,null,null,"□","移動販売",false,"","□","日用品配達",false,"","□","整体・マッサージ（送迎）",false,"","□","整体・マッサージ（出張）",false,"","□","飲食店",false,"","□","駐車場",false,"","□","カラオケ店",false,"","□","パソコン・スマートフォン",false,"",null,null,null,null,null,"","□","見沼区",false,"さいたま市:見沼区","",null,null,null,null,null,"",null,"□","新座市",false,"南西部地域:新座市","",null,"□","八潮市",false,"東部地域:八潮市","",null,"□","北本市",{"$f":"IF(CF224=\"☑\",TRUE)","v":false},{"$f":"\"県央地域:\"&CG224","v":"県央地域:北本市"},"",null,"□","鶴ヶ島市",false,"川越比企地域:鶴ヶ島市","",null,"□","入間市",{"$f":"IF(CR224=\"☑\",TRUE)","v":false},{"$f":"\"西部地域:\"&CS224","v":"西部地域:入間市"},"",null,"□","久喜市",false,"利根地域:久喜市","",null,"□","美里町",false,"北部地域:美里町","",null,"□","長瀞町",{"$f":"IF(DJ224=\"☑\",TRUE)","v":false},{"$f":"\"秩父地域:\"&DK224","v":"秩父地域:長瀞町"},"",null,null,null,null,null,null,null,null,null,null,null,null,null,null,"□","木曜日",false,"",null,"□","夜(18:00～）",{"$f":"IF(EH224=\"☑\",TRUE)","v":false},{"$f":"IF(EJ224,EI224,\"\")","v":""},null,null,null,null,"に基づき感染対策を実施している。"]
[null,null,null,null,null,null,null,null,null,null,null,null,null,null,null,null,null,null,null,null,null,"□","割引サービス",false,"","□","薬・介護用品配達",false,"","□","乗り合いサービス",false,"","□","理容室・美容室（出張）",false,"","□","イートインスペース",false,"","□","貸しスペース",false,"","□","麻雀・将棋・囲碁",false,"","□","認知症サポート企業",false,"",null,null,null,null,null,"","□","中央区",false,"さいたま市:中央区","",null,null,null,null,null,"",null,"□","富士見市",false,"南西部地域:富士見市","",null,"□","三郷市",false,"東部地域:三郷市","",null,"□","伊奈町",{"$f":"IF(CF225=\"☑\",TRUE)","v":false},{"$f":"\"県央地域:\"&CG225","v":"県央地域:伊奈町"},"",null,"□","毛呂山町",false,"川越比企地域:毛呂山町","",null,"□","日高市",{"$f":"IF(CR225=\"☑\",TRUE)","v":false},{"$f":"\"西部地域:\"&CS225","v":"西部地域:日高市"},"",null,"□","蓮田市",false,"利根地域:蓮田市","",null,"□","神川町",false,"北部地域:神川町","",null,"□","小鹿野町",{"$f":"IF(DJ225=\"☑\",TRUE)","v":false},{"$f":"\"秩父地域:\"&DK225","v":"秩父地域:小鹿野町"},"",null,null,null,null,null,null,null,null,null,null,null,null,null,null,"□","金曜日",false,"",null,null,null,null,null,null,null,null,"□","その他の感染対策を実施している。",{"$f":"IF(EO225=\"☑\",TRUE)","v":false},{"$f":"IF(EQ225,EP225,\"\")","v":""}]
[null,null,null,null,null,null,null,null,null,null,null,null,null,null,null,null,null,null,null,null,null,"□","その他（買物）",false,"","□","その他（宅配・デリバリー）",false,"","□","個別移送サービス",false,"","□","ペット",false,"","□","その他（運動・たまり場）",false,"","□","その他（設備・施設・場所貸し）",false,"","□","ゲームセンター",false,"","□","その他（生活サービス）",false,"",null,null,null,null,null,"","□","桜区",false,"さいたま市:桜区","",null,null,null,null,null,"",null,"□","ふじみ野市",false,"南西部地域:ふじみ野市","",null,"□","吉川市",false,"東部地域:吉川市","",null,null,null,null,null,"",null,"□","越生町",false,"川越比企地域:越生町","",null,null,null,null,null,"",null,"□","幸手市",false,"利根地域:幸手市","",null,"□","上里町",false,"北部地域:上里町","",null,null,null,null,null,"",null,null,null,null,null,null,null,null,null,null,null,null,null,null,"□","土曜日",false,"",null,null,null,null,null,null,null,null,"□","感染対策を特に実施していない。",{"$f":"IF(EO226=\"☑\",TRUE)","v":false},{"$f":"IF(EQ226,EP226,\"\")","v":""}]
[null,null,null,null,null,null,null,null,null,null,null,null,null,null,null,null,null,null,null,null,null,null,null,null,null,null,null,null,null,"□","交通機関サービス",false,"","□","その他（出張サービス）",false,"",null,null,null,null,null,null,null,null,"□","旅行代理店",false,"",null,null,null,null,null,null,null,null,null,"","□","浦和区",false,"さいたま市:浦和区","",null,null,null,null,null,"",null,"□","三芳町",false,"南西部地域:三芳町","",null,"□","松伏町",false,"東部地域:松伏町","",null,null,null,null,null,"",null,"□","滑川町",false,"川越比企地域:滑川町","",null,null,null,null,null,"",null,"□","白岡市",false,"利根地域:白岡市","",null,"□","寄居町",false,"北部地域:寄居町","",null,null,null,null,null,"",null,null,null,null,null,null,null,null,null,null,null,null,null,null,"□","日曜日",false,""]
[null,null,null,null,null,null,null,null,null,null,null,null,null,null,null,null,null,null,null,null,null,null,null,null,null,null,null,null,null,"□","その他（送迎・移動支援）",false,"",null,null,null,"",null,null,null,{"$f":"IF(AN228,AM228,\"\")","v":""},null,null,null,{"$f":"IF(AR228,AQ228,\"\")","v":""},"□","その他（学び・趣味）",false,"",null,null,null,null,null,null,null,null,null,"","□","南区",false,"さいたま市:南区","",null,null,null,null,null,"",null,null,null,null,null,"",null,null,null,null,null,"",null,null,null,null,null,"",null,"□","嵐山町",false,"川越比企地域:嵐山町","",null,null,null,null,null,"",null,"□","宮代町",false,"利根地域:宮代町","",null,null,null,null,null,"",null,null,null,null,null,""]
[null,null,null,null,null,null,null,null,null,null,null,null,null,null,null,null,null,null,null,null,null,null,null,null,null,null,null,null,null,null,null,null,null,null,null,null,null,null,null,null,null,null,null,null,null,null,null,null,null,null,null,null,null,null,null,null,null,null,"","□","緑区",false,"さいたま市:緑区","",null,null,null,null,null,"",null,null,null,null,null,"",null,null,null,null,null,"",null,null,null,null,null,"",null,"□","小川町",false,"川越比企地域:小川町","",null,null,null,null,null,"",null,"□","杉戸町",false,"利根地域:杉戸町","",null,null,null,null,null,"",null,null,null,null,null,""]
[null,null,null,null,null,null,null,null,null,null,null,null,null,null,null,null,null,null,null,null,null,null,null,null,null,null,null,null,null,null,null,null,null,null,null,null,null,null,null,null,null,null,null,null,null,null,null,null,null,null,null,null,null,null,null,null,null,null,"","□","岩槻区",{"$f":"IF(BH230=\"☑\",TRUE)","v":false},"さいたま市:岩槻区","",null,null,null,null,null,"",null,null,null,null,null,"",null,null,null,null,null,"",null,null,null,null,null,"",null,"□","川島町",false,"川越比企地域:川島町","",null,null,null,null,null,"",null,null,null,null,null,"",null,null,null,null,null,"",null,null,null,null,null,""]
[null,null,null,null,null,null,null,null,null,null,null,null,null,null,null,null,null,null,null,null,null,null,null,null,null,null,null,null,null,null,null,null,null,null,null,null,null,null,null,null,null,null,null,null,null,null,null,null,null,null,null,null,null,null,null,null,null,null,"",null,null,null,null,null,null,null,null,null,null,null,null,null,null,null,null,null,null,null,null,null,null,null,null,null,null,null,null,null,null,"□","吉見町",false,"川越比企地域:吉見町","",null,null,null,null,null,"",null,null,null,null,null,"",null,null,null,null,null,"",null,null,null,null,null,""]
[null,null,null,null,null,null,null,null,null,null,null,null,null,null,null,null,null,null,null,null,null,null,null,null,null,null,null,null,null,null,null,null,null,null,null,null,null,null,null,null,null,null,null,null,null,null,null,null,null,null,null,null,null,null,null,null,null,null,"",null,null,null,null,null,null,null,null,null,null,null,null,null,null,null,null,null,null,null,null,null,null,null,null,null,null,null,null,null,null,"□","鳩山町",false,"川越比企地域:鳩山町","",null,null,null,null,null,"",null,null,null,null,null,"",null,null,null,null,null,"",null,null,null,null,null,""]
[null,null,null,null,null,null,null,null,null,null,null,null,null,null,null,null,null,null,null,null,null,null,null,null,null,null,null,null,null,null,null,null,null,null,null,null,null,null,null,null,null,null,null,null,null,null,null,null,null,null,null,null,null,null,null,null,null,null,"",null,null,null,null,null,null,null,null,null,null,null,null,null,null,null,null,null,null,null,null,null,null,null,null,null,null,null,null,null,null,"□","ときがわ町",false,"川越比企地域:ときがわ町","",null,null,null,null,null,"",null,null,null,null,null,"",null,null,null,null,null,"",null,null,null,null,null,""]
[null,null,null,null,null,null,null,null,null,null,null,null,null,null,null,null,null,null,null,null,null,null,null,null,null,null,null,null,null,null,null,null,null,null,null,null,null,null,null,null,null,null,null,null,null,null,null,null,null,null,null,null,null,null,null,null,null,null,"",null,null,null,null,null,null,null,null,null,null,null,null,null,null,null,null,null,null,null,null,null,null,null,null,null,null,null,null,null,null,"□","東秩父村",false,"川越比企地域:東秩父村","",null,null,null,null,null,"",null,null,null,null,null,"",null,null,null,null,null,"",null,null,null,null,null,""]
[16,null,null,null,null,null,null,null,null,null,null,null,null,null,null,null,null,null,null,null,null,"□","配送",{"$f":"IF(V235=\"☑\",TRUE)","v":false},{"$f":"IF(X235,W235,\"\")","v":""},"□","弁当配達",{"$f":"IF(Z235=\"☑\",TRUE)","v":false},{"$f":"IF(AB235,AA235,\"\")","v":""},"□","理容室・美容室（送迎）",{"$f":"IF(AD235=\"☑\",TRUE)","v":false},{"$f":"IF(AF235,AE235,\"\")","v":""},"□","家事代行",{"$f":"IF(AH235=\"☑\",TRUE)","v":false},{"$f":"IF(AJ235,AI235,\"\")","v":""},"□","フィットネス・ジム（運動）",{"$f":"IF(AL235=\"☑\",TRUE)","v":false},{"$f":"IF(AN235,AM235,\"\")","v":""},"□","車イス対応（バリアフリー）",{"$f":"IF(AP235=\"☑\",TRUE)","v":false},{"$f":"IF(AR235,AQ235,\"\")","v":""},"□","講座・教室・イベント",{"$f":"IF(AT235=\"☑\",TRUE)","v":false},{"$f":"IF(AV235,AU235,\"\")","v":""},"□","防犯・見守り",{"$f":"IF(AX235=\"☑\",TRUE)","v":false},{"$f":"IF(AZ235,AY235,\"\")","v":""},{"$f":"_xludf.TEXTJOIN(\",\",TRUE,Y235:Y248,AC235:AC248,AG235:AG248,AK235:AK248,AO235:AO248,AS235:AS248,AW235:AW248,BA235:BA248)","v":""},"□","埼玉県全域",{"$f":"IF(BC235=\"☑\",TRUE)","v":false},"さいたま市:西区,さいたま市:北区,さいたま市:大宮区,さいたま市:見沼区,さいたま市:中央区,さいたま市:桜区,さいたま市:浦和区,さいたま市:南区,さいたま市:緑区,さいたま市:岩槻区,南部地域:川口市,南部地域:蕨市,南部地域:戸田市,南西部地域:朝霞市,南西部地域:志木市,南西部地域:和光市,南西部地域:新座市,南西部地域:富士見市,南西部地域:ふじみ野市,南西部地域:三芳町,東部地域:春日部市,東部地域:草加市,東部地域:越谷市,東部地域:八潮市,東部地域:三郷市,東部地域:吉川市,東部地域:松伏町,県央地域:鴻巣市,県央地域:上尾市,県央地域:桶川市,県央地域:北本市,県央地域:伊奈町,川越比企地域:川越市,川越比企地域:東松山市,川越比企地域:坂戸市,川越比企地域:鶴ヶ島市,川越比企地域:毛呂山町,川越比企地域:越生町,川越比企地域:滑川町,川越比企地域:嵐山町,川越比企地域:小川町,川越比企地域:川島町,川越比企地域:吉見町,川越比企地域:鳩山町,川越比企地域:ときがわ町,川越比企地域:東秩父村,西部地域:所沢市,西部地域:飯能市,西部地域:狭山市,西部地域:入間市,西部地域:日高市,利根地域:行田市,利根地域:加須市,利根地域:羽生市,利根地域:久喜市,利根地域:蓮田市,利根地域:幸手市,利根地域:白岡市,利根地域:宮代町,利根地域:杉戸町,北部地域:熊谷市,北部地域:本庄市,北部地域:深谷市,北部地域:美里町,北部地域:神川町,北部地域:上里町,北部地域:寄居町,秩父地域:秩父市,秩父地域:横瀬町,秩父地域:皆野町,秩父地域:長瀞町,秩父地域:小鹿野町","","□","西区",{"$f":"IF(BH235=\"☑\",TRUE)","v":false},{"$f":"\"さいたま市:\"&BI235","v":"さいたま市:西区"},{"$f":"IF(BJ235,BK235,\"\")","v":""},{"$f":"_xludf.TEXTJOIN(\",\",TRUE,BL235:BL248)","v":""},"□","川口市",{"$f":"IF(BN235=\"☑\",TRUE)","v":false},{"$f":"\"南部地域:\"&BO235","v":"南部地域:川口市"},{"$f":"IF(BP235,BQ235,\"\")","v":""},{"$f":"_xludf.TEXTJOIN(\",\",TRUE,BR235:BR248)","v":""},"□","朝霞市",{"$f":"IF(BT235=\"☑\",TRUE)","v":false},{"$f":"\"南西部地域:\"&BU235","v":"南西部地域:朝霞市"},{"$f":"IF(BV235,BW235,\"\")","v":""},{"$f":"_xludf.TEXTJOIN(\",\",TRUE,BX235:BX248)","v":""},"□","春日部市",{"$f":"IF(BZ235=\"☑\",TRUE)","v":false},{"$f":"\"東部地域:\"&CA235","v":"東部地域:春日部市"},{"$f":"IF(CB235,CC235,\"\")","v":""},{"$f":"_xludf.TEXTJOIN(\",\",TRUE,CD235:CD248)","v":""},"□","鴻巣市",{"$f":"IF(CF235=\"☑\",TRUE)","v":false},{"$f":"\"県央地域:\"&CG235","v":"県央地域:鴻巣市"},{"$f":"IF(CH235,CI235,\"\")","v":""},{"$f":"_xludf.TEXTJOIN(\",\",TRUE,CJ235:CJ248)","v":""},"□","川越市",{"$f":"IF(CL235=\"☑\",TRUE)","v":false},{"$f":"\"川越比企地域:\"&CM235","v":"川越比企地域:川越市"},{"$f":"IF(CN235,CO235,\"\")","v":""},{"$f":"_xludf.TEXTJOIN(\",\",TRUE,CP235:CP248)","v":""},"□","所沢市",{"$f":"IF(CR235=\"☑\",TRUE)","v":false},{"$f":"\"西部地域:\"&CS235","v":"西部地域:所沢市"},{"$f":"IF(CT235,CU235,\"\")","v":""},{"$f":"_xludf.TEXTJOIN(\",\",TRUE,CV235:CV248)","v":""},"□","行田市",{"$f":"IF(CX235=\"☑\",TRUE)","v":false},{"$f":"\"利根地域:\"&CY235","v":"利根地域:行田市"},{"$f":"IF(CZ235,DA235,\"\")","v":""},{"$f":"_xludf.TEXTJOIN(\",\",TRUE,DB235:DB248)","v":""},"□","熊谷市",{"$f":"IF(DD235=\"☑\",TRUE)","v":false},{"$f":"\"北部地域:\"&DE235","v":"北部地域:熊谷市"},{"$f":"IF(DF235,DG235,\"\")","v":""},{"$f":"_xludf.TEXTJOIN(\",\",TRUE,DH235:DH248)","v":""},"□","秩父市",{"$f":"IF(DJ235=\"☑\",TRUE)","v":false},{"$f":"\"秩父地域:\"&DK235","v":"秩父地域:秩父市"},{"$f":"IF(DL235,DM235,\"\")","v":""},{"$f":"_xludf.TEXTJOIN(\",\",TRUE,DN235:DN248)","v":""},{"$f":"_xludf.TEXTJOIN(\",\",TRUE,BG235,BM235,BS235,BY235,CE235,CK235,CQ235,CW235,DC235,DI235,DO235)","v":""},null,null,null,null,null,null,null,null,null,null,null,null,"□","月曜日",{"$f":"IF(EC235=\"☑\",TRUE)","v":false},{"$f":"IF(EE235,ED235,\"\")","v":""},{"$f":"_xludf.TEXTJOIN(\",\",TRUE,EF235:EF248)","v":""},"□","午前（～12:00）",{"$f":"IF(EH235=\"☑\",TRUE)","v":false},{"$f":"IF(EJ235,EI235,\"\")","v":""},{"$f":"_xludf.TEXTJOIN(\",\",TRUE,EK235:EK248)","v":""},null,null,"□","彩の国「新しい生活様式」安心宣言",{"$f":"IF(EO235=\"☑\",TRUE)","v":false},{"$f":"IF(EQ235,EP235,\"\")","v":""},{"$f":"_xludf.TEXTJOIN(\",\",TRUE,ER235:ER248)","v":""},null,"",null,"",null,"",null,"",null,"",null,"",null,"",null,""]
[null,null,null,null,null,null,null,null,null,null,null,null,null,null,null,null,null,null,null,null,null,"□","買物サポート",false,"","□","料理デリバリー（出前）",false,"","□","フィットネス・ジム（送迎）",{"$f":"IF(AD236=\"☑\",TRUE)","v":false},{"$f":"IF(AF236,AE236,\"\")","v":""},"□","出張料理",{"$f":"IF(AH236=\"☑\",TRUE)","v":false},{"$f":"IF(AJ236,AI236,\"\")","v":""},"□","温泉・銭湯（たまり場）",false,"","□","多目的トイレ",false,"","□","習い事",{"$f":"IF(AT236=\"☑\",TRUE)","v":false},{"$f":"IF(AV236,AU236,\"\")","v":""},"□","金融・保険",false,"",null,null,null,null,null,"","□","北区",{"$f":"IF(BH236=\"☑\",TRUE)","v":false},{"$f":"\"さいたま市:\"&BI236","v":"さいたま市:北区"},{"$f":"IF(BJ236,BK236,\"\")","v":""},null,"□","蕨市",{"$f":"IF(BN236=\"☑\",TRUE)","v":false},{"$f":"\"南部地域:\"&BO236","v":"南部地域:蕨市"},{"$f":"IF(BP236,BQ236,\"\")","v":""},null,"□","志木市",{"$f":"IF(BT236=\"☑\",TRUE)","v":false},{"$f":"\"南西部地域:\"&BU236","v":"南西部地域:志木市"},{"$f":"IF(BV236,BW236,\"\")","v":""},null,"□","草加市",{"$f":"IF(BZ236=\"☑\",TRUE)","v":false},{"$f":"\"東部地域:\"&CA236","v":"東部地域:草加市"},"",null,"□","上尾市",{"$f":"IF(CF236=\"☑\",TRUE)","v":false},{"$f":"\"県央地域:\"&CG236","v":"県央地域:上尾市"},{"$f":"IF(CH236,CI236,\"\")","v":""},null,"□","東松山市",{"$f":"IF(CL236=\"☑\",TRUE)","v":false},{"$f":"\"川越比企地域:\"&CM236","v":"川越比企地域:東松山市"},{"$f":"IF(CN236,CO236,\"\")","v":""},null,"□","飯能市",{"$f":"IF(CR236=\"☑\",TRUE)","v":false},{"$f":"\"西部地域:\"&CS236","v":"西部地域:飯能市"},{"$f":"IF(CT236,CU236,\"\")","v":""},null,"□","加須市",{"$f":"IF(CX236=\"☑\",TRUE)","v":false},{"$f":"\"利根地域:\"&CY236","v":"利根地域:加須市"},{"$f":"IF(CZ236,DA236,\"\")","v":""},null,"□","本庄市",{"$f":"IF(DD236=\"☑\",TRUE)","v":false},{"$f":"\"北部地域:\"&DE236","v":"北部地域:本庄市"},{"$f":"IF(DF236,DG236,\"\")","v":""},null,"□","横瀬町",{"$f":"IF(DJ236=\"☑\",TRUE)","v":false},{"$f":"\"秩父地域:\"&DK236","v":"秩父地域:横瀬町"},{"$f":"IF(DL236,DM236,\"\")","v":""},null,null,null,null,null,null,null,null,null,null,null,null,null,null,"□","火曜日",{"$f":"IF(EC236=\"☑\",TRUE)","v":false},{"$f":"IF(EE236,ED236,\"\")","v":""},null,"□","午後（12:00～16：00）",{"$f":"IF(EH236=\"☑\",TRUE)","v":false},{"$f":"IF(EJ236,EI236,\"\")","v":""},null,null,null,null,"に基づき感染対策を実施している。",null,{"$f":"IF(EQ236,EP236,\"\")","v":""}]
[null,null,null,null,null,null,null,null,null,null,null,null,null,null,null,null,null,null,null,null,null,"□","買物代行",false,"","□","食材宅配",false,"","□","温泉・銭湯（送迎）",false,"","□","屋外作業・力仕事",false,"","□","カフェ・ファーストフード",false,"","□","休憩スペース",false,"","□","映画館",false,"","□","住宅・リフォーム",false,"",null,null,null,null,null,"","□","大宮区",false,"さいたま市:大宮区","",null,"□","戸田市",{"$f":"IF(BN237=\"☑\",TRUE)","v":false},{"$f":"\"南部地域:\"&BO237","v":"南部地域:戸田市"},"",null,"□","和光市",false,"南西部地域:和光市","",null,"□","越谷市",false,"東部地域:越谷市","",null,"□","桶川市",{"$f":"IF(CF237=\"☑\",TRUE)","v":false},{"$f":"\"県央地域:\"&CG237","v":"県央地域:桶川市"},"",null,"□","坂戸市",false,"川越比企地域:坂戸市","",null,"□","狭山市",{"$f":"IF(CR237=\"☑\",TRUE)","v":false},{"$f":"\"西部地域:\"&CS237","v":"西部地域:狭山市"},"",null,"□","羽生市",false,"利根地域:羽生市","",null,"□","深谷市",false,"北部地域:深谷市","",null,"□","皆野町",{"$f":"IF(DJ237=\"☑\",TRUE)","v":false},{"$f":"\"秩父地域:\"&DK237","v":"秩父地域:皆野町"},"",null,null,null,null,null,null,null,null,null,null,null,null,null,null,"□","水曜日",false,"",null,"□","夕方(16:00～18:00)",{"$f":"IF(EH237=\"☑\",TRUE)","v":false},{"$f":"IF(EJ237,EI237,\"\")","v":""},null,null,null,"□","各種団体が定める業種別ガイドライン",{"$f":"IF(EO237=\"☑\",TRUE)","v":false},{"$f":"IF(EQ237,EP237,\"\")","v":""}]
[null,null,null,null,null,null,null,null,null,null,null,null,null,null,null,null,null,null,null,null,null,"□","移動販売",false,"","□","日用品配達",false,"","□","整体・マッサージ（送迎）",false,"","□","整体・マッサージ（出張）",false,"","□","飲食店",false,"","□","駐車場",false,"","□","カラオケ店",false,"","□","パソコン・スマートフォン",false,"",null,null,null,null,null,"","□","見沼区",false,"さいたま市:見沼区","",null,null,null,null,null,"",null,"□","新座市",false,"南西部地域:新座市","",null,"□","八潮市",false,"東部地域:八潮市","",null,"□","北本市",{"$f":"IF(CF238=\"☑\",TRUE)","v":false},{"$f":"\"県央地域:\"&CG238","v":"県央地域:北本市"},"",null,"□","鶴ヶ島市",false,"川越比企地域:鶴ヶ島市","",null,"□","入間市",{"$f":"IF(CR238=\"☑\",TRUE)","v":false},{"$f":"\"西部地域:\"&CS238","v":"西部地域:入間市"},"",null,"□","久喜市",false,"利根地域:久喜市","",null,"□","美里町",false,"北部地域:美里町","",null,"□","長瀞町",{"$f":"IF(DJ238=\"☑\",TRUE)","v":false},{"$f":"\"秩父地域:\"&DK238","v":"秩父地域:長瀞町"},"",null,null,null,null,null,null,null,null,null,null,null,null,null,null,"□","木曜日",false,"",null,"□","夜(18:00～）",{"$f":"IF(EH238=\"☑\",TRUE)","v":false},{"$f":"IF(EJ238,EI238,\"\")","v":""},null,null,null,null,"に基づき感染対策を実施している。"]
[null,null,null,null,null,null,null,null,null,null,null,null,null,null,null,null,null,null,null,null,null,"□","割引サービス",false,"","□","薬・介護用品配達",false,"","□","乗り合いサービス",false,"","□","理容室・美容室（出張）",false,"","□","イートインスペース",false,"","□","貸しスペース",false,"","□","麻雀・将棋・囲碁",false,"","□","認知症サポート企業",false,"",null,null,null,null,null,"","□","中央区",false,"さいたま市:中央区","",null,null,null,null,null,"",null,"□","富士見市",false,"南西部地域:富士見市","",null,"□","三郷市",false,"東部地域:三郷市","",null,"□","伊奈町",{"$f":"IF(CF239=\"☑\",TRUE)","v":false},{"$f":"\"県央地域:\"&CG239","v":"県央地域:伊奈町"},"",null,"□","毛呂山町",false,"川越比企地域:毛呂山町","",null,"□","日高市",{"$f":"IF(CR239=\"☑\",TRUE)","v":false},{"$f":"\"西部地域:\"&CS239","v":"西部地域:日高市"},"",null,"□","蓮田市",false,"利根地域:蓮田市","",null,"□","神川町",false,"北部地域:神川町","",null,"□","小鹿野町",{"$f":"IF(DJ239=\"☑\",TRUE)","v":false},{"$f":"\"秩父地域:\"&DK239","v":"秩父地域:小鹿野町"},"",null,null,null,null,null,null,null,null,null,null,null,null,null,null,"□","金曜日",false,"",null,null,null,null,null,null,null,null,"□","その他の感染対策を実施している。",{"$f":"IF(EO239=\"☑\",TRUE)","v":false},{"$f":"IF(EQ239,EP239,\"\")","v":""}]
[null,null,null,null,null,null,null,null,null,null,null,null,null,null,null,null,null,null,null,null,null,"□","その他（買物）",false,"","□","その他（宅配・デリバリー）",false,"","□","個別移送サービス",false,"","□","ペット",false,"","□","その他（運動・たまり場）",false,"","□","その他（設備・施設・場所貸し）",false,"","□","ゲームセンター",false,"","□","その他（生活サービス）",false,"",null,null,null,null,null,"","□","桜区",false,"さいたま市:桜区","",null,null,null,null,null,"",null,"□","ふじみ野市",false,"南西部地域:ふじみ野市","",null,"□","吉川市",false,"東部地域:吉川市","",null,null,null,null,null,"",null,"□","越生町",false,"川越比企地域:越生町","",null,null,null,null,null,"",null,"□","幸手市",false,"利根地域:幸手市","",null,"□","上里町",false,"北部地域:上里町","",null,null,null,null,null,"",null,null,null,null,null,null,null,null,null,null,null,null,null,null,"□","土曜日",false,"",null,null,null,null,null,null,null,null,"□","感染対策を特に実施していない。",{"$f":"IF(EO240=\"☑\",TRUE)","v":false},{"$f":"IF(EQ240,EP240,\"\")","v":""}]
[null,null,null,null,null,null,null,null,null,null,null,null,null,null,null,null,null,null,null,null,null,null,null,null,null,null,null,null,null,"□","交通機関サービス",false,"","□","その他（出張サービス）",false,"",null,null,null,null,null,null,null,null,"□","旅行代理店",false,"",null,null,null,null,null,null,null,null,null,"","□","浦和区",false,"さいたま市:浦和区","",null,null,null,null,null,"",null,"□","三芳町",false,"南西部地域:三芳町","",null,"□","松伏町",false,"東部地域:松伏町","",null,null,null,null,null,"",null,"□","滑川町",false,"川越比企地域:滑川町","",null,null,null,null,null,"",null,"□","白岡市",false,"利根地域:白岡市","",null,"□","寄居町",false,"北部地域:寄居町","",null,null,null,null,null,"",null,null,null,null,null,null,null,null,null,null,null,null,null,null,"□","日曜日",false,""]
[null,null,null,null,null,null,null,null,null,null,null,null,null,null,null,null,null,null,null,null,null,null,null,null,null,null,null,null,null,"□","その他（送迎・移動支援）",false,"",null,null,null,"",null,null,null,{"$f":"IF(AN242,AM242,\"\")","v":""},null,null,null,{"$f":"IF(AR242,AQ242,\"\")","v":""},"□","その他（学び・趣味）",false,"",null,null,null,null,null,null,null,null,null,"","□","南区",false,"さいたま市:南区","",null,null,null,null,null,"",null,null,null,null,null,"",null,null,null,null,null,"",null,null,null,null,null,"",null,"□","嵐山町",false,"川越比企地域:嵐山町","",null,null,null,null,null,"",null,"□","宮代町",false,"利根地域:宮代町","",null,null,null,null,null,"",null,null,null,null,null,""]
[null,null,null,null,null,null,null,null,null,null,null,null,null,null,null,null,null,null,null,null,null,null,null,null,null,null,null,null,null,null,null,null,null,null,null,null,null,null,null,null,null,null,null,null,null,null,null,null,null,null,null,null,null,null,null,null,null,null,"","□","緑区",false,"さいたま市:緑区","",null,null,null,null,null,"",null,null,null,null,null,"",null,null,null,null,null,"",null,null,null,null,null,"",null,"□","小川町",false,"川越比企地域:小川町","",null,null,null,null,null,"",null,"□","杉戸町",false,"利根地域:杉戸町","",null,null,null,null,null,"",null,null,null,null,null,""]
[null,null,null,null,null,null,null,null,null,null,null,null,null,null,null,null,null,null,null,null,null,null,null,null,null,null,null,null,null,null,null,null,null,null,null,null,null,null,null,null,null,null,null,null,null,null,null,null,null,null,null,null,null,null,null,null,null,null,"","□","岩槻区",{"$f":"IF(BH244=\"☑\",TRUE)","v":false},"さいたま市:岩槻区","",null,null,null,null,null,"",null,null,null,null,null,"",null,null,null,null,null,"",null,null,null,null,null,"",null,"□","川島町",false,"川越比企地域:川島町","",null,null,null,null,null,"",null,null,null,null,null,"",null,null,null,null,null,"",null,null,null,null,null,""]
[null,null,null,null,null,null,null,null,null,null,null,null,null,null,null,null,null,null,null,null,null,null,null,null,null,null,null,null,null,null,null,null,null,null,null,null,null,null,null,null,null,null,null,null,null,null,null,null,null,null,null,null,null,null,null,null,null,null,"",null,null,null,null,null,null,null,null,null,null,null,null,null,null,null,null,null,null,null,null,null,null,null,null,null,null,null,null,null,null,"□","吉見町",false,"川越比企地域:吉見町","",null,null,null,null,null,"",null,null,null,null,null,"",null,null,null,null,null,"",null,null,null,null,null,""]
[null,null,null,null,null,null,null,null,null,null,null,null,null,null,null,null,null,null,null,null,null,null,null,null,null,null,null,null,null,null,null,null,null,null,null,null,null,null,null,null,null,null,null,null,null,null,null,null,null,null,null,null,null,null,null,null,null,null,"",null,null,null,null,null,null,null,null,null,null,null,null,null,null,null,null,null,null,null,null,null,null,null,null,null,null,null,null,null,null,"□","鳩山町",false,"川越比企地域:鳩山町","",null,null,null,null,null,"",null,null,null,null,null,"",null,null,null,null,null,"",null,null,null,null,null,""]
[null,null,null,null,null,null,null,null,null,null,null,null,null,null,null,null,null,null,null,null,null,null,null,null,null,null,null,null,null,null,null,null,null,null,null,null,null,null,null,null,null,null,null,null,null,null,null,null,null,null,null,null,null,null,null,null,null,null,"",null,null,null,null,null,null,null,null,null,null,null,null,null,null,null,null,null,null,null,null,null,null,null,null,null,null,null,null,null,null,"□","ときがわ町",false,"川越比企地域:ときがわ町","",null,null,null,null,null,"",null,null,null,null,null,"",null,null,null,null,null,"",null,null,null,null,null,""]
[null,null,null,null,null,null,null,null,null,null,null,null,null,null,null,null,null,null,null,null,null,null,null,null,null,null,null,null,null,null,null,null,null,null,null,null,null,null,null,null,null,null,null,null,null,null,null,null,null,null,null,null,null,null,null,null,null,null,"",null,null,null,null,null,null,null,null,null,null,null,null,null,null,null,null,null,null,null,null,null,null,null,null,null,null,null,null,null,null,"□","東秩父村",false,"川越比企地域:東秩父村","",null,null,null,null,null,"",null,null,null,null,null,"",null,null,null,null,null,"",null,null,null,null,null,""]
[17,null,null,null,null,null,null,null,null,null,null,null,null,null,null,null,null,null,null,null,null,"□","配送",{"$f":"IF(V249=\"☑\",TRUE)","v":false},{"$f":"IF(X249,W249,\"\")","v":""},"□","弁当配達",{"$f":"IF(Z249=\"☑\",TRUE)","v":false},{"$f":"IF(AB249,AA249,\"\")","v":""},"□","理容室・美容室（送迎）",{"$f":"IF(AD249=\"☑\",TRUE)","v":false},{"$f":"IF(AF249,AE249,\"\")","v":""},"□","家事代行",{"$f":"IF(AH249=\"☑\",TRUE)","v":false},{"$f":"IF(AJ249,AI249,\"\")","v":""},"□","フィットネス・ジム（運動）",{"$f":"IF(AL249=\"☑\",TRUE)","v":false},{"$f":"IF(AN249,AM249,\"\")","v":""},"□","車イス対応（バリアフリー）",{"$f":"IF(AP249=\"☑\",TRUE)","v":false},{"$f":"IF(AR249,AQ249,\"\")","v":""},"□","講座・教室・イベント",{"$f":"IF(AT249=\"☑\",TRUE)","v":false},{"$f":"IF(AV249,AU249,\"\")","v":""},"□","防犯・見守り",{"$f":"IF(AX249=\"☑\",TRUE)","v":false},{"$f":"IF(AZ249,AY249,\"\")","v":""},{"$f":"_xludf.TEXTJOIN(\",\",TRUE,Y249:Y262,AC249:AC262,AG249:AG262,AK249:AK262,AO249:AO262,AS249:AS262,AW249:AW262,BA249:BA262)","v":""},"□","埼玉県全域",{"$f":"IF(BC249=\"☑\",TRUE)","v":false},"さいたま市:西区,さいたま市:北区,さいたま市:大宮区,さいたま市:見沼区,さいたま市:中央区,さいたま市:桜区,さいたま市:浦和区,さいたま市:南区,さいたま市:緑区,さいたま市:岩槻区,南部地域:川口市,南部地域:蕨市,南部地域:戸田市,南西部地域:朝霞市,南西部地域:志木市,南西部地域:和光市,南西部地域:新座市,南西部地域:富士見市,南西部地域:ふじみ野市,南西部地域:三芳町,東部地域:春日部市,東部地域:草加市,東部地域:越谷市,東部地域:八潮市,東部地域:三郷市,東部地域:吉川市,東部地域:松伏町,県央地域:鴻巣市,県央地域:上尾市,県央地域:桶川市,県央地域:北本市,県央地域:伊奈町,川越比企地域:川越市,川越比企地域:東松山市,川越比企地域:坂戸市,川越比企地域:鶴ヶ島市,川越比企地域:毛呂山町,川越比企地域:越生町,川越比企地域:滑川町,川越比企地域:嵐山町,川越比企地域:小川町,川越比企地域:川島町,川越比企地域:吉見町,川越比企地域:鳩山町,川越比企地域:ときがわ町,川越比企地域:東秩父村,西部地域:所沢市,西部地域:飯能市,西部地域:狭山市,西部地域:入間市,西部地域:日高市,利根地域:行田市,利根地域:加須市,利根地域:羽生市,利根地域:久喜市,利根地域:蓮田市,利根地域:幸手市,利根地域:白岡市,利根地域:宮代町,利根地域:杉戸町,北部地域:熊谷市,北部地域:本庄市,北部地域:深谷市,北部地域:美里町,北部地域:神川町,北部地域:上里町,北部地域:寄居町,秩父地域:秩父市,秩父地域:横瀬町,秩父地域:皆野町,秩父地域:長瀞町,秩父地域:小鹿野町","","□","西区",{"$f":"IF(BH249=\"☑\",TRUE)","v":false},{"$f":"\"さいたま市:\"&BI249","v":"さいたま市:西区"},{"$f":"IF(BJ249,BK249,\"\")","v":""},{"$f":"_xludf.TEXTJOIN(\",\",TRUE,BL249:BL262)","v":""},"□","川口市",{"$f":"IF(BN249=\"☑\",TRUE)","v":false},{"$f":"\"南部地域:\"&BO249","v":"南部地域:川口市"},{"$f":"IF(BP249,BQ249,\"\")","v":""},{"$f":"_xludf.TEXTJOIN(\",\",TRUE,BR249:BR262)","v":""},"□","朝霞市",{"$f":"IF(BT249=\"☑\",TRUE)","v":false},{"$f":"\"南西部地域:\"&BU249","v":"南西部地域:朝霞市"},{"$f":"IF(BV249,BW249,\"\")","v":""},{"$f":"_xludf.TEXTJOIN(\",\",TRUE,BX249:BX262)","v":""},"□","春日部市",{"$f":"IF(BZ249=\"☑\",TRUE)","v":false},{"$f":"\"東部地域:\"&CA249","v":"東部地域:春日部市"},{"$f":"IF(CB249,CC249,\"\")","v":""},{"$f":"_xludf.TEXTJOIN(\",\",TRUE,CD249:CD262)","v":""},"□","鴻巣市",{"$f":"IF(CF249=\"☑\",TRUE)","v":false},{"$f":"\"県央地域:\"&CG249","v":"県央地域:鴻巣市"},{"$f":"IF(CH249,CI249,\"\")","v":""},{"$f":"_xludf.TEXTJOIN(\",\",TRUE,CJ249:CJ262)","v":""},"□","川越市",{"$f":"IF(CL249=\"☑\",TRUE)","v":false},{"$f":"\"川越比企地域:\"&CM249","v":"川越比企地域:川越市"},{"$f":"IF(CN249,CO249,\"\")","v":""},{"$f":"_xludf.TEXTJOIN(\",\",TRUE,CP249:CP262)","v":""},"□","所沢市",{"$f":"IF(CR249=\"☑\",TRUE)","v":false},{"$f":"\"西部地域:\"&CS249","v":"西部地域:所沢市"},{"$f":"IF(CT249,CU249,\"\")","v":""},{"$f":"_xludf.TEXTJOIN(\",\",TRUE,CV249:CV262)","v":""},"□","行田市",{"$f":"IF(CX249=\"☑\",TRUE)","v":false},{"$f":"\"利根地域:\"&CY249","v":"利根地域:行田市"},{"$f":"IF(CZ249,DA249,\"\")","v":""},{"$f":"_xludf.TEXTJOIN(\",\",TRUE,DB249:DB262)","v":""},"□","熊谷市",{"$f":"IF(DD249=\"☑\",TRUE)","v":false},{"$f":"\"北部地域:\"&DE249","v":"北部地域:熊谷市"},{"$f":"IF(DF249,DG249,\"\")","v":""},{"$f":"_xludf.TEXTJOIN(\",\",TRUE,DH249:DH262)","v":""},"□","秩父市",{"$f":"IF(DJ249=\"☑\",TRUE)","v":false},{"$f":"\"秩父地域:\"&DK249","v":"秩父地域:秩父市"},{"$f":"IF(DL249,DM249,\"\")","v":""},{"$f":"_xludf.TEXTJOIN(\",\",TRUE,DN249:DN262)","v":""},{"$f":"_xludf.TEXTJOIN(\",\",TRUE,BG249,BM249,BS249,BY249,CE249,CK249,CQ249,CW249,DC249,DI249,DO249)","v":""},null,null,null,null,null,null,null,null,null,null,null,null,"□","月曜日",{"$f":"IF(EC249=\"☑\",TRUE)","v":false},{"$f":"IF(EE249,ED249,\"\")","v":""},{"$f":"_xludf.TEXTJOIN(\",\",TRUE,EF249:EF262)","v":""},"□","午前（～12:00）",{"$f":"IF(EH249=\"☑\",TRUE)","v":false},{"$f":"IF(EJ249,EI249,\"\")","v":""},{"$f":"_xludf.TEXTJOIN(\",\",TRUE,EK249:EK262)","v":""},null,null,"□","彩の国「新しい生活様式」安心宣言",{"$f":"IF(EO249=\"☑\",TRUE)","v":false},{"$f":"IF(EQ249,EP249,\"\")","v":""},{"$f":"_xludf.TEXTJOIN(\",\",TRUE,ER249:ER262)","v":""},null,"",null,"",null,"",null,"",null,"",null,"",null,"",null,""]
[null,null,null,null,null,null,null,null,null,null,null,null,null,null,null,null,null,null,null,null,null,"□","買物サポート",false,"","□","料理デリバリー（出前）",false,"","□","フィットネス・ジム（送迎）",{"$f":"IF(AD250=\"☑\",TRUE)","v":false},{"$f":"IF(AF250,AE250,\"\")","v":""},"□","出張料理",{"$f":"IF(AH250=\"☑\",TRUE)","v":false},{"$f":"IF(AJ250,AI250,\"\")","v":""},"□","温泉・銭湯（たまり場）",false,"","□","多目的トイレ",false,"","□","習い事",{"$f":"IF(AT250=\"☑\",TRUE)","v":false},{"$f":"IF(AV250,AU250,\"\")","v":""},"□","金融・保険",false,"",null,null,null,null,null,"","□","北区",{"$f":"IF(BH250=\"☑\",TRUE)","v":false},{"$f":"\"さいたま市:\"&BI250","v":"さいたま市:北区"},{"$f":"IF(BJ250,BK250,\"\")","v":""},null,"□","蕨市",{"$f":"IF(BN250=\"☑\",TRUE)","v":false},{"$f":"\"南部地域:\"&BO250","v":"南部地域:蕨市"},{"$f":"IF(BP250,BQ250,\"\")","v":""},null,"□","志木市",{"$f":"IF(BT250=\"☑\",TRUE)","v":false},{"$f":"\"南西部地域:\"&BU250","v":"南西部地域:志木市"},{"$f":"IF(BV250,BW250,\"\")","v":""},null,"□","草加市",{"$f":"IF(BZ250=\"☑\",TRUE)","v":false},{"$f":"\"東部地域:\"&CA250","v":"東部地域:草加市"},"",null,"□","上尾市",{"$f":"IF(CF250=\"☑\",TRUE)","v":false},{"$f":"\"県央地域:\"&CG250","v":"県央地域:上尾市"},{"$f":"IF(CH250,CI250,\"\")","v":""},null,"□","東松山市",{"$f":"IF(CL250=\"☑\",TRUE)","v":false},{"$f":"\"川越比企地域:\"&CM250","v":"川越比企地域:東松山市"},{"$f":"IF(CN250,CO250,\"\")","v":""},null,"□","飯能市",{"$f":"IF(CR250=\"☑\",TRUE)","v":false},{"$f":"\"西部地域:\"&CS250","v":"西部地域:飯能市"},{"$f":"IF(CT250,CU250,\"\")","v":""},null,"□","加須市",{"$f":"IF(CX250=\"☑\",TRUE)","v":false},{"$f":"\"利根地域:\"&CY250","v":"利根地域:加須市"},{"$f":"IF(CZ250,DA250,\"\")","v":""},null,"□","本庄市",{"$f":"IF(DD250=\"☑\",TRUE)","v":false},{"$f":"\"北部地域:\"&DE250","v":"北部地域:本庄市"},{"$f":"IF(DF250,DG250,\"\")","v":""},null,"□","横瀬町",{"$f":"IF(DJ250=\"☑\",TRUE)","v":false},{"$f":"\"秩父地域:\"&DK250","v":"秩父地域:横瀬町"},{"$f":"IF(DL250,DM250,\"\")","v":""},null,null,null,null,null,null,null,null,null,null,null,null,null,null,"□","火曜日",{"$f":"IF(EC250=\"☑\",TRUE)","v":false},{"$f":"IF(EE250,ED250,\"\")","v":""},null,"□","午後（12:00～16：00）",{"$f":"IF(EH250=\"☑\",TRUE)","v":false},{"$f":"IF(EJ250,EI250,\"\")","v":""},null,null,null,null,"に基づき感染対策を実施している。",null,{"$f":"IF(EQ250,EP250,\"\")","v":""}]
[null,null,null,null,null,null,null,null,null,null,null,null,null,null,null,null,null,null,null,null,null,"□","買物代行",false,"","□","食材宅配",false,"","□","温泉・銭湯（送迎）",false,"","□","屋外作業・力仕事",false,"","□","カフェ・ファーストフード",false,"","□","休憩スペース",false,"","□","映画館",false,"","□","住宅・リフォーム",false,"",null,null,null,null,null,"","□","大宮区",false,"さいたま市:大宮区","",null,"□","戸田市",{"$f":"IF(BN251=\"☑\",TRUE)","v":false},{"$f":"\"南部地域:\"&BO251","v":"南部地域:戸田市"},"",null,"□","和光市",false,"南西部地域:和光市","",null,"□","越谷市",false,"東部地域:越谷市","",null,"□","桶川市",{"$f":"IF(CF251=\"☑\",TRUE)","v":false},{"$f":"\"県央地域:\"&CG251","v":"県央地域:桶川市"},"",null,"□","坂戸市",false,"川越比企地域:坂戸市","",null,"□","狭山市",{"$f":"IF(CR251=\"☑\",TRUE)","v":false},{"$f":"\"西部地域:\"&CS251","v":"西部地域:狭山市"},"",null,"□","羽生市",false,"利根地域:羽生市","",null,"□","深谷市",false,"北部地域:深谷市","",null,"□","皆野町",{"$f":"IF(DJ251=\"☑\",TRUE)","v":false},{"$f":"\"秩父地域:\"&DK251","v":"秩父地域:皆野町"},"",null,null,null,null,null,null,null,null,null,null,null,null,null,null,"□","水曜日",false,"",null,"□","夕方(16:00～18:00)",{"$f":"IF(EH251=\"☑\",TRUE)","v":false},{"$f":"IF(EJ251,EI251,\"\")","v":""},null,null,null,"□","各種団体が定める業種別ガイドライン",{"$f":"IF(EO251=\"☑\",TRUE)","v":false},{"$f":"IF(EQ251,EP251,\"\")","v":""}]
[null,null,null,null,null,null,null,null,null,null,null,null,null,null,null,null,null,null,null,null,null,"□","移動販売",false,"","□","日用品配達",false,"","□","整体・マッサージ（送迎）",false,"","□","整体・マッサージ（出張）",false,"","□","飲食店",false,"","□","駐車場",false,"","□","カラオケ店",false,"","□","パソコン・スマートフォン",false,"",null,null,null,null,null,"","□","見沼区",false,"さいたま市:見沼区","",null,null,null,null,null,"",null,"□","新座市",false,"南西部地域:新座市","",null,"□","八潮市",false,"東部地域:八潮市","",null,"□","北本市",{"$f":"IF(CF252=\"☑\",TRUE)","v":false},{"$f":"\"県央地域:\"&CG252","v":"県央地域:北本市"},"",null,"□","鶴ヶ島市",false,"川越比企地域:鶴ヶ島市","",null,"□","入間市",{"$f":"IF(CR252=\"☑\",TRUE)","v":false},{"$f":"\"西部地域:\"&CS252","v":"西部地域:入間市"},"",null,"□","久喜市",false,"利根地域:久喜市","",null,"□","美里町",false,"北部地域:美里町","",null,"□","長瀞町",{"$f":"IF(DJ252=\"☑\",TRUE)","v":false},{"$f":"\"秩父地域:\"&DK252","v":"秩父地域:長瀞町"},"",null,null,null,null,null,null,null,null,null,null,null,null,null,null,"□","木曜日",false,"",null,"□","夜(18:00～）",{"$f":"IF(EH252=\"☑\",TRUE)","v":false},{"$f":"IF(EJ252,EI252,\"\")","v":""},null,null,null,null,"に基づき感染対策を実施している。"]
[null,null,null,null,null,null,null,null,null,null,null,null,null,null,null,null,null,null,null,null,null,"□","割引サービス",false,"","□","薬・介護用品配達",false,"","□","乗り合いサービス",false,"","□","理容室・美容室（出張）",false,"","□","イートインスペース",false,"","□","貸しスペース",false,"","□","麻雀・将棋・囲碁",false,"","□","認知症サポート企業",false,"",null,null,null,null,null,"","□","中央区",false,"さいたま市:中央区","",null,null,null,null,null,"",null,"□","富士見市",false,"南西部地域:富士見市","",null,"□","三郷市",false,"東部地域:三郷市","",null,"□","伊奈町",{"$f":"IF(CF253=\"☑\",TRUE)","v":false},{"$f":"\"県央地域:\"&CG253","v":"県央地域:伊奈町"},"",null,"□","毛呂山町",false,"川越比企地域:毛呂山町","",null,"□","日高市",{"$f":"IF(CR253=\"☑\",TRUE)","v":false},{"$f":"\"西部地域:\"&CS253","v":"西部地域:日高市"},"",null,"□","蓮田市",false,"利根地域:蓮田市","",null,"□","神川町",false,"北部地域:神川町","",null,"□","小鹿野町",{"$f":"IF(DJ253=\"☑\",TRUE)","v":false},{"$f":"\"秩父地域:\"&DK253","v":"秩父地域:小鹿野町"},"",null,null,null,null,null,null,null,null,null,null,null,null,null,null,"□","金曜日",false,"",null,null,null,null,null,null,null,null,"□","その他の感染対策を実施している。",{"$f":"IF(EO253=\"☑\",TRUE)","v":false},{"$f":"IF(EQ253,EP253,\"\")","v":""}]
[null,null,null,null,null,null,null,null,null,null,null,null,null,null,null,null,null,null,null,null,null,"□","その他（買物）",false,"","□","その他（宅配・デリバリー）",false,"","□","個別移送サービス",false,"","□","ペット",false,"","□","その他（運動・たまり場）",false,"","□","その他（設備・施設・場所貸し）",false,"","□","ゲームセンター",false,"","□","その他（生活サービス）",false,"",null,null,null,null,null,"","□","桜区",false,"さいたま市:桜区","",null,null,null,null,null,"",null,"□","ふじみ野市",false,"南西部地域:ふじみ野市","",null,"□","吉川市",false,"東部地域:吉川市","",null,null,null,null,null,"",null,"□","越生町",false,"川越比企地域:越生町","",null,null,null,null,null,"",null,"□","幸手市",false,"利根地域:幸手市","",null,"□","上里町",false,"北部地域:上里町","",null,null,null,null,null,"",null,null,null,null,null,null,null,null,null,null,null,null,null,null,"□","土曜日",false,"",null,null,null,null,null,null,null,null,"□","感染対策を特に実施していない。",{"$f":"IF(EO254=\"☑\",TRUE)","v":false},{"$f":"IF(EQ254,EP254,\"\")","v":""}]
[null,null,null,null,null,null,null,null,null,null,null,null,null,null,null,null,null,null,null,null,null,null,null,null,null,null,null,null,null,"□","交通機関サービス",false,"","□","その他（出張サービス）",false,"",null,null,null,null,null,null,null,null,"□","旅行代理店",false,"",null,null,null,null,null,null,null,null,null,"","□","浦和区",false,"さいたま市:浦和区","",null,null,null,null,null,"",null,"□","三芳町",false,"南西部地域:三芳町","",null,"□","松伏町",false,"東部地域:松伏町","",null,null,null,null,null,"",null,"□","滑川町",false,"川越比企地域:滑川町","",null,null,null,null,null,"",null,"□","白岡市",false,"利根地域:白岡市","",null,"□","寄居町",false,"北部地域:寄居町","",null,null,null,null,null,"",null,null,null,null,null,null,null,null,null,null,null,null,null,null,"□","日曜日",false,""]
[null,null,null,null,null,null,null,null,null,null,null,null,null,null,null,null,null,null,null,null,null,null,null,null,null,null,null,null,null,"□","その他（送迎・移動支援）",false,"",null,null,null,"",null,null,null,{"$f":"IF(AN256,AM256,\"\")","v":""},null,null,null,{"$f":"IF(AR256,AQ256,\"\")","v":""},"□","その他（学び・趣味）",false,"",null,null,null,null,null,null,null,null,null,"","□","南区",false,"さいたま市:南区","",null,null,null,null,null,"",null,null,null,null,null,"",null,null,null,null,null,"",null,null,null,null,null,"",null,"□","嵐山町",false,"川越比企地域:嵐山町","",null,null,null,null,null,"",null,"□","宮代町",false,"利根地域:宮代町","",null,null,null,null,null,"",null,null,null,null,null,""]
[null,null,null,null,null,null,null,null,null,null,null,null,null,null,null,null,null,null,null,null,null,null,null,null,null,null,null,null,null,null,null,null,null,null,null,null,null,null,null,null,null,null,null,null,null,null,null,null,null,null,null,null,null,null,null,null,null,null,"","□","緑区",false,"さいたま市:緑区","",null,null,null,null,null,"",null,null,null,null,null,"",null,null,null,null,null,"",null,null,null,null,null,"",null,"□","小川町",false,"川越比企地域:小川町","",null,null,null,null,null,"",null,"□","杉戸町",false,"利根地域:杉戸町","",null,null,null,null,null,"",null,null,null,null,null,""]
[null,null,null,null,null,null,null,null,null,null,null,null,null,null,null,null,null,null,null,null,null,null,null,null,null,null,null,null,null,null,null,null,null,null,null,null,null,null,null,null,null,null,null,null,null,null,null,null,null,null,null,null,null,null,null,null,null,null,"","□","岩槻区",{"$f":"IF(BH258=\"☑\",TRUE)","v":false},"さいたま市:岩槻区","",null,null,null,null,null,"",null,null,null,null,null,"",null,null,null,null,null,"",null,null,null,null,null,"",null,"□","川島町",false,"川越比企地域:川島町","",null,null,null,null,null,"",null,null,null,null,null,"",null,null,null,null,null,"",null,null,null,null,null,""]
[null,null,null,null,null,null,null,null,null,null,null,null,null,null,null,null,null,null,null,null,null,null,null,null,null,null,null,null,null,null,null,null,null,null,null,null,null,null,null,null,null,null,null,null,null,null,null,null,null,null,null,null,null,null,null,null,null,null,"",null,null,null,null,null,null,null,null,null,null,null,null,null,null,null,null,null,null,null,null,null,null,null,null,null,null,null,null,null,null,"□","吉見町",false,"川越比企地域:吉見町","",null,null,null,null,null,"",null,null,null,null,null,"",null,null,null,null,null,"",null,null,null,null,null,""]
[null,null,null,null,null,null,null,null,null,null,null,null,null,null,null,null,null,null,null,null,null,null,null,null,null,null,null,null,null,null,null,null,null,null,null,null,null,null,null,null,null,null,null,null,null,null,null,null,null,null,null,null,null,null,null,null,null,null,"",null,null,null,null,null,null,null,null,null,null,null,null,null,null,null,null,null,null,null,null,null,null,null,null,null,null,null,null,null,null,"□","鳩山町",false,"川越比企地域:鳩山町","",null,null,null,null,null,"",null,null,null,null,null,"",null,null,null,null,null,"",null,null,null,null,null,""]
[null,null,null,null,null,null,null,null,null,null,null,null,null,null,null,null,null,null,null,null,null,null,null,null,null,null,null,null,null,null,null,null,null,null,null,null,null,null,null,null,null,null,null,null,null,null,null,null,null,null,null,null,null,null,null,null,null,null,"",null,null,null,null,null,null,null,null,null,null,null,null,null,null,null,null,null,null,null,null,null,null,null,null,null,null,null,null,null,null,"□","ときがわ町",false,"川越比企地域:ときがわ町","",null,null,null,null,null,"",null,null,null,null,null,"",null,null,null,null,null,"",null,null,null,null,null,""]
[null,null,null,null,null,null,null,null,null,null,null,null,null,null,null,null,null,null,null,null,null,null,null,null,null,null,null,null,null,null,null,null,null,null,null,null,null,null,null,null,null,null,null,null,null,null,null,null,null,null,null,null,null,null,null,null,null,null,"",null,null,null,null,null,null,null,null,null,null,null,null,null,null,null,null,null,null,null,null,null,null,null,null,null,null,null,null,null,null,"□","東秩父村",false,"川越比企地域:東秩父村","",null,null,null,null,null,"",null,null,null,null,null,"",null,null,null,null,null,"",null,null,null,null,null,""]
[18,null,null,null,null,null,null,null,null,null,null,null,null,null,null,null,null,null,null,null,null,"□","配送",{"$f":"IF(V263=\"☑\",TRUE)","v":false},{"$f":"IF(X263,W263,\"\")","v":""},"□","弁当配達",{"$f":"IF(Z263=\"☑\",TRUE)","v":false},{"$f":"IF(AB263,AA263,\"\")","v":""},"□","理容室・美容室（送迎）",{"$f":"IF(AD263=\"☑\",TRUE)","v":false},{"$f":"IF(AF263,AE263,\"\")","v":""},"□","家事代行",{"$f":"IF(AH263=\"☑\",TRUE)","v":false},{"$f":"IF(AJ263,AI263,\"\")","v":""},"□","フィットネス・ジム（運動）",{"$f":"IF(AL263=\"☑\",TRUE)","v":false},{"$f":"IF(AN263,AM263,\"\")","v":""},"□","車イス対応（バリアフリー）",{"$f":"IF(AP263=\"☑\",TRUE)","v":false},{"$f":"IF(AR263,AQ263,\"\")","v":""},"□","講座・教室・イベント",{"$f":"IF(AT263=\"☑\",TRUE)","v":false},{"$f":"IF(AV263,AU263,\"\")","v":""},"□","防犯・見守り",{"$f":"IF(AX263=\"☑\",TRUE)","v":false},{"$f":"IF(AZ263,AY263,\"\")","v":""},{"$f":"_xludf.TEXTJOIN(\",\",TRUE,Y263:Y276,AC263:AC276,AG263:AG276,AK263:AK276,AO263:AO276,AS263:AS276,AW263:AW276,BA263:BA276)","v":""},"□","埼玉県全域",{"$f":"IF(BC263=\"☑\",TRUE)","v":false},"さいたま市:西区,さいたま市:北区,さいたま市:大宮区,さいたま市:見沼区,さいたま市:中央区,さいたま市:桜区,さいたま市:浦和区,さいたま市:南区,さいたま市:緑区,さいたま市:岩槻区,南部地域:川口市,南部地域:蕨市,南部地域:戸田市,南西部地域:朝霞市,南西部地域:志木市,南西部地域:和光市,南西部地域:新座市,南西部地域:富士見市,南西部地域:ふじみ野市,南西部地域:三芳町,東部地域:春日部市,東部地域:草加市,東部地域:越谷市,東部地域:八潮市,東部地域:三郷市,東部地域:吉川市,東部地域:松伏町,県央地域:鴻巣市,県央地域:上尾市,県央地域:桶川市,県央地域:北本市,県央地域:伊奈町,川越比企地域:川越市,川越比企地域:東松山市,川越比企地域:坂戸市,川越比企地域:鶴ヶ島市,川越比企地域:毛呂山町,川越比企地域:越生町,川越比企地域:滑川町,川越比企地域:嵐山町,川越比企地域:小川町,川越比企地域:川島町,川越比企地域:吉見町,川越比企地域:鳩山町,川越比企地域:ときがわ町,川越比企地域:東秩父村,西部地域:所沢市,西部地域:飯能市,西部地域:狭山市,西部地域:入間市,西部地域:日高市,利根地域:行田市,利根地域:加須市,利根地域:羽生市,利根地域:久喜市,利根地域:蓮田市,利根地域:幸手市,利根地域:白岡市,利根地域:宮代町,利根地域:杉戸町,北部地域:熊谷市,北部地域:本庄市,北部地域:深谷市,北部地域:美里町,北部地域:神川町,北部地域:上里町,北部地域:寄居町,秩父地域:秩父市,秩父地域:横瀬町,秩父地域:皆野町,秩父地域:長瀞町,秩父地域:小鹿野町","","□","西区",{"$f":"IF(BH263=\"☑\",TRUE)","v":false},{"$f":"\"さいたま市:\"&BI263","v":"さいたま市:西区"},{"$f":"IF(BJ263,BK263,\"\")","v":""},{"$f":"_xludf.TEXTJOIN(\",\",TRUE,BL263:BL276)","v":""},"□","川口市",{"$f":"IF(BN263=\"☑\",TRUE)","v":false},{"$f":"\"南部地域:\"&BO263","v":"南部地域:川口市"},{"$f":"IF(BP263,BQ263,\"\")","v":""},{"$f":"_xludf.TEXTJOIN(\",\",TRUE,BR263:BR276)","v":""},"□","朝霞市",{"$f":"IF(BT263=\"☑\",TRUE)","v":false},{"$f":"\"南西部地域:\"&BU263","v":"南西部地域:朝霞市"},{"$f":"IF(BV263,BW263,\"\")","v":""},{"$f":"_xludf.TEXTJOIN(\",\",TRUE,BX263:BX276)","v":""},"□","春日部市",{"$f":"IF(BZ263=\"☑\",TRUE)","v":false},{"$f":"\"東部地域:\"&CA263","v":"東部地域:春日部市"},{"$f":"IF(CB263,CC263,\"\")","v":""},{"$f":"_xludf.TEXTJOIN(\",\",TRUE,CD263:CD276)","v":""},"□","鴻巣市",{"$f":"IF(CF263=\"☑\",TRUE)","v":false},{"$f":"\"県央地域:\"&CG263","v":"県央地域:鴻巣市"},{"$f":"IF(CH263,CI263,\"\")","v":""},{"$f":"_xludf.TEXTJOIN(\",\",TRUE,CJ263:CJ276)","v":""},"□","川越市",{"$f":"IF(CL263=\"☑\",TRUE)","v":false},{"$f":"\"川越比企地域:\"&CM263","v":"川越比企地域:川越市"},{"$f":"IF(CN263,CO263,\"\")","v":""},{"$f":"_xludf.TEXTJOIN(\",\",TRUE,CP263:CP276)","v":""},"□","所沢市",{"$f":"IF(CR263=\"☑\",TRUE)","v":false},{"$f":"\"西部地域:\"&CS263","v":"西部地域:所沢市"},{"$f":"IF(CT263,CU263,\"\")","v":""},{"$f":"_xludf.TEXTJOIN(\",\",TRUE,CV263:CV276)","v":""},"□","行田市",{"$f":"IF(CX263=\"☑\",TRUE)","v":false},{"$f":"\"利根地域:\"&CY263","v":"利根地域:行田市"},{"$f":"IF(CZ263,DA263,\"\")","v":""},{"$f":"_xludf.TEXTJOIN(\",\",TRUE,DB263:DB276)","v":""},"□","熊谷市",{"$f":"IF(DD263=\"☑\",TRUE)","v":false},{"$f":"\"北部地域:\"&DE263","v":"北部地域:熊谷市"},{"$f":"IF(DF263,DG263,\"\")","v":""},{"$f":"_xludf.TEXTJOIN(\",\",TRUE,DH263:DH276)","v":""},"□","秩父市",{"$f":"IF(DJ263=\"☑\",TRUE)","v":false},{"$f":"\"秩父地域:\"&DK263","v":"秩父地域:秩父市"},{"$f":"IF(DL263,DM263,\"\")","v":""},{"$f":"_xludf.TEXTJOIN(\",\",TRUE,DN263:DN276)","v":""},{"$f":"_xludf.TEXTJOIN(\",\",TRUE,BG263,BM263,BS263,BY263,CE263,CK263,CQ263,CW263,DC263,DI263,DO263)","v":""},null,null,null,null,null,null,null,null,null,null,null,null,"□","月曜日",{"$f":"IF(EC263=\"☑\",TRUE)","v":false},{"$f":"IF(EE263,ED263,\"\")","v":""},{"$f":"_xludf.TEXTJOIN(\",\",TRUE,EF263:EF276)","v":""},"□","午前（～12:00）",{"$f":"IF(EH263=\"☑\",TRUE)","v":false},{"$f":"IF(EJ263,EI263,\"\")","v":""},{"$f":"_xludf.TEXTJOIN(\",\",TRUE,EK263:EK276)","v":""},null,null,"□","彩の国「新しい生活様式」安心宣言",{"$f":"IF(EO263=\"☑\",TRUE)","v":false},{"$f":"IF(EQ263,EP263,\"\")","v":""},{"$f":"_xludf.TEXTJOIN(\",\",TRUE,ER263:ER276)","v":""},null,"",null,"",null,"",null,"",null,"",null,"",null,"",null,""]
[null,null,null,null,null,null,null,null,null,null,null,null,null,null,null,null,null,null,null,null,null,"□","買物サポート",false,"","□","料理デリバリー（出前）",false,"","□","フィットネス・ジム（送迎）",{"$f":"IF(AD264=\"☑\",TRUE)","v":false},{"$f":"IF(AF264,AE264,\"\")","v":""},"□","出張料理",{"$f":"IF(AH264=\"☑\",TRUE)","v":false},{"$f":"IF(AJ264,AI264,\"\")","v":""},"□","温泉・銭湯（たまり場）",false,"","□","多目的トイレ",false,"","□","習い事",{"$f":"IF(AT264=\"☑\",TRUE)","v":false},{"$f":"IF(AV264,AU264,\"\")","v":""},"□","金融・保険",false,"",null,null,null,null,null,"","□","北区",{"$f":"IF(BH264=\"☑\",TRUE)","v":false},{"$f":"\"さいたま市:\"&BI264","v":"さいたま市:北区"},{"$f":"IF(BJ264,BK264,\"\")","v":""},null,"□","蕨市",{"$f":"IF(BN264=\"☑\",TRUE)","v":false},{"$f":"\"南部地域:\"&BO264","v":"南部地域:蕨市"},{"$f":"IF(BP264,BQ264,\"\")","v":""},null,"□","志木市",{"$f":"IF(BT264=\"☑\",TRUE)","v":false},{"$f":"\"南西部地域:\"&BU264","v":"南西部地域:志木市"},{"$f":"IF(BV264,BW264,\"\")","v":""},null,"□","草加市",{"$f":"IF(BZ264=\"☑\",TRUE)","v":false},{"$f":"\"東部地域:\"&CA264","v":"東部地域:草加市"},"",null,"□","上尾市",{"$f":"IF(CF264=\"☑\",TRUE)","v":false},{"$f":"\"県央地域:\"&CG264","v":"県央地域:上尾市"},{"$f":"IF(CH264,CI264,\"\")","v":""},null,"□","東松山市",{"$f":"IF(CL264=\"☑\",TRUE)","v":false},{"$f":"\"川越比企地域:\"&CM264","v":"川越比企地域:東松山市"},{"$f":"IF(CN264,CO264,\"\")","v":""},null,"□","飯能市",{"$f":"IF(CR264=\"☑\",TRUE)","v":false},{"$f":"\"西部地域:\"&CS264","v":"西部地域:飯能市"},{"$f":"IF(CT264,CU264,\"\")","v":""},null,"□","加須市",{"$f":"IF(CX264=\"☑\",TRUE)","v":false},{"$f":"\"利根地域:\"&CY264","v":"利根地域:加須市"},{"$f":"IF(CZ264,DA264,\"\")","v":""},null,"□","本庄市",{"$f":"IF(DD264=\"☑\",TRUE)","v":false},{"$f":"\"北部地域:\"&DE264","v":"北部地域:本庄市"},{"$f":"IF(DF264,DG264,\"\")","v":""},null,"□","横瀬町",{"$f":"IF(DJ264=\"☑\",TRUE)","v":false},{"$f":"\"秩父地域:\"&DK264","v":"秩父地域:横瀬町"},{"$f":"IF(DL264,DM264,\"\")","v":""},null,null,null,null,null,null,null,null,null,null,null,null,null,null,"□","火曜日",{"$f":"IF(EC264=\"☑\",TRUE)","v":false},{"$f":"IF(EE264,ED264,\"\")","v":""},null,"□","午後（12:00～16：00）",{"$f":"IF(EH264=\"☑\",TRUE)","v":false},{"$f":"IF(EJ264,EI264,\"\")","v":""},null,null,null,null,"に基づき感染対策を実施している。",null,{"$f":"IF(EQ264,EP264,\"\")","v":""}]
[null,null,null,null,null,null,null,null,null,null,null,null,null,null,null,null,null,null,null,null,null,"□","買物代行",false,"","□","食材宅配",false,"","□","温泉・銭湯（送迎）",false,"","□","屋外作業・力仕事",false,"","□","カフェ・ファーストフード",false,"","□","休憩スペース",false,"","□","映画館",false,"","□","住宅・リフォーム",false,"",null,null,null,null,null,"","□","大宮区",false,"さいたま市:大宮区","",null,"□","戸田市",{"$f":"IF(BN265=\"☑\",TRUE)","v":false},{"$f":"\"南部地域:\"&BO265","v":"南部地域:戸田市"},"",null,"□","和光市",false,"南西部地域:和光市","",null,"□","越谷市",false,"東部地域:越谷市","",null,"□","桶川市",{"$f":"IF(CF265=\"☑\",TRUE)","v":false},{"$f":"\"県央地域:\"&CG265","v":"県央地域:桶川市"},"",null,"□","坂戸市",false,"川越比企地域:坂戸市","",null,"□","狭山市",{"$f":"IF(CR265=\"☑\",TRUE)","v":false},{"$f":"\"西部地域:\"&CS265","v":"西部地域:狭山市"},"",null,"□","羽生市",false,"利根地域:羽生市","",null,"□","深谷市",false,"北部地域:深谷市","",null,"□","皆野町",{"$f":"IF(DJ265=\"☑\",TRUE)","v":false},{"$f":"\"秩父地域:\"&DK265","v":"秩父地域:皆野町"},"",null,null,null,null,null,null,null,null,null,null,null,null,null,null,"□","水曜日",false,"",null,"□","夕方(16:00～18:00)",{"$f":"IF(EH265=\"☑\",TRUE)","v":false},{"$f":"IF(EJ265,EI265,\"\")","v":""},null,null,null,"□","各種団体が定める業種別ガイドライン",{"$f":"IF(EO265=\"☑\",TRUE)","v":false},{"$f":"IF(EQ265,EP265,\"\")","v":""}]
[null,null,null,null,null,null,null,null,null,null,null,null,null,null,null,null,null,null,null,null,null,"□","移動販売",false,"","□","日用品配達",false,"","□","整体・マッサージ（送迎）",false,"","□","整体・マッサージ（出張）",false,"","□","飲食店",false,"","□","駐車場",false,"","□","カラオケ店",false,"","□","パソコン・スマートフォン",false,"",null,null,null,null,null,"","□","見沼区",false,"さいたま市:見沼区","",null,null,null,null,null,"",null,"□","新座市",false,"南西部地域:新座市","",null,"□","八潮市",false,"東部地域:八潮市","",null,"□","北本市",{"$f":"IF(CF266=\"☑\",TRUE)","v":false},{"$f":"\"県央地域:\"&CG266","v":"県央地域:北本市"},"",null,"□","鶴ヶ島市",false,"川越比企地域:鶴ヶ島市","",null,"□","入間市",{"$f":"IF(CR266=\"☑\",TRUE)","v":false},{"$f":"\"西部地域:\"&CS266","v":"西部地域:入間市"},"",null,"□","久喜市",false,"利根地域:久喜市","",null,"□","美里町",false,"北部地域:美里町","",null,"□","長瀞町",{"$f":"IF(DJ266=\"☑\",TRUE)","v":false},{"$f":"\"秩父地域:\"&DK266","v":"秩父地域:長瀞町"},"",null,null,null,null,null,null,null,null,null,null,null,null,null,null,"□","木曜日",false,"",null,"□","夜(18:00～）",{"$f":"IF(EH266=\"☑\",TRUE)","v":false},{"$f":"IF(EJ266,EI266,\"\")","v":""},null,null,null,null,"に基づき感染対策を実施している。"]
[null,null,null,null,null,null,null,null,null,null,null,null,null,null,null,null,null,null,null,null,null,"□","割引サービス",false,"","□","薬・介護用品配達",false,"","□","乗り合いサービス",false,"","□","理容室・美容室（出張）",false,"","□","イートインスペース",false,"","□","貸しスペース",false,"","□","麻雀・将棋・囲碁",false,"","□","認知症サポート企業",false,"",null,null,null,null,null,{"$f":"IF(BE267,BF267,\"\")","v":""},"□","中央区",false,"さいたま市:中央区","",null,null,null,null,null,"",null,"□","富士見市",false,"南西部地域:富士見市","",null,"□","三郷市",false,"東部地域:三郷市","",null,"□","伊奈町",{"$f":"IF(CF267=\"☑\",TRUE)","v":false},{"$f":"\"県央地域:\"&CG267","v":"県央地域:伊奈町"},"",null,"□","毛呂山町",false,"川越比企地域:毛呂山町","",null,"□","日高市",{"$f":"IF(CR267=\"☑\",TRUE)","v":false},{"$f":"\"西部地域:\"&CS267","v":"西部地域:日高市"},"",null,"□","蓮田市",false,"利根地域:蓮田市","",null,"□","神川町",false,"北部地域:神川町","",null,"□","小鹿野町",{"$f":"IF(DJ267=\"☑\",TRUE)","v":false},{"$f":"\"秩父地域:\"&DK267","v":"秩父地域:小鹿野町"},"",null,null,null,null,null,null,null,null,null,null,null,null,null,null,"□","金曜日",false,"",null,null,null,null,null,null,null,null,"□","その他の感染対策を実施している。",{"$f":"IF(EO267=\"☑\",TRUE)","v":false},{"$f":"IF(EQ267,EP267,\"\")","v":""}]
[null,null,null,null,null,null,null,null,null,null,null,null,null,null,null,null,null,null,null,null,null,"□","その他（買物）",false,"","□","その他（宅配・デリバリー）",false,"","□","個別移送サービス",false,"","□","ペット",false,"","□","その他（運動・たまり場）",false,"","□","その他（設備・施設・場所貸し）",false,"","□","ゲームセンター",false,"","□","その他（生活サービス）",false,"",null,null,null,null,null,"","□","桜区",false,"さいたま市:桜区","",null,null,null,null,null,"",null,"□","ふじみ野市",false,"南西部地域:ふじみ野市","",null,"□","吉川市",false,"東部地域:吉川市","",null,null,null,null,null,"",null,"□","越生町",false,"川越比企地域:越生町","",null,null,null,null,null,"",null,"□","幸手市",false,"利根地域:幸手市","",null,"□","上里町",false,"北部地域:上里町","",null,null,null,null,null,"",null,null,null,null,null,null,null,null,null,null,null,null,null,null,"□","土曜日",false,"",null,null,null,null,null,null,null,null,"□","感染対策を特に実施していない。",{"$f":"IF(EO268=\"☑\",TRUE)","v":false},{"$f":"IF(EQ268,EP268,\"\")","v":""}]
[null,null,null,null,null,null,null,null,null,null,null,null,null,null,null,null,null,null,null,null,null,null,null,null,null,null,null,null,null,"□","交通機関サービス",false,"","□","その他（出張サービス）",false,"",null,null,null,null,null,null,null,null,"□","旅行代理店",false,"",null,null,null,null,null,null,null,null,null,"","□","浦和区",false,"さいたま市:浦和区","",null,null,null,null,null,"",null,"□","三芳町",false,"南西部地域:三芳町","",null,"□","松伏町",false,"東部地域:松伏町","",null,null,null,null,null,"",null,"□","滑川町",false,"川越比企地域:滑川町","",null,null,null,null,null,"",null,"□","白岡市",false,"利根地域:白岡市","",null,"□","寄居町",false,"北部地域:寄居町","",null,null,null,null,null,"",null,null,null,null,null,null,null,null,null,null,null,null,null,null,"□","日曜日",false,""]
[null,null,null,null,null,null,null,null,null,null,null,null,null,null,null,null,null,null,null,null,null,null,null,null,null,null,null,null,null,"□","その他（送迎・移動支援）",false,"",null,null,null,"",null,null,null,{"$f":"IF(AN270,AM270,\"\")","v":""},null,null,null,{"$f":"IF(AR270,AQ270,\"\")","v":""},"□","その他（学び・趣味）",false,"",null,null,null,null,null,null,null,null,null,"","□","南区",false,"さいたま市:南区","",null,null,null,null,null,"",null,null,null,null,null,"",null,null,null,null,null,"",null,null,null,null,null,"",null,"□","嵐山町",false,"川越比企地域:嵐山町","",null,null,null,null,null,"",null,"□","宮代町",false,"利根地域:宮代町","",null,null,null,null,null,"",null,null,null,null,null,""]
[null,null,null,null,null,null,null,null,null,null,null,null,null,null,null,null,null,null,null,null,null,null,null,null,null,null,null,null,null,null,null,null,null,null,null,null,null,null,null,null,null,null,null,null,null,null,null,null,null,null,null,null,null,null,null,null,null,null,"","□","緑区",false,"さいたま市:緑区","",null,null,null,null,null,"",null,null,null,null,null,"",null,null,null,null,null,"",null,null,null,null,null,"",null,"□","小川町",false,"川越比企地域:小川町","",null,null,null,null,null,"",null,"□","杉戸町",false,"利根地域:杉戸町","",null,null,null,null,null,"",null,null,null,null,null,""]
[null,null,null,null,null,null,null,null,null,null,null,null,null,null,null,null,null,null,null,null,null,null,null,null,null,null,null,null,null,null,null,null,null,null,null,null,null,null,null,null,null,null,null,null,null,null,null,null,null,null,null,null,null,null,null,null,null,null,"","□","岩槻区",{"$f":"IF(BH272=\"☑\",TRUE)","v":false},"さいたま市:岩槻区","",null,null,null,null,null,"",null,null,null,null,null,"",null,null,null,null,null,"",null,null,null,null,null,"",null,"□","川島町",false,"川越比企地域:川島町","",null,null,null,null,null,"",null,null,null,null,null,"",null,null,null,null,null,"",null,null,null,null,null,""]
[null,null,null,null,null,null,null,null,null,null,null,null,null,null,null,null,null,null,null,null,null,null,null,null,null,null,null,null,null,null,null,null,null,null,null,null,null,null,null,null,null,null,null,null,null,null,null,null,null,null,null,null,null,null,null,null,null,null,"",null,null,null,null,null,null,null,null,null,null,null,null,null,null,null,null,null,null,null,null,null,null,null,null,null,null,null,null,null,null,"□","吉見町",false,"川越比企地域:吉見町","",null,null,null,null,null,"",null,null,null,null,null,"",null,null,null,null,null,"",null,null,null,null,null,""]
[null,null,null,null,null,null,null,null,null,null,null,null,null,null,null,null,null,null,null,null,null,null,null,null,null,null,null,null,null,null,null,null,null,null,null,null,null,null,null,null,null,null,null,null,null,null,null,null,null,null,null,null,null,null,null,null,null,null,"",null,null,null,null,null,null,null,null,null,null,null,null,null,null,null,null,null,null,null,null,null,null,null,null,null,null,null,null,null,null,"□","鳩山町",false,"川越比企地域:鳩山町","",null,null,null,null,null,"",null,null,null,null,null,"",null,null,null,null,null,"",null,null,null,null,null,""]
[null,null,null,null,null,null,null,null,null,null,null,null,null,null,null,null,null,null,null,null,null,null,null,null,null,null,null,null,null,null,null,null,null,null,null,null,null,null,null,null,null,null,null,null,null,null,null,null,null,null,null,null,null,null,null,null,null,null,"",null,null,null,null,null,null,null,null,null,null,null,null,null,null,null,null,null,null,null,null,null,null,null,null,null,null,null,null,null,null,"□","ときがわ町",false,"川越比企地域:ときがわ町","",null,null,null,null,null,"",null,null,null,null,null,"",null,null,null,null,null,"",null,null,null,null,null,""]
[null,null,null,null,null,null,null,null,null,null,null,null,null,null,null,null,null,null,null,null,null,null,null,null,null,null,null,null,null,null,null,null,null,null,null,null,null,null,null,null,null,null,null,null,null,null,null,null,null,null,null,null,null,null,null,null,null,null,"",null,null,null,null,null,null,null,null,null,null,null,null,null,null,null,null,null,null,null,null,null,null,null,null,null,null,null,null,null,null,"□","東秩父村",false,"川越比企地域:東秩父村","",null,null,null,null,null,"",null,null,null,null,null,"",null,null,null,null,null,"",null,null,null,null,null,""]
[19,null,null,null,null,null,null,null,null,null,null,null,null,null,null,null,null,null,null,null,null,"□","配送",{"$f":"IF(V277=\"☑\",TRUE)","v":false},{"$f":"IF(X277,W277,\"\")","v":""},"□","弁当配達",{"$f":"IF(Z277=\"☑\",TRUE)","v":false},{"$f":"IF(AB277,AA277,\"\")","v":""},"□","理容室・美容室（送迎）",{"$f":"IF(AD277=\"☑\",TRUE)","v":false},{"$f":"IF(AF277,AE277,\"\")","v":""},"□","家事代行",{"$f":"IF(AH277=\"☑\",TRUE)","v":false},{"$f":"IF(AJ277,AI277,\"\")","v":""},"□","フィットネス・ジム（運動）",{"$f":"IF(AL277=\"☑\",TRUE)","v":false},{"$f":"IF(AN277,AM277,\"\")","v":""},"□","車イス対応（バリアフリー）",{"$f":"IF(AP277=\"☑\",TRUE)","v":false},{"$f":"IF(AR277,AQ277,\"\")","v":""},"□","講座・教室・イベント",{"$f":"IF(AT277=\"☑\",TRUE)","v":false},{"$f":"IF(AV277,AU277,\"\")","v":""},"□","防犯・見守り",{"$f":"IF(AX277=\"☑\",TRUE)","v":false},{"$f":"IF(AZ277,AY277,\"\")","v":""},{"$f":"_xludf.TEXTJOIN(\",\",TRUE,Y277:Y290,AC277:AC290,AG277:AG290,AK277:AK290,AO277:AO290,AS277:AS290,AW277:AW290,BA277:BA290)","v":""},"□","埼玉県全域",{"$f":"IF(BC277=\"☑\",TRUE)","v":false},"さいたま市:西区,さいたま市:北区,さいたま市:大宮区,さいたま市:見沼区,さいたま市:中央区,さいたま市:桜区,さいたま市:浦和区,さいたま市:南区,さいたま市:緑区,さいたま市:岩槻区,南部地域:川口市,南部地域:蕨市,南部地域:戸田市,南西部地域:朝霞市,南西部地域:志木市,南西部地域:和光市,南西部地域:新座市,南西部地域:富士見市,南西部地域:ふじみ野市,南西部地域:三芳町,東部地域:春日部市,東部地域:草加市,東部地域:越谷市,東部地域:八潮市,東部地域:三郷市,東部地域:吉川市,東部地域:松伏町,県央地域:鴻巣市,県央地域:上尾市,県央地域:桶川市,県央地域:北本市,県央地域:伊奈町,川越比企地域:川越市,川越比企地域:東松山市,川越比企地域:坂戸市,川越比企地域:鶴ヶ島市,川越比企地域:毛呂山町,川越比企地域:越生町,川越比企地域:滑川町,川越比企地域:嵐山町,川越比企地域:小川町,川越比企地域:川島町,川越比企地域:吉見町,川越比企地域:鳩山町,川越比企地域:ときがわ町,川越比企地域:東秩父村,西部地域:所沢市,西部地域:飯能市,西部地域:狭山市,西部地域:入間市,西部地域:日高市,利根地域:行田市,利根地域:加須市,利根地域:羽生市,利根地域:久喜市,利根地域:蓮田市,利根地域:幸手市,利根地域:白岡市,利根地域:宮代町,利根地域:杉戸町,北部地域:熊谷市,北部地域:本庄市,北部地域:深谷市,北部地域:美里町,北部地域:神川町,北部地域:上里町,北部地域:寄居町,秩父地域:秩父市,秩父地域:横瀬町,秩父地域:皆野町,秩父地域:長瀞町,秩父地域:小鹿野町","","□","西区",{"$f":"IF(BH277=\"☑\",TRUE)","v":false},{"$f":"\"さいたま市:\"&BI277","v":"さいたま市:西区"},{"$f":"IF(BJ277,BK277,\"\")","v":""},{"$f":"_xludf.TEXTJOIN(\",\",TRUE,BL277:BL290)","v":""},"□","川口市",{"$f":"IF(BN277=\"☑\",TRUE)","v":false},{"$f":"\"南部地域:\"&BO277","v":"南部地域:川口市"},{"$f":"IF(BP277,BQ277,\"\")","v":""},{"$f":"_xludf.TEXTJOIN(\",\",TRUE,BR277:BR290)","v":""},"□","朝霞市",{"$f":"IF(BT277=\"☑\",TRUE)","v":false},{"$f":"\"南西部地域:\"&BU277","v":"南西部地域:朝霞市"},{"$f":"IF(BV277,BW277,\"\")","v":""},{"$f":"_xludf.TEXTJOIN(\",\",TRUE,BX277:BX290)","v":""},"□","春日部市",{"$f":"IF(BZ277=\"☑\",TRUE)","v":false},{"$f":"\"東部地域:\"&CA277","v":"東部地域:春日部市"},{"$f":"IF(CB277,CC277,\"\")","v":""},{"$f":"_xludf.TEXTJOIN(\",\",TRUE,CD277:CD290)","v":""},"□","鴻巣市",{"$f":"IF(CF277=\"☑\",TRUE)","v":false},{"$f":"\"県央地域:\"&CG277","v":"県央地域:鴻巣市"},{"$f":"IF(CH277,CI277,\"\")","v":""},{"$f":"_xludf.TEXTJOIN(\",\",TRUE,CJ277:CJ290)","v":""},"□","川越市",{"$f":"IF(CL277=\"☑\",TRUE)","v":false},{"$f":"\"川越比企地域:\"&CM277","v":"川越比企地域:川越市"},{"$f":"IF(CN277,CO277,\"\")","v":""},{"$f":"_xludf.TEXTJOIN(\",\",TRUE,CP277:CP290)","v":""},"□","所沢市",{"$f":"IF(CR277=\"☑\",TRUE)","v":false},{"$f":"\"西部地域:\"&CS277","v":"西部地域:所沢市"},{"$f":"IF(CT277,CU277,\"\")","v":""},{"$f":"_xludf.TEXTJOIN(\",\",TRUE,CV277:CV290)","v":""},"□","行田市",{"$f":"IF(CX277=\"☑\",TRUE)","v":false},{"$f":"\"利根地域:\"&CY277","v":"利根地域:行田市"},{"$f":"IF(CZ277,DA277,\"\")","v":""},{"$f":"_xludf.TEXTJOIN(\",\",TRUE,DB277:DB290)","v":""},"□","熊谷市",{"$f":"IF(DD277=\"☑\",TRUE)","v":false},{"$f":"\"北部地域:\"&DE277","v":"北部地域:熊谷市"},{"$f":"IF(DF277,DG277,\"\")","v":""},{"$f":"_xludf.TEXTJOIN(\",\",TRUE,DH277:DH290)","v":""},"□","秩父市",{"$f":"IF(DJ277=\"☑\",TRUE)","v":false},{"$f":"\"秩父地域:\"&DK277","v":"秩父地域:秩父市"},{"$f":"IF(DL277,DM277,\"\")","v":""},{"$f":"_xludf.TEXTJOIN(\",\",TRUE,DN277:DN290)","v":""},{"$f":"_xludf.TEXTJOIN(\",\",TRUE,BG277,BM277,BS277,BY277,CE277,CK277,CQ277,CW277,DC277,DI277,DO277)","v":""},null,null,null,null,null,null,null,null,null,null,null,null,"□","月曜日",{"$f":"IF(EC277=\"☑\",TRUE)","v":false},{"$f":"IF(EE277,ED277,\"\")","v":""},{"$f":"_xludf.TEXTJOIN(\",\",TRUE,EF277:EF290)","v":""},"□","午前（～12:00）",{"$f":"IF(EH277=\"☑\",TRUE)","v":false},{"$f":"IF(EJ277,EI277,\"\")","v":""},{"$f":"_xludf.TEXTJOIN(\",\",TRUE,EK277:EK290)","v":""},null,null,"□","彩の国「新しい生活様式」安心宣言",{"$f":"IF(EO277=\"☑\",TRUE)","v":false},{"$f":"IF(EQ277,EP277,\"\")","v":""},{"$f":"_xludf.TEXTJOIN(\",\",TRUE,ER277:ER290)","v":""},null,"",null,"",null,"",null,"",null,"",null,"",null,"",null,""]
[null,null,null,null,null,null,null,null,null,null,null,null,null,null,null,null,null,null,null,null,null,"□","買物サポート",false,"","□","料理デリバリー（出前）",false,"","□","フィットネス・ジム（送迎）",{"$f":"IF(AD278=\"☑\",TRUE)","v":false},{"$f":"IF(AF278,AE278,\"\")","v":""},"□","出張料理",{"$f":"IF(AH278=\"☑\",TRUE)","v":false},{"$f":"IF(AJ278,AI278,\"\")","v":""},"□","温泉・銭湯（たまり場）",false,"","□","多目的トイレ",false,"","□","習い事",{"$f":"IF(AT278=\"☑\",TRUE)","v":false},{"$f":"IF(AV278,AU278,\"\")","v":""},"□","金融・保険",false,"",null,null,null,null,null,"","□","北区",{"$f":"IF(BH278=\"☑\",TRUE)","v":false},{"$f":"\"さいたま市:\"&BI278","v":"さいたま市:北区"},{"$f":"IF(BJ278,BK278,\"\")","v":""},null,"□","蕨市",{"$f":"IF(BN278=\"☑\",TRUE)","v":false},{"$f":"\"南部地域:\"&BO278","v":"南部地域:蕨市"},{"$f":"IF(BP278,BQ278,\"\")","v":""},null,"□","志木市",{"$f":"IF(BT278=\"☑\",TRUE)","v":false},{"$f":"\"南西部地域:\"&BU278","v":"南西部地域:志木市"},{"$f":"IF(BV278,BW278,\"\")","v":""},null,"□","草加市",{"$f":"IF(BZ278=\"☑\",TRUE)","v":false},{"$f":"\"東部地域:\"&CA278","v":"東部地域:草加市"},"",null,"□","上尾市",{"$f":"IF(CF278=\"☑\",TRUE)","v":false},{"$f":"\"県央地域:\"&CG278","v":"県央地域:上尾市"},{"$f":"IF(CH278,CI278,\"\")","v":""},null,"□","東松山市",{"$f":"IF(CL278=\"☑\",TRUE)","v":false},{"$f":"\"川越比企地域:\"&CM278","v":"川越比企地域:東松山市"},{"$f":"IF(CN278,CO278,\"\")","v":""},null,"□","飯能市",{"$f":"IF(CR278=\"☑\",TRUE)","v":false},{"$f":"\"西部地域:\"&CS278","v":"西部地域:飯能市"},{"$f":"IF(CT278,CU278,\"\")","v":""},null,"□","加須市",{"$f":"IF(CX278=\"☑\",TRUE)","v":false},{"$f":"\"利根地域:\"&CY278","v":"利根地域:加須市"},{"$f":"IF(CZ278,DA278,\"\")","v":""},null,"□","本庄市",{"$f":"IF(DD278=\"☑\",TRUE)","v":false},{"$f":"\"北部地域:\"&DE278","v":"北部地域:本庄市"},{"$f":"IF(DF278,DG278,\"\")","v":""},null,"□","横瀬町",{"$f":"IF(DJ278=\"☑\",TRUE)","v":false},{"$f":"\"秩父地域:\"&DK278","v":"秩父地域:横瀬町"},{"$f":"IF(DL278,DM278,\"\")","v":""},null,null,null,null,null,null,null,null,null,null,null,null,null,null,"□","火曜日",{"$f":"IF(EC278=\"☑\",TRUE)","v":false},{"$f":"IF(EE278,ED278,\"\")","v":""},null,"□","午後（12:00～16：00）",{"$f":"IF(EH278=\"☑\",TRUE)","v":false},{"$f":"IF(EJ278,EI278,\"\")","v":""},null,null,null,null,"に基づき感染対策を実施している。",null,{"$f":"IF(EQ278,EP278,\"\")","v":""}]
[null,null,null,null,null,null,null,null,null,null,null,null,null,null,null,null,null,null,null,null,null,"□","買物代行",false,"","□","食材宅配",false,"","□","温泉・銭湯（送迎）",false,"","□","屋外作業・力仕事",false,"","□","カフェ・ファーストフード",false,"","□","休憩スペース",false,"","□","映画館",false,"","□","住宅・リフォーム",false,"",null,null,null,null,null,"","□","大宮区",false,"さいたま市:大宮区","",null,"□","戸田市",{"$f":"IF(BN279=\"☑\",TRUE)","v":false},{"$f":"\"南部地域:\"&BO279","v":"南部地域:戸田市"},"",null,"□","和光市",false,"南西部地域:和光市","",null,"□","越谷市",false,"東部地域:越谷市","",null,"□","桶川市",{"$f":"IF(CF279=\"☑\",TRUE)","v":false},{"$f":"\"県央地域:\"&CG279","v":"県央地域:桶川市"},"",null,"□","坂戸市",false,"川越比企地域:坂戸市","",null,"□","狭山市",{"$f":"IF(CR279=\"☑\",TRUE)","v":false},{"$f":"\"西部地域:\"&CS279","v":"西部地域:狭山市"},"",null,"□","羽生市",false,"利根地域:羽生市","",null,"□","深谷市",false,"北部地域:深谷市","",null,"□","皆野町",{"$f":"IF(DJ279=\"☑\",TRUE)","v":false},{"$f":"\"秩父地域:\"&DK279","v":"秩父地域:皆野町"},"",null,null,null,null,null,null,null,null,null,null,null,null,null,null,"□","水曜日",false,"",null,"□","夕方(16:00～18:00)",{"$f":"IF(EH279=\"☑\",TRUE)","v":false},{"$f":"IF(EJ279,EI279,\"\")","v":""},null,null,null,"□","各種団体が定める業種別ガイドライン",{"$f":"IF(EO279=\"☑\",TRUE)","v":false},{"$f":"IF(EQ279,EP279,\"\")","v":""}]
[null,null,null,null,null,null,null,null,null,null,null,null,null,null,null,null,null,null,null,null,null,"□","移動販売",false,"","□","日用品配達",false,"","□","整体・マッサージ（送迎）",false,"","□","整体・マッサージ（出張）",false,"","□","飲食店",false,"","□","駐車場",false,"","□","カラオケ店",false,"","□","パソコン・スマートフォン",false,"",null,null,null,null,null,"","□","見沼区",false,"さいたま市:見沼区","",null,null,null,null,null,"",null,"□","新座市",false,"南西部地域:新座市","",null,"□","八潮市",false,"東部地域:八潮市","",null,"□","北本市",{"$f":"IF(CF280=\"☑\",TRUE)","v":false},{"$f":"\"県央地域:\"&CG280","v":"県央地域:北本市"},"",null,"□","鶴ヶ島市",false,"川越比企地域:鶴ヶ島市","",null,"□","入間市",{"$f":"IF(CR280=\"☑\",TRUE)","v":false},{"$f":"\"西部地域:\"&CS280","v":"西部地域:入間市"},"",null,"□","久喜市",false,"利根地域:久喜市","",null,"□","美里町",false,"北部地域:美里町","",null,"□","長瀞町",{"$f":"IF(DJ280=\"☑\",TRUE)","v":false},{"$f":"\"秩父地域:\"&DK280","v":"秩父地域:長瀞町"},"",null,null,null,null,null,null,null,null,null,null,null,null,null,null,"□","木曜日",false,"",null,"□","夜(18:00～）",{"$f":"IF(EH280=\"☑\",TRUE)","v":false},{"$f":"IF(EJ280,EI280,\"\")","v":""},null,null,null,null,"に基づき感染対策を実施している。"]
[null,null,null,null,null,null,null,null,null,null,null,null,null,null,null,null,null,null,null,null,null,"□","割引サービス",false,"","□","薬・介護用品配達",false,"","□","乗り合いサービス",false,"","□","理容室・美容室（出張）",false,"","□","イートインスペース",false,"","□","貸しスペース",false,"","□","麻雀・将棋・囲碁",false,"","□","認知症サポート企業",false,"",null,null,null,null,null,"","□","中央区",false,"さいたま市:中央区","",null,null,null,null,null,"",null,"□","富士見市",false,"南西部地域:富士見市","",null,"□","三郷市",false,"東部地域:三郷市","",null,"□","伊奈町",{"$f":"IF(CF281=\"☑\",TRUE)","v":false},{"$f":"\"県央地域:\"&CG281","v":"県央地域:伊奈町"},"",null,"□","毛呂山町",false,"川越比企地域:毛呂山町","",null,"□","日高市",{"$f":"IF(CR281=\"☑\",TRUE)","v":false},{"$f":"\"西部地域:\"&CS281","v":"西部地域:日高市"},"",null,"□","蓮田市",false,"利根地域:蓮田市","",null,"□","神川町",false,"北部地域:神川町","",null,"□","小鹿野町",{"$f":"IF(DJ281=\"☑\",TRUE)","v":false},{"$f":"\"秩父地域:\"&DK281","v":"秩父地域:小鹿野町"},"",null,null,null,null,null,null,null,null,null,null,null,null,null,null,"□","金曜日",false,"",null,null,null,null,null,null,null,null,"□","その他の感染対策を実施している。",{"$f":"IF(EO281=\"☑\",TRUE)","v":false},{"$f":"IF(EQ281,EP281,\"\")","v":""}]
[null,null,null,null,null,null,null,null,null,null,null,null,null,null,null,null,null,null,null,null,null,"□","その他（買物）",false,"","□","その他（宅配・デリバリー）",false,"","□","個別移送サービス",false,"","□","ペット",false,"","□","その他（運動・たまり場）",false,"","□","その他（設備・施設・場所貸し）",false,"","□","ゲームセンター",false,"","□","その他（生活サービス）",false,"",null,null,null,null,null,"","□","桜区",false,"さいたま市:桜区","",null,null,null,null,null,"",null,"□","ふじみ野市",false,"南西部地域:ふじみ野市","",null,"□","吉川市",false,"東部地域:吉川市","",null,null,null,null,null,"",null,"□","越生町",false,"川越比企地域:越生町","",null,null,null,null,null,"",null,"□","幸手市",false,"利根地域:幸手市","",null,"□","上里町",false,"北部地域:上里町","",null,null,null,null,null,"",null,null,null,null,null,null,null,null,null,null,null,null,null,null,"□","土曜日",false,"",null,null,null,null,null,null,null,null,"□","感染対策を特に実施していない。",{"$f":"IF(EO282=\"☑\",TRUE)","v":false},{"$f":"IF(EQ282,EP282,\"\")","v":""}]
[null,null,null,null,null,null,null,null,null,null,null,null,null,null,null,null,null,null,null,null,null,null,null,null,null,null,null,null,null,"□","交通機関サービス",false,"","□","その他（出張サービス）",false,"",null,null,null,null,null,null,null,null,"□","旅行代理店",false,"",null,null,null,null,null,null,null,null,null,"","□","浦和区",false,"さいたま市:浦和区","",null,null,null,null,null,"",null,"□","三芳町",false,"南西部地域:三芳町","",null,"□","松伏町",false,"東部地域:松伏町","",null,null,null,null,null,"",null,"□","滑川町",false,"川越比企地域:滑川町","",null,null,null,null,null,"",null,"□","白岡市",false,"利根地域:白岡市","",null,"□","寄居町",false,"北部地域:寄居町","",null,null,null,null,null,"",null,null,null,null,null,null,null,null,null,null,null,null,null,null,"□","日曜日",false,""]
[null,null,null,null,null,null,null,null,null,null,null,null,null,null,null,null,null,null,null,null,null,null,null,null,null,null,null,null,null,"□","その他（送迎・移動支援）",false,"",null,null,null,"",null,null,null,{"$f":"IF(AN284,AM284,\"\")","v":""},null,null,null,{"$f":"IF(AR284,AQ284,\"\")","v":""},"□","その他（学び・趣味）",false,"",null,null,null,null,null,null,null,null,null,"","□","南区",false,"さいたま市:南区","",null,null,null,null,null,"",null,null,null,null,null,"",null,null,null,null,null,"",null,null,null,null,null,"",null,"□","嵐山町",false,"川越比企地域:嵐山町","",null,null,null,null,null,"",null,"□","宮代町",false,"利根地域:宮代町","",null,null,null,null,null,"",null,null,null,null,null,""]
[null,null,null,null,null,null,null,null,null,null,null,null,null,null,null,null,null,null,null,null,null,null,null,null,null,null,null,null,null,null,null,null,null,null,null,null,null,null,null,null,null,null,null,null,null,null,null,null,null,null,null,null,null,null,null,null,null,null,"","□","緑区",false,"さいたま市:緑区","",null,null,null,null,null,"",null,null,null,null,null,"",null,null,null,null,null,"",null,null,null,null,null,"",null,"□","小川町",false,"川越比企地域:小川町","",null,null,null,null,null,"",null,"□","杉戸町",false,"利根地域:杉戸町","",null,null,null,null,null,"",null,null,null,null,null,""]
[null,null,null,null,null,null,null,null,null,null,null,null,null,null,null,null,null,null,null,null,null,null,null,null,null,null,null,null,null,null,null,null,null,null,null,null,null,null,null,null,null,null,null,null,null,null,null,null,null,null,null,null,null,null,null,null,null,null,"","□","岩槻区",{"$f":"IF(BH286=\"☑\",TRUE)","v":false},"さいたま市:岩槻区","",null,null,null,null,null,"",null,null,null,null,null,"",null,null,null,null,null,"",null,null,null,null,null,"",null,"□","川島町",false,"川越比企地域:川島町","",null,null,null,null,null,"",null,null,null,null,null,"",null,null,null,null,null,"",null,null,null,null,null,""]
[null,null,null,null,null,null,null,null,null,null,null,null,null,null,null,null,null,null,null,null,null,null,null,null,null,null,null,null,null,null,null,null,null,null,null,null,null,null,null,null,null,null,null,null,null,null,null,null,null,null,null,null,null,null,null,null,null,null,"",null,null,null,null,null,null,null,null,null,null,null,null,null,null,null,null,null,null,null,null,null,null,null,null,null,null,null,null,null,null,"□","吉見町",false,"川越比企地域:吉見町","",null,null,null,null,null,"",null,null,null,null,null,"",null,null,null,null,null,"",null,null,null,null,null,""]
[null,null,null,null,null,null,null,null,null,null,null,null,null,null,null,null,null,null,null,null,null,null,null,null,null,null,null,null,null,null,null,null,null,null,null,null,null,null,null,null,null,null,null,null,null,null,null,null,null,null,null,null,null,null,null,null,null,null,"",null,null,null,null,null,null,null,null,null,null,null,null,null,null,null,null,null,null,null,null,null,null,null,null,null,null,null,null,null,null,"□","鳩山町",false,"川越比企地域:鳩山町","",null,null,null,null,null,"",null,null,null,null,null,"",null,null,null,null,null,"",null,null,null,null,null,""]
[null,null,null,null,null,null,null,null,null,null,null,null,null,null,null,null,null,null,null,null,null,null,null,null,null,null,null,null,null,null,null,null,null,null,null,null,null,null,null,null,null,null,null,null,null,null,null,null,null,null,null,null,null,null,null,null,null,null,"",null,null,null,null,null,null,null,null,null,null,null,null,null,null,null,null,null,null,null,null,null,null,null,null,null,null,null,null,null,null,"□","ときがわ町",false,"川越比企地域:ときがわ町","",null,null,null,null,null,"",null,null,null,null,null,"",null,null,null,null,null,"",null,null,null,null,null,""]
[null,null,null,null,null,null,null,null,null,null,null,null,null,null,null,null,null,null,null,null,null,null,null,null,null,null,null,null,null,null,null,null,null,null,null,null,null,null,null,null,null,null,null,null,null,null,null,null,null,null,null,null,null,null,null,null,null,null,"",null,null,null,null,null,null,null,null,null,null,null,null,null,null,null,null,null,null,null,null,null,null,null,null,null,null,null,null,null,null,"□","東秩父村",false,"川越比企地域:東秩父村","",null,null,null,null,null,"",null,null,null,null,null,"",null,null,null,null,null,"",null,null,null,null,null,""]
[20,null,null,null,null,null,null,null,null,null,null,null,null,null,null,null,null,null,null,null,null,"□","配送",{"$f":"IF(V291=\"☑\",TRUE)","v":false},{"$f":"IF(X291,W291,\"\")","v":""},"□","弁当配達",{"$f":"IF(Z291=\"☑\",TRUE)","v":false},{"$f":"IF(AB291,AA291,\"\")","v":""},"□","理容室・美容室（送迎）",{"$f":"IF(AD291=\"☑\",TRUE)","v":false},{"$f":"IF(AF291,AE291,\"\")","v":""},"□","家事代行",{"$f":"IF(AH291=\"☑\",TRUE)","v":false},{"$f":"IF(AJ291,AI291,\"\")","v":""},"□","フィットネス・ジム（運動）",{"$f":"IF(AL291=\"☑\",TRUE)","v":false},{"$f":"IF(AN291,AM291,\"\")","v":""},"□","車イス対応（バリアフリー）",{"$f":"IF(AP291=\"☑\",TRUE)","v":false},{"$f":"IF(AR291,AQ291,\"\")","v":""},"□","講座・教室・イベント",{"$f":"IF(AT291=\"☑\",TRUE)","v":false},{"$f":"IF(AV291,AU291,\"\")","v":""},"□","防犯・見守り",{"$f":"IF(AX291=\"☑\",TRUE)","v":false},{"$f":"IF(AZ291,AY291,\"\")","v":""},{"$f":"_xludf.TEXTJOIN(\",\",TRUE,Y291:Y304,AC291:AC304,AG291:AG304,AK291:AK304,AO291:AO304,AS291:AS304,AW291:AW304,BA291:BA304)","v":""},"□","埼玉県全域",{"$f":"IF(BC291=\"☑\",TRUE)","v":false},"さいたま市:西区,さいたま市:北区,さいたま市:大宮区,さいたま市:見沼区,さいたま市:中央区,さいたま市:桜区,さいたま市:浦和区,さいたま市:南区,さいたま市:緑区,さいたま市:岩槻区,南部地域:川口市,南部地域:蕨市,南部地域:戸田市,南西部地域:朝霞市,南西部地域:志木市,南西部地域:和光市,南西部地域:新座市,南西部地域:富士見市,南西部地域:ふじみ野市,南西部地域:三芳町,東部地域:春日部市,東部地域:草加市,東部地域:越谷市,東部地域:八潮市,東部地域:三郷市,東部地域:吉川市,東部地域:松伏町,県央地域:鴻巣市,県央地域:上尾市,県央地域:桶川市,県央地域:北本市,県央地域:伊奈町,川越比企地域:川越市,川越比企地域:東松山市,川越比企地域:坂戸市,川越比企地域:鶴ヶ島市,川越比企地域:毛呂山町,川越比企地域:越生町,川越比企地域:滑川町,川越比企地域:嵐山町,川越比企地域:小川町,川越比企地域:川島町,川越比企地域:吉見町,川越比企地域:鳩山町,川越比企地域:ときがわ町,川越比企地域:東秩父村,西部地域:所沢市,西部地域:飯能市,西部地域:狭山市,西部地域:入間市,西部地域:日高市,利根地域:行田市,利根地域:加須市,利根地域:羽生市,利根地域:久喜市,利根地域:蓮田市,利根地域:幸手市,利根地域:白岡市,利根地域:宮代町,利根地域:杉戸町,北部地域:熊谷市,北部地域:本庄市,北部地域:深谷市,北部地域:美里町,北部地域:神川町,北部地域:上里町,北部地域:寄居町,秩父地域:秩父市,秩父地域:横瀬町,秩父地域:皆野町,秩父地域:長瀞町,秩父地域:小鹿野町","","□","西区",{"$f":"IF(BH291=\"☑\",TRUE)","v":false},{"$f":"\"さいたま市:\"&BI291","v":"さいたま市:西区"},{"$f":"IF(BJ291,BK291,\"\")","v":""},{"$f":"_xludf.TEXTJOIN(\",\",TRUE,BL291:BL304)","v":""},"□","川口市",{"$f":"IF(BN291=\"☑\",TRUE)","v":false},{"$f":"\"南部地域:\"&BO291","v":"南部地域:川口市"},{"$f":"IF(BP291,BQ291,\"\")","v":""},{"$f":"_xludf.TEXTJOIN(\",\",TRUE,BR291:BR304)","v":""},"□","朝霞市",{"$f":"IF(BT291=\"☑\",TRUE)","v":false},{"$f":"\"南西部地域:\"&BU291","v":"南西部地域:朝霞市"},{"$f":"IF(BV291,BW291,\"\")","v":""},{"$f":"_xludf.TEXTJOIN(\",\",TRUE,BX291:BX304)","v":""},"□","春日部市",{"$f":"IF(BZ291=\"☑\",TRUE)","v":false},{"$f":"\"東部地域:\"&CA291","v":"東部地域:春日部市"},{"$f":"IF(CB291,CC291,\"\")","v":""},{"$f":"_xludf.TEXTJOIN(\",\",TRUE,CD291:CD304)","v":""},"□","鴻巣市",{"$f":"IF(CF291=\"☑\",TRUE)","v":false},{"$f":"\"県央地域:\"&CG291","v":"県央地域:鴻巣市"},{"$f":"IF(CH291,CI291,\"\")","v":""},{"$f":"_xludf.TEXTJOIN(\",\",TRUE,CJ291:CJ304)","v":""},"□","川越市",{"$f":"IF(CL291=\"☑\",TRUE)","v":false},{"$f":"\"川越比企地域:\"&CM291","v":"川越比企地域:川越市"},{"$f":"IF(CN291,CO291,\"\")","v":""},{"$f":"_xludf.TEXTJOIN(\",\",TRUE,CP291:CP304)","v":""},"□","所沢市",{"$f":"IF(CR291=\"☑\",TRUE)","v":false},{"$f":"\"西部地域:\"&CS291","v":"西部地域:所沢市"},{"$f":"IF(CT291,CU291,\"\")","v":""},{"$f":"_xludf.TEXTJOIN(\",\",TRUE,CV291:CV304)","v":""},"□","行田市",{"$f":"IF(CX291=\"☑\",TRUE)","v":false},{"$f":"\"利根地域:\"&CY291","v":"利根地域:行田市"},{"$f":"IF(CZ291,DA291,\"\")","v":""},{"$f":"_xludf.TEXTJOIN(\",\",TRUE,DB291:DB304)","v":""},"□","熊谷市",{"$f":"IF(DD291=\"☑\",TRUE)","v":false},{"$f":"\"北部地域:\"&DE291","v":"北部地域:熊谷市"},{"$f":"IF(DF291,DG291,\"\")","v":""},{"$f":"_xludf.TEXTJOIN(\",\",TRUE,DH291:DH304)","v":""},"□","秩父市",{"$f":"IF(DJ291=\"☑\",TRUE)","v":false},{"$f":"\"秩父地域:\"&DK291","v":"秩父地域:秩父市"},{"$f":"IF(DL291,DM291,\"\")","v":""},{"$f":"_xludf.TEXTJOIN(\",\",TRUE,DN291:DN304)","v":""},{"$f":"_xludf.TEXTJOIN(\",\",TRUE,BG291,BM291,BS291,BY291,CE291,CK291,CQ291,CW291,DC291,DI291,DO291)","v":""},null,null,null,null,null,null,null,null,null,null,null,null,"□","月曜日",{"$f":"IF(EC291=\"☑\",TRUE)","v":false},{"$f":"IF(EE291,ED291,\"\")","v":""},{"$f":"_xludf.TEXTJOIN(\",\",TRUE,EF291:EF304)","v":""},"□","午前（～12:00）",{"$f":"IF(EH291=\"☑\",TRUE)","v":false},{"$f":"IF(EJ291,EI291,\"\")","v":""},{"$f":"_xludf.TEXTJOIN(\",\",TRUE,EK291:EK304)","v":""},null,null,"□","彩の国「新しい生活様式」安心宣言",{"$f":"IF(EO291=\"☑\",TRUE)","v":false},{"$f":"IF(EQ291,EP291,\"\")","v":""},{"$f":"_xludf.TEXTJOIN(\",\",TRUE,ER291:ER304)","v":""},null,"",null,"",null,"",null,"",null,"",null,"",null,"",null,""]
[null,null,null,null,null,null,null,null,null,null,null,null,null,null,null,null,null,null,null,null,null,"□","買物サポート",false,"","□","料理デリバリー（出前）",false,"","□","フィットネス・ジム（送迎）",{"$f":"IF(AD292=\"☑\",TRUE)","v":false},{"$f":"IF(AF292,AE292,\"\")","v":""},"□","出張料理",{"$f":"IF(AH292=\"☑\",TRUE)","v":false},{"$f":"IF(AJ292,AI292,\"\")","v":""},"□","温泉・銭湯（たまり場）",false,"","□","多目的トイレ",false,"","□","習い事",{"$f":"IF(AT292=\"☑\",TRUE)","v":false},{"$f":"IF(AV292,AU292,\"\")","v":""},"□","金融・保険",false,"",null,null,null,null,null,"","□","北区",{"$f":"IF(BH292=\"☑\",TRUE)","v":false},{"$f":"\"さいたま市:\"&BI292","v":"さいたま市:北区"},{"$f":"IF(BJ292,BK292,\"\")","v":""},null,"□","蕨市",{"$f":"IF(BN292=\"☑\",TRUE)","v":false},{"$f":"\"南部地域:\"&BO292","v":"南部地域:蕨市"},{"$f":"IF(BP292,BQ292,\"\")","v":""},null,"□","志木市",{"$f":"IF(BT292=\"☑\",TRUE)","v":false},{"$f":"\"南西部地域:\"&BU292","v":"南西部地域:志木市"},{"$f":"IF(BV292,BW292,\"\")","v":""},null,"□","草加市",{"$f":"IF(BZ292=\"☑\",TRUE)","v":false},{"$f":"\"東部地域:\"&CA292","v":"東部地域:草加市"},"",null,"□","上尾市",{"$f":"IF(CF292=\"☑\",TRUE)","v":false},{"$f":"\"県央地域:\"&CG292","v":"県央地域:上尾市"},{"$f":"IF(CH292,CI292,\"\")","v":""},null,"□","東松山市",{"$f":"IF(CL292=\"☑\",TRUE)","v":false},{"$f":"\"川越比企地域:\"&CM292","v":"川越比企地域:東松山市"},{"$f":"IF(CN292,CO292,\"\")","v":""},null,"□","飯能市",{"$f":"IF(CR292=\"☑\",TRUE)","v":false},{"$f":"\"西部地域:\"&CS292","v":"西部地域:飯能市"},{"$f":"IF(CT292,CU292,\"\")","v":""},null,"□","加須市",{"$f":"IF(CX292=\"☑\",TRUE)","v":false},{"$f":"\"利根地域:\"&CY292","v":"利根地域:加須市"},{"$f":"IF(CZ292,DA292,\"\")","v":""},null,"□","本庄市",{"$f":"IF(DD292=\"☑\",TRUE)","v":false},{"$f":"\"北部地域:\"&DE292","v":"北部地域:本庄市"},{"$f":"IF(DF292,DG292,\"\")","v":""},null,"□","横瀬町",{"$f":"IF(DJ292=\"☑\",TRUE)","v":false},{"$f":"\"秩父地域:\"&DK292","v":"秩父地域:横瀬町"},{"$f":"IF(DL292,DM292,\"\")","v":""},null,null,null,null,null,null,null,null,null,null,null,null,null,null,"□","火曜日",{"$f":"IF(EC292=\"☑\",TRUE)","v":false},{"$f":"IF(EE292,ED292,\"\")","v":""},null,"□","午後（12:00～16：00）",{"$f":"IF(EH292=\"☑\",TRUE)","v":false},{"$f":"IF(EJ292,EI292,\"\")","v":""},null,null,null,null,"に基づき感染対策を実施している。",null,{"$f":"IF(EQ292,EP292,\"\")","v":""}]
[null,null,null,null,null,null,null,null,null,null,null,null,null,null,null,null,null,null,null,null,null,"□","買物代行",false,"","□","食材宅配",false,"","□","温泉・銭湯（送迎）",false,"","□","屋外作業・力仕事",false,"","□","カフェ・ファーストフード",false,"","□","休憩スペース",false,"","□","映画館",false,"","□","住宅・リフォーム",false,"",null,null,null,null,null,"","□","大宮区",false,"さいたま市:大宮区","",null,"□","戸田市",{"$f":"IF(BN293=\"☑\",TRUE)","v":false},{"$f":"\"南部地域:\"&BO293","v":"南部地域:戸田市"},"",null,"□","和光市",false,"南西部地域:和光市","",null,"□","越谷市",false,"東部地域:越谷市","",null,"□","桶川市",{"$f":"IF(CF293=\"☑\",TRUE)","v":false},{"$f":"\"県央地域:\"&CG293","v":"県央地域:桶川市"},"",null,"□","坂戸市",false,"川越比企地域:坂戸市","",null,"□","狭山市",{"$f":"IF(CR293=\"☑\",TRUE)","v":false},{"$f":"\"西部地域:\"&CS293","v":"西部地域:狭山市"},"",null,"□","羽生市",false,"利根地域:羽生市","",null,"□","深谷市",false,"北部地域:深谷市","",null,"□","皆野町",{"$f":"IF(DJ293=\"☑\",TRUE)","v":false},{"$f":"\"秩父地域:\"&DK293","v":"秩父地域:皆野町"},"",null,null,null,null,null,null,null,null,null,null,null,null,null,null,"□","水曜日",false,"",null,"□","夕方(16:00～18:00)",{"$f":"IF(EH293=\"☑\",TRUE)","v":false},{"$f":"IF(EJ293,EI293,\"\")","v":""},null,null,null,"□","各種団体が定める業種別ガイドライン",{"$f":"IF(EO293=\"☑\",TRUE)","v":false},{"$f":"IF(EQ293,EP293,\"\")","v":""}]
[null,null,null,null,null,null,null,null,null,null,null,null,null,null,null,null,null,null,null,null,null,"□","移動販売",false,"","□","日用品配達",false,"","□","整体・マッサージ（送迎）",false,"","□","整体・マッサージ（出張）",false,"","□","飲食店",false,"","□","駐車場",false,"","□","カラオケ店",false,"","□","パソコン・スマートフォン",false,"",null,null,null,null,null,"","□","見沼区",false,"さいたま市:見沼区","",null,null,null,null,null,"",null,"□","新座市",false,"南西部地域:新座市","",null,"□","八潮市",false,"東部地域:八潮市","",null,"□","北本市",{"$f":"IF(CF294=\"☑\",TRUE)","v":false},{"$f":"\"県央地域:\"&CG294","v":"県央地域:北本市"},"",null,"□","鶴ヶ島市",false,"川越比企地域:鶴ヶ島市","",null,"□","入間市",{"$f":"IF(CR294=\"☑\",TRUE)","v":false},{"$f":"\"西部地域:\"&CS294","v":"西部地域:入間市"},"",null,"□","久喜市",false,"利根地域:久喜市","",null,"□","美里町",false,"北部地域:美里町","",null,"□","長瀞町",{"$f":"IF(DJ294=\"☑\",TRUE)","v":false},{"$f":"\"秩父地域:\"&DK294","v":"秩父地域:長瀞町"},"",null,null,null,null,null,null,null,null,null,null,null,null,null,null,"□","木曜日",false,"",null,"□","夜(18:00～）",{"$f":"IF(EH294=\"☑\",TRUE)","v":false},{"$f":"IF(EJ294,EI294,\"\")","v":""},null,null,null,null,"に基づき感染対策を実施している。"]
[null,null,null,null,null,null,null,null,null,null,null,null,null,null,null,null,null,null,null,null,null,"□","割引サービス",false,"","□","薬・介護用品配達",false,"","□","乗り合いサービス",false,"","□","理容室・美容室（出張）",false,"","□","イートインスペース",false,"","□","貸しスペース",false,"","□","麻雀・将棋・囲碁",false,"","□","認知症サポート企業",false,"",null,null,null,null,null,"","□","中央区",false,"さいたま市:中央区","",null,null,null,null,null,"",null,"□","富士見市",false,"南西部地域:富士見市","",null,"□","三郷市",false,"東部地域:三郷市","",null,"□","伊奈町",{"$f":"IF(CF295=\"☑\",TRUE)","v":false},{"$f":"\"県央地域:\"&CG295","v":"県央地域:伊奈町"},"",null,"□","毛呂山町",false,"川越比企地域:毛呂山町","",null,"□","日高市",{"$f":"IF(CR295=\"☑\",TRUE)","v":false},{"$f":"\"西部地域:\"&CS295","v":"西部地域:日高市"},"",null,"□","蓮田市",false,"利根地域:蓮田市","",null,"□","神川町",false,"北部地域:神川町","",null,"□","小鹿野町",{"$f":"IF(DJ295=\"☑\",TRUE)","v":false},{"$f":"\"秩父地域:\"&DK295","v":"秩父地域:小鹿野町"},"",null,null,null,null,null,null,null,null,null,null,null,null,null,null,"□","金曜日",false,"",null,null,null,null,null,null,null,null,"□","その他の感染対策を実施している。",{"$f":"IF(EO295=\"☑\",TRUE)","v":false},{"$f":"IF(EQ295,EP295,\"\")","v":""}]
[null,null,null,null,null,null,null,null,null,null,null,null,null,null,null,null,null,null,null,null,null,"□","その他（買物）",false,"","□","その他（宅配・デリバリー）",false,"","□","個別移送サービス",false,"","□","ペット",false,"","□","その他（運動・たまり場）",false,"","□","その他（設備・施設・場所貸し）",false,"","□","ゲームセンター",false,"","□","その他（生活サービス）",false,"",null,null,null,null,null,"","□","桜区",false,"さいたま市:桜区","",null,null,null,null,null,"",null,"□","ふじみ野市",false,"南西部地域:ふじみ野市","",null,"□","吉川市",false,"東部地域:吉川市","",null,null,null,null,null,"",null,"□","越生町",false,"川越比企地域:越生町","",null,null,null,null,null,"",null,"□","幸手市",false,"利根地域:幸手市","",null,"□","上里町",false,"北部地域:上里町","",null,null,null,null,null,"",null,null,null,null,null,null,null,null,null,null,null,null,null,null,"□","土曜日",false,"",null,null,null,null,null,null,null,null,"□","感染対策を特に実施していない。",{"$f":"IF(EO296=\"☑\",TRUE)","v":false},{"$f":"IF(EQ296,EP296,\"\")","v":""}]
[null,null,null,null,null,null,null,null,null,null,null,null,null,null,null,null,null,null,null,null,null,null,null,null,null,null,null,null,null,"□","交通機関サービス",false,"","□","その他（出張サービス）",false,"",null,null,null,null,null,null,null,null,"□","旅行代理店",false,"",null,null,null,null,null,null,null,null,null,"","□","浦和区",false,"さいたま市:浦和区","",null,null,null,null,null,"",null,"□","三芳町",false,"南西部地域:三芳町","",null,"□","松伏町",false,"東部地域:松伏町","",null,null,null,null,null,"",null,"□","滑川町",false,"川越比企地域:滑川町","",null,null,null,null,null,"",null,"□","白岡市",false,"利根地域:白岡市","",null,"□","寄居町",false,"北部地域:寄居町","",null,null,null,null,null,"",null,null,null,null,null,null,null,null,null,null,null,null,null,null,"□","日曜日",false,""]
[null,null,null,null,null,null,null,null,null,null,null,null,null,null,null,null,null,null,null,null,null,null,null,null,null,null,null,null,null,"□","その他（送迎・移動支援）",false,"",null,null,null,"",null,null,null,{"$f":"IF(AN298,AM298,\"\")","v":""},null,null,null,{"$f":"IF(AR298,AQ298,\"\")","v":""},"□","その他（学び・趣味）",false,"",null,null,null,null,null,null,null,null,null,"","□","南区",false,"さいたま市:南区","",null,null,null,null,null,"",null,null,null,null,null,"",null,null,null,null,null,"",null,null,null,null,null,"",null,"□","嵐山町",false,"川越比企地域:嵐山町","",null,null,null,null,null,"",null,"□","宮代町",false,"利根地域:宮代町","",null,null,null,null,null,"",null,null,null,null,null,""]
[null,null,null,null,null,null,null,null,null,null,null,null,null,null,null,null,null,null,null,null,null,null,null,null,null,null,null,null,null,null,null,null,null,null,null,null,null,null,null,null,null,null,null,null,null,null,null,null,null,null,null,null,null,null,null,null,null,null,"","□","緑区",false,"さいたま市:緑区","",null,null,null,null,null,"",null,null,null,null,null,"",null,null,null,null,null,"",null,null,null,null,null,"",null,"□","小川町",false,"川越比企地域:小川町","",null,null,null,null,null,"",null,"□","杉戸町",false,"利根地域:杉戸町","",null,null,null,null,null,"",null,null,null,null,null,""]
[null,null,null,null,null,null,null,null,null,null,null,null,null,null,null,null,null,null,null,null,null,null,null,null,null,null,null,null,null,null,null,null,null,null,null,null,null,null,null,null,null,null,null,null,null,null,null,null,null,null,null,null,null,null,null,null,null,null,"","□","岩槻区",{"$f":"IF(BH300=\"☑\",TRUE)","v":false},"さいたま市:岩槻区","",null,null,null,null,null,"",null,null,null,null,null,"",null,null,null,null,null,"",null,null,null,null,null,"",null,"□","川島町",false,"川越比企地域:川島町","",null,null,null,null,null,"",null,null,null,null,null,"",null,null,null,null,null,"",null,null,null,null,null,""]
[null,null,null,null,null,null,null,null,null,null,null,null,null,null,null,null,null,null,null,null,null,null,null,null,null,null,null,null,null,null,null,null,null,null,null,null,null,null,null,null,null,null,null,null,null,null,null,null,null,null,null,null,null,null,null,null,null,null,"",null,null,null,null,null,null,null,null,null,null,null,null,null,null,null,null,null,null,null,null,null,null,null,null,null,null,null,null,null,null,"□","吉見町",false,"川越比企地域:吉見町","",null,null,null,null,null,"",null,null,null,null,null,"",null,null,null,null,null,"",null,null,null,null,null,""]
[null,null,null,null,null,null,null,null,null,null,null,null,null,null,null,null,null,null,null,null,null,null,null,null,null,null,null,null,null,null,null,null,null,null,null,null,null,null,null,null,null,null,null,null,null,null,null,null,null,null,null,null,null,null,null,null,null,null,"",null,null,null,null,null,null,null,null,null,null,null,null,null,null,null,null,null,null,null,null,null,null,null,null,null,null,null,null,null,null,"□","鳩山町",false,"川越比企地域:鳩山町","",null,null,null,null,null,"",null,null,null,null,null,"",null,null,null,null,null,"",null,null,null,null,null,""]
[null,null,null,null,null,null,null,null,null,null,null,null,null,null,null,null,null,null,null,null,null,null,null,null,null,null,null,null,null,null,null,null,null,null,null,null,null,null,null,null,null,null,null,null,null,null,null,null,null,null,null,null,null,null,null,null,null,null,"",null,null,null,null,null,null,null,null,null,null,null,null,null,null,null,null,null,null,null,null,null,null,null,null,null,null,null,null,null,null,"□","ときがわ町",false,"川越比企地域:ときがわ町","",null,null,null,null,null,"",null,null,null,null,null,"",null,null,null,null,null,"",null,null,null,null,null,""]
[null,null,null,null,null,null,null,null,null,null,null,null,null,null,null,null,null,null,null,null,null,null,null,null,null,null,null,null,null,null,null,null,null,null,null,null,null,null,null,null,null,null,null,null,null,null,null,null,null,null,null,null,null,null,null,null,null,null,"",null,null,null,null,null,null,null,null,null,null,null,null,null,null,null,null,null,null,null,null,null,null,null,null,null,null,null,null,null,null,"□","東秩父村",false,"川越比企地域:東秩父村","",null,null,null,null,null,"",null,null,null,null,null,"",null,null,null,null,null,"",null,null,null,null,null,""]
[21,null,null,null,null,null,null,null,null,null,null,null,null,null,null,null,null,null,null,null,null,"□","配送",{"$f":"IF(V305=\"☑\",TRUE)","v":false},{"$f":"IF(X305,W305,\"\")","v":""},"□","弁当配達",{"$f":"IF(Z305=\"☑\",TRUE)","v":false},{"$f":"IF(AB305,AA305,\"\")","v":""},"□","理容室・美容室（送迎）",{"$f":"IF(AD305=\"☑\",TRUE)","v":false},{"$f":"IF(AF305,AE305,\"\")","v":""},"□","家事代行",{"$f":"IF(AH305=\"☑\",TRUE)","v":false},{"$f":"IF(AJ305,AI305,\"\")","v":""},"□","フィットネス・ジム（運動）",{"$f":"IF(AL305=\"☑\",TRUE)","v":false},{"$f":"IF(AN305,AM305,\"\")","v":""},"□","車イス対応（バリアフリー）",{"$f":"IF(AP305=\"☑\",TRUE)","v":false},{"$f":"IF(AR305,AQ305,\"\")","v":""},"□","講座・教室・イベント",{"$f":"IF(AT305=\"☑\",TRUE)","v":false},{"$f":"IF(AV305,AU305,\"\")","v":""},"□","防犯・見守り",{"$f":"IF(AX305=\"☑\",TRUE)","v":false},{"$f":"IF(AZ305,AY305,\"\")","v":""},{"$f":"_xludf.TEXTJOIN(\",\",TRUE,Y305:Y318,AC305:AC318,AG305:AG318,AK305:AK318,AO305:AO318,AS305:AS318,AW305:AW318,BA305:BA318)","v":""},"□","埼玉県全域",{"$f":"IF(BC305=\"☑\",TRUE)","v":false},"さいたま市:西区,さいたま市:北区,さいたま市:大宮区,さいたま市:見沼区,さいたま市:中央区,さいたま市:桜区,さいたま市:浦和区,さいたま市:南区,さいたま市:緑区,さいたま市:岩槻区,南部地域:川口市,南部地域:蕨市,南部地域:戸田市,南西部地域:朝霞市,南西部地域:志木市,南西部地域:和光市,南西部地域:新座市,南西部地域:富士見市,南西部地域:ふじみ野市,南西部地域:三芳町,東部地域:春日部市,東部地域:草加市,東部地域:越谷市,東部地域:八潮市,東部地域:三郷市,東部地域:吉川市,東部地域:松伏町,県央地域:鴻巣市,県央地域:上尾市,県央地域:桶川市,県央地域:北本市,県央地域:伊奈町,川越比企地域:川越市,川越比企地域:東松山市,川越比企地域:坂戸市,川越比企地域:鶴ヶ島市,川越比企地域:毛呂山町,川越比企地域:越生町,川越比企地域:滑川町,川越比企地域:嵐山町,川越比企地域:小川町,川越比企地域:川島町,川越比企地域:吉見町,川越比企地域:鳩山町,川越比企地域:ときがわ町,川越比企地域:東秩父村,西部地域:所沢市,西部地域:飯能市,西部地域:狭山市,西部地域:入間市,西部地域:日高市,利根地域:行田市,利根地域:加須市,利根地域:羽生市,利根地域:久喜市,利根地域:蓮田市,利根地域:幸手市,利根地域:白岡市,利根地域:宮代町,利根地域:杉戸町,北部地域:熊谷市,北部地域:本庄市,北部地域:深谷市,北部地域:美里町,北部地域:神川町,北部地域:上里町,北部地域:寄居町,秩父地域:秩父市,秩父地域:横瀬町,秩父地域:皆野町,秩父地域:長瀞町,秩父地域:小鹿野町","","□","西区",{"$f":"IF(BH305=\"☑\",TRUE)","v":false},{"$f":"\"さいたま市:\"&BI305","v":"さいたま市:西区"},{"$f":"IF(BJ305,BK305,\"\")","v":""},{"$f":"_xludf.TEXTJOIN(\",\",TRUE,BL305:BL318)","v":""},"□","川口市",{"$f":"IF(BN305=\"☑\",TRUE)","v":false},{"$f":"\"南部地域:\"&BO305","v":"南部地域:川口市"},{"$f":"IF(BP305,BQ305,\"\")","v":""},{"$f":"_xludf.TEXTJOIN(\",\",TRUE,BR305:BR318)","v":""},"□","朝霞市",{"$f":"IF(BT305=\"☑\",TRUE)","v":false},{"$f":"\"南西部地域:\"&BU305","v":"南西部地域:朝霞市"},{"$f":"IF(BV305,BW305,\"\")","v":""},{"$f":"_xludf.TEXTJOIN(\",\",TRUE,BX305:BX318)","v":""},"□","春日部市",{"$f":"IF(BZ305=\"☑\",TRUE)","v":false},{"$f":"\"東部地域:\"&CA305","v":"東部地域:春日部市"},{"$f":"IF(CB305,CC305,\"\")","v":""},{"$f":"_xludf.TEXTJOIN(\",\",TRUE,CD305:CD318)","v":""},"□","鴻巣市",{"$f":"IF(CF305=\"☑\",TRUE)","v":false},{"$f":"\"県央地域:\"&CG305","v":"県央地域:鴻巣市"},{"$f":"IF(CH305,CI305,\"\")","v":""},{"$f":"_xludf.TEXTJOIN(\",\",TRUE,CJ305:CJ318)","v":""},"□","川越市",{"$f":"IF(CL305=\"☑\",TRUE)","v":false},{"$f":"\"川越比企地域:\"&CM305","v":"川越比企地域:川越市"},{"$f":"IF(CN305,CO305,\"\")","v":""},{"$f":"_xludf.TEXTJOIN(\",\",TRUE,CP305:CP318)","v":""},"□","所沢市",{"$f":"IF(CR305=\"☑\",TRUE)","v":false},{"$f":"\"西部地域:\"&CS305","v":"西部地域:所沢市"},{"$f":"IF(CT305,CU305,\"\")","v":""},{"$f":"_xludf.TEXTJOIN(\",\",TRUE,CV305:CV318)","v":""},"□","行田市",{"$f":"IF(CX305=\"☑\",TRUE)","v":false},{"$f":"\"利根地域:\"&CY305","v":"利根地域:行田市"},{"$f":"IF(CZ305,DA305,\"\")","v":""},{"$f":"_xludf.TEXTJOIN(\",\",TRUE,DB305:DB318)","v":""},"□","熊谷市",{"$f":"IF(DD305=\"☑\",TRUE)","v":false},{"$f":"\"北部地域:\"&DE305","v":"北部地域:熊谷市"},{"$f":"IF(DF305,DG305,\"\")","v":""},{"$f":"_xludf.TEXTJOIN(\",\",TRUE,DH305:DH318)","v":""},"□","秩父市",{"$f":"IF(DJ305=\"☑\",TRUE)","v":false},{"$f":"\"秩父地域:\"&DK305","v":"秩父地域:秩父市"},{"$f":"IF(DL305,DM305,\"\")","v":""},{"$f":"_xludf.TEXTJOIN(\",\",TRUE,DN305:DN318)","v":""},{"$f":"_xludf.TEXTJOIN(\",\",TRUE,BG305,BM305,BS305,BY305,CE305,CK305,CQ305,CW305,DC305,DI305,DO305)","v":""},null,null,null,null,null,null,null,null,null,null,null,null,"□","月曜日",{"$f":"IF(EC305=\"☑\",TRUE)","v":false},{"$f":"IF(EE305,ED305,\"\")","v":""},{"$f":"_xludf.TEXTJOIN(\",\",TRUE,EF305:EF318)","v":""},"□","午前（～12:00）",{"$f":"IF(EH305=\"☑\",TRUE)","v":false},{"$f":"IF(EJ305,EI305,\"\")","v":""},{"$f":"_xludf.TEXTJOIN(\",\",TRUE,EK305:EK318)","v":""},null,null,"□","彩の国「新しい生活様式」安心宣言",{"$f":"IF(EO305=\"☑\",TRUE)","v":false},{"$f":"IF(EQ305,EP305,\"\")","v":""},{"$f":"_xludf.TEXTJOIN(\",\",TRUE,ER305:ER318)","v":""},null,"",null,"",null,"",null,"",null,"",null,"",null,"",null,""]
[null,null,null,null,null,null,null,null,null,null,null,null,null,null,null,null,null,null,null,null,null,"□","買物サポート",false,"","□","料理デリバリー（出前）",false,"","□","フィットネス・ジム（送迎）",{"$f":"IF(AD306=\"☑\",TRUE)","v":false},{"$f":"IF(AF306,AE306,\"\")","v":""},"□","出張料理",{"$f":"IF(AH306=\"☑\",TRUE)","v":false},{"$f":"IF(AJ306,AI306,\"\")","v":""},"□","温泉・銭湯（たまり場）",false,"","□","多目的トイレ",false,"","□","習い事",{"$f":"IF(AT306=\"☑\",TRUE)","v":false},{"$f":"IF(AV306,AU306,\"\")","v":""},"□","金融・保険",false,"",null,null,null,null,null,"","□","北区",{"$f":"IF(BH306=\"☑\",TRUE)","v":false},{"$f":"\"さいたま市:\"&BI306","v":"さいたま市:北区"},{"$f":"IF(BJ306,BK306,\"\")","v":""},null,"□","蕨市",{"$f":"IF(BN306=\"☑\",TRUE)","v":false},{"$f":"\"南部地域:\"&BO306","v":"南部地域:蕨市"},{"$f":"IF(BP306,BQ306,\"\")","v":""},null,"□","志木市",{"$f":"IF(BT306=\"☑\",TRUE)","v":false},{"$f":"\"南西部地域:\"&BU306","v":"南西部地域:志木市"},{"$f":"IF(BV306,BW306,\"\")","v":""},null,"□","草加市",{"$f":"IF(BZ306=\"☑\",TRUE)","v":false},{"$f":"\"東部地域:\"&CA306","v":"東部地域:草加市"},"",null,"□","上尾市",{"$f":"IF(CF306=\"☑\",TRUE)","v":false},{"$f":"\"県央地域:\"&CG306","v":"県央地域:上尾市"},{"$f":"IF(CH306,CI306,\"\")","v":""},null,"□","東松山市",{"$f":"IF(CL306=\"☑\",TRUE)","v":false},{"$f":"\"川越比企地域:\"&CM306","v":"川越比企地域:東松山市"},{"$f":"IF(CN306,CO306,\"\")","v":""},null,"□","飯能市",{"$f":"IF(CR306=\"☑\",TRUE)","v":false},{"$f":"\"西部地域:\"&CS306","v":"西部地域:飯能市"},{"$f":"IF(CT306,CU306,\"\")","v":""},null,"□","加須市",{"$f":"IF(CX306=\"☑\",TRUE)","v":false},{"$f":"\"利根地域:\"&CY306","v":"利根地域:加須市"},{"$f":"IF(CZ306,DA306,\"\")","v":""},null,"□","本庄市",{"$f":"IF(DD306=\"☑\",TRUE)","v":false},{"$f":"\"北部地域:\"&DE306","v":"北部地域:本庄市"},{"$f":"IF(DF306,DG306,\"\")","v":""},null,"□","横瀬町",{"$f":"IF(DJ306=\"☑\",TRUE)","v":false},{"$f":"\"秩父地域:\"&DK306","v":"秩父地域:横瀬町"},{"$f":"IF(DL306,DM306,\"\")","v":""},null,null,null,null,null,null,null,null,null,null,null,null,null,null,"□","火曜日",{"$f":"IF(EC306=\"☑\",TRUE)","v":false},{"$f":"IF(EE306,ED306,\"\")","v":""},null,"□","午後（12:00～16：00）",{"$f":"IF(EH306=\"☑\",TRUE)","v":false},{"$f":"IF(EJ306,EI306,\"\")","v":""},null,null,null,null,"に基づき感染対策を実施している。",null,{"$f":"IF(EQ306,EP306,\"\")","v":""}]
[null,null,null,null,null,null,null,null,null,null,null,null,null,null,null,null,null,null,null,null,null,"□","買物代行",false,"","□","食材宅配",false,"","□","温泉・銭湯（送迎）",false,"","□","屋外作業・力仕事",false,"","□","カフェ・ファーストフード",false,"","□","休憩スペース",false,"","□","映画館",false,"","□","住宅・リフォーム",false,"",null,null,null,null,null,"","□","大宮区",false,"さいたま市:大宮区","",null,"□","戸田市",{"$f":"IF(BN307=\"☑\",TRUE)","v":false},{"$f":"\"南部地域:\"&BO307","v":"南部地域:戸田市"},"",null,"□","和光市",false,"南西部地域:和光市","",null,"□","越谷市",false,"東部地域:越谷市","",null,"□","桶川市",{"$f":"IF(CF307=\"☑\",TRUE)","v":false},{"$f":"\"県央地域:\"&CG307","v":"県央地域:桶川市"},"",null,"□","坂戸市",false,"川越比企地域:坂戸市","",null,"□","狭山市",{"$f":"IF(CR307=\"☑\",TRUE)","v":false},{"$f":"\"西部地域:\"&CS307","v":"西部地域:狭山市"},"",null,"□","羽生市",false,"利根地域:羽生市","",null,"□","深谷市",false,"北部地域:深谷市","",null,"□","皆野町",{"$f":"IF(DJ307=\"☑\",TRUE)","v":false},{"$f":"\"秩父地域:\"&DK307","v":"秩父地域:皆野町"},"",null,null,null,null,null,null,null,null,null,null,null,null,null,null,"□","水曜日",false,"",null,"□","夕方(16:00～18:00)",{"$f":"IF(EH307=\"☑\",TRUE)","v":false},{"$f":"IF(EJ307,EI307,\"\")","v":""},null,null,null,"□","各種団体が定める業種別ガイドライン",{"$f":"IF(EO307=\"☑\",TRUE)","v":false},{"$f":"IF(EQ307,EP307,\"\")","v":""}]
[null,null,null,null,null,null,null,null,null,null,null,null,null,null,null,null,null,null,null,null,null,"□","移動販売",false,"","□","日用品配達",false,"","□","整体・マッサージ（送迎）",false,"","□","整体・マッサージ（出張）",false,"","□","飲食店",false,"","□","駐車場",false,"","□","カラオケ店",false,"","□","パソコン・スマートフォン",false,"",null,null,null,null,null,"","□","見沼区",false,"さいたま市:見沼区","",null,null,null,null,null,"",null,"□","新座市",false,"南西部地域:新座市","",null,"□","八潮市",false,"東部地域:八潮市","",null,"□","北本市",{"$f":"IF(CF308=\"☑\",TRUE)","v":false},{"$f":"\"県央地域:\"&CG308","v":"県央地域:北本市"},"",null,"□","鶴ヶ島市",false,"川越比企地域:鶴ヶ島市","",null,"□","入間市",{"$f":"IF(CR308=\"☑\",TRUE)","v":false},{"$f":"\"西部地域:\"&CS308","v":"西部地域:入間市"},"",null,"□","久喜市",false,"利根地域:久喜市","",null,"□","美里町",false,"北部地域:美里町","",null,"□","長瀞町",{"$f":"IF(DJ308=\"☑\",TRUE)","v":false},{"$f":"\"秩父地域:\"&DK308","v":"秩父地域:長瀞町"},"",null,null,null,null,null,null,null,null,null,null,null,null,null,null,"□","木曜日",false,"",null,"□","夜(18:00～）",{"$f":"IF(EH308=\"☑\",TRUE)","v":false},{"$f":"IF(EJ308,EI308,\"\")","v":""},null,null,null,null,"に基づき感染対策を実施している。"]
[null,null,null,null,null,null,null,null,null,null,null,null,null,null,null,null,null,null,null,null,null,"□","割引サービス",false,"","□","薬・介護用品配達",false,"","□","乗り合いサービス",false,"","□","理容室・美容室（出張）",false,"","□","イートインスペース",false,"","□","貸しスペース",false,"","□","麻雀・将棋・囲碁",false,"","□","認知症サポート企業",false,"",null,null,null,null,null,"","□","中央区",false,"さいたま市:中央区","",null,null,null,null,null,"",null,"□","富士見市",false,"南西部地域:富士見市","",null,"□","三郷市",false,"東部地域:三郷市","",null,"□","伊奈町",{"$f":"IF(CF309=\"☑\",TRUE)","v":false},{"$f":"\"県央地域:\"&CG309","v":"県央地域:伊奈町"},"",null,"□","毛呂山町",false,"川越比企地域:毛呂山町","",null,"□","日高市",{"$f":"IF(CR309=\"☑\",TRUE)","v":false},{"$f":"\"西部地域:\"&CS309","v":"西部地域:日高市"},"",null,"□","蓮田市",false,"利根地域:蓮田市","",null,"□","神川町",false,"北部地域:神川町","",null,"□","小鹿野町",{"$f":"IF(DJ309=\"☑\",TRUE)","v":false},{"$f":"\"秩父地域:\"&DK309","v":"秩父地域:小鹿野町"},"",null,null,null,null,null,null,null,null,null,null,null,null,null,null,"□","金曜日",false,"",null,null,null,null,null,null,null,null,"□","その他の感染対策を実施している。",{"$f":"IF(EO309=\"☑\",TRUE)","v":false},{"$f":"IF(EQ309,EP309,\"\")","v":""}]
[null,null,null,null,null,null,null,null,null,null,null,null,null,null,null,null,null,null,null,null,null,"□","その他（買物）",false,"","□","その他（宅配・デリバリー）",false,"","□","個別移送サービス",false,"","□","ペット",false,"","□","その他（運動・たまり場）",false,"","□","その他（設備・施設・場所貸し）",false,"","□","ゲームセンター",false,"","□","その他（生活サービス）",false,"",null,null,null,null,null,"","□","桜区",false,"さいたま市:桜区","",null,null,null,null,null,"",null,"□","ふじみ野市",false,"南西部地域:ふじみ野市","",null,"□","吉川市",false,"東部地域:吉川市","",null,null,null,null,null,"",null,"□","越生町",false,"川越比企地域:越生町","",null,null,null,null,null,"",null,"□","幸手市",false,"利根地域:幸手市","",null,"□","上里町",false,"北部地域:上里町","",null,null,null,null,null,"",null,null,null,null,null,null,null,null,null,null,null,null,null,null,"□","土曜日",false,"",null,null,null,null,null,null,null,null,"□","感染対策を特に実施していない。",{"$f":"IF(EO310=\"☑\",TRUE)","v":false},{"$f":"IF(EQ310,EP310,\"\")","v":""}]
[null,null,null,null,null,null,null,null,null,null,null,null,null,null,null,null,null,null,null,null,null,null,null,null,null,null,null,null,null,"□","交通機関サービス",false,"","□","その他（出張サービス）",false,"",null,null,null,null,null,null,null,null,"□","旅行代理店",false,"",null,null,null,null,null,null,null,null,null,"","□","浦和区",false,"さいたま市:浦和区","",null,null,null,null,null,"",null,"□","三芳町",false,"南西部地域:三芳町","",null,"□","松伏町",false,"東部地域:松伏町","",null,null,null,null,null,"",null,"□","滑川町",false,"川越比企地域:滑川町","",null,null,null,null,null,"",null,"□","白岡市",false,"利根地域:白岡市","",null,"□","寄居町",false,"北部地域:寄居町","",null,null,null,null,null,"",null,null,null,null,null,null,null,null,null,null,null,null,null,null,"□","日曜日",false,""]
[null,null,null,null,null,null,null,null,null,null,null,null,null,null,null,null,null,null,null,null,null,null,null,null,null,null,null,null,null,"□","その他（送迎・移動支援）",false,"",null,null,null,"",null,null,null,{"$f":"IF(AN312,AM312,\"\")","v":""},null,null,null,{"$f":"IF(AR312,AQ312,\"\")","v":""},"□","その他（学び・趣味）",false,"",null,null,null,null,null,null,null,null,null,"","□","南区",false,"さいたま市:南区","",null,null,null,null,null,"",null,null,null,null,null,"",null,null,null,null,null,"",null,null,null,null,null,"",null,"□","嵐山町",false,"川越比企地域:嵐山町","",null,null,null,null,null,"",null,"□","宮代町",false,"利根地域:宮代町","",null,null,null,null,null,"",null,null,null,null,null,""]
[null,null,null,null,null,null,null,null,null,null,null,null,null,null,null,null,null,null,null,null,null,null,null,null,null,null,null,null,null,null,null,null,null,null,null,null,null,null,null,null,null,null,null,null,null,null,null,null,null,null,null,null,null,null,null,null,null,null,"","□","緑区",false,"さいたま市:緑区","",null,null,null,null,null,"",null,null,null,null,null,"",null,null,null,null,null,"",null,null,null,null,null,"",null,"□","小川町",false,"川越比企地域:小川町","",null,null,null,null,null,"",null,"□","杉戸町",false,"利根地域:杉戸町","",null,null,null,null,null,"",null,null,null,null,null,""]
[null,null,null,null,null,null,null,null,null,null,null,null,null,null,null,null,null,null,null,null,null,null,null,null,null,null,null,null,null,null,null,null,null,null,null,null,null,null,null,null,null,null,null,null,null,null,null,null,null,null,null,null,null,null,null,null,null,null,"","□","岩槻区",{"$f":"IF(BH314=\"☑\",TRUE)","v":false},"さいたま市:岩槻区","",null,null,null,null,null,"",null,null,null,null,null,"",null,null,null,null,null,"",null,null,null,null,null,"",null,"□","川島町",false,"川越比企地域:川島町","",null,null,null,null,null,"",null,null,null,null,null,"",null,null,null,null,null,"",null,null,null,null,null,""]
[null,null,null,null,null,null,null,null,null,null,null,null,null,null,null,null,null,null,null,null,null,null,null,null,null,null,null,null,null,null,null,null,null,null,null,null,null,null,null,null,null,null,null,null,null,null,null,null,null,null,null,null,null,null,null,null,null,null,"",null,null,null,null,null,null,null,null,null,null,null,null,null,null,null,null,null,null,null,null,null,null,null,null,null,null,null,null,null,null,"□","吉見町",false,"川越比企地域:吉見町","",null,null,null,null,null,"",null,null,null,null,null,"",null,null,null,null,null,"",null,null,null,null,null,""]
[null,null,null,null,null,null,null,null,null,null,null,null,null,null,null,null,null,null,null,null,null,null,null,null,null,null,null,null,null,null,null,null,null,null,null,null,null,null,null,null,null,null,null,null,null,null,null,null,null,null,null,null,null,null,null,null,null,null,"",null,null,null,null,null,null,null,null,null,null,null,null,null,null,null,null,null,null,null,null,null,null,null,null,null,null,null,null,null,null,"□","鳩山町",false,"川越比企地域:鳩山町","",null,null,null,null,null,"",null,null,null,null,null,"",null,null,null,null,null,"",null,null,null,null,null,""]
[null,null,null,null,null,null,null,null,null,null,null,null,null,null,null,null,null,null,null,null,null,null,null,null,null,null,null,null,null,null,null,null,null,null,null,null,null,null,null,null,null,null,null,null,null,null,null,null,null,null,null,null,null,null,null,null,null,null,"",null,null,null,null,null,null,null,null,null,null,null,null,null,null,null,null,null,null,null,null,null,null,null,null,null,null,null,null,null,null,"□","ときがわ町",false,"川越比企地域:ときがわ町","",null,null,null,null,null,"",null,null,null,null,null,"",null,null,null,null,null,"",null,null,null,null,null,""]
[null,null,null,null,null,null,null,null,null,null,null,null,null,null,null,null,null,null,null,null,null,null,null,null,null,null,null,null,null,null,null,null,null,null,null,null,null,null,null,null,null,null,null,null,null,null,null,null,null,null,null,null,null,null,null,null,null,null,"",null,null,null,null,null,null,null,null,null,null,null,null,null,null,null,null,null,null,null,null,null,null,null,null,null,null,null,null,null,null,"□","東秩父村",false,"川越比企地域:東秩父村","",null,null,null,null,null,"",null,null,null,null,null,"",null,null,null,null,null,"",null,null,null,null,null,""]
[22,null,null,null,null,null,null,null,null,null,null,null,null,null,null,null,null,null,null,null,null,"□","配送",{"$f":"IF(V319=\"☑\",TRUE)","v":false},{"$f":"IF(X319,W319,\"\")","v":""},"□","弁当配達",{"$f":"IF(Z319=\"☑\",TRUE)","v":false},{"$f":"IF(AB319,AA319,\"\")","v":""},"□","理容室・美容室（送迎）",{"$f":"IF(AD319=\"☑\",TRUE)","v":false},{"$f":"IF(AF319,AE319,\"\")","v":""},"□","家事代行",{"$f":"IF(AH319=\"☑\",TRUE)","v":false},{"$f":"IF(AJ319,AI319,\"\")","v":""},"□","フィットネス・ジム（運動）",{"$f":"IF(AL319=\"☑\",TRUE)","v":false},{"$f":"IF(AN319,AM319,\"\")","v":""},"□","車イス対応（バリアフリー）",{"$f":"IF(AP319=\"☑\",TRUE)","v":false},{"$f":"IF(AR319,AQ319,\"\")","v":""},"□","講座・教室・イベント",{"$f":"IF(AT319=\"☑\",TRUE)","v":false},{"$f":"IF(AV319,AU319,\"\")","v":""},"□","防犯・見守り",{"$f":"IF(AX319=\"☑\",TRUE)","v":false},{"$f":"IF(AZ319,AY319,\"\")","v":""},{"$f":"_xludf.TEXTJOIN(\",\",TRUE,Y319:Y332,AC319:AC332,AG319:AG332,AK319:AK332,AO319:AO332,AS319:AS332,AW319:AW332,BA319:BA332)","v":""},"□","埼玉県全域",{"$f":"IF(BC319=\"☑\",TRUE)","v":false},"さいたま市:西区,さいたま市:北区,さいたま市:大宮区,さいたま市:見沼区,さいたま市:中央区,さいたま市:桜区,さいたま市:浦和区,さいたま市:南区,さいたま市:緑区,さいたま市:岩槻区,南部地域:川口市,南部地域:蕨市,南部地域:戸田市,南西部地域:朝霞市,南西部地域:志木市,南西部地域:和光市,南西部地域:新座市,南西部地域:富士見市,南西部地域:ふじみ野市,南西部地域:三芳町,東部地域:春日部市,東部地域:草加市,東部地域:越谷市,東部地域:八潮市,東部地域:三郷市,東部地域:吉川市,東部地域:松伏町,県央地域:鴻巣市,県央地域:上尾市,県央地域:桶川市,県央地域:北本市,県央地域:伊奈町,川越比企地域:川越市,川越比企地域:東松山市,川越比企地域:坂戸市,川越比企地域:鶴ヶ島市,川越比企地域:毛呂山町,川越比企地域:越生町,川越比企地域:滑川町,川越比企地域:嵐山町,川越比企地域:小川町,川越比企地域:川島町,川越比企地域:吉見町,川越比企地域:鳩山町,川越比企地域:ときがわ町,川越比企地域:東秩父村,西部地域:所沢市,西部地域:飯能市,西部地域:狭山市,西部地域:入間市,西部地域:日高市,利根地域:行田市,利根地域:加須市,利根地域:羽生市,利根地域:久喜市,利根地域:蓮田市,利根地域:幸手市,利根地域:白岡市,利根地域:宮代町,利根地域:杉戸町,北部地域:熊谷市,北部地域:本庄市,北部地域:深谷市,北部地域:美里町,北部地域:神川町,北部地域:上里町,北部地域:寄居町,秩父地域:秩父市,秩父地域:横瀬町,秩父地域:皆野町,秩父地域:長瀞町,秩父地域:小鹿野町","","□","西区",{"$f":"IF(BH319=\"☑\",TRUE)","v":false},{"$f":"\"さいたま市:\"&BI319","v":"さいたま市:西区"},{"$f":"IF(BJ319,BK319,\"\")","v":""},{"$f":"_xludf.TEXTJOIN(\",\",TRUE,BL319:BL332)","v":""},"□","川口市",{"$f":"IF(BN319=\"☑\",TRUE)","v":false},{"$f":"\"南部地域:\"&BO319","v":"南部地域:川口市"},{"$f":"IF(BP319,BQ319,\"\")","v":""},{"$f":"_xludf.TEXTJOIN(\",\",TRUE,BR319:BR332)","v":""},"□","朝霞市",{"$f":"IF(BT319=\"☑\",TRUE)","v":false},{"$f":"\"南西部地域:\"&BU319","v":"南西部地域:朝霞市"},{"$f":"IF(BV319,BW319,\"\")","v":""},{"$f":"_xludf.TEXTJOIN(\",\",TRUE,BX319:BX332)","v":""},"□","春日部市",{"$f":"IF(BZ319=\"☑\",TRUE)","v":false},{"$f":"\"東部地域:\"&CA319","v":"東部地域:春日部市"},{"$f":"IF(CB319,CC319,\"\")","v":""},{"$f":"_xludf.TEXTJOIN(\",\",TRUE,CD319:CD332)","v":""},"□","鴻巣市",{"$f":"IF(CF319=\"☑\",TRUE)","v":false},{"$f":"\"県央地域:\"&CG319","v":"県央地域:鴻巣市"},{"$f":"IF(CH319,CI319,\"\")","v":""},{"$f":"_xludf.TEXTJOIN(\",\",TRUE,CJ319:CJ332)","v":""},"□","川越市",{"$f":"IF(CL319=\"☑\",TRUE)","v":false},{"$f":"\"川越比企地域:\"&CM319","v":"川越比企地域:川越市"},{"$f":"IF(CN319,CO319,\"\")","v":""},{"$f":"_xludf.TEXTJOIN(\",\",TRUE,CP319:CP332)","v":""},"□","所沢市",{"$f":"IF(CR319=\"☑\",TRUE)","v":false},{"$f":"\"西部地域:\"&CS319","v":"西部地域:所沢市"},{"$f":"IF(CT319,CU319,\"\")","v":""},{"$f":"_xludf.TEXTJOIN(\",\",TRUE,CV319:CV332)","v":""},"□","行田市",{"$f":"IF(CX319=\"☑\",TRUE)","v":false},{"$f":"\"利根地域:\"&CY319","v":"利根地域:行田市"},{"$f":"IF(CZ319,DA319,\"\")","v":""},{"$f":"_xludf.TEXTJOIN(\",\",TRUE,DB319:DB332)","v":""},"□","熊谷市",{"$f":"IF(DD319=\"☑\",TRUE)","v":false},{"$f":"\"北部地域:\"&DE319","v":"北部地域:熊谷市"},{"$f":"IF(DF319,DG319,\"\")","v":""},{"$f":"_xludf.TEXTJOIN(\",\",TRUE,DH319:DH332)","v":""},"□","秩父市",{"$f":"IF(DJ319=\"☑\",TRUE)","v":false},{"$f":"\"秩父地域:\"&DK319","v":"秩父地域:秩父市"},{"$f":"IF(DL319,DM319,\"\")","v":""},{"$f":"_xludf.TEXTJOIN(\",\",TRUE,DN319:DN332)","v":""},{"$f":"_xludf.TEXTJOIN(\",\",TRUE,BG319,BM319,BS319,BY319,CE319,CK319,CQ319,CW319,DC319,DI319,DO319)","v":""},null,null,null,null,null,null,null,null,null,null,null,null,"□","月曜日",{"$f":"IF(EC319=\"☑\",TRUE)","v":false},{"$f":"IF(EE319,ED319,\"\")","v":""},{"$f":"_xludf.TEXTJOIN(\",\",TRUE,EF319:EF332)","v":""},"□","午前（～12:00）",{"$f":"IF(EH319=\"☑\",TRUE)","v":false},{"$f":"IF(EJ319,EI319,\"\")","v":""},{"$f":"_xludf.TEXTJOIN(\",\",TRUE,EK319:EK332)","v":""},null,null,"□","彩の国「新しい生活様式」安心宣言",{"$f":"IF(EO319=\"☑\",TRUE)","v":false},{"$f":"IF(EQ319,EP319,\"\")","v":""},{"$f":"_xludf.TEXTJOIN(\",\",TRUE,ER319:ER332)","v":""},null,"",null,"",null,"",null,"",null,"",null,"",null,"",null,""]
[null,null,null,null,null,null,null,null,null,null,null,null,null,null,null,null,null,null,null,null,null,"□","買物サポート",false,"","□","料理デリバリー（出前）",false,"","□","フィットネス・ジム（送迎）",{"$f":"IF(AD320=\"☑\",TRUE)","v":false},{"$f":"IF(AF320,AE320,\"\")","v":""},"□","出張料理",{"$f":"IF(AH320=\"☑\",TRUE)","v":false},{"$f":"IF(AJ320,AI320,\"\")","v":""},"□","温泉・銭湯（たまり場）",false,"","□","多目的トイレ",false,"","□","習い事",{"$f":"IF(AT320=\"☑\",TRUE)","v":false},{"$f":"IF(AV320,AU320,\"\")","v":""},"□","金融・保険",false,"",null,null,null,null,null,"","□","北区",{"$f":"IF(BH320=\"☑\",TRUE)","v":false},{"$f":"\"さいたま市:\"&BI320","v":"さいたま市:北区"},{"$f":"IF(BJ320,BK320,\"\")","v":""},null,"□","蕨市",{"$f":"IF(BN320=\"☑\",TRUE)","v":false},{"$f":"\"南部地域:\"&BO320","v":"南部地域:蕨市"},{"$f":"IF(BP320,BQ320,\"\")","v":""},null,"□","志木市",{"$f":"IF(BT320=\"☑\",TRUE)","v":false},{"$f":"\"南西部地域:\"&BU320","v":"南西部地域:志木市"},{"$f":"IF(BV320,BW320,\"\")","v":""},null,"□","草加市",{"$f":"IF(BZ320=\"☑\",TRUE)","v":false},{"$f":"\"東部地域:\"&CA320","v":"東部地域:草加市"},"",null,"□","上尾市",{"$f":"IF(CF320=\"☑\",TRUE)","v":false},{"$f":"\"県央地域:\"&CG320","v":"県央地域:上尾市"},{"$f":"IF(CH320,CI320,\"\")","v":""},null,"□","東松山市",{"$f":"IF(CL320=\"☑\",TRUE)","v":false},{"$f":"\"川越比企地域:\"&CM320","v":"川越比企地域:東松山市"},{"$f":"IF(CN320,CO320,\"\")","v":""},null,"□","飯能市",{"$f":"IF(CR320=\"☑\",TRUE)","v":false},{"$f":"\"西部地域:\"&CS320","v":"西部地域:飯能市"},{"$f":"IF(CT320,CU320,\"\")","v":""},null,"□","加須市",{"$f":"IF(CX320=\"☑\",TRUE)","v":false},{"$f":"\"利根地域:\"&CY320","v":"利根地域:加須市"},{"$f":"IF(CZ320,DA320,\"\")","v":""},null,"□","本庄市",{"$f":"IF(DD320=\"☑\",TRUE)","v":false},{"$f":"\"北部地域:\"&DE320","v":"北部地域:本庄市"},{"$f":"IF(DF320,DG320,\"\")","v":""},null,"□","横瀬町",{"$f":"IF(DJ320=\"☑\",TRUE)","v":false},{"$f":"\"秩父地域:\"&DK320","v":"秩父地域:横瀬町"},{"$f":"IF(DL320,DM320,\"\")","v":""},null,null,null,null,null,null,null,null,null,null,null,null,null,null,"□","火曜日",{"$f":"IF(EC320=\"☑\",TRUE)","v":false},{"$f":"IF(EE320,ED320,\"\")","v":""},null,"□","午後（12:00～16：00）",{"$f":"IF(EH320=\"☑\",TRUE)","v":false},{"$f":"IF(EJ320,EI320,\"\")","v":""},null,null,null,null,"に基づき感染対策を実施している。",null,{"$f":"IF(EQ320,EP320,\"\")","v":""}]
[null,null,null,null,null,null,null,null,null,null,null,null,null,null,null,null,null,null,null,null,null,"□","買物代行",false,"","□","食材宅配",false,"","□","温泉・銭湯（送迎）",false,"","□","屋外作業・力仕事",false,"","□","カフェ・ファーストフード",false,"","□","休憩スペース",false,"","□","映画館",false,"","□","住宅・リフォーム",false,"",null,null,null,null,null,"","□","大宮区",false,"さいたま市:大宮区","",null,"□","戸田市",{"$f":"IF(BN321=\"☑\",TRUE)","v":false},{"$f":"\"南部地域:\"&BO321","v":"南部地域:戸田市"},"",null,"□","和光市",false,"南西部地域:和光市","",null,"□","越谷市",false,"東部地域:越谷市","",null,"□","桶川市",{"$f":"IF(CF321=\"☑\",TRUE)","v":false},{"$f":"\"県央地域:\"&CG321","v":"県央地域:桶川市"},"",null,"□","坂戸市",false,"川越比企地域:坂戸市","",null,"□","狭山市",{"$f":"IF(CR321=\"☑\",TRUE)","v":false},{"$f":"\"西部地域:\"&CS321","v":"西部地域:狭山市"},"",null,"□","羽生市",false,"利根地域:羽生市","",null,"□","深谷市",false,"北部地域:深谷市","",null,"□","皆野町",{"$f":"IF(DJ321=\"☑\",TRUE)","v":false},{"$f":"\"秩父地域:\"&DK321","v":"秩父地域:皆野町"},"",null,null,null,null,null,null,null,null,null,null,null,null,null,null,"□","水曜日",false,"",null,"□","夕方(16:00～18:00)",{"$f":"IF(EH321=\"☑\",TRUE)","v":false},{"$f":"IF(EJ321,EI321,\"\")","v":""},null,null,null,"□","各種団体が定める業種別ガイドライン",{"$f":"IF(EO321=\"☑\",TRUE)","v":false},{"$f":"IF(EQ321,EP321,\"\")","v":""}]
[null,null,null,null,null,null,null,null,null,null,null,null,null,null,null,null,null,null,null,null,null,"□","移動販売",false,"","□","日用品配達",false,"","□","整体・マッサージ（送迎）",false,"","□","整体・マッサージ（出張）",false,"","□","飲食店",false,"","□","駐車場",false,"","□","カラオケ店",false,"","□","パソコン・スマートフォン",false,"",null,null,null,null,null,"","□","見沼区",false,"さいたま市:見沼区","",null,null,null,null,null,"",null,"□","新座市",false,"南西部地域:新座市","",null,"□","八潮市",false,"東部地域:八潮市","",null,"□","北本市",{"$f":"IF(CF322=\"☑\",TRUE)","v":false},{"$f":"\"県央地域:\"&CG322","v":"県央地域:北本市"},"",null,"□","鶴ヶ島市",false,"川越比企地域:鶴ヶ島市","",null,"□","入間市",{"$f":"IF(CR322=\"☑\",TRUE)","v":false},{"$f":"\"西部地域:\"&CS322","v":"西部地域:入間市"},"",null,"□","久喜市",false,"利根地域:久喜市","",null,"□","美里町",false,"北部地域:美里町","",null,"□","長瀞町",{"$f":"IF(DJ322=\"☑\",TRUE)","v":false},{"$f":"\"秩父地域:\"&DK322","v":"秩父地域:長瀞町"},"",null,null,null,null,null,null,null,null,null,null,null,null,null,null,"□","木曜日",false,"",null,"□","夜(18:00～）",{"$f":"IF(EH322=\"☑\",TRUE)","v":false},{"$f":"IF(EJ322,EI322,\"\")","v":""},null,null,null,null,"に基づき感染対策を実施している。"]
[null,null,null,null,null,null,null,null,null,null,null,null,null,null,null,null,null,null,null,null,null,"□","割引サービス",false,"","□","薬・介護用品配達",false,"","□","乗り合いサービス",false,"","□","理容室・美容室（出張）",false,"","□","イートインスペース",false,"","□","貸しスペース",false,"","□","麻雀・将棋・囲碁",false,"","□","認知症サポート企業",false,"",null,null,null,null,null,"","□","中央区",false,"さいたま市:中央区","",null,null,null,null,null,"",null,"□","富士見市",false,"南西部地域:富士見市","",null,"□","三郷市",false,"東部地域:三郷市","",null,"□","伊奈町",{"$f":"IF(CF323=\"☑\",TRUE)","v":false},{"$f":"\"県央地域:\"&CG323","v":"県央地域:伊奈町"},"",null,"□","毛呂山町",false,"川越比企地域:毛呂山町","",null,"□","日高市",{"$f":"IF(CR323=\"☑\",TRUE)","v":false},{"$f":"\"西部地域:\"&CS323","v":"西部地域:日高市"},"",null,"□","蓮田市",false,"利根地域:蓮田市","",null,"□","神川町",false,"北部地域:神川町","",null,"□","小鹿野町",{"$f":"IF(DJ323=\"☑\",TRUE)","v":false},{"$f":"\"秩父地域:\"&DK323","v":"秩父地域:小鹿野町"},"",null,null,null,null,null,null,null,null,null,null,null,null,null,null,"□","金曜日",false,"",null,null,null,null,null,null,null,null,"□","その他の感染対策を実施している。",{"$f":"IF(EO323=\"☑\",TRUE)","v":false},{"$f":"IF(EQ323,EP323,\"\")","v":""}]
[null,null,null,null,null,null,null,null,null,null,null,null,null,null,null,null,null,null,null,null,null,"□","その他（買物）",false,"","□","その他（宅配・デリバリー）",false,"","□","個別移送サービス",false,"","□","ペット",false,"","□","その他（運動・たまり場）",false,"","□","その他（設備・施設・場所貸し）",false,"","□","ゲームセンター",false,"","□","その他（生活サービス）",false,"",null,null,null,null,null,"","□","桜区",false,"さいたま市:桜区","",null,null,null,null,null,"",null,"□","ふじみ野市",false,"南西部地域:ふじみ野市","",null,"□","吉川市",false,"東部地域:吉川市","",null,null,null,null,null,"",null,"□","越生町",false,"川越比企地域:越生町","",null,null,null,null,null,"",null,"□","幸手市",false,"利根地域:幸手市","",null,"□","上里町",false,"北部地域:上里町","",null,null,null,null,null,"",null,null,null,null,null,null,null,null,null,null,null,null,null,null,"□","土曜日",false,"",null,null,null,null,null,null,null,null,"□","感染対策を特に実施していない。",{"$f":"IF(EO324=\"☑\",TRUE)","v":false},{"$f":"IF(EQ324,EP324,\"\")","v":""}]
[null,null,null,null,null,null,null,null,null,null,null,null,null,null,null,null,null,null,null,null,null,null,null,null,null,null,null,null,null,"□","交通機関サービス",false,"","□","その他（出張サービス）",false,"",null,null,null,null,null,null,null,null,"□","旅行代理店",false,"",null,null,null,null,null,null,null,null,null,"","□","浦和区",false,"さいたま市:浦和区","",null,null,null,null,null,"",null,"□","三芳町",false,"南西部地域:三芳町","",null,"□","松伏町",false,"東部地域:松伏町","",null,null,null,null,null,"",null,"□","滑川町",false,"川越比企地域:滑川町","",null,null,null,null,null,"",null,"□","白岡市",false,"利根地域:白岡市","",null,"□","寄居町",false,"北部地域:寄居町","",null,null,null,null,null,"",null,null,null,null,null,null,null,null,null,null,null,null,null,null,"□","日曜日",false,""]
[null,null,null,null,null,null,null,null,null,null,null,null,null,null,null,null,null,null,null,null,null,null,null,null,null,null,null,null,null,"□","その他（送迎・移動支援）",false,"",null,null,null,"",null,null,null,{"$f":"IF(AN326,AM326,\"\")","v":""},null,null,null,{"$f":"IF(AR326,AQ326,\"\")","v":""},"□","その他（学び・趣味）",false,"",null,null,null,null,null,null,null,null,null,"","□","南区",false,"さいたま市:南区","",null,null,null,null,null,"",null,null,null,null,null,"",null,null,null,null,null,"",null,null,null,null,null,"",null,"□","嵐山町",false,"川越比企地域:嵐山町","",null,null,null,null,null,"",null,"□","宮代町",false,"利根地域:宮代町","",null,null,null,null,null,"",null,null,null,null,null,""]
[null,null,null,null,null,null,null,null,null,null,null,null,null,null,null,null,null,null,null,null,null,null,null,null,null,null,null,null,null,null,null,null,null,null,null,null,null,null,null,null,null,null,null,null,null,null,null,null,null,null,null,null,null,null,null,null,null,null,"","□","緑区",false,"さいたま市:緑区","",null,null,null,null,null,"",null,null,null,null,null,"",null,null,null,null,null,"",null,null,null,null,null,"",null,"□","小川町",false,"川越比企地域:小川町","",null,null,null,null,null,"",null,"□","杉戸町",false,"利根地域:杉戸町","",null,null,null,null,null,"",null,null,null,null,null,""]
[null,null,null,null,null,null,null,null,null,null,null,null,null,null,null,null,null,null,null,null,null,null,null,null,null,null,null,null,null,null,null,null,null,null,null,null,null,null,null,null,null,null,null,null,null,null,null,null,null,null,null,null,null,null,null,null,null,null,"","□","岩槻区",{"$f":"IF(BH328=\"☑\",TRUE)","v":false},"さいたま市:岩槻区","",null,null,null,null,null,"",null,null,null,null,null,"",null,null,null,null,null,"",null,null,null,null,null,"",null,"□","川島町",false,"川越比企地域:川島町","",null,null,null,null,null,"",null,null,null,null,null,"",null,null,null,null,null,"",null,null,null,null,null,""]
[null,null,null,null,null,null,null,null,null,null,null,null,null,null,null,null,null,null,null,null,null,null,null,null,null,null,null,null,null,null,null,null,null,null,null,null,null,null,null,null,null,null,null,null,null,null,null,null,null,null,null,null,null,null,null,null,null,null,"",null,null,null,null,null,null,null,null,null,null,null,null,null,null,null,null,null,null,null,null,null,null,null,null,null,null,null,null,null,null,"□","吉見町",false,"川越比企地域:吉見町","",null,null,null,null,null,"",null,null,null,null,null,"",null,null,null,null,null,"",null,null,null,null,null,""]
[null,null,null,null,null,null,null,null,null,null,null,null,null,null,null,null,null,null,null,null,null,null,null,null,null,null,null,null,null,null,null,null,null,null,null,null,null,null,null,null,null,null,null,null,null,null,null,null,null,null,null,null,null,null,null,null,null,null,"",null,null,null,null,null,null,null,null,null,null,null,null,null,null,null,null,null,null,null,null,null,null,null,null,null,null,null,null,null,null,"□","鳩山町",false,"川越比企地域:鳩山町","",null,null,null,null,null,"",null,null,null,null,null,"",null,null,null,null,null,"",null,null,null,null,null,""]
[null,null,null,null,null,null,null,null,null,null,null,null,null,null,null,null,null,null,null,null,null,null,null,null,null,null,null,null,null,null,null,null,null,null,null,null,null,null,null,null,null,null,null,null,null,null,null,null,null,null,null,null,null,null,null,null,null,null,{"$f":"IF(BE331,BF331,\"\")","v":""},null,null,null,null,null,null,null,null,null,null,null,null,null,null,null,null,null,null,null,null,null,null,null,null,null,null,null,null,null,null,"□","ときがわ町",false,"川越比企地域:ときがわ町","",null,null,null,null,null,"",null,null,null,null,null,"",null,null,null,null,null,"",null,null,null,null,null,""]
[null,null,null,null,null,null,null,null,null,null,null,null,null,null,null,null,null,null,null,null,null,null,null,null,null,null,null,null,null,null,null,null,null,null,null,null,null,null,null,null,null,null,null,null,null,null,null,null,null,null,null,null,null,null,null,null,null,null,"",null,null,null,null,null,null,null,null,null,null,null,null,null,null,null,null,null,null,null,null,null,null,null,null,null,null,null,null,null,null,"□","東秩父村",false,"川越比企地域:東秩父村","",null,null,null,null,null,"",null,null,null,null,null,"",null,null,null,null,null,"",null,null,null,null,null,""]
[23,null,null,null,null,null,null,null,null,null,null,null,null,null,null,null,null,null,null,null,null,"□","配送",{"$f":"IF(V333=\"☑\",TRUE)","v":false},{"$f":"IF(X333,W333,\"\")","v":""},"□","弁当配達",{"$f":"IF(Z333=\"☑\",TRUE)","v":false},{"$f":"IF(AB333,AA333,\"\")","v":""},"□","理容室・美容室（送迎）",{"$f":"IF(AD333=\"☑\",TRUE)","v":false},{"$f":"IF(AF333,AE333,\"\")","v":""},"□","家事代行",{"$f":"IF(AH333=\"☑\",TRUE)","v":false},{"$f":"IF(AJ333,AI333,\"\")","v":""},"□","フィットネス・ジム（運動）",{"$f":"IF(AL333=\"☑\",TRUE)","v":false},{"$f":"IF(AN333,AM333,\"\")","v":""},"□","車イス対応（バリアフリー）",{"$f":"IF(AP333=\"☑\",TRUE)","v":false},{"$f":"IF(AR333,AQ333,\"\")","v":""},"□","講座・教室・イベント",{"$f":"IF(AT333=\"☑\",TRUE)","v":false},{"$f":"IF(AV333,AU333,\"\")","v":""},"□","防犯・見守り",{"$f":"IF(AX333=\"☑\",TRUE)","v":false},{"$f":"IF(AZ333,AY333,\"\")","v":""},{"$f":"_xludf.TEXTJOIN(\",\",TRUE,Y333:Y346,AC333:AC346,AG333:AG346,AK333:AK346,AO333:AO346,AS333:AS346,AW333:AW346,BA333:BA346)","v":""},"□","埼玉県全域",{"$f":"IF(BC333=\"☑\",TRUE)","v":false},"さいたま市:西区,さいたま市:北区,さいたま市:大宮区,さいたま市:見沼区,さいたま市:中央区,さいたま市:桜区,さいたま市:浦和区,さいたま市:南区,さいたま市:緑区,さいたま市:岩槻区,南部地域:川口市,南部地域:蕨市,南部地域:戸田市,南西部地域:朝霞市,南西部地域:志木市,南西部地域:和光市,南西部地域:新座市,南西部地域:富士見市,南西部地域:ふじみ野市,南西部地域:三芳町,東部地域:春日部市,東部地域:草加市,東部地域:越谷市,東部地域:八潮市,東部地域:三郷市,東部地域:吉川市,東部地域:松伏町,県央地域:鴻巣市,県央地域:上尾市,県央地域:桶川市,県央地域:北本市,県央地域:伊奈町,川越比企地域:川越市,川越比企地域:東松山市,川越比企地域:坂戸市,川越比企地域:鶴ヶ島市,川越比企地域:毛呂山町,川越比企地域:越生町,川越比企地域:滑川町,川越比企地域:嵐山町,川越比企地域:小川町,川越比企地域:川島町,川越比企地域:吉見町,川越比企地域:鳩山町,川越比企地域:ときがわ町,川越比企地域:東秩父村,西部地域:所沢市,西部地域:飯能市,西部地域:狭山市,西部地域:入間市,西部地域:日高市,利根地域:行田市,利根地域:加須市,利根地域:羽生市,利根地域:久喜市,利根地域:蓮田市,利根地域:幸手市,利根地域:白岡市,利根地域:宮代町,利根地域:杉戸町,北部地域:熊谷市,北部地域:本庄市,北部地域:深谷市,北部地域:美里町,北部地域:神川町,北部地域:上里町,北部地域:寄居町,秩父地域:秩父市,秩父地域:横瀬町,秩父地域:皆野町,秩父地域:長瀞町,秩父地域:小鹿野町","","□","西区",{"$f":"IF(BH333=\"☑\",TRUE)","v":false},{"$f":"\"さいたま市:\"&BI333","v":"さいたま市:西区"},{"$f":"IF(BJ333,BK333,\"\")","v":""},{"$f":"_xludf.TEXTJOIN(\",\",TRUE,BL333:BL346)","v":""},"□","川口市",{"$f":"IF(BN333=\"☑\",TRUE)","v":false},{"$f":"\"南部地域:\"&BO333","v":"南部地域:川口市"},{"$f":"IF(BP333,BQ333,\"\")","v":""},{"$f":"_xludf.TEXTJOIN(\",\",TRUE,BR333:BR346)","v":""},"□","朝霞市",{"$f":"IF(BT333=\"☑\",TRUE)","v":false},{"$f":"\"南西部地域:\"&BU333","v":"南西部地域:朝霞市"},{"$f":"IF(BV333,BW333,\"\")","v":""},{"$f":"_xludf.TEXTJOIN(\",\",TRUE,BX333:BX346)","v":""},"□","春日部市",{"$f":"IF(BZ333=\"☑\",TRUE)","v":false},{"$f":"\"東部地域:\"&CA333","v":"東部地域:春日部市"},{"$f":"IF(CB333,CC333,\"\")","v":""},{"$f":"_xludf.TEXTJOIN(\",\",TRUE,CD333:CD346)","v":""},"□","鴻巣市",{"$f":"IF(CF333=\"☑\",TRUE)","v":false},{"$f":"\"県央地域:\"&CG333","v":"県央地域:鴻巣市"},{"$f":"IF(CH333,CI333,\"\")","v":""},{"$f":"_xludf.TEXTJOIN(\",\",TRUE,CJ333:CJ346)","v":""},"□","川越市",{"$f":"IF(CL333=\"☑\",TRUE)","v":false},{"$f":"\"川越比企地域:\"&CM333","v":"川越比企地域:川越市"},{"$f":"IF(CN333,CO333,\"\")","v":""},{"$f":"_xludf.TEXTJOIN(\",\",TRUE,CP333:CP346)","v":""},"□","所沢市",{"$f":"IF(CR333=\"☑\",TRUE)","v":false},{"$f":"\"西部地域:\"&CS333","v":"西部地域:所沢市"},{"$f":"IF(CT333,CU333,\"\")","v":""},{"$f":"_xludf.TEXTJOIN(\",\",TRUE,CV333:CV346)","v":""},"□","行田市",{"$f":"IF(CX333=\"☑\",TRUE)","v":false},{"$f":"\"利根地域:\"&CY333","v":"利根地域:行田市"},{"$f":"IF(CZ333,DA333,\"\")","v":""},{"$f":"_xludf.TEXTJOIN(\",\",TRUE,DB333:DB346)","v":""},"□","熊谷市",{"$f":"IF(DD333=\"☑\",TRUE)","v":false},{"$f":"\"北部地域:\"&DE333","v":"北部地域:熊谷市"},{"$f":"IF(DF333,DG333,\"\")","v":""},{"$f":"_xludf.TEXTJOIN(\",\",TRUE,DH333:DH346)","v":""},"□","秩父市",{"$f":"IF(DJ333=\"☑\",TRUE)","v":false},{"$f":"\"秩父地域:\"&DK333","v":"秩父地域:秩父市"},{"$f":"IF(DL333,DM333,\"\")","v":""},{"$f":"_xludf.TEXTJOIN(\",\",TRUE,DN333:DN346)","v":""},{"$f":"_xludf.TEXTJOIN(\",\",TRUE,BG333,BM333,BS333,BY333,CE333,CK333,CQ333,CW333,DC333,DI333,DO333)","v":""},null,null,null,null,null,null,null,null,null,null,null,null,"□","月曜日",{"$f":"IF(EC333=\"☑\",TRUE)","v":false},{"$f":"IF(EE333,ED333,\"\")","v":""},{"$f":"_xludf.TEXTJOIN(\",\",TRUE,EF333:EF346)","v":""},"□","午前（～12:00）",{"$f":"IF(EH333=\"☑\",TRUE)","v":false},{"$f":"IF(EJ333,EI333,\"\")","v":""},{"$f":"_xludf.TEXTJOIN(\",\",TRUE,EK333:EK346)","v":""},null,null,"□","彩の国「新しい生活様式」安心宣言",{"$f":"IF(EO333=\"☑\",TRUE)","v":false},{"$f":"IF(EQ333,EP333,\"\")","v":""},{"$f":"_xludf.TEXTJOIN(\",\",TRUE,ER333:ER346)","v":""},null,"",null,"",null,"",null,"",null,"",null,"",null,"",null,""]
[null,null,null,null,null,null,null,null,null,null,null,null,null,null,null,null,null,null,null,null,null,"□","買物サポート",false,"","□","料理デリバリー（出前）",false,"","□","フィットネス・ジム（送迎）",{"$f":"IF(AD334=\"☑\",TRUE)","v":false},{"$f":"IF(AF334,AE334,\"\")","v":""},"□","出張料理",{"$f":"IF(AH334=\"☑\",TRUE)","v":false},{"$f":"IF(AJ334,AI334,\"\")","v":""},"□","温泉・銭湯（たまり場）",false,"","□","多目的トイレ",false,"","□","習い事",{"$f":"IF(AT334=\"☑\",TRUE)","v":false},{"$f":"IF(AV334,AU334,\"\")","v":""},"□","金融・保険",false,"",null,null,null,null,null,"","□","北区",{"$f":"IF(BH334=\"☑\",TRUE)","v":false},{"$f":"\"さいたま市:\"&BI334","v":"さいたま市:北区"},{"$f":"IF(BJ334,BK334,\"\")","v":""},null,"□","蕨市",{"$f":"IF(BN334=\"☑\",TRUE)","v":false},{"$f":"\"南部地域:\"&BO334","v":"南部地域:蕨市"},{"$f":"IF(BP334,BQ334,\"\")","v":""},null,"□","志木市",{"$f":"IF(BT334=\"☑\",TRUE)","v":false},{"$f":"\"南西部地域:\"&BU334","v":"南西部地域:志木市"},{"$f":"IF(BV334,BW334,\"\")","v":""},null,"□","草加市",{"$f":"IF(BZ334=\"☑\",TRUE)","v":false},{"$f":"\"東部地域:\"&CA334","v":"東部地域:草加市"},"",null,"□","上尾市",{"$f":"IF(CF334=\"☑\",TRUE)","v":false},{"$f":"\"県央地域:\"&CG334","v":"県央地域:上尾市"},{"$f":"IF(CH334,CI334,\"\")","v":""},null,"□","東松山市",{"$f":"IF(CL334=\"☑\",TRUE)","v":false},{"$f":"\"川越比企地域:\"&CM334","v":"川越比企地域:東松山市"},{"$f":"IF(CN334,CO334,\"\")","v":""},null,"□","飯能市",{"$f":"IF(CR334=\"☑\",TRUE)","v":false},{"$f":"\"西部地域:\"&CS334","v":"西部地域:飯能市"},{"$f":"IF(CT334,CU334,\"\")","v":""},null,"□","加須市",{"$f":"IF(CX334=\"☑\",TRUE)","v":false},{"$f":"\"利根地域:\"&CY334","v":"利根地域:加須市"},{"$f":"IF(CZ334,DA334,\"\")","v":""},null,"□","本庄市",{"$f":"IF(DD334=\"☑\",TRUE)","v":false},{"$f":"\"北部地域:\"&DE334","v":"北部地域:本庄市"},{"$f":"IF(DF334,DG334,\"\")","v":""},null,"□","横瀬町",{"$f":"IF(DJ334=\"☑\",TRUE)","v":false},{"$f":"\"秩父地域:\"&DK334","v":"秩父地域:横瀬町"},{"$f":"IF(DL334,DM334,\"\")","v":""},null,null,null,null,null,null,null,null,null,null,null,null,null,null,"□","火曜日",{"$f":"IF(EC334=\"☑\",TRUE)","v":false},{"$f":"IF(EE334,ED334,\"\")","v":""},null,"□","午後（12:00～16：00）",{"$f":"IF(EH334=\"☑\",TRUE)","v":false},{"$f":"IF(EJ334,EI334,\"\")","v":""},null,null,null,null,"に基づき感染対策を実施している。",null,{"$f":"IF(EQ334,EP334,\"\")","v":""}]
[null,null,null,null,null,null,null,null,null,null,null,null,null,null,null,null,null,null,null,null,null,"□","買物代行",false,"","□","食材宅配",false,"","□","温泉・銭湯（送迎）",false,"","□","屋外作業・力仕事",false,"","□","カフェ・ファーストフード",false,"","□","休憩スペース",false,"","□","映画館",false,"","□","住宅・リフォーム",false,"",null,null,null,null,null,"","□","大宮区",false,"さいたま市:大宮区","",null,"□","戸田市",{"$f":"IF(BN335=\"☑\",TRUE)","v":false},{"$f":"\"南部地域:\"&BO335","v":"南部地域:戸田市"},"",null,"□","和光市",false,"南西部地域:和光市","",null,"□","越谷市",false,"東部地域:越谷市","",null,"□","桶川市",{"$f":"IF(CF335=\"☑\",TRUE)","v":false},{"$f":"\"県央地域:\"&CG335","v":"県央地域:桶川市"},"",null,"□","坂戸市",false,"川越比企地域:坂戸市","",null,"□","狭山市",{"$f":"IF(CR335=\"☑\",TRUE)","v":false},{"$f":"\"西部地域:\"&CS335","v":"西部地域:狭山市"},"",null,"□","羽生市",false,"利根地域:羽生市","",null,"□","深谷市",false,"北部地域:深谷市","",null,"□","皆野町",{"$f":"IF(DJ335=\"☑\",TRUE)","v":false},{"$f":"\"秩父地域:\"&DK335","v":"秩父地域:皆野町"},"",null,null,null,null,null,null,null,null,null,null,null,null,null,null,"□","水曜日",false,"",null,"□","夕方(16:00～18:00)",{"$f":"IF(EH335=\"☑\",TRUE)","v":false},{"$f":"IF(EJ335,EI335,\"\")","v":""},null,null,null,"□","各種団体が定める業種別ガイドライン",{"$f":"IF(EO335=\"☑\",TRUE)","v":false},{"$f":"IF(EQ335,EP335,\"\")","v":""}]
[null,null,null,null,null,null,null,null,null,null,null,null,null,null,null,null,null,null,null,null,null,"□","移動販売",false,"","□","日用品配達",false,"","□","整体・マッサージ（送迎）",false,"","□","整体・マッサージ（出張）",false,"","□","飲食店",false,"","□","駐車場",false,"","□","カラオケ店",false,"","□","パソコン・スマートフォン",false,"",null,null,null,null,null,"","□","見沼区",false,"さいたま市:見沼区","",null,null,null,null,null,"",null,"□","新座市",false,"南西部地域:新座市","",null,"□","八潮市",false,"東部地域:八潮市","",null,"□","北本市",{"$f":"IF(CF336=\"☑\",TRUE)","v":false},{"$f":"\"県央地域:\"&CG336","v":"県央地域:北本市"},"",null,"□","鶴ヶ島市",false,"川越比企地域:鶴ヶ島市","",null,"□","入間市",{"$f":"IF(CR336=\"☑\",TRUE)","v":false},{"$f":"\"西部地域:\"&CS336","v":"西部地域:入間市"},"",null,"□","久喜市",false,"利根地域:久喜市","",null,"□","美里町",false,"北部地域:美里町","",null,"□","長瀞町",{"$f":"IF(DJ336=\"☑\",TRUE)","v":false},{"$f":"\"秩父地域:\"&DK336","v":"秩父地域:長瀞町"},"",null,null,null,null,null,null,null,null,null,null,null,null,null,null,"□","木曜日",false,"",null,"□","夜(18:00～）",{"$f":"IF(EH336=\"☑\",TRUE)","v":false},{"$f":"IF(EJ336,EI336,\"\")","v":""},null,null,null,null,"に基づき感染対策を実施している。"]
[null,null,null,null,null,null,null,null,null,null,null,null,null,null,null,null,null,null,null,null,null,"□","割引サービス",false,"","□","薬・介護用品配達",false,"","□","乗り合いサービス",false,"","□","理容室・美容室（出張）",false,"","□","イートインスペース",false,"","□","貸しスペース",false,"","□","麻雀・将棋・囲碁",false,"","□","認知症サポート企業",false,"",null,null,null,null,null,"","□","中央区",false,"さいたま市:中央区","",null,null,null,null,null,"",null,"□","富士見市",false,"南西部地域:富士見市","",null,"□","三郷市",false,"東部地域:三郷市","",null,"□","伊奈町",{"$f":"IF(CF337=\"☑\",TRUE)","v":false},{"$f":"\"県央地域:\"&CG337","v":"県央地域:伊奈町"},"",null,"□","毛呂山町",false,"川越比企地域:毛呂山町","",null,"□","日高市",{"$f":"IF(CR337=\"☑\",TRUE)","v":false},{"$f":"\"西部地域:\"&CS337","v":"西部地域:日高市"},"",null,"□","蓮田市",false,"利根地域:蓮田市","",null,"□","神川町",false,"北部地域:神川町","",null,"□","小鹿野町",{"$f":"IF(DJ337=\"☑\",TRUE)","v":false},{"$f":"\"秩父地域:\"&DK337","v":"秩父地域:小鹿野町"},"",null,null,null,null,null,null,null,null,null,null,null,null,null,null,"□","金曜日",false,"",null,null,null,null,null,null,null,null,"□","その他の感染対策を実施している。",{"$f":"IF(EO337=\"☑\",TRUE)","v":false},{"$f":"IF(EQ337,EP337,\"\")","v":""}]
[null,null,null,null,null,null,null,null,null,null,null,null,null,null,null,null,null,null,null,null,null,"□","その他（買物）",false,"","□","その他（宅配・デリバリー）",false,"","□","個別移送サービス",false,"","□","ペット",false,"","□","その他（運動・たまり場）",false,"","□","その他（設備・施設・場所貸し）",false,"","□","ゲームセンター",false,"","□","その他（生活サービス）",false,"",null,null,null,null,null,"","□","桜区",false,"さいたま市:桜区","",null,null,null,null,null,"",null,"□","ふじみ野市",false,"南西部地域:ふじみ野市","",null,"□","吉川市",false,"東部地域:吉川市","",null,null,null,null,null,"",null,"□","越生町",false,"川越比企地域:越生町","",null,null,null,null,null,"",null,"□","幸手市",false,"利根地域:幸手市","",null,"□","上里町",false,"北部地域:上里町","",null,null,null,null,null,"",null,null,null,null,null,null,null,null,null,null,null,null,null,null,"□","土曜日",false,"",null,null,null,null,null,null,null,null,"□","感染対策を特に実施していない。",{"$f":"IF(EO338=\"☑\",TRUE)","v":false},{"$f":"IF(EQ338,EP338,\"\")","v":""}]
[null,null,null,null,null,null,null,null,null,null,null,null,null,null,null,null,null,null,null,null,null,null,null,null,null,null,null,null,null,"□","交通機関サービス",false,"","□","その他（出張サービス）",false,"",null,null,null,null,null,null,null,null,"□","旅行代理店",false,"",null,null,null,null,null,null,null,null,null,"","□","浦和区",false,"さいたま市:浦和区","",null,null,null,null,null,"",null,"□","三芳町",false,"南西部地域:三芳町","",null,"□","松伏町",false,"東部地域:松伏町","",null,null,null,null,null,"",null,"□","滑川町",false,"川越比企地域:滑川町","",null,null,null,null,null,"",null,"□","白岡市",false,"利根地域:白岡市","",null,"□","寄居町",false,"北部地域:寄居町","",null,null,null,null,null,"",null,null,null,null,null,null,null,null,null,null,null,null,null,null,"□","日曜日",false,""]
[null,null,null,null,null,null,null,null,null,null,null,null,null,null,null,null,null,null,null,null,null,null,null,null,null,null,null,null,null,"□","その他（送迎・移動支援）",false,"",null,null,null,"",null,null,null,{"$f":"IF(AN340,AM340,\"\")","v":""},null,null,null,{"$f":"IF(AR340,AQ340,\"\")","v":""},"□","その他（学び・趣味）",false,"",null,null,null,null,null,null,null,null,null,"","□","南区",false,"さいたま市:南区","",null,null,null,null,null,"",null,null,null,null,null,"",null,null,null,null,null,"",null,null,null,null,null,"",null,"□","嵐山町",false,"川越比企地域:嵐山町","",null,null,null,null,null,"",null,"□","宮代町",false,"利根地域:宮代町","",null,null,null,null,null,"",null,null,null,null,null,""]
[null,null,null,null,null,null,null,null,null,null,null,null,null,null,null,null,null,null,null,null,null,null,null,null,null,null,null,null,null,null,null,null,null,null,null,null,null,null,null,null,null,null,null,null,null,null,null,null,null,null,null,null,null,null,null,null,null,null,"","□","緑区",false,"さいたま市:緑区","",null,null,null,null,null,"",null,null,null,null,null,"",null,null,null,null,null,"",null,null,null,null,null,"",null,"□","小川町",false,"川越比企地域:小川町","",null,null,null,null,null,"",null,"□","杉戸町",false,"利根地域:杉戸町","",null,null,null,null,null,"",null,null,null,null,null,""]
[null,null,null,null,null,null,null,null,null,null,null,null,null,null,null,null,null,null,null,null,null,null,null,null,null,null,null,null,null,null,null,null,null,null,null,null,null,null,null,null,null,null,null,null,null,null,null,null,null,null,null,null,null,null,null,null,null,null,"","□","岩槻区",{"$f":"IF(BH342=\"☑\",TRUE)","v":false},"さいたま市:岩槻区","",null,null,null,null,null,"",null,null,null,null,null,"",null,null,null,null,null,"",null,null,null,null,null,"",null,"□","川島町",false,"川越比企地域:川島町","",null,null,null,null,null,"",null,null,null,null,null,"",null,null,null,null,null,"",null,null,null,null,null,""]
[null,null,null,null,null,null,null,null,null,null,null,null,null,null,null,null,null,null,null,null,null,null,null,null,null,null,null,null,null,null,null,null,null,null,null,null,null,null,null,null,null,null,null,null,null,null,null,null,null,null,null,null,null,null,null,null,null,null,"",null,null,null,null,null,null,null,null,null,null,null,null,null,null,null,null,null,null,null,null,null,null,null,null,null,null,null,null,null,null,"□","吉見町",false,"川越比企地域:吉見町","",null,null,null,null,null,"",null,null,null,null,null,"",null,null,null,null,null,"",null,null,null,null,null,""]
[null,null,null,null,null,null,null,null,null,null,null,null,null,null,null,null,null,null,null,null,null,null,null,null,null,null,null,null,null,null,null,null,null,null,null,null,null,null,null,null,null,null,null,null,null,null,null,null,null,null,null,null,null,null,null,null,null,null,"",null,null,null,null,null,null,null,null,null,null,null,null,null,null,null,null,null,null,null,null,null,null,null,null,null,null,null,null,null,null,"□","鳩山町",false,"川越比企地域:鳩山町","",null,null,null,null,null,"",null,null,null,null,null,"",null,null,null,null,null,"",null,null,null,null,null,""]
[null,null,null,null,null,null,null,null,null,null,null,null,null,null,null,null,null,null,null,null,null,null,null,null,null,null,null,null,null,null,null,null,null,null,null,null,null,null,null,null,null,null,null,null,null,null,null,null,null,null,null,null,null,null,null,null,null,null,"",null,null,null,null,null,null,null,null,null,null,null,null,null,null,null,null,null,null,null,null,null,null,null,null,null,null,null,null,null,null,"□","ときがわ町",false,"川越比企地域:ときがわ町","",null,null,null,null,null,"",null,null,null,null,null,"",null,null,null,null,null,"",null,null,null,null,null,""]
[null,null,null,null,null,null,null,null,null,null,null,null,null,null,null,null,null,null,null,null,null,null,null,null,null,null,null,null,null,null,null,null,null,null,null,null,null,null,null,null,null,null,null,null,null,null,null,null,null,null,null,null,null,null,null,null,null,null,"",null,null,null,null,null,null,null,null,null,null,null,null,null,null,null,null,null,null,null,null,null,null,null,null,null,null,null,null,null,null,"□","東秩父村",false,"川越比企地域:東秩父村","",null,null,null,null,null,"",null,null,null,null,null,"",null,null,null,null,null,"",null,null,null,null,null,""]
[24,null,null,null,null,null,null,null,null,null,null,null,null,null,null,null,null,null,null,null,null,"□","配送",{"$f":"IF(V347=\"☑\",TRUE)","v":false},{"$f":"IF(X347,W347,\"\")","v":""},"□","弁当配達",{"$f":"IF(Z347=\"☑\",TRUE)","v":false},{"$f":"IF(AB347,AA347,\"\")","v":""},"□","理容室・美容室（送迎）",{"$f":"IF(AD347=\"☑\",TRUE)","v":false},{"$f":"IF(AF347,AE347,\"\")","v":""},"□","家事代行",{"$f":"IF(AH347=\"☑\",TRUE)","v":false},{"$f":"IF(AJ347,AI347,\"\")","v":""},"□","フィットネス・ジム（運動）",{"$f":"IF(AL347=\"☑\",TRUE)","v":false},{"$f":"IF(AN347,AM347,\"\")","v":""},"□","車イス対応（バリアフリー）",{"$f":"IF(AP347=\"☑\",TRUE)","v":false},{"$f":"IF(AR347,AQ347,\"\")","v":""},"□","講座・教室・イベント",{"$f":"IF(AT347=\"☑\",TRUE)","v":false},{"$f":"IF(AV347,AU347,\"\")","v":""},"□","防犯・見守り",{"$f":"IF(AX347=\"☑\",TRUE)","v":false},{"$f":"IF(AZ347,AY347,\"\")","v":""},{"$f":"_xludf.TEXTJOIN(\",\",TRUE,Y347:Y360,AC347:AC360,AG347:AG360,AK347:AK360,AO347:AO360,AS347:AS360,AW347:AW360,BA347:BA360)","v":""},"□","埼玉県全域",{"$f":"IF(BC347=\"☑\",TRUE)","v":false},"さいたま市:西区,さいたま市:北区,さいたま市:大宮区,さいたま市:見沼区,さいたま市:中央区,さいたま市:桜区,さいたま市:浦和区,さいたま市:南区,さいたま市:緑区,さいたま市:岩槻区,南部地域:川口市,南部地域:蕨市,南部地域:戸田市,南西部地域:朝霞市,南西部地域:志木市,南西部地域:和光市,南西部地域:新座市,南西部地域:富士見市,南西部地域:ふじみ野市,南西部地域:三芳町,東部地域:春日部市,東部地域:草加市,東部地域:越谷市,東部地域:八潮市,東部地域:三郷市,東部地域:吉川市,東部地域:松伏町,県央地域:鴻巣市,県央地域:上尾市,県央地域:桶川市,県央地域:北本市,県央地域:伊奈町,川越比企地域:川越市,川越比企地域:東松山市,川越比企地域:坂戸市,川越比企地域:鶴ヶ島市,川越比企地域:毛呂山町,川越比企地域:越生町,川越比企地域:滑川町,川越比企地域:嵐山町,川越比企地域:小川町,川越比企地域:川島町,川越比企地域:吉見町,川越比企地域:鳩山町,川越比企地域:ときがわ町,川越比企地域:東秩父村,西部地域:所沢市,西部地域:飯能市,西部地域:狭山市,西部地域:入間市,西部地域:日高市,利根地域:行田市,利根地域:加須市,利根地域:羽生市,利根地域:久喜市,利根地域:蓮田市,利根地域:幸手市,利根地域:白岡市,利根地域:宮代町,利根地域:杉戸町,北部地域:熊谷市,北部地域:本庄市,北部地域:深谷市,北部地域:美里町,北部地域:神川町,北部地域:上里町,北部地域:寄居町,秩父地域:秩父市,秩父地域:横瀬町,秩父地域:皆野町,秩父地域:長瀞町,秩父地域:小鹿野町","","□","西区",{"$f":"IF(BH347=\"☑\",TRUE)","v":false},{"$f":"\"さいたま市:\"&BI347","v":"さいたま市:西区"},{"$f":"IF(BJ347,BK347,\"\")","v":""},{"$f":"_xludf.TEXTJOIN(\",\",TRUE,BL347:BL360)","v":""},"□","川口市",{"$f":"IF(BN347=\"☑\",TRUE)","v":false},{"$f":"\"南部地域:\"&BO347","v":"南部地域:川口市"},{"$f":"IF(BP347,BQ347,\"\")","v":""},{"$f":"_xludf.TEXTJOIN(\",\",TRUE,BR347:BR360)","v":""},"□","朝霞市",{"$f":"IF(BT347=\"☑\",TRUE)","v":false},{"$f":"\"南西部地域:\"&BU347","v":"南西部地域:朝霞市"},{"$f":"IF(BV347,BW347,\"\")","v":""},{"$f":"_xludf.TEXTJOIN(\",\",TRUE,BX347:BX360)","v":""},"□","春日部市",{"$f":"IF(BZ347=\"☑\",TRUE)","v":false},{"$f":"\"東部地域:\"&CA347","v":"東部地域:春日部市"},{"$f":"IF(CB347,CC347,\"\")","v":""},{"$f":"_xludf.TEXTJOIN(\",\",TRUE,CD347:CD360)","v":""},"□","鴻巣市",{"$f":"IF(CF347=\"☑\",TRUE)","v":false},{"$f":"\"県央地域:\"&CG347","v":"県央地域:鴻巣市"},{"$f":"IF(CH347,CI347,\"\")","v":""},{"$f":"_xludf.TEXTJOIN(\",\",TRUE,CJ347:CJ360)","v":""},"□","川越市",{"$f":"IF(CL347=\"☑\",TRUE)","v":false},{"$f":"\"川越比企地域:\"&CM347","v":"川越比企地域:川越市"},{"$f":"IF(CN347,CO347,\"\")","v":""},{"$f":"_xludf.TEXTJOIN(\",\",TRUE,CP347:CP360)","v":""},"□","所沢市",{"$f":"IF(CR347=\"☑\",TRUE)","v":false},{"$f":"\"西部地域:\"&CS347","v":"西部地域:所沢市"},{"$f":"IF(CT347,CU347,\"\")","v":""},{"$f":"_xludf.TEXTJOIN(\",\",TRUE,CV347:CV360)","v":""},"□","行田市",{"$f":"IF(CX347=\"☑\",TRUE)","v":false},{"$f":"\"利根地域:\"&CY347","v":"利根地域:行田市"},{"$f":"IF(CZ347,DA347,\"\")","v":""},{"$f":"_xludf.TEXTJOIN(\",\",TRUE,DB347:DB360)","v":""},"□","熊谷市",{"$f":"IF(DD347=\"☑\",TRUE)","v":false},{"$f":"\"北部地域:\"&DE347","v":"北部地域:熊谷市"},{"$f":"IF(DF347,DG347,\"\")","v":""},{"$f":"_xludf.TEXTJOIN(\",\",TRUE,DH347:DH360)","v":""},"□","秩父市",{"$f":"IF(DJ347=\"☑\",TRUE)","v":false},{"$f":"\"秩父地域:\"&DK347","v":"秩父地域:秩父市"},{"$f":"IF(DL347,DM347,\"\")","v":""},{"$f":"_xludf.TEXTJOIN(\",\",TRUE,DN347:DN360)","v":""},{"$f":"_xludf.TEXTJOIN(\",\",TRUE,BG347,BM347,BS347,BY347,CE347,CK347,CQ347,CW347,DC347,DI347,DO347)","v":""},null,null,null,null,null,null,null,null,null,null,null,null,"□","月曜日",{"$f":"IF(EC347=\"☑\",TRUE)","v":false},{"$f":"IF(EE347,ED347,\"\")","v":""},{"$f":"_xludf.TEXTJOIN(\",\",TRUE,EF347:EF360)","v":""},"□","午前（～12:00）",{"$f":"IF(EH347=\"☑\",TRUE)","v":false},{"$f":"IF(EJ347,EI347,\"\")","v":""},{"$f":"_xludf.TEXTJOIN(\",\",TRUE,EK347:EK360)","v":""},null,null,"□","彩の国「新しい生活様式」安心宣言",{"$f":"IF(EO347=\"☑\",TRUE)","v":false},{"$f":"IF(EQ347,EP347,\"\")","v":""},{"$f":"_xludf.TEXTJOIN(\",\",TRUE,ER347:ER360)","v":""},null,"",null,"",null,"",null,"",null,"",null,"",null,"",null,""]
[null,null,null,null,null,null,null,null,null,null,null,null,null,null,null,null,null,null,null,null,null,"□","買物サポート",false,"","□","料理デリバリー（出前）",false,"","□","フィットネス・ジム（送迎）",{"$f":"IF(AD348=\"☑\",TRUE)","v":false},{"$f":"IF(AF348,AE348,\"\")","v":""},"□","出張料理",{"$f":"IF(AH348=\"☑\",TRUE)","v":false},{"$f":"IF(AJ348,AI348,\"\")","v":""},"□","温泉・銭湯（たまり場）",false,"","□","多目的トイレ",false,"","□","習い事",{"$f":"IF(AT348=\"☑\",TRUE)","v":false},{"$f":"IF(AV348,AU348,\"\")","v":""},"□","金融・保険",false,"",null,null,null,null,null,"","□","北区",{"$f":"IF(BH348=\"☑\",TRUE)","v":false},{"$f":"\"さいたま市:\"&BI348","v":"さいたま市:北区"},{"$f":"IF(BJ348,BK348,\"\")","v":""},null,"□","蕨市",{"$f":"IF(BN348=\"☑\",TRUE)","v":false},{"$f":"\"南部地域:\"&BO348","v":"南部地域:蕨市"},{"$f":"IF(BP348,BQ348,\"\")","v":""},null,"□","志木市",{"$f":"IF(BT348=\"☑\",TRUE)","v":false},{"$f":"\"南西部地域:\"&BU348","v":"南西部地域:志木市"},{"$f":"IF(BV348,BW348,\"\")","v":""},null,"□","草加市",{"$f":"IF(BZ348=\"☑\",TRUE)","v":false},{"$f":"\"東部地域:\"&CA348","v":"東部地域:草加市"},"",null,"□","上尾市",{"$f":"IF(CF348=\"☑\",TRUE)","v":false},{"$f":"\"県央地域:\"&CG348","v":"県央地域:上尾市"},{"$f":"IF(CH348,CI348,\"\")","v":""},null,"□","東松山市",{"$f":"IF(CL348=\"☑\",TRUE)","v":false},{"$f":"\"川越比企地域:\"&CM348","v":"川越比企地域:東松山市"},{"$f":"IF(CN348,CO348,\"\")","v":""},null,"□","飯能市",{"$f":"IF(CR348=\"☑\",TRUE)","v":false},{"$f":"\"西部地域:\"&CS348","v":"西部地域:飯能市"},{"$f":"IF(CT348,CU348,\"\")","v":""},null,"□","加須市",{"$f":"IF(CX348=\"☑\",TRUE)","v":false},{"$f":"\"利根地域:\"&CY348","v":"利根地域:加須市"},{"$f":"IF(CZ348,DA348,\"\")","v":""},null,"□","本庄市",{"$f":"IF(DD348=\"☑\",TRUE)","v":false},{"$f":"\"北部地域:\"&DE348","v":"北部地域:本庄市"},{"$f":"IF(DF348,DG348,\"\")","v":""},null,"□","横瀬町",{"$f":"IF(DJ348=\"☑\",TRUE)","v":false},{"$f":"\"秩父地域:\"&DK348","v":"秩父地域:横瀬町"},{"$f":"IF(DL348,DM348,\"\")","v":""},null,null,null,null,null,null,null,null,null,null,null,null,null,null,"□","火曜日",{"$f":"IF(EC348=\"☑\",TRUE)","v":false},{"$f":"IF(EE348,ED348,\"\")","v":""},null,"□","午後（12:00～16：00）",{"$f":"IF(EH348=\"☑\",TRUE)","v":false},{"$f":"IF(EJ348,EI348,\"\")","v":""},null,null,null,null,"に基づき感染対策を実施している。",null,{"$f":"IF(EQ348,EP348,\"\")","v":""}]
[null,null,null,null,null,null,null,null,null,null,null,null,null,null,null,null,null,null,null,null,null,"□","買物代行",false,"","□","食材宅配",false,"","□","温泉・銭湯（送迎）",false,"","□","屋外作業・力仕事",false,"","□","カフェ・ファーストフード",false,"","□","休憩スペース",false,"","□","映画館",false,"","□","住宅・リフォーム",false,"",null,null,null,null,null,"","□","大宮区",false,"さいたま市:大宮区","",null,"□","戸田市",{"$f":"IF(BN349=\"☑\",TRUE)","v":false},{"$f":"\"南部地域:\"&BO349","v":"南部地域:戸田市"},"",null,"□","和光市",false,"南西部地域:和光市","",null,"□","越谷市",false,"東部地域:越谷市","",null,"□","桶川市",{"$f":"IF(CF349=\"☑\",TRUE)","v":false},{"$f":"\"県央地域:\"&CG349","v":"県央地域:桶川市"},"",null,"□","坂戸市",false,"川越比企地域:坂戸市","",null,"□","狭山市",{"$f":"IF(CR349=\"☑\",TRUE)","v":false},{"$f":"\"西部地域:\"&CS349","v":"西部地域:狭山市"},"",null,"□","羽生市",false,"利根地域:羽生市","",null,"□","深谷市",false,"北部地域:深谷市","",null,"□","皆野町",{"$f":"IF(DJ349=\"☑\",TRUE)","v":false},{"$f":"\"秩父地域:\"&DK349","v":"秩父地域:皆野町"},"",null,null,null,null,null,null,null,null,null,null,null,null,null,null,"□","水曜日",false,"",null,"□","夕方(16:00～18:00)",{"$f":"IF(EH349=\"☑\",TRUE)","v":false},{"$f":"IF(EJ349,EI349,\"\")","v":""},null,null,null,"□","各種団体が定める業種別ガイドライン",{"$f":"IF(EO349=\"☑\",TRUE)","v":false},{"$f":"IF(EQ349,EP349,\"\")","v":""}]
[null,null,null,null,null,null,null,null,null,null,null,null,null,null,null,null,null,null,null,null,null,"□","移動販売",false,"","□","日用品配達",false,"","□","整体・マッサージ（送迎）",false,"","□","整体・マッサージ（出張）",false,"","□","飲食店",false,"","□","駐車場",false,"","□","カラオケ店",false,"","□","パソコン・スマートフォン",false,"",null,null,null,null,null,"","□","見沼区",false,"さいたま市:見沼区","",null,null,null,null,null,"",null,"□","新座市",false,"南西部地域:新座市","",null,"□","八潮市",false,"東部地域:八潮市","",null,"□","北本市",{"$f":"IF(CF350=\"☑\",TRUE)","v":false},{"$f":"\"県央地域:\"&CG350","v":"県央地域:北本市"},"",null,"□","鶴ヶ島市",false,"川越比企地域:鶴ヶ島市","",null,"□","入間市",{"$f":"IF(CR350=\"☑\",TRUE)","v":false},{"$f":"\"西部地域:\"&CS350","v":"西部地域:入間市"},"",null,"□","久喜市",false,"利根地域:久喜市","",null,"□","美里町",false,"北部地域:美里町","",null,"□","長瀞町",{"$f":"IF(DJ350=\"☑\",TRUE)","v":false},{"$f":"\"秩父地域:\"&DK350","v":"秩父地域:長瀞町"},"",null,null,null,null,null,null,null,null,null,null,null,null,null,null,"□","木曜日",false,"",null,"□","夜(18:00～）",{"$f":"IF(EH350=\"☑\",TRUE)","v":false},{"$f":"IF(EJ350,EI350,\"\")","v":""},null,null,null,null,"に基づき感染対策を実施している。"]
[null,null,null,null,null,null,null,null,null,null,null,null,null,null,null,null,null,null,null,null,null,"□","割引サービス",false,"","□","薬・介護用品配達",false,"","□","乗り合いサービス",false,"","□","理容室・美容室（出張）",false,"","□","イートインスペース",false,"","□","貸しスペース",false,"","□","麻雀・将棋・囲碁",false,"","□","認知症サポート企業",false,"",null,null,null,null,null,"","□","中央区",false,"さいたま市:中央区","",null,null,null,null,null,"",null,"□","富士見市",false,"南西部地域:富士見市","",null,"□","三郷市",false,"東部地域:三郷市","",null,"□","伊奈町",{"$f":"IF(CF351=\"☑\",TRUE)","v":false},{"$f":"\"県央地域:\"&CG351","v":"県央地域:伊奈町"},"",null,"□","毛呂山町",false,"川越比企地域:毛呂山町","",null,"□","日高市",{"$f":"IF(CR351=\"☑\",TRUE)","v":false},{"$f":"\"西部地域:\"&CS351","v":"西部地域:日高市"},"",null,"□","蓮田市",false,"利根地域:蓮田市","",null,"□","神川町",false,"北部地域:神川町","",null,"□","小鹿野町",{"$f":"IF(DJ351=\"☑\",TRUE)","v":false},{"$f":"\"秩父地域:\"&DK351","v":"秩父地域:小鹿野町"},"",null,null,null,null,null,null,null,null,null,null,null,null,null,null,"□","金曜日",false,"",null,null,null,null,null,null,null,null,"□","その他の感染対策を実施している。",{"$f":"IF(EO351=\"☑\",TRUE)","v":false},{"$f":"IF(EQ351,EP351,\"\")","v":""}]
[null,null,null,null,null,null,null,null,null,null,null,null,null,null,null,null,null,null,null,null,null,"□","その他（買物）",false,"","□","その他（宅配・デリバリー）",false,"","□","個別移送サービス",false,"","□","ペット",false,"","□","その他（運動・たまり場）",false,"","□","その他（設備・施設・場所貸し）",false,"","□","ゲームセンター",false,"","□","その他（生活サービス）",false,"",null,null,null,null,null,"","□","桜区",false,"さいたま市:桜区","",null,null,null,null,null,"",null,"□","ふじみ野市",false,"南西部地域:ふじみ野市","",null,"□","吉川市",false,"東部地域:吉川市","",null,null,null,null,null,"",null,"□","越生町",false,"川越比企地域:越生町","",null,null,null,null,null,"",null,"□","幸手市",false,"利根地域:幸手市","",null,"□","上里町",false,"北部地域:上里町","",null,null,null,null,null,"",null,null,null,null,null,null,null,null,null,null,null,null,null,null,"□","土曜日",false,"",null,null,null,null,null,null,null,null,"□","感染対策を特に実施していない。",{"$f":"IF(EO352=\"☑\",TRUE)","v":false},{"$f":"IF(EQ352,EP352,\"\")","v":""}]
[null,null,null,null,null,null,null,null,null,null,null,null,null,null,null,null,null,null,null,null,null,null,null,null,null,null,null,null,null,"□","交通機関サービス",false,"","□","その他（出張サービス）",false,"",null,null,null,null,null,null,null,null,"□","旅行代理店",false,"",null,null,null,null,null,null,null,null,null,"","□","浦和区",false,"さいたま市:浦和区","",null,null,null,null,null,"",null,"□","三芳町",false,"南西部地域:三芳町","",null,"□","松伏町",false,"東部地域:松伏町","",null,null,null,null,null,"",null,"□","滑川町",false,"川越比企地域:滑川町","",null,null,null,null,null,"",null,"□","白岡市",false,"利根地域:白岡市","",null,"□","寄居町",false,"北部地域:寄居町","",null,null,null,null,null,"",null,null,null,null,null,null,null,null,null,null,null,null,null,null,"□","日曜日",false,""]
[null,null,null,null,null,null,null,null,null,null,null,null,null,null,null,null,null,null,null,null,null,null,null,null,null,null,null,null,null,"□","その他（送迎・移動支援）",false,"",null,null,null,"",null,null,null,{"$f":"IF(AN354,AM354,\"\")","v":""},null,null,null,{"$f":"IF(AR354,AQ354,\"\")","v":""},"□","その他（学び・趣味）",false,"",null,null,null,null,null,null,null,null,null,"","□","南区",false,"さいたま市:南区","",null,null,null,null,null,"",null,null,null,null,null,"",null,null,null,null,null,"",null,null,null,null,null,"",null,"□","嵐山町",false,"川越比企地域:嵐山町","",null,null,null,null,null,"",null,"□","宮代町",false,"利根地域:宮代町","",null,null,null,null,null,"",null,null,null,null,null,""]
[null,null,null,null,null,null,null,null,null,null,null,null,null,null,null,null,null,null,null,null,null,null,null,null,null,null,null,null,null,null,null,null,null,null,null,null,null,null,null,null,null,null,null,null,null,null,null,null,null,null,null,null,null,null,null,null,null,null,"","□","緑区",false,"さいたま市:緑区","",null,null,null,null,null,"",null,null,null,null,null,"",null,null,null,null,null,"",null,null,null,null,null,"",null,"□","小川町",false,"川越比企地域:小川町","",null,null,null,null,null,"",null,"□","杉戸町",false,"利根地域:杉戸町","",null,null,null,null,null,"",null,null,null,null,null,""]
[null,null,null,null,null,null,null,null,null,null,null,null,null,null,null,null,null,null,null,null,null,null,null,null,null,null,null,null,null,null,null,null,null,null,null,null,null,null,null,null,null,null,null,null,null,null,null,null,null,null,null,null,null,null,null,null,null,null,"","□","岩槻区",{"$f":"IF(BH356=\"☑\",TRUE)","v":false},"さいたま市:岩槻区","",null,null,null,null,null,"",null,null,null,null,null,"",null,null,null,null,null,"",null,null,null,null,null,"",null,"□","川島町",false,"川越比企地域:川島町","",null,null,null,null,null,"",null,null,null,null,null,"",null,null,null,null,null,"",null,null,null,null,null,""]
[null,null,null,null,null,null,null,null,null,null,null,null,null,null,null,null,null,null,null,null,null,null,null,null,null,null,null,null,null,null,null,null,null,null,null,null,null,null,null,null,null,null,null,null,null,null,null,null,null,null,null,null,null,null,null,null,null,null,"",null,null,null,null,null,null,null,null,null,null,null,null,null,null,null,null,null,null,null,null,null,null,null,null,null,null,null,null,null,null,"□","吉見町",false,"川越比企地域:吉見町","",null,null,null,null,null,"",null,null,null,null,null,"",null,null,null,null,null,"",null,null,null,null,null,""]
[null,null,null,null,null,null,null,null,null,null,null,null,null,null,null,null,null,null,null,null,null,null,null,null,null,null,null,null,null,null,null,null,null,null,null,null,null,null,null,null,null,null,null,null,null,null,null,null,null,null,null,null,null,null,null,null,null,null,"",null,null,null,null,null,null,null,null,null,null,null,null,null,null,null,null,null,null,null,null,null,null,null,null,null,null,null,null,null,null,"□","鳩山町",false,"川越比企地域:鳩山町","",null,null,null,null,null,"",null,null,null,null,null,"",null,null,null,null,null,"",null,null,null,null,null,""]
[null,null,null,null,null,null,null,null,null,null,null,null,null,null,null,null,null,null,null,null,null,null,null,null,null,null,null,null,null,null,null,null,null,null,null,null,null,null,null,null,null,null,null,null,null,null,null,null,null,null,null,null,null,null,null,null,null,null,"",null,null,null,null,null,null,null,null,null,null,null,null,null,null,null,null,null,null,null,null,null,null,null,null,null,null,null,null,null,null,"□","ときがわ町",false,"川越比企地域:ときがわ町","",null,null,null,null,null,"",null,null,null,null,null,"",null,null,null,null,null,"",null,null,null,null,null,""]
[null,null,null,null,null,null,null,null,null,null,null,null,null,null,null,null,null,null,null,null,null,null,null,null,null,null,null,null,null,null,null,null,null,null,null,null,null,null,null,null,null,null,null,null,null,null,null,null,null,null,null,null,null,null,null,null,null,null,"",null,null,null,null,null,null,null,null,null,null,null,null,null,null,null,null,null,null,null,null,null,null,null,null,null,null,null,null,null,null,"□","東秩父村",false,"川越比企地域:東秩父村","",null,null,null,null,null,"",null,null,null,null,null,"",null,null,null,null,null,"",null,null,null,null,null,""]
[25,null,null,null,null,null,null,null,null,null,null,null,null,null,null,null,null,null,null,null,null,"□","配送",{"$f":"IF(V361=\"☑\",TRUE)","v":false},{"$f":"IF(X361,W361,\"\")","v":""},"□","弁当配達",{"$f":"IF(Z361=\"☑\",TRUE)","v":false},{"$f":"IF(AB361,AA361,\"\")","v":""},"□","理容室・美容室（送迎）",{"$f":"IF(AD361=\"☑\",TRUE)","v":false},{"$f":"IF(AF361,AE361,\"\")","v":""},"□","家事代行",{"$f":"IF(AH361=\"☑\",TRUE)","v":false},{"$f":"IF(AJ361,AI361,\"\")","v":""},"□","フィットネス・ジム（運動）",{"$f":"IF(AL361=\"☑\",TRUE)","v":false},{"$f":"IF(AN361,AM361,\"\")","v":""},"□","車イス対応（バリアフリー）",{"$f":"IF(AP361=\"☑\",TRUE)","v":false},{"$f":"IF(AR361,AQ361,\"\")","v":""},"□","講座・教室・イベント",{"$f":"IF(AT361=\"☑\",TRUE)","v":false},{"$f":"IF(AV361,AU361,\"\")","v":""},"□","防犯・見守り",{"$f":"IF(AX361=\"☑\",TRUE)","v":false},{"$f":"IF(AZ361,AY361,\"\")","v":""},{"$f":"_xludf.TEXTJOIN(\",\",TRUE,Y361:Y374,AC361:AC374,AG361:AG374,AK361:AK374,AO361:AO374,AS361:AS374,AW361:AW374,BA361:BA374)","v":""},"□","埼玉県全域",{"$f":"IF(BC361=\"☑\",TRUE)","v":false},"さいたま市:西区,さいたま市:北区,さいたま市:大宮区,さいたま市:見沼区,さいたま市:中央区,さいたま市:桜区,さいたま市:浦和区,さいたま市:南区,さいたま市:緑区,さいたま市:岩槻区,南部地域:川口市,南部地域:蕨市,南部地域:戸田市,南西部地域:朝霞市,南西部地域:志木市,南西部地域:和光市,南西部地域:新座市,南西部地域:富士見市,南西部地域:ふじみ野市,南西部地域:三芳町,東部地域:春日部市,東部地域:草加市,東部地域:越谷市,東部地域:八潮市,東部地域:三郷市,東部地域:吉川市,東部地域:松伏町,県央地域:鴻巣市,県央地域:上尾市,県央地域:桶川市,県央地域:北本市,県央地域:伊奈町,川越比企地域:川越市,川越比企地域:東松山市,川越比企地域:坂戸市,川越比企地域:鶴ヶ島市,川越比企地域:毛呂山町,川越比企地域:越生町,川越比企地域:滑川町,川越比企地域:嵐山町,川越比企地域:小川町,川越比企地域:川島町,川越比企地域:吉見町,川越比企地域:鳩山町,川越比企地域:ときがわ町,川越比企地域:東秩父村,西部地域:所沢市,西部地域:飯能市,西部地域:狭山市,西部地域:入間市,西部地域:日高市,利根地域:行田市,利根地域:加須市,利根地域:羽生市,利根地域:久喜市,利根地域:蓮田市,利根地域:幸手市,利根地域:白岡市,利根地域:宮代町,利根地域:杉戸町,北部地域:熊谷市,北部地域:本庄市,北部地域:深谷市,北部地域:美里町,北部地域:神川町,北部地域:上里町,北部地域:寄居町,秩父地域:秩父市,秩父地域:横瀬町,秩父地域:皆野町,秩父地域:長瀞町,秩父地域:小鹿野町","","□","西区",{"$f":"IF(BH361=\"☑\",TRUE)","v":false},{"$f":"\"さいたま市:\"&BI361","v":"さいたま市:西区"},{"$f":"IF(BJ361,BK361,\"\")","v":""},{"$f":"_xludf.TEXTJOIN(\",\",TRUE,BL361:BL374)","v":""},"□","川口市",{"$f":"IF(BN361=\"☑\",TRUE)","v":false},{"$f":"\"南部地域:\"&BO361","v":"南部地域:川口市"},{"$f":"IF(BP361,BQ361,\"\")","v":""},{"$f":"_xludf.TEXTJOIN(\",\",TRUE,BR361:BR374)","v":""},"□","朝霞市",{"$f":"IF(BT361=\"☑\",TRUE)","v":false},{"$f":"\"南西部地域:\"&BU361","v":"南西部地域:朝霞市"},{"$f":"IF(BV361,BW361,\"\")","v":""},{"$f":"_xludf.TEXTJOIN(\",\",TRUE,BX361:BX374)","v":""},"□","春日部市",{"$f":"IF(BZ361=\"☑\",TRUE)","v":false},{"$f":"\"東部地域:\"&CA361","v":"東部地域:春日部市"},{"$f":"IF(CB361,CC361,\"\")","v":""},{"$f":"_xludf.TEXTJOIN(\",\",TRUE,CD361:CD374)","v":""},"□","鴻巣市",{"$f":"IF(CF361=\"☑\",TRUE)","v":false},{"$f":"\"県央地域:\"&CG361","v":"県央地域:鴻巣市"},{"$f":"IF(CH361,CI361,\"\")","v":""},{"$f":"_xludf.TEXTJOIN(\",\",TRUE,CJ361:CJ374)","v":""},"□","川越市",{"$f":"IF(CL361=\"☑\",TRUE)","v":false},{"$f":"\"川越比企地域:\"&CM361","v":"川越比企地域:川越市"},{"$f":"IF(CN361,CO361,\"\")","v":""},{"$f":"_xludf.TEXTJOIN(\",\",TRUE,CP361:CP374)","v":""},"□","所沢市",{"$f":"IF(CR361=\"☑\",TRUE)","v":false},{"$f":"\"西部地域:\"&CS361","v":"西部地域:所沢市"},{"$f":"IF(CT361,CU361,\"\")","v":""},{"$f":"_xludf.TEXTJOIN(\",\",TRUE,CV361:CV374)","v":""},"□","行田市",{"$f":"IF(CX361=\"☑\",TRUE)","v":false},{"$f":"\"利根地域:\"&CY361","v":"利根地域:行田市"},{"$f":"IF(CZ361,DA361,\"\")","v":""},{"$f":"_xludf.TEXTJOIN(\",\",TRUE,DB361:DB374)","v":""},"□","熊谷市",{"$f":"IF(DD361=\"☑\",TRUE)","v":false},{"$f":"\"北部地域:\"&DE361","v":"北部地域:熊谷市"},{"$f":"IF(DF361,DG361,\"\")","v":""},{"$f":"_xludf.TEXTJOIN(\",\",TRUE,DH361:DH374)","v":""},"□","秩父市",{"$f":"IF(DJ361=\"☑\",TRUE)","v":false},{"$f":"\"秩父地域:\"&DK361","v":"秩父地域:秩父市"},{"$f":"IF(DL361,DM361,\"\")","v":""},{"$f":"_xludf.TEXTJOIN(\",\",TRUE,DN361:DN374)","v":""},{"$f":"_xludf.TEXTJOIN(\",\",TRUE,BG361,BM361,BS361,BY361,CE361,CK361,CQ361,CW361,DC361,DI361,DO361)","v":""},null,null,null,null,null,null,null,null,null,null,null,null,"□","月曜日",{"$f":"IF(EC361=\"☑\",TRUE)","v":false},{"$f":"IF(EE361,ED361,\"\")","v":""},{"$f":"_xludf.TEXTJOIN(\",\",TRUE,EF361:EF374)","v":""},"□","午前（～12:00）",{"$f":"IF(EH361=\"☑\",TRUE)","v":false},{"$f":"IF(EJ361,EI361,\"\")","v":""},{"$f":"_xludf.TEXTJOIN(\",\",TRUE,EK361:EK374)","v":""},null,null,"□","彩の国「新しい生活様式」安心宣言",{"$f":"IF(EO361=\"☑\",TRUE)","v":false},{"$f":"IF(EQ361,EP361,\"\")","v":""},{"$f":"_xludf.TEXTJOIN(\",\",TRUE,ER361:ER374)","v":""},null,"",null,"",null,"",null,"",null,"",null,"",null,"",null,""]
[null,null,null,null,null,null,null,null,null,null,null,null,null,null,null,null,null,null,null,null,null,"□","買物サポート",false,"","□","料理デリバリー（出前）",false,"","□","フィットネス・ジム（送迎）",{"$f":"IF(AD362=\"☑\",TRUE)","v":false},{"$f":"IF(AF362,AE362,\"\")","v":""},"□","出張料理",{"$f":"IF(AH362=\"☑\",TRUE)","v":false},{"$f":"IF(AJ362,AI362,\"\")","v":""},"□","温泉・銭湯（たまり場）",false,"","□","多目的トイレ",false,"","□","習い事",{"$f":"IF(AT362=\"☑\",TRUE)","v":false},{"$f":"IF(AV362,AU362,\"\")","v":""},"□","金融・保険",false,"",null,null,null,null,null,"","□","北区",{"$f":"IF(BH362=\"☑\",TRUE)","v":false},{"$f":"\"さいたま市:\"&BI362","v":"さいたま市:北区"},{"$f":"IF(BJ362,BK362,\"\")","v":""},null,"□","蕨市",{"$f":"IF(BN362=\"☑\",TRUE)","v":false},{"$f":"\"南部地域:\"&BO362","v":"南部地域:蕨市"},{"$f":"IF(BP362,BQ362,\"\")","v":""},null,"□","志木市",{"$f":"IF(BT362=\"☑\",TRUE)","v":false},{"$f":"\"南西部地域:\"&BU362","v":"南西部地域:志木市"},{"$f":"IF(BV362,BW362,\"\")","v":""},null,"□","草加市",{"$f":"IF(BZ362=\"☑\",TRUE)","v":false},{"$f":"\"東部地域:\"&CA362","v":"東部地域:草加市"},"",null,"□","上尾市",{"$f":"IF(CF362=\"☑\",TRUE)","v":false},{"$f":"\"県央地域:\"&CG362","v":"県央地域:上尾市"},{"$f":"IF(CH362,CI362,\"\")","v":""},null,"□","東松山市",{"$f":"IF(CL362=\"☑\",TRUE)","v":false},{"$f":"\"川越比企地域:\"&CM362","v":"川越比企地域:東松山市"},{"$f":"IF(CN362,CO362,\"\")","v":""},null,"□","飯能市",{"$f":"IF(CR362=\"☑\",TRUE)","v":false},{"$f":"\"西部地域:\"&CS362","v":"西部地域:飯能市"},{"$f":"IF(CT362,CU362,\"\")","v":""},null,"□","加須市",{"$f":"IF(CX362=\"☑\",TRUE)","v":false},{"$f":"\"利根地域:\"&CY362","v":"利根地域:加須市"},{"$f":"IF(CZ362,DA362,\"\")","v":""},null,"□","本庄市",{"$f":"IF(DD362=\"☑\",TRUE)","v":false},{"$f":"\"北部地域:\"&DE362","v":"北部地域:本庄市"},{"$f":"IF(DF362,DG362,\"\")","v":""},null,"□","横瀬町",{"$f":"IF(DJ362=\"☑\",TRUE)","v":false},{"$f":"\"秩父地域:\"&DK362","v":"秩父地域:横瀬町"},{"$f":"IF(DL362,DM362,\"\")","v":""},null,null,null,null,null,null,null,null,null,null,null,null,null,null,"□","火曜日",{"$f":"IF(EC362=\"☑\",TRUE)","v":false},{"$f":"IF(EE362,ED362,\"\")","v":""},null,"□","午後（12:00～16：00）",{"$f":"IF(EH362=\"☑\",TRUE)","v":false},{"$f":"IF(EJ362,EI362,\"\")","v":""},null,null,null,null,"に基づき感染対策を実施している。",null,{"$f":"IF(EQ362,EP362,\"\")","v":""}]
[null,null,null,null,null,null,null,null,null,null,null,null,null,null,null,null,null,null,null,null,null,"□","買物代行",false,"","□","食材宅配",false,"","□","温泉・銭湯（送迎）",false,"","□","屋外作業・力仕事",false,"","□","カフェ・ファーストフード",false,"","□","休憩スペース",false,"","□","映画館",false,"","□","住宅・リフォーム",false,"",null,null,null,null,null,"","□","大宮区",false,"さいたま市:大宮区","",null,"□","戸田市",{"$f":"IF(BN363=\"☑\",TRUE)","v":false},{"$f":"\"南部地域:\"&BO363","v":"南部地域:戸田市"},"",null,"□","和光市",false,"南西部地域:和光市","",null,"□","越谷市",false,"東部地域:越谷市","",null,"□","桶川市",{"$f":"IF(CF363=\"☑\",TRUE)","v":false},{"$f":"\"県央地域:\"&CG363","v":"県央地域:桶川市"},"",null,"□","坂戸市",false,"川越比企地域:坂戸市","",null,"□","狭山市",{"$f":"IF(CR363=\"☑\",TRUE)","v":false},{"$f":"\"西部地域:\"&CS363","v":"西部地域:狭山市"},"",null,"□","羽生市",false,"利根地域:羽生市","",null,"□","深谷市",false,"北部地域:深谷市","",null,"□","皆野町",{"$f":"IF(DJ363=\"☑\",TRUE)","v":false},{"$f":"\"秩父地域:\"&DK363","v":"秩父地域:皆野町"},"",null,null,null,null,null,null,null,null,null,null,null,null,null,null,"□","水曜日",false,"",null,"□","夕方(16:00～18:00)",{"$f":"IF(EH363=\"☑\",TRUE)","v":false},{"$f":"IF(EJ363,EI363,\"\")","v":""},null,null,null,"□","各種団体が定める業種別ガイドライン",{"$f":"IF(EO363=\"☑\",TRUE)","v":false},{"$f":"IF(EQ363,EP363,\"\")","v":""}]
[null,null,null,null,null,null,null,null,null,null,null,null,null,null,null,null,null,null,null,null,null,"□","移動販売",false,"","□","日用品配達",false,"","□","整体・マッサージ（送迎）",false,"","□","整体・マッサージ（出張）",false,"","□","飲食店",false,"","□","駐車場",false,"","□","カラオケ店",false,"","□","パソコン・スマートフォン",false,"",null,null,null,null,null,"","□","見沼区",false,"さいたま市:見沼区","",null,null,null,null,null,"",null,"□","新座市",false,"南西部地域:新座市","",null,"□","八潮市",false,"東部地域:八潮市","",null,"□","北本市",{"$f":"IF(CF364=\"☑\",TRUE)","v":false},{"$f":"\"県央地域:\"&CG364","v":"県央地域:北本市"},"",null,"□","鶴ヶ島市",false,"川越比企地域:鶴ヶ島市","",null,"□","入間市",{"$f":"IF(CR364=\"☑\",TRUE)","v":false},{"$f":"\"西部地域:\"&CS364","v":"西部地域:入間市"},"",null,"□","久喜市",false,"利根地域:久喜市","",null,"□","美里町",false,"北部地域:美里町","",null,"□","長瀞町",{"$f":"IF(DJ364=\"☑\",TRUE)","v":false},{"$f":"\"秩父地域:\"&DK364","v":"秩父地域:長瀞町"},"",null,null,null,null,null,null,null,null,null,null,null,null,null,null,"□","木曜日",false,"",null,"□","夜(18:00～）",{"$f":"IF(EH364=\"☑\",TRUE)","v":false},{"$f":"IF(EJ364,EI364,\"\")","v":""},null,null,null,null,"に基づき感染対策を実施している。"]
[null,null,null,null,null,null,null,null,null,null,null,null,null,null,null,null,null,null,null,null,null,"□","割引サービス",false,"","□","薬・介護用品配達",false,"","□","乗り合いサービス",false,"","□","理容室・美容室（出張）",false,"","□","イートインスペース",false,"","□","貸しスペース",false,"","□","麻雀・将棋・囲碁",false,"","□","認知症サポート企業",false,"",null,null,null,null,null,"","□","中央区",false,"さいたま市:中央区","",null,null,null,null,null,"",null,"□","富士見市",false,"南西部地域:富士見市","",null,"□","三郷市",false,"東部地域:三郷市","",null,"□","伊奈町",{"$f":"IF(CF365=\"☑\",TRUE)","v":false},{"$f":"\"県央地域:\"&CG365","v":"県央地域:伊奈町"},"",null,"□","毛呂山町",false,"川越比企地域:毛呂山町","",null,"□","日高市",{"$f":"IF(CR365=\"☑\",TRUE)","v":false},{"$f":"\"西部地域:\"&CS365","v":"西部地域:日高市"},"",null,"□","蓮田市",false,"利根地域:蓮田市","",null,"□","神川町",false,"北部地域:神川町","",null,"□","小鹿野町",{"$f":"IF(DJ365=\"☑\",TRUE)","v":false},{"$f":"\"秩父地域:\"&DK365","v":"秩父地域:小鹿野町"},"",null,null,null,null,null,null,null,null,null,null,null,null,null,null,"□","金曜日",false,"",null,null,null,null,null,null,null,null,"□","その他の感染対策を実施している。",{"$f":"IF(EO365=\"☑\",TRUE)","v":false},{"$f":"IF(EQ365,EP365,\"\")","v":""}]
[null,null,null,null,null,null,null,null,null,null,null,null,null,null,null,null,null,null,null,null,null,"□","その他（買物）",false,"","□","その他（宅配・デリバリー）",false,"","□","個別移送サービス",false,"","□","ペット",false,"","□","その他（運動・たまり場）",false,"","□","その他（設備・施設・場所貸し）",false,"","□","ゲームセンター",false,"","□","その他（生活サービス）",false,"",null,null,null,null,null,"","□","桜区",false,"さいたま市:桜区","",null,null,null,null,null,"",null,"□","ふじみ野市",false,"南西部地域:ふじみ野市","",null,"□","吉川市",false,"東部地域:吉川市","",null,null,null,null,null,"",null,"□","越生町",false,"川越比企地域:越生町","",null,null,null,null,null,"",null,"□","幸手市",false,"利根地域:幸手市","",null,"□","上里町",false,"北部地域:上里町","",null,null,null,null,null,"",null,null,null,null,null,null,null,null,null,null,null,null,null,null,"□","土曜日",false,"",null,null,null,null,null,null,null,null,"□","感染対策を特に実施していない。",{"$f":"IF(EO366=\"☑\",TRUE)","v":false},{"$f":"IF(EQ366,EP366,\"\")","v":""}]
[null,null,null,null,null,null,null,null,null,null,null,null,null,null,null,null,null,null,null,null,null,null,null,null,null,null,null,null,null,"□","交通機関サービス",false,"","□","その他（出張サービス）",false,"",null,null,null,null,null,null,null,null,"□","旅行代理店",false,"",null,null,null,null,null,null,null,null,null,"","□","浦和区",false,"さいたま市:浦和区","",null,null,null,null,null,"",null,"□","三芳町",false,"南西部地域:三芳町","",null,"□","松伏町",false,"東部地域:松伏町","",null,null,null,null,null,"",null,"□","滑川町",false,"川越比企地域:滑川町","",null,null,null,null,null,"",null,"□","白岡市",false,"利根地域:白岡市","",null,"□","寄居町",false,"北部地域:寄居町","",null,null,null,null,null,"",null,null,null,null,null,null,null,null,null,null,null,null,null,null,"□","日曜日",false,""]
[null,null,null,null,null,null,null,null,null,null,null,null,null,null,null,null,null,null,null,null,null,null,null,null,null,null,null,null,null,"□","その他（送迎・移動支援）",false,"",null,null,null,"",null,null,null,{"$f":"IF(AN368,AM368,\"\")","v":""},null,null,null,{"$f":"IF(AR368,AQ368,\"\")","v":""},"□","その他（学び・趣味）",false,"",null,null,null,null,null,null,null,null,null,"","□","南区",false,"さいたま市:南区","",null,null,null,null,null,"",null,null,null,null,null,"",null,null,null,null,null,"",null,null,null,null,null,"",null,"□","嵐山町",false,"川越比企地域:嵐山町","",null,null,null,null,null,"",null,"□","宮代町",false,"利根地域:宮代町","",null,null,null,null,null,"",null,null,null,null,null,""]
[null,null,null,null,null,null,null,null,null,null,null,null,null,null,null,null,null,null,null,null,null,null,null,null,null,null,null,null,null,null,null,null,null,null,null,null,null,null,null,null,null,null,null,null,null,null,null,null,null,null,null,null,null,null,null,null,null,null,"","□","緑区",false,"さいたま市:緑区","",null,null,null,null,null,"",null,null,null,null,null,"",null,null,null,null,null,"",null,null,null,null,null,"",null,"□","小川町",false,"川越比企地域:小川町","",null,null,null,null,null,"",null,"□","杉戸町",false,"利根地域:杉戸町","",null,null,null,null,null,"",null,null,null,null,null,""]
[null,null,null,null,null,null,null,null,null,null,null,null,null,null,null,null,null,null,null,null,null,null,null,null,null,null,null,null,null,null,null,null,null,null,null,null,null,null,null,null,null,null,null,null,null,null,null,null,null,null,null,null,null,null,null,null,null,null,"","□","岩槻区",{"$f":"IF(BH370=\"☑\",TRUE)","v":false},"さいたま市:岩槻区","",null,null,null,null,null,"",null,null,null,null,null,"",null,null,null,null,null,"",null,null,null,null,null,"",null,"□","川島町",false,"川越比企地域:川島町","",null,null,null,null,null,"",null,null,null,null,null,"",null,null,null,null,null,"",null,null,null,null,null,""]
[null,null,null,null,null,null,null,null,null,null,null,null,null,null,null,null,null,null,null,null,null,null,null,null,null,null,null,null,null,null,null,null,null,null,null,null,null,null,null,null,null,null,null,null,null,null,null,null,null,null,null,null,null,null,null,null,null,null,"",null,null,null,null,null,null,null,null,null,null,null,null,null,null,null,null,null,null,null,null,null,null,null,null,null,null,null,null,null,null,"□","吉見町",false,"川越比企地域:吉見町","",null,null,null,null,null,"",null,null,null,null,null,"",null,null,null,null,null,"",null,null,null,null,null,""]
[null,null,null,null,null,null,null,null,null,null,null,null,null,null,null,null,null,null,null,null,null,null,null,null,null,null,null,null,null,null,null,null,null,null,null,null,null,null,null,null,null,null,null,null,null,null,null,null,null,null,null,null,null,null,null,null,null,null,"",null,null,null,null,null,null,null,null,null,null,null,null,null,null,null,null,null,null,null,null,null,null,null,null,null,null,null,null,null,null,"□","鳩山町",false,"川越比企地域:鳩山町","",null,null,null,null,null,"",null,null,null,null,null,"",null,null,null,null,null,"",null,null,null,null,null,""]
[null,null,null,null,null,null,null,null,null,null,null,null,null,null,null,null,null,null,null,null,null,null,null,null,null,null,null,null,null,null,null,null,null,null,null,null,null,null,null,null,null,null,null,null,null,null,null,null,null,null,null,null,null,null,null,null,null,null,"",null,null,null,null,null,null,null,null,null,null,null,null,null,null,null,null,null,null,null,null,null,null,null,null,null,null,null,null,null,null,"□","ときがわ町",false,"川越比企地域:ときがわ町","",null,null,null,null,null,"",null,null,null,null,null,"",null,null,null,null,null,"",null,null,null,null,null,""]
[null,null,null,null,null,null,null,null,null,null,null,null,null,null,null,null,null,null,null,null,null,null,null,null,null,null,null,null,null,null,null,null,null,null,null,null,null,null,null,null,null,null,null,null,null,null,null,null,null,null,null,null,null,null,null,null,null,null,"",null,null,null,null,null,null,null,null,null,null,null,null,null,null,null,null,null,null,null,null,null,null,null,null,null,null,null,null,null,null,"□","東秩父村",false,"川越比企地域:東秩父村","",null,null,null,null,null,"",null,null,null,null,null,"",null,null,null,null,null,"",null,null,null,null,null,""]
[26,null,null,null,null,null,null,null,null,null,null,null,null,null,null,null,null,null,null,null,null,"□","配送",{"$f":"IF(V375=\"☑\",TRUE)","v":false},{"$f":"IF(X375,W375,\"\")","v":""},"□","弁当配達",{"$f":"IF(Z375=\"☑\",TRUE)","v":false},{"$f":"IF(AB375,AA375,\"\")","v":""},"□","理容室・美容室（送迎）",{"$f":"IF(AD375=\"☑\",TRUE)","v":false},{"$f":"IF(AF375,AE375,\"\")","v":""},"□","家事代行",{"$f":"IF(AH375=\"☑\",TRUE)","v":false},{"$f":"IF(AJ375,AI375,\"\")","v":""},"□","フィットネス・ジム（運動）",{"$f":"IF(AL375=\"☑\",TRUE)","v":false},{"$f":"IF(AN375,AM375,\"\")","v":""},"□","車イス対応（バリアフリー）",{"$f":"IF(AP375=\"☑\",TRUE)","v":false},{"$f":"IF(AR375,AQ375,\"\")","v":""},"□","講座・教室・イベント",{"$f":"IF(AT375=\"☑\",TRUE)","v":false},{"$f":"IF(AV375,AU375,\"\")","v":""},"□","防犯・見守り",{"$f":"IF(AX375=\"☑\",TRUE)","v":false},{"$f":"IF(AZ375,AY375,\"\")","v":""},{"$f":"_xludf.TEXTJOIN(\",\",TRUE,Y375:Y388,AC375:AC388,AG375:AG388,AK375:AK388,AO375:AO388,AS375:AS388,AW375:AW388,BA375:BA388)","v":""},"□","埼玉県全域",{"$f":"IF(BC375=\"☑\",TRUE)","v":false},"さいたま市:西区,さいたま市:北区,さいたま市:大宮区,さいたま市:見沼区,さいたま市:中央区,さいたま市:桜区,さいたま市:浦和区,さいたま市:南区,さいたま市:緑区,さいたま市:岩槻区,南部地域:川口市,南部地域:蕨市,南部地域:戸田市,南西部地域:朝霞市,南西部地域:志木市,南西部地域:和光市,南西部地域:新座市,南西部地域:富士見市,南西部地域:ふじみ野市,南西部地域:三芳町,東部地域:春日部市,東部地域:草加市,東部地域:越谷市,東部地域:八潮市,東部地域:三郷市,東部地域:吉川市,東部地域:松伏町,県央地域:鴻巣市,県央地域:上尾市,県央地域:桶川市,県央地域:北本市,県央地域:伊奈町,川越比企地域:川越市,川越比企地域:東松山市,川越比企地域:坂戸市,川越比企地域:鶴ヶ島市,川越比企地域:毛呂山町,川越比企地域:越生町,川越比企地域:滑川町,川越比企地域:嵐山町,川越比企地域:小川町,川越比企地域:川島町,川越比企地域:吉見町,川越比企地域:鳩山町,川越比企地域:ときがわ町,川越比企地域:東秩父村,西部地域:所沢市,西部地域:飯能市,西部地域:狭山市,西部地域:入間市,西部地域:日高市,利根地域:行田市,利根地域:加須市,利根地域:羽生市,利根地域:久喜市,利根地域:蓮田市,利根地域:幸手市,利根地域:白岡市,利根地域:宮代町,利根地域:杉戸町,北部地域:熊谷市,北部地域:本庄市,北部地域:深谷市,北部地域:美里町,北部地域:神川町,北部地域:上里町,北部地域:寄居町,秩父地域:秩父市,秩父地域:横瀬町,秩父地域:皆野町,秩父地域:長瀞町,秩父地域:小鹿野町","","□","西区",{"$f":"IF(BH375=\"☑\",TRUE)","v":false},{"$f":"\"さいたま市:\"&BI375","v":"さいたま市:西区"},{"$f":"IF(BJ375,BK375,\"\")","v":""},{"$f":"_xludf.TEXTJOIN(\",\",TRUE,BL375:BL388)","v":""},"□","川口市",{"$f":"IF(BN375=\"☑\",TRUE)","v":false},{"$f":"\"南部地域:\"&BO375","v":"南部地域:川口市"},{"$f":"IF(BP375,BQ375,\"\")","v":""},{"$f":"_xludf.TEXTJOIN(\",\",TRUE,BR375:BR388)","v":""},"□","朝霞市",{"$f":"IF(BT375=\"☑\",TRUE)","v":false},{"$f":"\"南西部地域:\"&BU375","v":"南西部地域:朝霞市"},{"$f":"IF(BV375,BW375,\"\")","v":""},{"$f":"_xludf.TEXTJOIN(\",\",TRUE,BX375:BX388)","v":""},"□","春日部市",{"$f":"IF(BZ375=\"☑\",TRUE)","v":false},{"$f":"\"東部地域:\"&CA375","v":"東部地域:春日部市"},{"$f":"IF(CB375,CC375,\"\")","v":""},{"$f":"_xludf.TEXTJOIN(\",\",TRUE,CD375:CD388)","v":""},"□","鴻巣市",{"$f":"IF(CF375=\"☑\",TRUE)","v":false},{"$f":"\"県央地域:\"&CG375","v":"県央地域:鴻巣市"},{"$f":"IF(CH375,CI375,\"\")","v":""},{"$f":"_xludf.TEXTJOIN(\",\",TRUE,CJ375:CJ388)","v":""},"□","川越市",{"$f":"IF(CL375=\"☑\",TRUE)","v":false},{"$f":"\"川越比企地域:\"&CM375","v":"川越比企地域:川越市"},{"$f":"IF(CN375,CO375,\"\")","v":""},{"$f":"_xludf.TEXTJOIN(\",\",TRUE,CP375:CP388)","v":""},"□","所沢市",{"$f":"IF(CR375=\"☑\",TRUE)","v":false},{"$f":"\"西部地域:\"&CS375","v":"西部地域:所沢市"},{"$f":"IF(CT375,CU375,\"\")","v":""},{"$f":"_xludf.TEXTJOIN(\",\",TRUE,CV375:CV388)","v":""},"□","行田市",{"$f":"IF(CX375=\"☑\",TRUE)","v":false},{"$f":"\"利根地域:\"&CY375","v":"利根地域:行田市"},{"$f":"IF(CZ375,DA375,\"\")","v":""},{"$f":"_xludf.TEXTJOIN(\",\",TRUE,DB375:DB388)","v":""},"□","熊谷市",{"$f":"IF(DD375=\"☑\",TRUE)","v":false},{"$f":"\"北部地域:\"&DE375","v":"北部地域:熊谷市"},{"$f":"IF(DF375,DG375,\"\")","v":""},{"$f":"_xludf.TEXTJOIN(\",\",TRUE,DH375:DH388)","v":""},"□","秩父市",{"$f":"IF(DJ375=\"☑\",TRUE)","v":false},{"$f":"\"秩父地域:\"&DK375","v":"秩父地域:秩父市"},{"$f":"IF(DL375,DM375,\"\")","v":""},{"$f":"_xludf.TEXTJOIN(\",\",TRUE,DN375:DN388)","v":""},{"$f":"_xludf.TEXTJOIN(\",\",TRUE,BG375,BM375,BS375,BY375,CE375,CK375,CQ375,CW375,DC375,DI375,DO375)","v":""},null,null,null,null,null,null,null,null,null,null,null,null,"□","月曜日",{"$f":"IF(EC375=\"☑\",TRUE)","v":false},{"$f":"IF(EE375,ED375,\"\")","v":""},{"$f":"_xludf.TEXTJOIN(\",\",TRUE,EF375:EF388)","v":""},"□","午前（～12:00）",{"$f":"IF(EH375=\"☑\",TRUE)","v":false},{"$f":"IF(EJ375,EI375,\"\")","v":""},{"$f":"_xludf.TEXTJOIN(\",\",TRUE,EK375:EK388)","v":""},null,null,"□","彩の国「新しい生活様式」安心宣言",{"$f":"IF(EO375=\"☑\",TRUE)","v":false},{"$f":"IF(EQ375,EP375,\"\")","v":""},{"$f":"_xludf.TEXTJOIN(\",\",TRUE,ER375:ER388)","v":""},null,"",null,"",null,"",null,"",null,"",null,"",null,"",null,""]
[null,null,null,null,null,null,null,null,null,null,null,null,null,null,null,null,null,null,null,null,null,"□","買物サポート",false,"","□","料理デリバリー（出前）",false,"","□","フィットネス・ジム（送迎）",{"$f":"IF(AD376=\"☑\",TRUE)","v":false},{"$f":"IF(AF376,AE376,\"\")","v":""},"□","出張料理",{"$f":"IF(AH376=\"☑\",TRUE)","v":false},{"$f":"IF(AJ376,AI376,\"\")","v":""},"□","温泉・銭湯（たまり場）",false,"","□","多目的トイレ",false,"","□","習い事",{"$f":"IF(AT376=\"☑\",TRUE)","v":false},{"$f":"IF(AV376,AU376,\"\")","v":""},"□","金融・保険",false,"",null,null,null,null,null,"","□","北区",{"$f":"IF(BH376=\"☑\",TRUE)","v":false},{"$f":"\"さいたま市:\"&BI376","v":"さいたま市:北区"},{"$f":"IF(BJ376,BK376,\"\")","v":""},null,"□","蕨市",{"$f":"IF(BN376=\"☑\",TRUE)","v":false},{"$f":"\"南部地域:\"&BO376","v":"南部地域:蕨市"},{"$f":"IF(BP376,BQ376,\"\")","v":""},null,"□","志木市",{"$f":"IF(BT376=\"☑\",TRUE)","v":false},{"$f":"\"南西部地域:\"&BU376","v":"南西部地域:志木市"},{"$f":"IF(BV376,BW376,\"\")","v":""},null,"□","草加市",{"$f":"IF(BZ376=\"☑\",TRUE)","v":false},{"$f":"\"東部地域:\"&CA376","v":"東部地域:草加市"},"",null,"□","上尾市",{"$f":"IF(CF376=\"☑\",TRUE)","v":false},{"$f":"\"県央地域:\"&CG376","v":"県央地域:上尾市"},{"$f":"IF(CH376,CI376,\"\")","v":""},null,"□","東松山市",{"$f":"IF(CL376=\"☑\",TRUE)","v":false},{"$f":"\"川越比企地域:\"&CM376","v":"川越比企地域:東松山市"},{"$f":"IF(CN376,CO376,\"\")","v":""},null,"□","飯能市",{"$f":"IF(CR376=\"☑\",TRUE)","v":false},{"$f":"\"西部地域:\"&CS376","v":"西部地域:飯能市"},{"$f":"IF(CT376,CU376,\"\")","v":""},null,"□","加須市",{"$f":"IF(CX376=\"☑\",TRUE)","v":false},{"$f":"\"利根地域:\"&CY376","v":"利根地域:加須市"},{"$f":"IF(CZ376,DA376,\"\")","v":""},null,"□","本庄市",{"$f":"IF(DD376=\"☑\",TRUE)","v":false},{"$f":"\"北部地域:\"&DE376","v":"北部地域:本庄市"},{"$f":"IF(DF376,DG376,\"\")","v":""},null,"□","横瀬町",{"$f":"IF(DJ376=\"☑\",TRUE)","v":false},{"$f":"\"秩父地域:\"&DK376","v":"秩父地域:横瀬町"},{"$f":"IF(DL376,DM376,\"\")","v":""},null,null,null,null,null,null,null,null,null,null,null,null,null,null,"□","火曜日",{"$f":"IF(EC376=\"☑\",TRUE)","v":false},{"$f":"IF(EE376,ED376,\"\")","v":""},null,"□","午後（12:00～16：00）",{"$f":"IF(EH376=\"☑\",TRUE)","v":false},{"$f":"IF(EJ376,EI376,\"\")","v":""},null,null,null,null,"に基づき感染対策を実施している。",null,{"$f":"IF(EQ376,EP376,\"\")","v":""}]
[null,null,null,null,null,null,null,null,null,null,null,null,null,null,null,null,null,null,null,null,null,"□","買物代行",false,"","□","食材宅配",false,"","□","温泉・銭湯（送迎）",false,"","□","屋外作業・力仕事",false,"","□","カフェ・ファーストフード",false,"","□","休憩スペース",false,"","□","映画館",false,"","□","住宅・リフォーム",false,"",null,null,null,null,null,"","□","大宮区",false,"さいたま市:大宮区","",null,"□","戸田市",{"$f":"IF(BN377=\"☑\",TRUE)","v":false},{"$f":"\"南部地域:\"&BO377","v":"南部地域:戸田市"},"",null,"□","和光市",false,"南西部地域:和光市","",null,"□","越谷市",false,"東部地域:越谷市","",null,"□","桶川市",{"$f":"IF(CF377=\"☑\",TRUE)","v":false},{"$f":"\"県央地域:\"&CG377","v":"県央地域:桶川市"},"",null,"□","坂戸市",false,"川越比企地域:坂戸市","",null,"□","狭山市",{"$f":"IF(CR377=\"☑\",TRUE)","v":false},{"$f":"\"西部地域:\"&CS377","v":"西部地域:狭山市"},"",null,"□","羽生市",false,"利根地域:羽生市","",null,"□","深谷市",false,"北部地域:深谷市","",null,"□","皆野町",{"$f":"IF(DJ377=\"☑\",TRUE)","v":false},{"$f":"\"秩父地域:\"&DK377","v":"秩父地域:皆野町"},"",null,null,null,null,null,null,null,null,null,null,null,null,null,null,"□","水曜日",false,"",null,"□","夕方(16:00～18:00)",{"$f":"IF(EH377=\"☑\",TRUE)","v":false},{"$f":"IF(EJ377,EI377,\"\")","v":""},null,null,null,"□","各種団体が定める業種別ガイドライン",{"$f":"IF(EO377=\"☑\",TRUE)","v":false},{"$f":"IF(EQ377,EP377,\"\")","v":""}]
[null,null,null,null,null,null,null,null,null,null,null,null,null,null,null,null,null,null,null,null,null,"□","移動販売",false,"","□","日用品配達",false,"","□","整体・マッサージ（送迎）",false,"","□","整体・マッサージ（出張）",false,"","□","飲食店",false,"","□","駐車場",false,"","□","カラオケ店",false,"","□","パソコン・スマートフォン",false,"",null,null,null,null,null,"","□","見沼区",false,"さいたま市:見沼区","",null,null,null,null,null,"",null,"□","新座市",false,"南西部地域:新座市","",null,"□","八潮市",false,"東部地域:八潮市","",null,"□","北本市",{"$f":"IF(CF378=\"☑\",TRUE)","v":false},{"$f":"\"県央地域:\"&CG378","v":"県央地域:北本市"},"",null,"□","鶴ヶ島市",false,"川越比企地域:鶴ヶ島市","",null,"□","入間市",{"$f":"IF(CR378=\"☑\",TRUE)","v":false},{"$f":"\"西部地域:\"&CS378","v":"西部地域:入間市"},"",null,"□","久喜市",false,"利根地域:久喜市","",null,"□","美里町",false,"北部地域:美里町","",null,"□","長瀞町",{"$f":"IF(DJ378=\"☑\",TRUE)","v":false},{"$f":"\"秩父地域:\"&DK378","v":"秩父地域:長瀞町"},"",null,null,null,null,null,null,null,null,null,null,null,null,null,null,"□","木曜日",false,"",null,"□","夜(18:00～）",{"$f":"IF(EH378=\"☑\",TRUE)","v":false},{"$f":"IF(EJ378,EI378,\"\")","v":""},null,null,null,null,"に基づき感染対策を実施している。"]
[null,null,null,null,null,null,null,null,null,null,null,null,null,null,null,null,null,null,null,null,null,"□","割引サービス",false,"","□","薬・介護用品配達",false,"","□","乗り合いサービス",false,"","□","理容室・美容室（出張）",false,"","□","イートインスペース",false,"","□","貸しスペース",false,"","□","麻雀・将棋・囲碁",false,"","□","認知症サポート企業",false,"",null,null,null,null,null,"","□","中央区",false,"さいたま市:中央区","",null,null,null,null,null,"",null,"□","富士見市",false,"南西部地域:富士見市","",null,"□","三郷市",false,"東部地域:三郷市","",null,"□","伊奈町",{"$f":"IF(CF379=\"☑\",TRUE)","v":false},{"$f":"\"県央地域:\"&CG379","v":"県央地域:伊奈町"},"",null,"□","毛呂山町",false,"川越比企地域:毛呂山町","",null,"□","日高市",{"$f":"IF(CR379=\"☑\",TRUE)","v":false},{"$f":"\"西部地域:\"&CS379","v":"西部地域:日高市"},"",null,"□","蓮田市",false,"利根地域:蓮田市","",null,"□","神川町",false,"北部地域:神川町","",null,"□","小鹿野町",{"$f":"IF(DJ379=\"☑\",TRUE)","v":false},{"$f":"\"秩父地域:\"&DK379","v":"秩父地域:小鹿野町"},"",null,null,null,null,null,null,null,null,null,null,null,null,null,null,"□","金曜日",false,"",null,null,null,null,null,null,null,null,"□","その他の感染対策を実施している。",{"$f":"IF(EO379=\"☑\",TRUE)","v":false},{"$f":"IF(EQ379,EP379,\"\")","v":""}]
[null,null,null,null,null,null,null,null,null,null,null,null,null,null,null,null,null,null,null,null,null,"□","その他（買物）",false,"","□","その他（宅配・デリバリー）",false,"","□","個別移送サービス",false,"","□","ペット",false,"","□","その他（運動・たまり場）",false,"","□","その他（設備・施設・場所貸し）",false,"","□","ゲームセンター",false,"","□","その他（生活サービス）",false,"",null,null,null,null,null,"","□","桜区",false,"さいたま市:桜区","",null,null,null,null,null,"",null,"□","ふじみ野市",false,"南西部地域:ふじみ野市","",null,"□","吉川市",false,"東部地域:吉川市","",null,null,null,null,null,"",null,"□","越生町",false,"川越比企地域:越生町","",null,null,null,null,null,"",null,"□","幸手市",false,"利根地域:幸手市","",null,"□","上里町",false,"北部地域:上里町","",null,null,null,null,null,"",null,null,null,null,null,null,null,null,null,null,null,null,null,null,"□","土曜日",false,"",null,null,null,null,null,null,null,null,"□","感染対策を特に実施していない。",{"$f":"IF(EO380=\"☑\",TRUE)","v":false},{"$f":"IF(EQ380,EP380,\"\")","v":""}]
[null,null,null,null,null,null,null,null,null,null,null,null,null,null,null,null,null,null,null,null,null,null,null,null,null,null,null,null,null,"□","交通機関サービス",false,"","□","その他（出張サービス）",false,"",null,null,null,null,null,null,null,null,"□","旅行代理店",false,"",null,null,null,null,null,null,null,null,null,"","□","浦和区",false,"さいたま市:浦和区","",null,null,null,null,null,"",null,"□","三芳町",false,"南西部地域:三芳町","",null,"□","松伏町",false,"東部地域:松伏町","",null,null,null,null,null,"",null,"□","滑川町",false,"川越比企地域:滑川町","",null,null,null,null,null,"",null,"□","白岡市",false,"利根地域:白岡市","",null,"□","寄居町",false,"北部地域:寄居町","",null,null,null,null,null,"",null,null,null,null,null,null,null,null,null,null,null,null,null,null,"□","日曜日",false,""]
[null,null,null,null,null,null,null,null,null,null,null,null,null,null,null,null,null,null,null,null,null,null,null,null,null,null,null,null,null,"□","その他（送迎・移動支援）",false,"",null,null,null,"",null,null,null,{"$f":"IF(AN382,AM382,\"\")","v":""},null,null,null,{"$f":"IF(AR382,AQ382,\"\")","v":""},"□","その他（学び・趣味）",false,"",null,null,null,null,null,null,null,null,null,"","□","南区",false,"さいたま市:南区","",null,null,null,null,null,"",null,null,null,null,null,"",null,null,null,null,null,"",null,null,null,null,null,"",null,"□","嵐山町",false,"川越比企地域:嵐山町","",null,null,null,null,null,"",null,"□","宮代町",false,"利根地域:宮代町","",null,null,null,null,null,"",null,null,null,null,null,""]
[null,null,null,null,null,null,null,null,null,null,null,null,null,null,null,null,null,null,null,null,null,null,null,null,null,null,null,null,null,null,null,null,null,null,null,null,null,null,null,null,null,null,null,null,null,null,null,null,null,null,null,null,null,null,null,null,null,null,"","□","緑区",false,"さいたま市:緑区","",null,null,null,null,null,"",null,null,null,null,null,"",null,null,null,null,null,"",null,null,null,null,null,"",null,"□","小川町",false,"川越比企地域:小川町","",null,null,null,null,null,"",null,"□","杉戸町",false,"利根地域:杉戸町","",null,null,null,null,null,"",null,null,null,null,null,""]
[null,null,null,null,null,null,null,null,null,null,null,null,null,null,null,null,null,null,null,null,null,null,null,null,null,null,null,null,null,null,null,null,null,null,null,null,null,null,null,null,null,null,null,null,null,null,null,null,null,null,null,null,null,null,null,null,null,null,"","□","岩槻区",{"$f":"IF(BH384=\"☑\",TRUE)","v":false},"さいたま市:岩槻区","",null,null,null,null,null,"",null,null,null,null,null,"",null,null,null,null,null,"",null,null,null,null,null,"",null,"□","川島町",false,"川越比企地域:川島町","",null,null,null,null,null,"",null,null,null,null,null,"",null,null,null,null,null,"",null,null,null,null,null,""]
[null,null,null,null,null,null,null,null,null,null,null,null,null,null,null,null,null,null,null,null,null,null,null,null,null,null,null,null,null,null,null,null,null,null,null,null,null,null,null,null,null,null,null,null,null,null,null,null,null,null,null,null,null,null,null,null,null,null,"",null,null,null,null,null,null,null,null,null,null,null,null,null,null,null,null,null,null,null,null,null,null,null,null,null,null,null,null,null,null,"□","吉見町",false,"川越比企地域:吉見町","",null,null,null,null,null,"",null,null,null,null,null,"",null,null,null,null,null,"",null,null,null,null,null,""]
[null,null,null,null,null,null,null,null,null,null,null,null,null,null,null,null,null,null,null,null,null,null,null,null,null,null,null,null,null,null,null,null,null,null,null,null,null,null,null,null,null,null,null,null,null,null,null,null,null,null,null,null,null,null,null,null,null,null,"",null,null,null,null,null,null,null,null,null,null,null,null,null,null,null,null,null,null,null,null,null,null,null,null,null,null,null,null,null,null,"□","鳩山町",false,"川越比企地域:鳩山町","",null,null,null,null,null,"",null,null,null,null,null,"",null,null,null,null,null,"",null,null,null,null,null,""]
[null,null,null,null,null,null,null,null,null,null,null,null,null,null,null,null,null,null,null,null,null,null,null,null,null,null,null,null,null,null,null,null,null,null,null,null,null,null,null,null,null,null,null,null,null,null,null,null,null,null,null,null,null,null,null,null,null,null,"",null,null,null,null,null,null,null,null,null,null,null,null,null,null,null,null,null,null,null,null,null,null,null,null,null,null,null,null,null,null,"□","ときがわ町",false,"川越比企地域:ときがわ町","",null,null,null,null,null,"",null,null,null,null,null,"",null,null,null,null,null,"",null,null,null,null,null,""]
[null,null,null,null,null,null,null,null,null,null,null,null,null,null,null,null,null,null,null,null,null,null,null,null,null,null,null,null,null,null,null,null,null,null,null,null,null,null,null,null,null,null,null,null,null,null,null,null,null,null,null,null,null,null,null,null,null,null,"",null,null,null,null,null,null,null,null,null,null,null,null,null,null,null,null,null,null,null,null,null,null,null,null,null,null,null,null,null,null,"□","東秩父村",false,"川越比企地域:東秩父村","",null,null,null,null,null,"",null,null,null,null,null,"",null,null,null,null,null,"",null,null,null,null,null,""]
[27,null,null,null,null,null,null,null,null,null,null,null,null,null,null,null,null,null,null,null,null,"□","配送",{"$f":"IF(V389=\"☑\",TRUE)","v":false},{"$f":"IF(X389,W389,\"\")","v":""},"□","弁当配達",{"$f":"IF(Z389=\"☑\",TRUE)","v":false},{"$f":"IF(AB389,AA389,\"\")","v":""},"□","理容室・美容室（送迎）",{"$f":"IF(AD389=\"☑\",TRUE)","v":false},{"$f":"IF(AF389,AE389,\"\")","v":""},"□","家事代行",{"$f":"IF(AH389=\"☑\",TRUE)","v":false},{"$f":"IF(AJ389,AI389,\"\")","v":""},"□","フィットネス・ジム（運動）",{"$f":"IF(AL389=\"☑\",TRUE)","v":false},{"$f":"IF(AN389,AM389,\"\")","v":""},"□","車イス対応（バリアフリー）",{"$f":"IF(AP389=\"☑\",TRUE)","v":false},{"$f":"IF(AR389,AQ389,\"\")","v":""},"□","講座・教室・イベント",{"$f":"IF(AT389=\"☑\",TRUE)","v":false},{"$f":"IF(AV389,AU389,\"\")","v":""},"□","防犯・見守り",{"$f":"IF(AX389=\"☑\",TRUE)","v":false},{"$f":"IF(AZ389,AY389,\"\")","v":""},{"$f":"_xludf.TEXTJOIN(\",\",TRUE,Y389:Y402,AC389:AC402,AG389:AG402,AK389:AK402,AO389:AO402,AS389:AS402,AW389:AW402,BA389:BA402)","v":""},"□","埼玉県全域",{"$f":"IF(BC389=\"☑\",TRUE)","v":false},"さいたま市:西区,さいたま市:北区,さいたま市:大宮区,さいたま市:見沼区,さいたま市:中央区,さいたま市:桜区,さいたま市:浦和区,さいたま市:南区,さいたま市:緑区,さいたま市:岩槻区,南部地域:川口市,南部地域:蕨市,南部地域:戸田市,南西部地域:朝霞市,南西部地域:志木市,南西部地域:和光市,南西部地域:新座市,南西部地域:富士見市,南西部地域:ふじみ野市,南西部地域:三芳町,東部地域:春日部市,東部地域:草加市,東部地域:越谷市,東部地域:八潮市,東部地域:三郷市,東部地域:吉川市,東部地域:松伏町,県央地域:鴻巣市,県央地域:上尾市,県央地域:桶川市,県央地域:北本市,県央地域:伊奈町,川越比企地域:川越市,川越比企地域:東松山市,川越比企地域:坂戸市,川越比企地域:鶴ヶ島市,川越比企地域:毛呂山町,川越比企地域:越生町,川越比企地域:滑川町,川越比企地域:嵐山町,川越比企地域:小川町,川越比企地域:川島町,川越比企地域:吉見町,川越比企地域:鳩山町,川越比企地域:ときがわ町,川越比企地域:東秩父村,西部地域:所沢市,西部地域:飯能市,西部地域:狭山市,西部地域:入間市,西部地域:日高市,利根地域:行田市,利根地域:加須市,利根地域:羽生市,利根地域:久喜市,利根地域:蓮田市,利根地域:幸手市,利根地域:白岡市,利根地域:宮代町,利根地域:杉戸町,北部地域:熊谷市,北部地域:本庄市,北部地域:深谷市,北部地域:美里町,北部地域:神川町,北部地域:上里町,北部地域:寄居町,秩父地域:秩父市,秩父地域:横瀬町,秩父地域:皆野町,秩父地域:長瀞町,秩父地域:小鹿野町","","□","西区",{"$f":"IF(BH389=\"☑\",TRUE)","v":false},{"$f":"\"さいたま市:\"&BI389","v":"さいたま市:西区"},{"$f":"IF(BJ389,BK389,\"\")","v":""},{"$f":"_xludf.TEXTJOIN(\",\",TRUE,BL389:BL402)","v":""},"□","川口市",{"$f":"IF(BN389=\"☑\",TRUE)","v":false},{"$f":"\"南部地域:\"&BO389","v":"南部地域:川口市"},{"$f":"IF(BP389,BQ389,\"\")","v":""},{"$f":"_xludf.TEXTJOIN(\",\",TRUE,BR389:BR402)","v":""},"□","朝霞市",{"$f":"IF(BT389=\"☑\",TRUE)","v":false},{"$f":"\"南西部地域:\"&BU389","v":"南西部地域:朝霞市"},{"$f":"IF(BV389,BW389,\"\")","v":""},{"$f":"_xludf.TEXTJOIN(\",\",TRUE,BX389:BX402)","v":""},"□","春日部市",{"$f":"IF(BZ389=\"☑\",TRUE)","v":false},{"$f":"\"東部地域:\"&CA389","v":"東部地域:春日部市"},{"$f":"IF(CB389,CC389,\"\")","v":""},{"$f":"_xludf.TEXTJOIN(\",\",TRUE,CD389:CD402)","v":""},"□","鴻巣市",{"$f":"IF(CF389=\"☑\",TRUE)","v":false},{"$f":"\"県央地域:\"&CG389","v":"県央地域:鴻巣市"},{"$f":"IF(CH389,CI389,\"\")","v":""},{"$f":"_xludf.TEXTJOIN(\",\",TRUE,CJ389:CJ402)","v":""},"□","川越市",{"$f":"IF(CL389=\"☑\",TRUE)","v":false},{"$f":"\"川越比企地域:\"&CM389","v":"川越比企地域:川越市"},{"$f":"IF(CN389,CO389,\"\")","v":""},{"$f":"_xludf.TEXTJOIN(\",\",TRUE,CP389:CP402)","v":""},"□","所沢市",{"$f":"IF(CR389=\"☑\",TRUE)","v":false},{"$f":"\"西部地域:\"&CS389","v":"西部地域:所沢市"},{"$f":"IF(CT389,CU389,\"\")","v":""},{"$f":"_xludf.TEXTJOIN(\",\",TRUE,CV389:CV402)","v":""},"□","行田市",{"$f":"IF(CX389=\"☑\",TRUE)","v":false},{"$f":"\"利根地域:\"&CY389","v":"利根地域:行田市"},{"$f":"IF(CZ389,DA389,\"\")","v":""},{"$f":"_xludf.TEXTJOIN(\",\",TRUE,DB389:DB402)","v":""},"□","熊谷市",{"$f":"IF(DD389=\"☑\",TRUE)","v":false},{"$f":"\"北部地域:\"&DE389","v":"北部地域:熊谷市"},{"$f":"IF(DF389,DG389,\"\")","v":""},{"$f":"_xludf.TEXTJOIN(\",\",TRUE,DH389:DH402)","v":""},"□","秩父市",{"$f":"IF(DJ389=\"☑\",TRUE)","v":false},{"$f":"\"秩父地域:\"&DK389","v":"秩父地域:秩父市"},{"$f":"IF(DL389,DM389,\"\")","v":""},{"$f":"_xludf.TEXTJOIN(\",\",TRUE,DN389:DN402)","v":""},{"$f":"_xludf.TEXTJOIN(\",\",TRUE,BG389,BM389,BS389,BY389,CE389,CK389,CQ389,CW389,DC389,DI389,DO389)","v":""},null,null,null,null,null,null,null,null,null,null,null,null,"□","月曜日",{"$f":"IF(EC389=\"☑\",TRUE)","v":false},{"$f":"IF(EE389,ED389,\"\")","v":""},{"$f":"_xludf.TEXTJOIN(\",\",TRUE,EF389:EF402)","v":""},"□","午前（～12:00）",{"$f":"IF(EH389=\"☑\",TRUE)","v":false},{"$f":"IF(EJ389,EI389,\"\")","v":""},{"$f":"_xludf.TEXTJOIN(\",\",TRUE,EK389:EK402)","v":""},null,null,"□","彩の国「新しい生活様式」安心宣言",{"$f":"IF(EO389=\"☑\",TRUE)","v":false},{"$f":"IF(EQ389,EP389,\"\")","v":""},{"$f":"_xludf.TEXTJOIN(\",\",TRUE,ER389:ER402)","v":""},null,"",null,"",null,"",null,"",null,"",null,"",null,"",null,""]
[null,null,null,null,null,null,null,null,null,null,null,null,null,null,null,null,null,null,null,null,null,"□","買物サポート",false,"","□","料理デリバリー（出前）",false,"","□","フィットネス・ジム（送迎）",{"$f":"IF(AD390=\"☑\",TRUE)","v":false},{"$f":"IF(AF390,AE390,\"\")","v":""},"□","出張料理",{"$f":"IF(AH390=\"☑\",TRUE)","v":false},{"$f":"IF(AJ390,AI390,\"\")","v":""},"□","温泉・銭湯（たまり場）",false,"","□","多目的トイレ",false,"","□","習い事",{"$f":"IF(AT390=\"☑\",TRUE)","v":false},{"$f":"IF(AV390,AU390,\"\")","v":""},"□","金融・保険",false,"",null,null,null,null,null,"","□","北区",{"$f":"IF(BH390=\"☑\",TRUE)","v":false},{"$f":"\"さいたま市:\"&BI390","v":"さいたま市:北区"},{"$f":"IF(BJ390,BK390,\"\")","v":""},null,"□","蕨市",{"$f":"IF(BN390=\"☑\",TRUE)","v":false},{"$f":"\"南部地域:\"&BO390","v":"南部地域:蕨市"},{"$f":"IF(BP390,BQ390,\"\")","v":""},null,"□","志木市",{"$f":"IF(BT390=\"☑\",TRUE)","v":false},{"$f":"\"南西部地域:\"&BU390","v":"南西部地域:志木市"},{"$f":"IF(BV390,BW390,\"\")","v":""},null,"□","草加市",{"$f":"IF(BZ390=\"☑\",TRUE)","v":false},{"$f":"\"東部地域:\"&CA390","v":"東部地域:草加市"},"",null,"□","上尾市",{"$f":"IF(CF390=\"☑\",TRUE)","v":false},{"$f":"\"県央地域:\"&CG390","v":"県央地域:上尾市"},{"$f":"IF(CH390,CI390,\"\")","v":""},null,"□","東松山市",{"$f":"IF(CL390=\"☑\",TRUE)","v":false},{"$f":"\"川越比企地域:\"&CM390","v":"川越比企地域:東松山市"},{"$f":"IF(CN390,CO390,\"\")","v":""},null,"□","飯能市",{"$f":"IF(CR390=\"☑\",TRUE)","v":false},{"$f":"\"西部地域:\"&CS390","v":"西部地域:飯能市"},{"$f":"IF(CT390,CU390,\"\")","v":""},null,"□","加須市",{"$f":"IF(CX390=\"☑\",TRUE)","v":false},{"$f":"\"利根地域:\"&CY390","v":"利根地域:加須市"},{"$f":"IF(CZ390,DA390,\"\")","v":""},null,"□","本庄市",{"$f":"IF(DD390=\"☑\",TRUE)","v":false},{"$f":"\"北部地域:\"&DE390","v":"北部地域:本庄市"},{"$f":"IF(DF390,DG390,\"\")","v":""},null,"□","横瀬町",{"$f":"IF(DJ390=\"☑\",TRUE)","v":false},{"$f":"\"秩父地域:\"&DK390","v":"秩父地域:横瀬町"},{"$f":"IF(DL390,DM390,\"\")","v":""},null,null,null,null,null,null,null,null,null,null,null,null,null,null,"□","火曜日",{"$f":"IF(EC390=\"☑\",TRUE)","v":false},{"$f":"IF(EE390,ED390,\"\")","v":""},null,"□","午後（12:00～16：00）",{"$f":"IF(EH390=\"☑\",TRUE)","v":false},{"$f":"IF(EJ390,EI390,\"\")","v":""},null,null,null,null,"に基づき感染対策を実施している。",null,{"$f":"IF(EQ390,EP390,\"\")","v":""}]
[null,null,null,null,null,null,null,null,null,null,null,null,null,null,null,null,null,null,null,null,null,"□","買物代行",false,"","□","食材宅配",false,"","□","温泉・銭湯（送迎）",false,"","□","屋外作業・力仕事",false,"","□","カフェ・ファーストフード",false,"","□","休憩スペース",false,"","□","映画館",false,"","□","住宅・リフォーム",false,"",null,null,null,null,null,"","□","大宮区",false,"さいたま市:大宮区","",null,"□","戸田市",{"$f":"IF(BN391=\"☑\",TRUE)","v":false},{"$f":"\"南部地域:\"&BO391","v":"南部地域:戸田市"},"",null,"□","和光市",false,"南西部地域:和光市","",null,"□","越谷市",false,"東部地域:越谷市","",null,"□","桶川市",{"$f":"IF(CF391=\"☑\",TRUE)","v":false},{"$f":"\"県央地域:\"&CG391","v":"県央地域:桶川市"},"",null,"□","坂戸市",false,"川越比企地域:坂戸市","",null,"□","狭山市",{"$f":"IF(CR391=\"☑\",TRUE)","v":false},{"$f":"\"西部地域:\"&CS391","v":"西部地域:狭山市"},"",null,"□","羽生市",false,"利根地域:羽生市","",null,"□","深谷市",false,"北部地域:深谷市","",null,"□","皆野町",{"$f":"IF(DJ391=\"☑\",TRUE)","v":false},{"$f":"\"秩父地域:\"&DK391","v":"秩父地域:皆野町"},"",null,null,null,null,null,null,null,null,null,null,null,null,null,null,"□","水曜日",false,"",null,"□","夕方(16:00～18:00)",{"$f":"IF(EH391=\"☑\",TRUE)","v":false},{"$f":"IF(EJ391,EI391,\"\")","v":""},null,null,null,"□","各種団体が定める業種別ガイドライン",{"$f":"IF(EO391=\"☑\",TRUE)","v":false},{"$f":"IF(EQ391,EP391,\"\")","v":""}]
[null,null,null,null,null,null,null,null,null,null,null,null,null,null,null,null,null,null,null,null,null,"□","移動販売",false,"","□","日用品配達",false,"","□","整体・マッサージ（送迎）",false,"","□","整体・マッサージ（出張）",false,"","□","飲食店",false,"","□","駐車場",false,"","□","カラオケ店",false,"","□","パソコン・スマートフォン",false,"",null,null,null,null,null,"","□","見沼区",false,"さいたま市:見沼区","",null,null,null,null,null,"",null,"□","新座市",false,"南西部地域:新座市","",null,"□","八潮市",false,"東部地域:八潮市","",null,"□","北本市",{"$f":"IF(CF392=\"☑\",TRUE)","v":false},{"$f":"\"県央地域:\"&CG392","v":"県央地域:北本市"},"",null,"□","鶴ヶ島市",false,"川越比企地域:鶴ヶ島市","",null,"□","入間市",{"$f":"IF(CR392=\"☑\",TRUE)","v":false},{"$f":"\"西部地域:\"&CS392","v":"西部地域:入間市"},"",null,"□","久喜市",false,"利根地域:久喜市","",null,"□","美里町",false,"北部地域:美里町","",null,"□","長瀞町",{"$f":"IF(DJ392=\"☑\",TRUE)","v":false},{"$f":"\"秩父地域:\"&DK392","v":"秩父地域:長瀞町"},"",null,null,null,null,null,null,null,null,null,null,null,null,null,null,"□","木曜日",false,"",null,"□","夜(18:00～）",{"$f":"IF(EH392=\"☑\",TRUE)","v":false},{"$f":"IF(EJ392,EI392,\"\")","v":""},null,null,null,null,"に基づき感染対策を実施している。"]
[null,null,null,null,null,null,null,null,null,null,null,null,null,null,null,null,null,null,null,null,null,"□","割引サービス",false,"","□","薬・介護用品配達",false,"","□","乗り合いサービス",false,"","□","理容室・美容室（出張）",false,"","□","イートインスペース",false,"","□","貸しスペース",false,"","□","麻雀・将棋・囲碁",false,"","□","認知症サポート企業",false,"",null,null,null,null,null,"","□","中央区",false,"さいたま市:中央区","",null,null,null,null,null,"",null,"□","富士見市",false,"南西部地域:富士見市","",null,"□","三郷市",false,"東部地域:三郷市","",null,"□","伊奈町",{"$f":"IF(CF393=\"☑\",TRUE)","v":false},{"$f":"\"県央地域:\"&CG393","v":"県央地域:伊奈町"},"",null,"□","毛呂山町",false,"川越比企地域:毛呂山町","",null,"□","日高市",{"$f":"IF(CR393=\"☑\",TRUE)","v":false},{"$f":"\"西部地域:\"&CS393","v":"西部地域:日高市"},"",null,"□","蓮田市",false,"利根地域:蓮田市","",null,"□","神川町",false,"北部地域:神川町","",null,"□","小鹿野町",{"$f":"IF(DJ393=\"☑\",TRUE)","v":false},{"$f":"\"秩父地域:\"&DK393","v":"秩父地域:小鹿野町"},"",null,null,null,null,null,null,null,null,null,null,null,null,null,null,"□","金曜日",false,"",null,null,null,null,null,null,null,null,"□","その他の感染対策を実施している。",{"$f":"IF(EO393=\"☑\",TRUE)","v":false},{"$f":"IF(EQ393,EP393,\"\")","v":""}]
[null,null,null,null,null,null,null,null,null,null,null,null,null,null,null,null,null,null,null,null,null,"□","その他（買物）",false,"","□","その他（宅配・デリバリー）",false,"","□","個別移送サービス",false,"","□","ペット",false,"","□","その他（運動・たまり場）",false,"","□","その他（設備・施設・場所貸し）",false,"","□","ゲームセンター",false,"","□","その他（生活サービス）",false,"",null,null,null,null,null,"","□","桜区",false,"さいたま市:桜区","",null,null,null,null,null,"",null,"□","ふじみ野市",false,"南西部地域:ふじみ野市","",null,"□","吉川市",false,"東部地域:吉川市","",null,null,null,null,null,"",null,"□","越生町",false,"川越比企地域:越生町","",null,null,null,null,null,"",null,"□","幸手市",false,"利根地域:幸手市","",null,"□","上里町",false,"北部地域:上里町","",null,null,null,null,null,"",null,null,null,null,null,null,null,null,null,null,null,null,null,null,"□","土曜日",false,"",null,null,null,null,null,null,null,null,"□","感染対策を特に実施していない。",{"$f":"IF(EO394=\"☑\",TRUE)","v":false},{"$f":"IF(EQ394,EP394,\"\")","v":""}]
[null,null,null,null,null,null,null,null,null,null,null,null,null,null,null,null,null,null,null,null,null,null,null,null,null,null,null,null,null,"□","交通機関サービス",false,"","□","その他（出張サービス）",false,"",null,null,null,null,null,null,null,null,"□","旅行代理店",false,"",null,null,null,null,null,null,null,null,null,{"$f":"IF(BE395,BF395,\"\")","v":""},"□","浦和区",false,"さいたま市:浦和区","",null,null,null,null,null,"",null,"□","三芳町",false,"南西部地域:三芳町","",null,"□","松伏町",false,"東部地域:松伏町","",null,null,null,null,null,"",null,"□","滑川町",false,"川越比企地域:滑川町","",null,null,null,null,null,"",null,"□","白岡市",false,"利根地域:白岡市","",null,"□","寄居町",false,"北部地域:寄居町","",null,null,null,null,null,"",null,null,null,null,null,null,null,null,null,null,null,null,null,null,"□","日曜日",false,""]
[null,null,null,null,null,null,null,null,null,null,null,null,null,null,null,null,null,null,null,null,null,null,null,null,null,null,null,null,null,"□","その他（送迎・移動支援）",false,"",null,null,null,"",null,null,null,{"$f":"IF(AN396,AM396,\"\")","v":""},null,null,null,{"$f":"IF(AR396,AQ396,\"\")","v":""},"□","その他（学び・趣味）",false,"",null,null,null,null,null,null,null,null,null,"","□","南区",false,"さいたま市:南区","",null,null,null,null,null,"",null,null,null,null,null,"",null,null,null,null,null,"",null,null,null,null,null,"",null,"□","嵐山町",false,"川越比企地域:嵐山町","",null,null,null,null,null,"",null,"□","宮代町",false,"利根地域:宮代町","",null,null,null,null,null,"",null,null,null,null,null,""]
[null,null,null,null,null,null,null,null,null,null,null,null,null,null,null,null,null,null,null,null,null,null,null,null,null,null,null,null,null,null,null,null,null,null,null,null,null,null,null,null,null,null,null,null,null,null,null,null,null,null,null,null,null,null,null,null,null,null,"","□","緑区",false,"さいたま市:緑区","",null,null,null,null,null,"",null,null,null,null,null,"",null,null,null,null,null,"",null,null,null,null,null,"",null,"□","小川町",false,"川越比企地域:小川町","",null,null,null,null,null,"",null,"□","杉戸町",false,"利根地域:杉戸町","",null,null,null,null,null,"",null,null,null,null,null,""]
[null,null,null,null,null,null,null,null,null,null,null,null,null,null,null,null,null,null,null,null,null,null,null,null,null,null,null,null,null,null,null,null,null,null,null,null,null,null,null,null,null,null,null,null,null,null,null,null,null,null,null,null,null,null,null,null,null,null,"","□","岩槻区",{"$f":"IF(BH398=\"☑\",TRUE)","v":false},"さいたま市:岩槻区","",null,null,null,null,null,"",null,null,null,null,null,"",null,null,null,null,null,"",null,null,null,null,null,"",null,"□","川島町",false,"川越比企地域:川島町","",null,null,null,null,null,"",null,null,null,null,null,"",null,null,null,null,null,"",null,null,null,null,null,""]
[null,null,null,null,null,null,null,null,null,null,null,null,null,null,null,null,null,null,null,null,null,null,null,null,null,null,null,null,null,null,null,null,null,null,null,null,null,null,null,null,null,null,null,null,null,null,null,null,null,null,null,null,null,null,null,null,null,null,"",null,null,null,null,null,null,null,null,null,null,null,null,null,null,null,null,null,null,null,null,null,null,null,null,null,null,null,null,null,null,"□","吉見町",false,"川越比企地域:吉見町","",null,null,null,null,null,"",null,null,null,null,null,"",null,null,null,null,null,"",null,null,null,null,null,""]
[null,null,null,null,null,null,null,null,null,null,null,null,null,null,null,null,null,null,null,null,null,null,null,null,null,null,null,null,null,null,null,null,null,null,null,null,null,null,null,null,null,null,null,null,null,null,null,null,null,null,null,null,null,null,null,null,null,null,"",null,null,null,null,null,null,null,null,null,null,null,null,null,null,null,null,null,null,null,null,null,null,null,null,null,null,null,null,null,null,"□","鳩山町",false,"川越比企地域:鳩山町","",null,null,null,null,null,"",null,null,null,null,null,"",null,null,null,null,null,"",null,null,null,null,null,""]
[null,null,null,null,null,null,null,null,null,null,null,null,null,null,null,null,null,null,null,null,null,null,null,null,null,null,null,null,null,null,null,null,null,null,null,null,null,null,null,null,null,null,null,null,null,null,null,null,null,null,null,null,null,null,null,null,null,null,"",null,null,null,null,null,null,null,null,null,null,null,null,null,null,null,null,null,null,null,null,null,null,null,null,null,null,null,null,null,null,"□","ときがわ町",false,"川越比企地域:ときがわ町","",null,null,null,null,null,"",null,null,null,null,null,"",null,null,null,null,null,"",null,null,null,null,null,""]
[null,null,null,null,null,null,null,null,null,null,null,null,null,null,null,null,null,null,null,null,null,null,null,null,null,null,null,null,null,null,null,null,null,null,null,null,null,null,null,null,null,null,null,null,null,null,null,null,null,null,null,null,null,null,null,null,null,null,"",null,null,null,null,null,null,null,null,null,null,null,null,null,null,null,null,null,null,null,null,null,null,null,null,null,null,null,null,null,null,"□","東秩父村",false,"川越比企地域:東秩父村","",null,null,null,null,null,"",null,null,null,null,null,"",null,null,null,null,null,"",null,null,null,null,null,""]
[28,null,null,null,null,null,null,null,null,null,null,null,null,null,null,null,null,null,null,null,null,"□","配送",{"$f":"IF(V403=\"☑\",TRUE)","v":false},{"$f":"IF(X403,W403,\"\")","v":""},"□","弁当配達",{"$f":"IF(Z403=\"☑\",TRUE)","v":false},{"$f":"IF(AB403,AA403,\"\")","v":""},"□","理容室・美容室（送迎）",{"$f":"IF(AD403=\"☑\",TRUE)","v":false},{"$f":"IF(AF403,AE403,\"\")","v":""},"□","家事代行",{"$f":"IF(AH403=\"☑\",TRUE)","v":false},{"$f":"IF(AJ403,AI403,\"\")","v":""},"□","フィットネス・ジム（運動）",{"$f":"IF(AL403=\"☑\",TRUE)","v":false},{"$f":"IF(AN403,AM403,\"\")","v":""},"□","車イス対応（バリアフリー）",{"$f":"IF(AP403=\"☑\",TRUE)","v":false},{"$f":"IF(AR403,AQ403,\"\")","v":""},"□","講座・教室・イベント",{"$f":"IF(AT403=\"☑\",TRUE)","v":false},{"$f":"IF(AV403,AU403,\"\")","v":""},"□","防犯・見守り",{"$f":"IF(AX403=\"☑\",TRUE)","v":false},{"$f":"IF(AZ403,AY403,\"\")","v":""},{"$f":"_xludf.TEXTJOIN(\",\",TRUE,Y403:Y416,AC403:AC416,AG403:AG416,AK403:AK416,AO403:AO416,AS403:AS416,AW403:AW416,BA403:BA416)","v":""},"□","埼玉県全域",{"$f":"IF(BC403=\"☑\",TRUE)","v":false},"さいたま市:西区,さいたま市:北区,さいたま市:大宮区,さいたま市:見沼区,さいたま市:中央区,さいたま市:桜区,さいたま市:浦和区,さいたま市:南区,さいたま市:緑区,さいたま市:岩槻区,南部地域:川口市,南部地域:蕨市,南部地域:戸田市,南西部地域:朝霞市,南西部地域:志木市,南西部地域:和光市,南西部地域:新座市,南西部地域:富士見市,南西部地域:ふじみ野市,南西部地域:三芳町,東部地域:春日部市,東部地域:草加市,東部地域:越谷市,東部地域:八潮市,東部地域:三郷市,東部地域:吉川市,東部地域:松伏町,県央地域:鴻巣市,県央地域:上尾市,県央地域:桶川市,県央地域:北本市,県央地域:伊奈町,川越比企地域:川越市,川越比企地域:東松山市,川越比企地域:坂戸市,川越比企地域:鶴ヶ島市,川越比企地域:毛呂山町,川越比企地域:越生町,川越比企地域:滑川町,川越比企地域:嵐山町,川越比企地域:小川町,川越比企地域:川島町,川越比企地域:吉見町,川越比企地域:鳩山町,川越比企地域:ときがわ町,川越比企地域:東秩父村,西部地域:所沢市,西部地域:飯能市,西部地域:狭山市,西部地域:入間市,西部地域:日高市,利根地域:行田市,利根地域:加須市,利根地域:羽生市,利根地域:久喜市,利根地域:蓮田市,利根地域:幸手市,利根地域:白岡市,利根地域:宮代町,利根地域:杉戸町,北部地域:熊谷市,北部地域:本庄市,北部地域:深谷市,北部地域:美里町,北部地域:神川町,北部地域:上里町,北部地域:寄居町,秩父地域:秩父市,秩父地域:横瀬町,秩父地域:皆野町,秩父地域:長瀞町,秩父地域:小鹿野町","","□","西区",{"$f":"IF(BH403=\"☑\",TRUE)","v":false},{"$f":"\"さいたま市:\"&BI403","v":"さいたま市:西区"},{"$f":"IF(BJ403,BK403,\"\")","v":""},{"$f":"_xludf.TEXTJOIN(\",\",TRUE,BL403:BL416)","v":""},"□","川口市",{"$f":"IF(BN403=\"☑\",TRUE)","v":false},{"$f":"\"南部地域:\"&BO403","v":"南部地域:川口市"},{"$f":"IF(BP403,BQ403,\"\")","v":""},{"$f":"_xludf.TEXTJOIN(\",\",TRUE,BR403:BR416)","v":""},"□","朝霞市",{"$f":"IF(BT403=\"☑\",TRUE)","v":false},{"$f":"\"南西部地域:\"&BU403","v":"南西部地域:朝霞市"},{"$f":"IF(BV403,BW403,\"\")","v":""},{"$f":"_xludf.TEXTJOIN(\",\",TRUE,BX403:BX416)","v":""},"□","春日部市",{"$f":"IF(BZ403=\"☑\",TRUE)","v":false},{"$f":"\"東部地域:\"&CA403","v":"東部地域:春日部市"},{"$f":"IF(CB403,CC403,\"\")","v":""},{"$f":"_xludf.TEXTJOIN(\",\",TRUE,CD403:CD416)","v":""},"□","鴻巣市",{"$f":"IF(CF403=\"☑\",TRUE)","v":false},{"$f":"\"県央地域:\"&CG403","v":"県央地域:鴻巣市"},{"$f":"IF(CH403,CI403,\"\")","v":""},{"$f":"_xludf.TEXTJOIN(\",\",TRUE,CJ403:CJ416)","v":""},"□","川越市",{"$f":"IF(CL403=\"☑\",TRUE)","v":false},{"$f":"\"川越比企地域:\"&CM403","v":"川越比企地域:川越市"},{"$f":"IF(CN403,CO403,\"\")","v":""},{"$f":"_xludf.TEXTJOIN(\",\",TRUE,CP403:CP416)","v":""},"□","所沢市",{"$f":"IF(CR403=\"☑\",TRUE)","v":false},{"$f":"\"西部地域:\"&CS403","v":"西部地域:所沢市"},{"$f":"IF(CT403,CU403,\"\")","v":""},{"$f":"_xludf.TEXTJOIN(\",\",TRUE,CV403:CV416)","v":""},"□","行田市",{"$f":"IF(CX403=\"☑\",TRUE)","v":false},{"$f":"\"利根地域:\"&CY403","v":"利根地域:行田市"},{"$f":"IF(CZ403,DA403,\"\")","v":""},{"$f":"_xludf.TEXTJOIN(\",\",TRUE,DB403:DB416)","v":""},"□","熊谷市",{"$f":"IF(DD403=\"☑\",TRUE)","v":false},{"$f":"\"北部地域:\"&DE403","v":"北部地域:熊谷市"},{"$f":"IF(DF403,DG403,\"\")","v":""},{"$f":"_xludf.TEXTJOIN(\",\",TRUE,DH403:DH416)","v":""},"□","秩父市",{"$f":"IF(DJ403=\"☑\",TRUE)","v":false},{"$f":"\"秩父地域:\"&DK403","v":"秩父地域:秩父市"},{"$f":"IF(DL403,DM403,\"\")","v":""},{"$f":"_xludf.TEXTJOIN(\",\",TRUE,DN403:DN416)","v":""},{"$f":"_xludf.TEXTJOIN(\",\",TRUE,BG403,BM403,BS403,BY403,CE403,CK403,CQ403,CW403,DC403,DI403,DO403)","v":""},null,null,null,null,null,null,null,null,null,null,null,null,"□","月曜日",{"$f":"IF(EC403=\"☑\",TRUE)","v":false},{"$f":"IF(EE403,ED403,\"\")","v":""},{"$f":"_xludf.TEXTJOIN(\",\",TRUE,EF403:EF416)","v":""},"□","午前（～12:00）",{"$f":"IF(EH403=\"☑\",TRUE)","v":false},{"$f":"IF(EJ403,EI403,\"\")","v":""},{"$f":"_xludf.TEXTJOIN(\",\",TRUE,EK403:EK416)","v":""},null,null,"□","彩の国「新しい生活様式」安心宣言",{"$f":"IF(EO403=\"☑\",TRUE)","v":false},{"$f":"IF(EQ403,EP403,\"\")","v":""},{"$f":"_xludf.TEXTJOIN(\",\",TRUE,ER403:ER416)","v":""},null,"",null,"",null,"",null,"",null,"",null,"",null,"",null,""]
[null,null,null,null,null,null,null,null,null,null,null,null,null,null,null,null,null,null,null,null,null,"□","買物サポート",false,"","□","料理デリバリー（出前）",false,"","□","フィットネス・ジム（送迎）",{"$f":"IF(AD404=\"☑\",TRUE)","v":false},{"$f":"IF(AF404,AE404,\"\")","v":""},"□","出張料理",{"$f":"IF(AH404=\"☑\",TRUE)","v":false},{"$f":"IF(AJ404,AI404,\"\")","v":""},"□","温泉・銭湯（たまり場）",false,"","□","多目的トイレ",false,"","□","習い事",{"$f":"IF(AT404=\"☑\",TRUE)","v":false},{"$f":"IF(AV404,AU404,\"\")","v":""},"□","金融・保険",false,"",null,null,null,null,null,"","□","北区",{"$f":"IF(BH404=\"☑\",TRUE)","v":false},{"$f":"\"さいたま市:\"&BI404","v":"さいたま市:北区"},{"$f":"IF(BJ404,BK404,\"\")","v":""},null,"□","蕨市",{"$f":"IF(BN404=\"☑\",TRUE)","v":false},{"$f":"\"南部地域:\"&BO404","v":"南部地域:蕨市"},{"$f":"IF(BP404,BQ404,\"\")","v":""},null,"□","志木市",{"$f":"IF(BT404=\"☑\",TRUE)","v":false},{"$f":"\"南西部地域:\"&BU404","v":"南西部地域:志木市"},{"$f":"IF(BV404,BW404,\"\")","v":""},null,"□","草加市",{"$f":"IF(BZ404=\"☑\",TRUE)","v":false},{"$f":"\"東部地域:\"&CA404","v":"東部地域:草加市"},"",null,"□","上尾市",{"$f":"IF(CF404=\"☑\",TRUE)","v":false},{"$f":"\"県央地域:\"&CG404","v":"県央地域:上尾市"},{"$f":"IF(CH404,CI404,\"\")","v":""},null,"□","東松山市",{"$f":"IF(CL404=\"☑\",TRUE)","v":false},{"$f":"\"川越比企地域:\"&CM404","v":"川越比企地域:東松山市"},{"$f":"IF(CN404,CO404,\"\")","v":""},null,"□","飯能市",{"$f":"IF(CR404=\"☑\",TRUE)","v":false},{"$f":"\"西部地域:\"&CS404","v":"西部地域:飯能市"},{"$f":"IF(CT404,CU404,\"\")","v":""},null,"□","加須市",{"$f":"IF(CX404=\"☑\",TRUE)","v":false},{"$f":"\"利根地域:\"&CY404","v":"利根地域:加須市"},{"$f":"IF(CZ404,DA404,\"\")","v":""},null,"□","本庄市",{"$f":"IF(DD404=\"☑\",TRUE)","v":false},{"$f":"\"北部地域:\"&DE404","v":"北部地域:本庄市"},{"$f":"IF(DF404,DG404,\"\")","v":""},null,"□","横瀬町",{"$f":"IF(DJ404=\"☑\",TRUE)","v":false},{"$f":"\"秩父地域:\"&DK404","v":"秩父地域:横瀬町"},{"$f":"IF(DL404,DM404,\"\")","v":""},null,null,null,null,null,null,null,null,null,null,null,null,null,null,"□","火曜日",{"$f":"IF(EC404=\"☑\",TRUE)","v":false},{"$f":"IF(EE404,ED404,\"\")","v":""},null,"□","午後（12:00～16：00）",{"$f":"IF(EH404=\"☑\",TRUE)","v":false},{"$f":"IF(EJ404,EI404,\"\")","v":""},null,null,null,null,"に基づき感染対策を実施している。",null,{"$f":"IF(EQ404,EP404,\"\")","v":""}]
[null,null,null,null,null,null,null,null,null,null,null,null,null,null,null,null,null,null,null,null,null,"□","買物代行",false,"","□","食材宅配",false,"","□","温泉・銭湯（送迎）",false,"","□","屋外作業・力仕事",false,"","□","カフェ・ファーストフード",false,"","□","休憩スペース",false,"","□","映画館",false,"","□","住宅・リフォーム",false,"",null,null,null,null,null,"","□","大宮区",false,"さいたま市:大宮区","",null,"□","戸田市",{"$f":"IF(BN405=\"☑\",TRUE)","v":false},{"$f":"\"南部地域:\"&BO405","v":"南部地域:戸田市"},"",null,"□","和光市",false,"南西部地域:和光市","",null,"□","越谷市",false,"東部地域:越谷市","",null,"□","桶川市",{"$f":"IF(CF405=\"☑\",TRUE)","v":false},{"$f":"\"県央地域:\"&CG405","v":"県央地域:桶川市"},"",null,"□","坂戸市",false,"川越比企地域:坂戸市","",null,"□","狭山市",{"$f":"IF(CR405=\"☑\",TRUE)","v":false},{"$f":"\"西部地域:\"&CS405","v":"西部地域:狭山市"},"",null,"□","羽生市",false,"利根地域:羽生市","",null,"□","深谷市",false,"北部地域:深谷市","",null,"□","皆野町",{"$f":"IF(DJ405=\"☑\",TRUE)","v":false},{"$f":"\"秩父地域:\"&DK405","v":"秩父地域:皆野町"},"",null,null,null,null,null,null,null,null,null,null,null,null,null,null,"□","水曜日",false,"",null,"□","夕方(16:00～18:00)",{"$f":"IF(EH405=\"☑\",TRUE)","v":false},{"$f":"IF(EJ405,EI405,\"\")","v":""},null,null,null,"□","各種団体が定める業種別ガイドライン",{"$f":"IF(EO405=\"☑\",TRUE)","v":false},{"$f":"IF(EQ405,EP405,\"\")","v":""}]
[null,null,null,null,null,null,null,null,null,null,null,null,null,null,null,null,null,null,null,null,null,"□","移動販売",false,"","□","日用品配達",false,"","□","整体・マッサージ（送迎）",false,"","□","整体・マッサージ（出張）",false,"","□","飲食店",false,"","□","駐車場",false,"","□","カラオケ店",false,"","□","パソコン・スマートフォン",false,"",null,null,null,null,null,"","□","見沼区",false,"さいたま市:見沼区","",null,null,null,null,null,"",null,"□","新座市",false,"南西部地域:新座市","",null,"□","八潮市",false,"東部地域:八潮市","",null,"□","北本市",{"$f":"IF(CF406=\"☑\",TRUE)","v":false},{"$f":"\"県央地域:\"&CG406","v":"県央地域:北本市"},"",null,"□","鶴ヶ島市",false,"川越比企地域:鶴ヶ島市","",null,"□","入間市",{"$f":"IF(CR406=\"☑\",TRUE)","v":false},{"$f":"\"西部地域:\"&CS406","v":"西部地域:入間市"},"",null,"□","久喜市",false,"利根地域:久喜市","",null,"□","美里町",false,"北部地域:美里町","",null,"□","長瀞町",{"$f":"IF(DJ406=\"☑\",TRUE)","v":false},{"$f":"\"秩父地域:\"&DK406","v":"秩父地域:長瀞町"},"",null,null,null,null,null,null,null,null,null,null,null,null,null,null,"□","木曜日",false,"",null,"□","夜(18:00～）",{"$f":"IF(EH406=\"☑\",TRUE)","v":false},{"$f":"IF(EJ406,EI406,\"\")","v":""},null,null,null,null,"に基づき感染対策を実施している。"]
[null,null,null,null,null,null,null,null,null,null,null,null,null,null,null,null,null,null,null,null,null,"□","割引サービス",false,"","□","薬・介護用品配達",false,"","□","乗り合いサービス",false,"","□","理容室・美容室（出張）",false,"","□","イートインスペース",false,"","□","貸しスペース",false,"","□","麻雀・将棋・囲碁",false,"","□","認知症サポート企業",false,"",null,null,null,null,null,"","□","中央区",false,"さいたま市:中央区","",null,null,null,null,null,"",null,"□","富士見市",false,"南西部地域:富士見市","",null,"□","三郷市",false,"東部地域:三郷市","",null,"□","伊奈町",{"$f":"IF(CF407=\"☑\",TRUE)","v":false},{"$f":"\"県央地域:\"&CG407","v":"県央地域:伊奈町"},"",null,"□","毛呂山町",false,"川越比企地域:毛呂山町","",null,"□","日高市",{"$f":"IF(CR407=\"☑\",TRUE)","v":false},{"$f":"\"西部地域:\"&CS407","v":"西部地域:日高市"},"",null,"□","蓮田市",false,"利根地域:蓮田市","",null,"□","神川町",false,"北部地域:神川町","",null,"□","小鹿野町",{"$f":"IF(DJ407=\"☑\",TRUE)","v":false},{"$f":"\"秩父地域:\"&DK407","v":"秩父地域:小鹿野町"},"",null,null,null,null,null,null,null,null,null,null,null,null,null,null,"□","金曜日",false,"",null,null,null,null,null,null,null,null,"□","その他の感染対策を実施している。",{"$f":"IF(EO407=\"☑\",TRUE)","v":false},{"$f":"IF(EQ407,EP407,\"\")","v":""}]
[null,null,null,null,null,null,null,null,null,null,null,null,null,null,null,null,null,null,null,null,null,"□","その他（買物）",false,"","□","その他（宅配・デリバリー）",false,"","□","個別移送サービス",false,"","□","ペット",false,"","□","その他（運動・たまり場）",false,"","□","その他（設備・施設・場所貸し）",false,"","□","ゲームセンター",false,"","□","その他（生活サービス）",false,"",null,null,null,null,null,"","□","桜区",false,"さいたま市:桜区","",null,null,null,null,null,"",null,"□","ふじみ野市",false,"南西部地域:ふじみ野市","",null,"□","吉川市",false,"東部地域:吉川市","",null,null,null,null,null,"",null,"□","越生町",false,"川越比企地域:越生町","",null,null,null,null,null,"",null,"□","幸手市",false,"利根地域:幸手市","",null,"□","上里町",false,"北部地域:上里町","",null,null,null,null,null,"",null,null,null,null,null,null,null,null,null,null,null,null,null,null,"□","土曜日",false,"",null,null,null,null,null,null,null,null,"□","感染対策を特に実施していない。",{"$f":"IF(EO408=\"☑\",TRUE)","v":false},{"$f":"IF(EQ408,EP408,\"\")","v":""}]
[null,null,null,null,null,null,null,null,null,null,null,null,null,null,null,null,null,null,null,null,null,null,null,null,null,null,null,null,null,"□","交通機関サービス",false,"","□","その他（出張サービス）",false,"",null,null,null,null,null,null,null,null,"□","旅行代理店",false,"",null,null,null,null,null,null,null,null,null,"","□","浦和区",false,"さいたま市:浦和区","",null,null,null,null,null,"",null,"□","三芳町",false,"南西部地域:三芳町","",null,"□","松伏町",false,"東部地域:松伏町","",null,null,null,null,null,"",null,"□","滑川町",false,"川越比企地域:滑川町","",null,null,null,null,null,"",null,"□","白岡市",false,"利根地域:白岡市","",null,"□","寄居町",false,"北部地域:寄居町","",null,null,null,null,null,"",null,null,null,null,null,null,null,null,null,null,null,null,null,null,"□","日曜日",false,""]
[null,null,null,null,null,null,null,null,null,null,null,null,null,null,null,null,null,null,null,null,null,null,null,null,null,null,null,null,null,"□","その他（送迎・移動支援）",false,"",null,null,null,"",null,null,null,{"$f":"IF(AN410,AM410,\"\")","v":""},null,null,null,{"$f":"IF(AR410,AQ410,\"\")","v":""},"□","その他（学び・趣味）",false,"",null,null,null,null,null,null,null,null,null,"","□","南区",false,"さいたま市:南区","",null,null,null,null,null,"",null,null,null,null,null,"",null,null,null,null,null,"",null,null,null,null,null,"",null,"□","嵐山町",false,"川越比企地域:嵐山町","",null,null,null,null,null,"",null,"□","宮代町",false,"利根地域:宮代町","",null,null,null,null,null,"",null,null,null,null,null,""]
[null,null,null,null,null,null,null,null,null,null,null,null,null,null,null,null,null,null,null,null,null,null,null,null,null,null,null,null,null,null,null,null,null,null,null,null,null,null,null,null,null,null,null,null,null,null,null,null,null,null,null,null,null,null,null,null,null,null,"","□","緑区",false,"さいたま市:緑区","",null,null,null,null,null,"",null,null,null,null,null,"",null,null,null,null,null,"",null,null,null,null,null,"",null,"□","小川町",false,"川越比企地域:小川町","",null,null,null,null,null,"",null,"□","杉戸町",false,"利根地域:杉戸町","",null,null,null,null,null,"",null,null,null,null,null,""]
[null,null,null,null,null,null,null,null,null,null,null,null,null,null,null,null,null,null,null,null,null,null,null,null,null,null,null,null,null,null,null,null,null,null,null,null,null,null,null,null,null,null,null,null,null,null,null,null,null,null,null,null,null,null,null,null,null,null,"","□","岩槻区",{"$f":"IF(BH412=\"☑\",TRUE)","v":false},"さいたま市:岩槻区","",null,null,null,null,null,"",null,null,null,null,null,"",null,null,null,null,null,"",null,null,null,null,null,"",null,"□","川島町",false,"川越比企地域:川島町","",null,null,null,null,null,"",null,null,null,null,null,"",null,null,null,null,null,"",null,null,null,null,null,""]
[null,null,null,null,null,null,null,null,null,null,null,null,null,null,null,null,null,null,null,null,null,null,null,null,null,null,null,null,null,null,null,null,null,null,null,null,null,null,null,null,null,null,null,null,null,null,null,null,null,null,null,null,null,null,null,null,null,null,"",null,null,null,null,null,null,null,null,null,null,null,null,null,null,null,null,null,null,null,null,null,null,null,null,null,null,null,null,null,null,"□","吉見町",false,"川越比企地域:吉見町","",null,null,null,null,null,"",null,null,null,null,null,"",null,null,null,null,null,"",null,null,null,null,null,""]
[null,null,null,null,null,null,null,null,null,null,null,null,null,null,null,null,null,null,null,null,null,null,null,null,null,null,null,null,null,null,null,null,null,null,null,null,null,null,null,null,null,null,null,null,null,null,null,null,null,null,null,null,null,null,null,null,null,null,"",null,null,null,null,null,null,null,null,null,null,null,null,null,null,null,null,null,null,null,null,null,null,null,null,null,null,null,null,null,null,"□","鳩山町",false,"川越比企地域:鳩山町","",null,null,null,null,null,"",null,null,null,null,null,"",null,null,null,null,null,"",null,null,null,null,null,""]
[null,null,null,null,null,null,null,null,null,null,null,null,null,null,null,null,null,null,null,null,null,null,null,null,null,null,null,null,null,null,null,null,null,null,null,null,null,null,null,null,null,null,null,null,null,null,null,null,null,null,null,null,null,null,null,null,null,null,"",null,null,null,null,null,null,null,null,null,null,null,null,null,null,null,null,null,null,null,null,null,null,null,null,null,null,null,null,null,null,"□","ときがわ町",false,"川越比企地域:ときがわ町","",null,null,null,null,null,"",null,null,null,null,null,"",null,null,null,null,null,"",null,null,null,null,null,""]
[null,null,null,null,null,null,null,null,null,null,null,null,null,null,null,null,null,null,null,null,null,null,null,null,null,null,null,null,null,null,null,null,null,null,null,null,null,null,null,null,null,null,null,null,null,null,null,null,null,null,null,null,null,null,null,null,null,null,"",null,null,null,null,null,null,null,null,null,null,null,null,null,null,null,null,null,null,null,null,null,null,null,null,null,null,null,null,null,null,"□","東秩父村",false,"川越比企地域:東秩父村","",null,null,null,null,null,"",null,null,null,null,null,"",null,null,null,null,null,"",null,null,null,null,null,""]
[29,null,null,null,null,null,null,null,null,null,null,null,null,null,null,null,null,null,null,null,null,"□","配送",{"$f":"IF(V417=\"☑\",TRUE)","v":false},{"$f":"IF(X417,W417,\"\")","v":""},"□","弁当配達",{"$f":"IF(Z417=\"☑\",TRUE)","v":false},{"$f":"IF(AB417,AA417,\"\")","v":""},"□","理容室・美容室（送迎）",{"$f":"IF(AD417=\"☑\",TRUE)","v":false},{"$f":"IF(AF417,AE417,\"\")","v":""},"□","家事代行",{"$f":"IF(AH417=\"☑\",TRUE)","v":false},{"$f":"IF(AJ417,AI417,\"\")","v":""},"□","フィットネス・ジム（運動）",{"$f":"IF(AL417=\"☑\",TRUE)","v":false},{"$f":"IF(AN417,AM417,\"\")","v":""},"□","車イス対応（バリアフリー）",{"$f":"IF(AP417=\"☑\",TRUE)","v":false},{"$f":"IF(AR417,AQ417,\"\")","v":""},"□","講座・教室・イベント",{"$f":"IF(AT417=\"☑\",TRUE)","v":false},{"$f":"IF(AV417,AU417,\"\")","v":""},"□","防犯・見守り",{"$f":"IF(AX417=\"☑\",TRUE)","v":false},{"$f":"IF(AZ417,AY417,\"\")","v":""},{"$f":"_xludf.TEXTJOIN(\",\",TRUE,Y417:Y430,AC417:AC430,AG417:AG430,AK417:AK430,AO417:AO430,AS417:AS430,AW417:AW430,BA417:BA430)","v":""},"□","埼玉県全域",{"$f":"IF(BC417=\"☑\",TRUE)","v":false},"さいたま市:西区,さいたま市:北区,さいたま市:大宮区,さいたま市:見沼区,さいたま市:中央区,さいたま市:桜区,さいたま市:浦和区,さいたま市:南区,さいたま市:緑区,さいたま市:岩槻区,南部地域:川口市,南部地域:蕨市,南部地域:戸田市,南西部地域:朝霞市,南西部地域:志木市,南西部地域:和光市,南西部地域:新座市,南西部地域:富士見市,南西部地域:ふじみ野市,南西部地域:三芳町,東部地域:春日部市,東部地域:草加市,東部地域:越谷市,東部地域:八潮市,東部地域:三郷市,東部地域:吉川市,東部地域:松伏町,県央地域:鴻巣市,県央地域:上尾市,県央地域:桶川市,県央地域:北本市,県央地域:伊奈町,川越比企地域:川越市,川越比企地域:東松山市,川越比企地域:坂戸市,川越比企地域:鶴ヶ島市,川越比企地域:毛呂山町,川越比企地域:越生町,川越比企地域:滑川町,川越比企地域:嵐山町,川越比企地域:小川町,川越比企地域:川島町,川越比企地域:吉見町,川越比企地域:鳩山町,川越比企地域:ときがわ町,川越比企地域:東秩父村,西部地域:所沢市,西部地域:飯能市,西部地域:狭山市,西部地域:入間市,西部地域:日高市,利根地域:行田市,利根地域:加須市,利根地域:羽生市,利根地域:久喜市,利根地域:蓮田市,利根地域:幸手市,利根地域:白岡市,利根地域:宮代町,利根地域:杉戸町,北部地域:熊谷市,北部地域:本庄市,北部地域:深谷市,北部地域:美里町,北部地域:神川町,北部地域:上里町,北部地域:寄居町,秩父地域:秩父市,秩父地域:横瀬町,秩父地域:皆野町,秩父地域:長瀞町,秩父地域:小鹿野町","","□","西区",{"$f":"IF(BH417=\"☑\",TRUE)","v":false},{"$f":"\"さいたま市:\"&BI417","v":"さいたま市:西区"},{"$f":"IF(BJ417,BK417,\"\")","v":""},{"$f":"_xludf.TEXTJOIN(\",\",TRUE,BL417:BL430)","v":""},"□","川口市",{"$f":"IF(BN417=\"☑\",TRUE)","v":false},{"$f":"\"南部地域:\"&BO417","v":"南部地域:川口市"},{"$f":"IF(BP417,BQ417,\"\")","v":""},{"$f":"_xludf.TEXTJOIN(\",\",TRUE,BR417:BR430)","v":""},"□","朝霞市",{"$f":"IF(BT417=\"☑\",TRUE)","v":false},{"$f":"\"南西部地域:\"&BU417","v":"南西部地域:朝霞市"},{"$f":"IF(BV417,BW417,\"\")","v":""},{"$f":"_xludf.TEXTJOIN(\",\",TRUE,BX417:BX430)","v":""},"□","春日部市",{"$f":"IF(BZ417=\"☑\",TRUE)","v":false},{"$f":"\"東部地域:\"&CA417","v":"東部地域:春日部市"},{"$f":"IF(CB417,CC417,\"\")","v":""},{"$f":"_xludf.TEXTJOIN(\",\",TRUE,CD417:CD430)","v":""},"□","鴻巣市",{"$f":"IF(CF417=\"☑\",TRUE)","v":false},{"$f":"\"県央地域:\"&CG417","v":"県央地域:鴻巣市"},{"$f":"IF(CH417,CI417,\"\")","v":""},{"$f":"_xludf.TEXTJOIN(\",\",TRUE,CJ417:CJ430)","v":""},"□","川越市",{"$f":"IF(CL417=\"☑\",TRUE)","v":false},{"$f":"\"川越比企地域:\"&CM417","v":"川越比企地域:川越市"},{"$f":"IF(CN417,CO417,\"\")","v":""},{"$f":"_xludf.TEXTJOIN(\",\",TRUE,CP417:CP430)","v":""},"□","所沢市",{"$f":"IF(CR417=\"☑\",TRUE)","v":false},{"$f":"\"西部地域:\"&CS417","v":"西部地域:所沢市"},{"$f":"IF(CT417,CU417,\"\")","v":""},{"$f":"_xludf.TEXTJOIN(\",\",TRUE,CV417:CV430)","v":""},"□","行田市",{"$f":"IF(CX417=\"☑\",TRUE)","v":false},{"$f":"\"利根地域:\"&CY417","v":"利根地域:行田市"},{"$f":"IF(CZ417,DA417,\"\")","v":""},{"$f":"_xludf.TEXTJOIN(\",\",TRUE,DB417:DB430)","v":""},"□","熊谷市",{"$f":"IF(DD417=\"☑\",TRUE)","v":false},{"$f":"\"北部地域:\"&DE417","v":"北部地域:熊谷市"},{"$f":"IF(DF417,DG417,\"\")","v":""},{"$f":"_xludf.TEXTJOIN(\",\",TRUE,DH417:DH430)","v":""},"□","秩父市",{"$f":"IF(DJ417=\"☑\",TRUE)","v":false},{"$f":"\"秩父地域:\"&DK417","v":"秩父地域:秩父市"},{"$f":"IF(DL417,DM417,\"\")","v":""},{"$f":"_xludf.TEXTJOIN(\",\",TRUE,DN417:DN430)","v":""},{"$f":"_xludf.TEXTJOIN(\",\",TRUE,BG417,BM417,BS417,BY417,CE417,CK417,CQ417,CW417,DC417,DI417,DO417)","v":""},null,null,null,null,null,null,null,null,null,null,null,null,"□","月曜日",{"$f":"IF(EC417=\"☑\",TRUE)","v":false},{"$f":"IF(EE417,ED417,\"\")","v":""},{"$f":"_xludf.TEXTJOIN(\",\",TRUE,EF417:EF430)","v":""},"□","午前（～12:00）",{"$f":"IF(EH417=\"☑\",TRUE)","v":false},{"$f":"IF(EJ417,EI417,\"\")","v":""},{"$f":"_xludf.TEXTJOIN(\",\",TRUE,EK417:EK430)","v":""},null,null,"□","彩の国「新しい生活様式」安心宣言",{"$f":"IF(EO417=\"☑\",TRUE)","v":false},{"$f":"IF(EQ417,EP417,\"\")","v":""},{"$f":"_xludf.TEXTJOIN(\",\",TRUE,ER417:ER430)","v":""},null,"",null,"",null,"",null,"",null,"",null,"",null,"",null,""]
[null,null,null,null,null,null,null,null,null,null,null,null,null,null,null,null,null,null,null,null,null,"□","買物サポート",false,"","□","料理デリバリー（出前）",false,"","□","フィットネス・ジム（送迎）",{"$f":"IF(AD418=\"☑\",TRUE)","v":false},{"$f":"IF(AF418,AE418,\"\")","v":""},"□","出張料理",{"$f":"IF(AH418=\"☑\",TRUE)","v":false},{"$f":"IF(AJ418,AI418,\"\")","v":""},"□","温泉・銭湯（たまり場）",false,"","□","多目的トイレ",false,"","□","習い事",{"$f":"IF(AT418=\"☑\",TRUE)","v":false},{"$f":"IF(AV418,AU418,\"\")","v":""},"□","金融・保険",false,"",null,null,null,null,null,"","□","北区",{"$f":"IF(BH418=\"☑\",TRUE)","v":false},{"$f":"\"さいたま市:\"&BI418","v":"さいたま市:北区"},{"$f":"IF(BJ418,BK418,\"\")","v":""},null,"□","蕨市",{"$f":"IF(BN418=\"☑\",TRUE)","v":false},{"$f":"\"南部地域:\"&BO418","v":"南部地域:蕨市"},{"$f":"IF(BP418,BQ418,\"\")","v":""},null,"□","志木市",{"$f":"IF(BT418=\"☑\",TRUE)","v":false},{"$f":"\"南西部地域:\"&BU418","v":"南西部地域:志木市"},{"$f":"IF(BV418,BW418,\"\")","v":""},null,"□","草加市",{"$f":"IF(BZ418=\"☑\",TRUE)","v":false},{"$f":"\"東部地域:\"&CA418","v":"東部地域:草加市"},"",null,"□","上尾市",{"$f":"IF(CF418=\"☑\",TRUE)","v":false},{"$f":"\"県央地域:\"&CG418","v":"県央地域:上尾市"},{"$f":"IF(CH418,CI418,\"\")","v":""},null,"□","東松山市",{"$f":"IF(CL418=\"☑\",TRUE)","v":false},{"$f":"\"川越比企地域:\"&CM418","v":"川越比企地域:東松山市"},{"$f":"IF(CN418,CO418,\"\")","v":""},null,"□","飯能市",{"$f":"IF(CR418=\"☑\",TRUE)","v":false},{"$f":"\"西部地域:\"&CS418","v":"西部地域:飯能市"},{"$f":"IF(CT418,CU418,\"\")","v":""},null,"□","加須市",{"$f":"IF(CX418=\"☑\",TRUE)","v":false},{"$f":"\"利根地域:\"&CY418","v":"利根地域:加須市"},{"$f":"IF(CZ418,DA418,\"\")","v":""},null,"□","本庄市",{"$f":"IF(DD418=\"☑\",TRUE)","v":false},{"$f":"\"北部地域:\"&DE418","v":"北部地域:本庄市"},{"$f":"IF(DF418,DG418,\"\")","v":""},null,"□","横瀬町",{"$f":"IF(DJ418=\"☑\",TRUE)","v":false},{"$f":"\"秩父地域:\"&DK418","v":"秩父地域:横瀬町"},{"$f":"IF(DL418,DM418,\"\")","v":""},null,null,null,null,null,null,null,null,null,null,null,null,null,null,"□","火曜日",{"$f":"IF(EC418=\"☑\",TRUE)","v":false},{"$f":"IF(EE418,ED418,\"\")","v":""},null,"□","午後（12:00～16：00）",{"$f":"IF(EH418=\"☑\",TRUE)","v":false},{"$f":"IF(EJ418,EI418,\"\")","v":""},null,null,null,null,"に基づき感染対策を実施している。",null,{"$f":"IF(EQ418,EP418,\"\")","v":""}]
[null,null,null,null,null,null,null,null,null,null,null,null,null,null,null,null,null,null,null,null,null,"□","買物代行",false,"","□","食材宅配",false,"","□","温泉・銭湯（送迎）",false,"","□","屋外作業・力仕事",false,"","□","カフェ・ファーストフード",false,"","□","休憩スペース",false,"","□","映画館",false,"","□","住宅・リフォーム",false,"",null,null,null,null,null,"","□","大宮区",false,"さいたま市:大宮区","",null,"□","戸田市",{"$f":"IF(BN419=\"☑\",TRUE)","v":false},{"$f":"\"南部地域:\"&BO419","v":"南部地域:戸田市"},"",null,"□","和光市",false,"南西部地域:和光市","",null,"□","越谷市",false,"東部地域:越谷市","",null,"□","桶川市",{"$f":"IF(CF419=\"☑\",TRUE)","v":false},{"$f":"\"県央地域:\"&CG419","v":"県央地域:桶川市"},"",null,"□","坂戸市",false,"川越比企地域:坂戸市","",null,"□","狭山市",{"$f":"IF(CR419=\"☑\",TRUE)","v":false},{"$f":"\"西部地域:\"&CS419","v":"西部地域:狭山市"},"",null,"□","羽生市",false,"利根地域:羽生市","",null,"□","深谷市",false,"北部地域:深谷市","",null,"□","皆野町",{"$f":"IF(DJ419=\"☑\",TRUE)","v":false},{"$f":"\"秩父地域:\"&DK419","v":"秩父地域:皆野町"},"",null,null,null,null,null,null,null,null,null,null,null,null,null,null,"□","水曜日",false,"",null,"□","夕方(16:00～18:00)",{"$f":"IF(EH419=\"☑\",TRUE)","v":false},{"$f":"IF(EJ419,EI419,\"\")","v":""},null,null,null,"□","各種団体が定める業種別ガイドライン",{"$f":"IF(EO419=\"☑\",TRUE)","v":false},{"$f":"IF(EQ419,EP419,\"\")","v":""}]
[null,null,null,null,null,null,null,null,null,null,null,null,null,null,null,null,null,null,null,null,null,"□","移動販売",false,"","□","日用品配達",false,"","□","整体・マッサージ（送迎）",false,"","□","整体・マッサージ（出張）",false,"","□","飲食店",false,"","□","駐車場",false,"","□","カラオケ店",false,"","□","パソコン・スマートフォン",false,"",null,null,null,null,null,"","□","見沼区",false,"さいたま市:見沼区","",null,null,null,null,null,"",null,"□","新座市",false,"南西部地域:新座市","",null,"□","八潮市",false,"東部地域:八潮市","",null,"□","北本市",{"$f":"IF(CF420=\"☑\",TRUE)","v":false},{"$f":"\"県央地域:\"&CG420","v":"県央地域:北本市"},"",null,"□","鶴ヶ島市",false,"川越比企地域:鶴ヶ島市","",null,"□","入間市",{"$f":"IF(CR420=\"☑\",TRUE)","v":false},{"$f":"\"西部地域:\"&CS420","v":"西部地域:入間市"},"",null,"□","久喜市",false,"利根地域:久喜市","",null,"□","美里町",false,"北部地域:美里町","",null,"□","長瀞町",{"$f":"IF(DJ420=\"☑\",TRUE)","v":false},{"$f":"\"秩父地域:\"&DK420","v":"秩父地域:長瀞町"},"",null,null,null,null,null,null,null,null,null,null,null,null,null,null,"□","木曜日",false,"",null,"□","夜(18:00～）",{"$f":"IF(EH420=\"☑\",TRUE)","v":false},{"$f":"IF(EJ420,EI420,\"\")","v":""},null,null,null,null,"に基づき感染対策を実施している。"]
[null,null,null,null,null,null,null,null,null,null,null,null,null,null,null,null,null,null,null,null,null,"□","割引サービス",false,"","□","薬・介護用品配達",false,"","□","乗り合いサービス",false,"","□","理容室・美容室（出張）",false,"","□","イートインスペース",false,"","□","貸しスペース",false,"","□","麻雀・将棋・囲碁",false,"","□","認知症サポート企業",false,"",null,null,null,null,null,"","□","中央区",false,"さいたま市:中央区","",null,null,null,null,null,"",null,"□","富士見市",false,"南西部地域:富士見市","",null,"□","三郷市",false,"東部地域:三郷市","",null,"□","伊奈町",{"$f":"IF(CF421=\"☑\",TRUE)","v":false},{"$f":"\"県央地域:\"&CG421","v":"県央地域:伊奈町"},"",null,"□","毛呂山町",false,"川越比企地域:毛呂山町","",null,"□","日高市",{"$f":"IF(CR421=\"☑\",TRUE)","v":false},{"$f":"\"西部地域:\"&CS421","v":"西部地域:日高市"},"",null,"□","蓮田市",false,"利根地域:蓮田市","",null,"□","神川町",false,"北部地域:神川町","",null,"□","小鹿野町",{"$f":"IF(DJ421=\"☑\",TRUE)","v":false},{"$f":"\"秩父地域:\"&DK421","v":"秩父地域:小鹿野町"},"",null,null,null,null,null,null,null,null,null,null,null,null,null,null,"□","金曜日",false,"",null,null,null,null,null,null,null,null,"□","その他の感染対策を実施している。",{"$f":"IF(EO421=\"☑\",TRUE)","v":false},{"$f":"IF(EQ421,EP421,\"\")","v":""}]
[null,null,null,null,null,null,null,null,null,null,null,null,null,null,null,null,null,null,null,null,null,"□","その他（買物）",false,"","□","その他（宅配・デリバリー）",false,"","□","個別移送サービス",false,"","□","ペット",false,"","□","その他（運動・たまり場）",false,"","□","その他（設備・施設・場所貸し）",false,"","□","ゲームセンター",false,"","□","その他（生活サービス）",false,"",null,null,null,null,null,"","□","桜区",false,"さいたま市:桜区","",null,null,null,null,null,"",null,"□","ふじみ野市",false,"南西部地域:ふじみ野市","",null,"□","吉川市",false,"東部地域:吉川市","",null,null,null,null,null,"",null,"□","越生町",false,"川越比企地域:越生町","",null,null,null,null,null,"",null,"□","幸手市",false,"利根地域:幸手市","",null,"□","上里町",false,"北部地域:上里町","",null,null,null,null,null,"",null,null,null,null,null,null,null,null,null,null,null,null,null,null,"□","土曜日",false,"",null,null,null,null,null,null,null,null,"□","感染対策を特に実施していない。",{"$f":"IF(EO422=\"☑\",TRUE)","v":false},{"$f":"IF(EQ422,EP422,\"\")","v":""}]
[null,null,null,null,null,null,null,null,null,null,null,null,null,null,null,null,null,null,null,null,null,null,null,null,null,null,null,null,null,"□","交通機関サービス",false,"","□","その他（出張サービス）",false,"",null,null,null,null,null,null,null,null,"□","旅行代理店",false,"",null,null,null,null,null,null,null,null,null,"","□","浦和区",false,"さいたま市:浦和区","",null,null,null,null,null,"",null,"□","三芳町",false,"南西部地域:三芳町","",null,"□","松伏町",false,"東部地域:松伏町","",null,null,null,null,null,"",null,"□","滑川町",false,"川越比企地域:滑川町","",null,null,null,null,null,"",null,"□","白岡市",false,"利根地域:白岡市","",null,"□","寄居町",false,"北部地域:寄居町","",null,null,null,null,null,"",null,null,null,null,null,null,null,null,null,null,null,null,null,null,"□","日曜日",false,""]
[null,null,null,null,null,null,null,null,null,null,null,null,null,null,null,null,null,null,null,null,null,null,null,null,null,null,null,null,null,"□","その他（送迎・移動支援）",false,"",null,null,null,"",null,null,null,{"$f":"IF(AN424,AM424,\"\")","v":""},null,null,null,{"$f":"IF(AR424,AQ424,\"\")","v":""},"□","その他（学び・趣味）",false,"",null,null,null,null,null,null,null,null,null,"","□","南区",false,"さいたま市:南区","",null,null,null,null,null,"",null,null,null,null,null,"",null,null,null,null,null,"",null,null,null,null,null,"",null,"□","嵐山町",false,"川越比企地域:嵐山町","",null,null,null,null,null,"",null,"□","宮代町",false,"利根地域:宮代町","",null,null,null,null,null,"",null,null,null,null,null,""]
[null,null,null,null,null,null,null,null,null,null,null,null,null,null,null,null,null,null,null,null,null,null,null,null,null,null,null,null,null,null,null,null,null,null,null,null,null,null,null,null,null,null,null,null,null,null,null,null,null,null,null,null,null,null,null,null,null,null,"","□","緑区",false,"さいたま市:緑区","",null,null,null,null,null,"",null,null,null,null,null,"",null,null,null,null,null,"",null,null,null,null,null,"",null,"□","小川町",false,"川越比企地域:小川町","",null,null,null,null,null,"",null,"□","杉戸町",false,"利根地域:杉戸町","",null,null,null,null,null,"",null,null,null,null,null,""]
[null,null,null,null,null,null,null,null,null,null,null,null,null,null,null,null,null,null,null,null,null,null,null,null,null,null,null,null,null,null,null,null,null,null,null,null,null,null,null,null,null,null,null,null,null,null,null,null,null,null,null,null,null,null,null,null,null,null,"","□","岩槻区",{"$f":"IF(BH426=\"☑\",TRUE)","v":false},"さいたま市:岩槻区","",null,null,null,null,null,"",null,null,null,null,null,"",null,null,null,null,null,"",null,null,null,null,null,"",null,"□","川島町",false,"川越比企地域:川島町","",null,null,null,null,null,"",null,null,null,null,null,"",null,null,null,null,null,"",null,null,null,null,null,""]
[null,null,null,null,null,null,null,null,null,null,null,null,null,null,null,null,null,null,null,null,null,null,null,null,null,null,null,null,null,null,null,null,null,null,null,null,null,null,null,null,null,null,null,null,null,null,null,null,null,null,null,null,null,null,null,null,null,null,"",null,null,null,null,null,null,null,null,null,null,null,null,null,null,null,null,null,null,null,null,null,null,null,null,null,null,null,null,null,null,"□","吉見町",false,"川越比企地域:吉見町","",null,null,null,null,null,"",null,null,null,null,null,"",null,null,null,null,null,"",null,null,null,null,null,""]
[null,null,null,null,null,null,null,null,null,null,null,null,null,null,null,null,null,null,null,null,null,null,null,null,null,null,null,null,null,null,null,null,null,null,null,null,null,null,null,null,null,null,null,null,null,null,null,null,null,null,null,null,null,null,null,null,null,null,"",null,null,null,null,null,null,null,null,null,null,null,null,null,null,null,null,null,null,null,null,null,null,null,null,null,null,null,null,null,null,"□","鳩山町",false,"川越比企地域:鳩山町","",null,null,null,null,null,"",null,null,null,null,null,"",null,null,null,null,null,"",null,null,null,null,null,""]
[null,null,null,null,null,null,null,null,null,null,null,null,null,null,null,null,null,null,null,null,null,null,null,null,null,null,null,null,null,null,null,null,null,null,null,null,null,null,null,null,null,null,null,null,null,null,null,null,null,null,null,null,null,null,null,null,null,null,"",null,null,null,null,null,null,null,null,null,null,null,null,null,null,null,null,null,null,null,null,null,null,null,null,null,null,null,null,null,null,"□","ときがわ町",false,"川越比企地域:ときがわ町","",null,null,null,null,null,"",null,null,null,null,null,"",null,null,null,null,null,"",null,null,null,null,null,""]
[null,null,null,null,null,null,null,null,null,null,null,null,null,null,null,null,null,null,null,null,null,null,null,null,null,null,null,null,null,null,null,null,null,null,null,null,null,null,null,null,null,null,null,null,null,null,null,null,null,null,null,null,null,null,null,null,null,null,"",null,null,null,null,null,null,null,null,null,null,null,null,null,null,null,null,null,null,null,null,null,null,null,null,null,null,null,null,null,null,"□","東秩父村",false,"川越比企地域:東秩父村","",null,null,null,null,null,"",null,null,null,null,null,"",null,null,null,null,null,"",null,null,null,null,null,""]
[30,null,null,null,null,null,null,null,null,null,null,null,null,null,null,null,null,null,null,null,null,"□","配送",{"$f":"IF(V431=\"☑\",TRUE)","v":false},{"$f":"IF(X431,W431,\"\")","v":""},"□","弁当配達",{"$f":"IF(Z431=\"☑\",TRUE)","v":false},{"$f":"IF(AB431,AA431,\"\")","v":""},"□","理容室・美容室（送迎）",{"$f":"IF(AD431=\"☑\",TRUE)","v":false},{"$f":"IF(AF431,AE431,\"\")","v":""},"□","家事代行",{"$f":"IF(AH431=\"☑\",TRUE)","v":false},{"$f":"IF(AJ431,AI431,\"\")","v":""},"□","フィットネス・ジム（運動）",{"$f":"IF(AL431=\"☑\",TRUE)","v":false},{"$f":"IF(AN431,AM431,\"\")","v":""},"□","車イス対応（バリアフリー）",{"$f":"IF(AP431=\"☑\",TRUE)","v":false},{"$f":"IF(AR431,AQ431,\"\")","v":""},"□","講座・教室・イベント",{"$f":"IF(AT431=\"☑\",TRUE)","v":false},{"$f":"IF(AV431,AU431,\"\")","v":""},"□","防犯・見守り",{"$f":"IF(AX431=\"☑\",TRUE)","v":false},{"$f":"IF(AZ431,AY431,\"\")","v":""},{"$f":"_xludf.TEXTJOIN(\",\",TRUE,Y431:Y444,AC431:AC444,AG431:AG444,AK431:AK444,AO431:AO444,AS431:AS444,AW431:AW444,BA431:BA444)","v":""},"□","埼玉県全域",{"$f":"IF(BC431=\"☑\",TRUE)","v":false},"さいたま市:西区,さいたま市:北区,さいたま市:大宮区,さいたま市:見沼区,さいたま市:中央区,さいたま市:桜区,さいたま市:浦和区,さいたま市:南区,さいたま市:緑区,さいたま市:岩槻区,南部地域:川口市,南部地域:蕨市,南部地域:戸田市,南西部地域:朝霞市,南西部地域:志木市,南西部地域:和光市,南西部地域:新座市,南西部地域:富士見市,南西部地域:ふじみ野市,南西部地域:三芳町,東部地域:春日部市,東部地域:草加市,東部地域:越谷市,東部地域:八潮市,東部地域:三郷市,東部地域:吉川市,東部地域:松伏町,県央地域:鴻巣市,県央地域:上尾市,県央地域:桶川市,県央地域:北本市,県央地域:伊奈町,川越比企地域:川越市,川越比企地域:東松山市,川越比企地域:坂戸市,川越比企地域:鶴ヶ島市,川越比企地域:毛呂山町,川越比企地域:越生町,川越比企地域:滑川町,川越比企地域:嵐山町,川越比企地域:小川町,川越比企地域:川島町,川越比企地域:吉見町,川越比企地域:鳩山町,川越比企地域:ときがわ町,川越比企地域:東秩父村,西部地域:所沢市,西部地域:飯能市,西部地域:狭山市,西部地域:入間市,西部地域:日高市,利根地域:行田市,利根地域:加須市,利根地域:羽生市,利根地域:久喜市,利根地域:蓮田市,利根地域:幸手市,利根地域:白岡市,利根地域:宮代町,利根地域:杉戸町,北部地域:熊谷市,北部地域:本庄市,北部地域:深谷市,北部地域:美里町,北部地域:神川町,北部地域:上里町,北部地域:寄居町,秩父地域:秩父市,秩父地域:横瀬町,秩父地域:皆野町,秩父地域:長瀞町,秩父地域:小鹿野町","","□","西区",{"$f":"IF(BH431=\"☑\",TRUE)","v":false},{"$f":"\"さいたま市:\"&BI431","v":"さいたま市:西区"},{"$f":"IF(BJ431,BK431,\"\")","v":""},{"$f":"_xludf.TEXTJOIN(\",\",TRUE,BL431:BL444)","v":""},"□","川口市",{"$f":"IF(BN431=\"☑\",TRUE)","v":false},{"$f":"\"南部地域:\"&BO431","v":"南部地域:川口市"},{"$f":"IF(BP431,BQ431,\"\")","v":""},{"$f":"_xludf.TEXTJOIN(\",\",TRUE,BR431:BR444)","v":""},"□","朝霞市",{"$f":"IF(BT431=\"☑\",TRUE)","v":false},{"$f":"\"南西部地域:\"&BU431","v":"南西部地域:朝霞市"},{"$f":"IF(BV431,BW431,\"\")","v":""},{"$f":"_xludf.TEXTJOIN(\",\",TRUE,BX431:BX444)","v":""},"□","春日部市",{"$f":"IF(BZ431=\"☑\",TRUE)","v":false},{"$f":"\"東部地域:\"&CA431","v":"東部地域:春日部市"},{"$f":"IF(CB431,CC431,\"\")","v":""},{"$f":"_xludf.TEXTJOIN(\",\",TRUE,CD431:CD444)","v":""},"□","鴻巣市",{"$f":"IF(CF431=\"☑\",TRUE)","v":false},{"$f":"\"県央地域:\"&CG431","v":"県央地域:鴻巣市"},{"$f":"IF(CH431,CI431,\"\")","v":""},{"$f":"_xludf.TEXTJOIN(\",\",TRUE,CJ431:CJ444)","v":""},"□","川越市",{"$f":"IF(CL431=\"☑\",TRUE)","v":false},{"$f":"\"川越比企地域:\"&CM431","v":"川越比企地域:川越市"},{"$f":"IF(CN431,CO431,\"\")","v":""},{"$f":"_xludf.TEXTJOIN(\",\",TRUE,CP431:CP444)","v":""},"□","所沢市",{"$f":"IF(CR431=\"☑\",TRUE)","v":false},{"$f":"\"西部地域:\"&CS431","v":"西部地域:所沢市"},{"$f":"IF(CT431,CU431,\"\")","v":""},{"$f":"_xludf.TEXTJOIN(\",\",TRUE,CV431:CV444)","v":""},"□","行田市",{"$f":"IF(CX431=\"☑\",TRUE)","v":false},{"$f":"\"利根地域:\"&CY431","v":"利根地域:行田市"},{"$f":"IF(CZ431,DA431,\"\")","v":""},{"$f":"_xludf.TEXTJOIN(\",\",TRUE,DB431:DB444)","v":""},"□","熊谷市",{"$f":"IF(DD431=\"☑\",TRUE)","v":false},{"$f":"\"北部地域:\"&DE431","v":"北部地域:熊谷市"},{"$f":"IF(DF431,DG431,\"\")","v":""},{"$f":"_xludf.TEXTJOIN(\",\",TRUE,DH431:DH444)","v":""},"□","秩父市",{"$f":"IF(DJ431=\"☑\",TRUE)","v":false},{"$f":"\"秩父地域:\"&DK431","v":"秩父地域:秩父市"},{"$f":"IF(DL431,DM431,\"\")","v":""},{"$f":"_xludf.TEXTJOIN(\",\",TRUE,DN431:DN444)","v":""},{"$f":"_xludf.TEXTJOIN(\",\",TRUE,BG431,BM431,BS431,BY431,CE431,CK431,CQ431,CW431,DC431,DI431,DO431)","v":""},null,null,null,null,null,null,null,null,null,null,null,null,"□","月曜日",{"$f":"IF(EC431=\"☑\",TRUE)","v":false},{"$f":"IF(EE431,ED431,\"\")","v":""},{"$f":"_xludf.TEXTJOIN(\",\",TRUE,EF431:EF444)","v":""},"□","午前（～12:00）",{"$f":"IF(EH431=\"☑\",TRUE)","v":false},{"$f":"IF(EJ431,EI431,\"\")","v":""},{"$f":"_xludf.TEXTJOIN(\",\",TRUE,EK431:EK444)","v":""},null,null,"□","彩の国「新しい生活様式」安心宣言",{"$f":"IF(EO431=\"☑\",TRUE)","v":false},{"$f":"IF(EQ431,EP431,\"\")","v":""},{"$f":"_xludf.TEXTJOIN(\",\",TRUE,ER431:ER444)","v":""},null,"",null,"",null,"",null,"",null,"",null,"",null,"",null,""]
[null,null,null,null,null,null,null,null,null,null,null,null,null,null,null,null,null,null,null,null,null,"□","買物サポート",false,"","□","料理デリバリー（出前）",false,"","□","フィットネス・ジム（送迎）",{"$f":"IF(AD432=\"☑\",TRUE)","v":false},{"$f":"IF(AF432,AE432,\"\")","v":""},"□","出張料理",{"$f":"IF(AH432=\"☑\",TRUE)","v":false},{"$f":"IF(AJ432,AI432,\"\")","v":""},"□","温泉・銭湯（たまり場）",false,"","□","多目的トイレ",false,"","□","習い事",{"$f":"IF(AT432=\"☑\",TRUE)","v":false},{"$f":"IF(AV432,AU432,\"\")","v":""},"□","金融・保険",false,"",null,null,null,null,null,"","□","北区",{"$f":"IF(BH432=\"☑\",TRUE)","v":false},{"$f":"\"さいたま市:\"&BI432","v":"さいたま市:北区"},{"$f":"IF(BJ432,BK432,\"\")","v":""},null,"□","蕨市",{"$f":"IF(BN432=\"☑\",TRUE)","v":false},{"$f":"\"南部地域:\"&BO432","v":"南部地域:蕨市"},{"$f":"IF(BP432,BQ432,\"\")","v":""},null,"□","志木市",{"$f":"IF(BT432=\"☑\",TRUE)","v":false},{"$f":"\"南西部地域:\"&BU432","v":"南西部地域:志木市"},{"$f":"IF(BV432,BW432,\"\")","v":""},null,"□","草加市",{"$f":"IF(BZ432=\"☑\",TRUE)","v":false},{"$f":"\"東部地域:\"&CA432","v":"東部地域:草加市"},"",null,"□","上尾市",{"$f":"IF(CF432=\"☑\",TRUE)","v":false},{"$f":"\"県央地域:\"&CG432","v":"県央地域:上尾市"},{"$f":"IF(CH432,CI432,\"\")","v":""},null,"□","東松山市",{"$f":"IF(CL432=\"☑\",TRUE)","v":false},{"$f":"\"川越比企地域:\"&CM432","v":"川越比企地域:東松山市"},{"$f":"IF(CN432,CO432,\"\")","v":""},null,"□","飯能市",{"$f":"IF(CR432=\"☑\",TRUE)","v":false},{"$f":"\"西部地域:\"&CS432","v":"西部地域:飯能市"},{"$f":"IF(CT432,CU432,\"\")","v":""},null,"□","加須市",{"$f":"IF(CX432=\"☑\",TRUE)","v":false},{"$f":"\"利根地域:\"&CY432","v":"利根地域:加須市"},{"$f":"IF(CZ432,DA432,\"\")","v":""},null,"□","本庄市",{"$f":"IF(DD432=\"☑\",TRUE)","v":false},{"$f":"\"北部地域:\"&DE432","v":"北部地域:本庄市"},{"$f":"IF(DF432,DG432,\"\")","v":""},null,"□","横瀬町",{"$f":"IF(DJ432=\"☑\",TRUE)","v":false},{"$f":"\"秩父地域:\"&DK432","v":"秩父地域:横瀬町"},{"$f":"IF(DL432,DM432,\"\")","v":""},null,null,null,null,null,null,null,null,null,null,null,null,null,null,"□","火曜日",{"$f":"IF(EC432=\"☑\",TRUE)","v":false},{"$f":"IF(EE432,ED432,\"\")","v":""},null,"□","午後（12:00～16：00）",{"$f":"IF(EH432=\"☑\",TRUE)","v":false},{"$f":"IF(EJ432,EI432,\"\")","v":""},null,null,null,null,"に基づき感染対策を実施している。",null,{"$f":"IF(EQ432,EP432,\"\")","v":""}]
[null,null,null,null,null,null,null,null,null,null,null,null,null,null,null,null,null,null,null,null,null,"□","買物代行",false,"","□","食材宅配",false,"","□","温泉・銭湯（送迎）",false,"","□","屋外作業・力仕事",false,"","□","カフェ・ファーストフード",false,"","□","休憩スペース",false,"","□","映画館",false,"","□","住宅・リフォーム",false,"",null,null,null,null,null,"","□","大宮区",false,"さいたま市:大宮区","",null,"□","戸田市",{"$f":"IF(BN433=\"☑\",TRUE)","v":false},{"$f":"\"南部地域:\"&BO433","v":"南部地域:戸田市"},"",null,"□","和光市",false,"南西部地域:和光市","",null,"□","越谷市",false,"東部地域:越谷市","",null,"□","桶川市",{"$f":"IF(CF433=\"☑\",TRUE)","v":false},{"$f":"\"県央地域:\"&CG433","v":"県央地域:桶川市"},"",null,"□","坂戸市",false,"川越比企地域:坂戸市","",null,"□","狭山市",{"$f":"IF(CR433=\"☑\",TRUE)","v":false},{"$f":"\"西部地域:\"&CS433","v":"西部地域:狭山市"},"",null,"□","羽生市",false,"利根地域:羽生市","",null,"□","深谷市",false,"北部地域:深谷市","",null,"□","皆野町",{"$f":"IF(DJ433=\"☑\",TRUE)","v":false},{"$f":"\"秩父地域:\"&DK433","v":"秩父地域:皆野町"},"",null,null,null,null,null,null,null,null,null,null,null,null,null,null,"□","水曜日",false,"",null,"□","夕方(16:00～18:00)",{"$f":"IF(EH433=\"☑\",TRUE)","v":false},{"$f":"IF(EJ433,EI433,\"\")","v":""},null,null,null,"□","各種団体が定める業種別ガイドライン",{"$f":"IF(EO433=\"☑\",TRUE)","v":false},{"$f":"IF(EQ433,EP433,\"\")","v":""}]
[null,null,null,null,null,null,null,null,null,null,null,null,null,null,null,null,null,null,null,null,null,"□","移動販売",false,"","□","日用品配達",false,"","□","整体・マッサージ（送迎）",false,"","□","整体・マッサージ（出張）",false,"","□","飲食店",false,"","□","駐車場",false,"","□","カラオケ店",false,"","□","パソコン・スマートフォン",false,"",null,null,null,null,null,"","□","見沼区",false,"さいたま市:見沼区","",null,null,null,null,null,"",null,"□","新座市",false,"南西部地域:新座市","",null,"□","八潮市",false,"東部地域:八潮市","",null,"□","北本市",{"$f":"IF(CF434=\"☑\",TRUE)","v":false},{"$f":"\"県央地域:\"&CG434","v":"県央地域:北本市"},"",null,"□","鶴ヶ島市",false,"川越比企地域:鶴ヶ島市","",null,"□","入間市",{"$f":"IF(CR434=\"☑\",TRUE)","v":false},{"$f":"\"西部地域:\"&CS434","v":"西部地域:入間市"},"",null,"□","久喜市",false,"利根地域:久喜市","",null,"□","美里町",false,"北部地域:美里町","",null,"□","長瀞町",{"$f":"IF(DJ434=\"☑\",TRUE)","v":false},{"$f":"\"秩父地域:\"&DK434","v":"秩父地域:長瀞町"},"",null,null,null,null,null,null,null,null,null,null,null,null,null,null,"□","木曜日",false,"",null,"□","夜(18:00～）",{"$f":"IF(EH434=\"☑\",TRUE)","v":false},{"$f":"IF(EJ434,EI434,\"\")","v":""},null,null,null,null,"に基づき感染対策を実施している。"]
[null,null,null,null,null,null,null,null,null,null,null,null,null,null,null,null,null,null,null,null,null,"□","割引サービス",false,"","□","薬・介護用品配達",false,"","□","乗り合いサービス",false,"","□","理容室・美容室（出張）",false,"","□","イートインスペース",false,"","□","貸しスペース",false,"","□","麻雀・将棋・囲碁",false,"","□","認知症サポート企業",false,"",null,null,null,null,null,"","□","中央区",false,"さいたま市:中央区","",null,null,null,null,null,"",null,"□","富士見市",false,"南西部地域:富士見市","",null,"□","三郷市",false,"東部地域:三郷市","",null,"□","伊奈町",{"$f":"IF(CF435=\"☑\",TRUE)","v":false},{"$f":"\"県央地域:\"&CG435","v":"県央地域:伊奈町"},"",null,"□","毛呂山町",false,"川越比企地域:毛呂山町","",null,"□","日高市",{"$f":"IF(CR435=\"☑\",TRUE)","v":false},{"$f":"\"西部地域:\"&CS435","v":"西部地域:日高市"},"",null,"□","蓮田市",false,"利根地域:蓮田市","",null,"□","神川町",false,"北部地域:神川町","",null,"□","小鹿野町",{"$f":"IF(DJ435=\"☑\",TRUE)","v":false},{"$f":"\"秩父地域:\"&DK435","v":"秩父地域:小鹿野町"},"",null,null,null,null,null,null,null,null,null,null,null,null,null,null,"□","金曜日",false,"",null,null,null,null,null,null,null,null,"□","その他の感染対策を実施している。",{"$f":"IF(EO435=\"☑\",TRUE)","v":false},{"$f":"IF(EQ435,EP435,\"\")","v":""}]
[null,null,null,null,null,null,null,null,null,null,null,null,null,null,null,null,null,null,null,null,null,"□","その他（買物）",false,"","□","その他（宅配・デリバリー）",false,"","□","個別移送サービス",false,"","□","ペット",false,"","□","その他（運動・たまり場）",false,"","□","その他（設備・施設・場所貸し）",false,"","□","ゲームセンター",false,"","□","その他（生活サービス）",false,"",null,null,null,null,null,"","□","桜区",false,"さいたま市:桜区","",null,null,null,null,null,"",null,"□","ふじみ野市",false,"南西部地域:ふじみ野市","",null,"□","吉川市",false,"東部地域:吉川市","",null,null,null,null,null,"",null,"□","越生町",false,"川越比企地域:越生町","",null,null,null,null,null,"",null,"□","幸手市",false,"利根地域:幸手市","",null,"□","上里町",false,"北部地域:上里町","",null,null,null,null,null,"",null,null,null,null,null,null,null,null,null,null,null,null,null,null,"□","土曜日",false,"",null,null,null,null,null,null,null,null,"□","感染対策を特に実施していない。",{"$f":"IF(EO436=\"☑\",TRUE)","v":false},{"$f":"IF(EQ436,EP436,\"\")","v":""}]
[null,null,null,null,null,null,null,null,null,null,null,null,null,null,null,null,null,null,null,null,null,null,null,null,null,null,null,null,null,"□","交通機関サービス",false,"","□","その他（出張サービス）",false,"",null,null,null,null,null,null,null,null,"□","旅行代理店",false,"",null,null,null,null,null,null,null,null,null,"","□","浦和区",false,"さいたま市:浦和区","",null,null,null,null,null,"",null,"□","三芳町",false,"南西部地域:三芳町","",null,"□","松伏町",false,"東部地域:松伏町","",null,null,null,null,null,"",null,"□","滑川町",false,"川越比企地域:滑川町","",null,null,null,null,null,"",null,"□","白岡市",false,"利根地域:白岡市","",null,"□","寄居町",false,"北部地域:寄居町","",null,null,null,null,null,"",null,null,null,null,null,null,null,null,null,null,null,null,null,null,"□","日曜日",false,""]
[null,null,null,null,null,null,null,null,null,null,null,null,null,null,null,null,null,null,null,null,null,null,null,null,null,null,null,null,null,"□","その他（送迎・移動支援）",false,"",null,null,null,"",null,null,null,{"$f":"IF(AN438,AM438,\"\")","v":""},null,null,null,{"$f":"IF(AR438,AQ438,\"\")","v":""},"□","その他（学び・趣味）",false,"",null,null,null,null,null,null,null,null,null,"","□","南区",false,"さいたま市:南区","",null,null,null,null,null,"",null,null,null,null,null,"",null,null,null,null,null,"",null,null,null,null,null,"",null,"□","嵐山町",false,"川越比企地域:嵐山町","",null,null,null,null,null,"",null,"□","宮代町",false,"利根地域:宮代町","",null,null,null,null,null,"",null,null,null,null,null,""]
[null,null,null,null,null,null,null,null,null,null,null,null,null,null,null,null,null,null,null,null,null,null,null,null,null,null,null,null,null,null,null,null,null,null,null,null,null,null,null,null,null,null,null,null,null,null,null,null,null,null,null,null,null,null,null,null,null,null,"","□","緑区",false,"さいたま市:緑区","",null,null,null,null,null,"",null,null,null,null,null,"",null,null,null,null,null,"",null,null,null,null,null,"",null,"□","小川町",false,"川越比企地域:小川町","",null,null,null,null,null,"",null,"□","杉戸町",false,"利根地域:杉戸町","",null,null,null,null,null,"",null,null,null,null,null,""]
[null,null,null,null,null,null,null,null,null,null,null,null,null,null,null,null,null,null,null,null,null,null,null,null,null,null,null,null,null,null,null,null,null,null,null,null,null,null,null,null,null,null,null,null,null,null,null,null,null,null,null,null,null,null,null,null,null,null,"","□","岩槻区",{"$f":"IF(BH440=\"☑\",TRUE)","v":false},"さいたま市:岩槻区","",null,null,null,null,null,"",null,null,null,null,null,"",null,null,null,null,null,"",null,null,null,null,null,"",null,"□","川島町",false,"川越比企地域:川島町","",null,null,null,null,null,"",null,null,null,null,null,"",null,null,null,null,null,"",null,null,null,null,null,""]
[null,null,null,null,null,null,null,null,null,null,null,null,null,null,null,null,null,null,null,null,null,null,null,null,null,null,null,null,null,null,null,null,null,null,null,null,null,null,null,null,null,null,null,null,null,null,null,null,null,null,null,null,null,null,null,null,null,null,"",null,null,null,null,null,null,null,null,null,null,null,null,null,null,null,null,null,null,null,null,null,null,null,null,null,null,null,null,null,null,"□","吉見町",false,"川越比企地域:吉見町","",null,null,null,null,null,"",null,null,null,null,null,"",null,null,null,null,null,"",null,null,null,null,null,""]
[null,null,null,null,null,null,null,null,null,null,null,null,null,null,null,null,null,null,null,null,null,null,null,null,null,null,null,null,null,null,null,null,null,null,null,null,null,null,null,null,null,null,null,null,null,null,null,null,null,null,null,null,null,null,null,null,null,null,"",null,null,null,null,null,null,null,null,null,null,null,null,null,null,null,null,null,null,null,null,null,null,null,null,null,null,null,null,null,null,"□","鳩山町",false,"川越比企地域:鳩山町","",null,null,null,null,null,"",null,null,null,null,null,"",null,null,null,null,null,"",null,null,null,null,null,""]
[null,null,null,null,null,null,null,null,null,null,null,null,null,null,null,null,null,null,null,null,null,null,null,null,null,null,null,null,null,null,null,null,null,null,null,null,null,null,null,null,null,null,null,null,null,null,null,null,null,null,null,null,null,null,null,null,null,null,"",null,null,null,null,null,null,null,null,null,null,null,null,null,null,null,null,null,null,null,null,null,null,null,null,null,null,null,null,null,null,"□","ときがわ町",false,"川越比企地域:ときがわ町","",null,null,null,null,null,"",null,null,null,null,null,"",null,null,null,null,null,"",null,null,null,null,null,""]
[null,null,null,null,null,null,null,null,null,null,null,null,null,null,null,null,null,null,null,null,null,null,null,null,null,null,null,null,null,null,null,null,null,null,null,null,null,null,null,null,null,null,null,null,null,null,null,null,null,null,null,null,null,null,null,null,null,null,"",null,null,null,null,null,null,null,null,null,null,null,null,null,null,null,null,null,null,null,null,null,null,null,null,null,null,null,null,null,null,"□","東秩父村",false,"川越比企地域:東秩父村","",null,null,null,null,null,"",null,null,null,null,null,"",null,null,null,null,null,"",null,null,null,null,null,""]
[31,null,null,null,null,null,null,null,null,null,null,null,null,null,null,null,null,null,null,null,null,"□","配送",{"$f":"IF(V445=\"☑\",TRUE)","v":false},{"$f":"IF(X445,W445,\"\")","v":""},"□","弁当配達",{"$f":"IF(Z445=\"☑\",TRUE)","v":false},{"$f":"IF(AB445,AA445,\"\")","v":""},"□","理容室・美容室（送迎）",{"$f":"IF(AD445=\"☑\",TRUE)","v":false},{"$f":"IF(AF445,AE445,\"\")","v":""},"□","家事代行",{"$f":"IF(AH445=\"☑\",TRUE)","v":false},{"$f":"IF(AJ445,AI445,\"\")","v":""},"□","フィットネス・ジム（運動）",{"$f":"IF(AL445=\"☑\",TRUE)","v":false},{"$f":"IF(AN445,AM445,\"\")","v":""},"□","車イス対応（バリアフリー）",{"$f":"IF(AP445=\"☑\",TRUE)","v":false},{"$f":"IF(AR445,AQ445,\"\")","v":""},"□","講座・教室・イベント",{"$f":"IF(AT445=\"☑\",TRUE)","v":false},{"$f":"IF(AV445,AU445,\"\")","v":""},"□","防犯・見守り",{"$f":"IF(AX445=\"☑\",TRUE)","v":false},{"$f":"IF(AZ445,AY445,\"\")","v":""},{"$f":"_xludf.TEXTJOIN(\",\",TRUE,Y445:Y458,AC445:AC458,AG445:AG458,AK445:AK458,AO445:AO458,AS445:AS458,AW445:AW458,BA445:BA458)","v":""},"□","埼玉県全域",{"$f":"IF(BC445=\"☑\",TRUE)","v":false},"さいたま市:西区,さいたま市:北区,さいたま市:大宮区,さいたま市:見沼区,さいたま市:中央区,さいたま市:桜区,さいたま市:浦和区,さいたま市:南区,さいたま市:緑区,さいたま市:岩槻区,南部地域:川口市,南部地域:蕨市,南部地域:戸田市,南西部地域:朝霞市,南西部地域:志木市,南西部地域:和光市,南西部地域:新座市,南西部地域:富士見市,南西部地域:ふじみ野市,南西部地域:三芳町,東部地域:春日部市,東部地域:草加市,東部地域:越谷市,東部地域:八潮市,東部地域:三郷市,東部地域:吉川市,東部地域:松伏町,県央地域:鴻巣市,県央地域:上尾市,県央地域:桶川市,県央地域:北本市,県央地域:伊奈町,川越比企地域:川越市,川越比企地域:東松山市,川越比企地域:坂戸市,川越比企地域:鶴ヶ島市,川越比企地域:毛呂山町,川越比企地域:越生町,川越比企地域:滑川町,川越比企地域:嵐山町,川越比企地域:小川町,川越比企地域:川島町,川越比企地域:吉見町,川越比企地域:鳩山町,川越比企地域:ときがわ町,川越比企地域:東秩父村,西部地域:所沢市,西部地域:飯能市,西部地域:狭山市,西部地域:入間市,西部地域:日高市,利根地域:行田市,利根地域:加須市,利根地域:羽生市,利根地域:久喜市,利根地域:蓮田市,利根地域:幸手市,利根地域:白岡市,利根地域:宮代町,利根地域:杉戸町,北部地域:熊谷市,北部地域:本庄市,北部地域:深谷市,北部地域:美里町,北部地域:神川町,北部地域:上里町,北部地域:寄居町,秩父地域:秩父市,秩父地域:横瀬町,秩父地域:皆野町,秩父地域:長瀞町,秩父地域:小鹿野町","","□","西区",{"$f":"IF(BH445=\"☑\",TRUE)","v":false},{"$f":"\"さいたま市:\"&BI445","v":"さいたま市:西区"},{"$f":"IF(BJ445,BK445,\"\")","v":""},{"$f":"_xludf.TEXTJOIN(\",\",TRUE,BL445:BL458)","v":""},"□","川口市",{"$f":"IF(BN445=\"☑\",TRUE)","v":false},{"$f":"\"南部地域:\"&BO445","v":"南部地域:川口市"},{"$f":"IF(BP445,BQ445,\"\")","v":""},{"$f":"_xludf.TEXTJOIN(\",\",TRUE,BR445:BR458)","v":""},"□","朝霞市",{"$f":"IF(BT445=\"☑\",TRUE)","v":false},{"$f":"\"南西部地域:\"&BU445","v":"南西部地域:朝霞市"},{"$f":"IF(BV445,BW445,\"\")","v":""},{"$f":"_xludf.TEXTJOIN(\",\",TRUE,BX445:BX458)","v":""},"□","春日部市",{"$f":"IF(BZ445=\"☑\",TRUE)","v":false},{"$f":"\"東部地域:\"&CA445","v":"東部地域:春日部市"},{"$f":"IF(CB445,CC445,\"\")","v":""},{"$f":"_xludf.TEXTJOIN(\",\",TRUE,CD445:CD458)","v":""},"□","鴻巣市",{"$f":"IF(CF445=\"☑\",TRUE)","v":false},{"$f":"\"県央地域:\"&CG445","v":"県央地域:鴻巣市"},{"$f":"IF(CH445,CI445,\"\")","v":""},{"$f":"_xludf.TEXTJOIN(\",\",TRUE,CJ445:CJ458)","v":""},"□","川越市",{"$f":"IF(CL445=\"☑\",TRUE)","v":false},{"$f":"\"川越比企地域:\"&CM445","v":"川越比企地域:川越市"},{"$f":"IF(CN445,CO445,\"\")","v":""},{"$f":"_xludf.TEXTJOIN(\",\",TRUE,CP445:CP458)","v":""},"□","所沢市",{"$f":"IF(CR445=\"☑\",TRUE)","v":false},{"$f":"\"西部地域:\"&CS445","v":"西部地域:所沢市"},{"$f":"IF(CT445,CU445,\"\")","v":""},{"$f":"_xludf.TEXTJOIN(\",\",TRUE,CV445:CV458)","v":""},"□","行田市",{"$f":"IF(CX445=\"☑\",TRUE)","v":false},{"$f":"\"利根地域:\"&CY445","v":"利根地域:行田市"},{"$f":"IF(CZ445,DA445,\"\")","v":""},{"$f":"_xludf.TEXTJOIN(\",\",TRUE,DB445:DB458)","v":""},"□","熊谷市",{"$f":"IF(DD445=\"☑\",TRUE)","v":false},{"$f":"\"北部地域:\"&DE445","v":"北部地域:熊谷市"},{"$f":"IF(DF445,DG445,\"\")","v":""},{"$f":"_xludf.TEXTJOIN(\",\",TRUE,DH445:DH458)","v":""},"□","秩父市",{"$f":"IF(DJ445=\"☑\",TRUE)","v":false},{"$f":"\"秩父地域:\"&DK445","v":"秩父地域:秩父市"},{"$f":"IF(DL445,DM445,\"\")","v":""},{"$f":"_xludf.TEXTJOIN(\",\",TRUE,DN445:DN458)","v":""},{"$f":"_xludf.TEXTJOIN(\",\",TRUE,BG445,BM445,BS445,BY445,CE445,CK445,CQ445,CW445,DC445,DI445,DO445)","v":""},null,null,null,null,null,null,null,null,null,null,null,null,"□","月曜日",{"$f":"IF(EC445=\"☑\",TRUE)","v":false},{"$f":"IF(EE445,ED445,\"\")","v":""},{"$f":"_xludf.TEXTJOIN(\",\",TRUE,EF445:EF458)","v":""},"□","午前（～12:00）",{"$f":"IF(EH445=\"☑\",TRUE)","v":false},{"$f":"IF(EJ445,EI445,\"\")","v":""},{"$f":"_xludf.TEXTJOIN(\",\",TRUE,EK445:EK458)","v":""},null,null,"□","彩の国「新しい生活様式」安心宣言",{"$f":"IF(EO445=\"☑\",TRUE)","v":false},{"$f":"IF(EQ445,EP445,\"\")","v":""},{"$f":"_xludf.TEXTJOIN(\",\",TRUE,ER445:ER458)","v":""},null,"",null,"",null,"",null,"",null,"",null,"",null,"",null,""]
[null,null,null,null,null,null,null,null,null,null,null,null,null,null,null,null,null,null,null,null,null,"□","買物サポート",false,"","□","料理デリバリー（出前）",false,"","□","フィットネス・ジム（送迎）",{"$f":"IF(AD446=\"☑\",TRUE)","v":false},{"$f":"IF(AF446,AE446,\"\")","v":""},"□","出張料理",{"$f":"IF(AH446=\"☑\",TRUE)","v":false},{"$f":"IF(AJ446,AI446,\"\")","v":""},"□","温泉・銭湯（たまり場）",false,"","□","多目的トイレ",false,"","□","習い事",{"$f":"IF(AT446=\"☑\",TRUE)","v":false},{"$f":"IF(AV446,AU446,\"\")","v":""},"□","金融・保険",false,"",null,null,null,null,null,"","□","北区",{"$f":"IF(BH446=\"☑\",TRUE)","v":false},{"$f":"\"さいたま市:\"&BI446","v":"さいたま市:北区"},{"$f":"IF(BJ446,BK446,\"\")","v":""},null,"□","蕨市",{"$f":"IF(BN446=\"☑\",TRUE)","v":false},{"$f":"\"南部地域:\"&BO446","v":"南部地域:蕨市"},{"$f":"IF(BP446,BQ446,\"\")","v":""},null,"□","志木市",{"$f":"IF(BT446=\"☑\",TRUE)","v":false},{"$f":"\"南西部地域:\"&BU446","v":"南西部地域:志木市"},{"$f":"IF(BV446,BW446,\"\")","v":""},null,"□","草加市",{"$f":"IF(BZ446=\"☑\",TRUE)","v":false},{"$f":"\"東部地域:\"&CA446","v":"東部地域:草加市"},"",null,"□","上尾市",{"$f":"IF(CF446=\"☑\",TRUE)","v":false},{"$f":"\"県央地域:\"&CG446","v":"県央地域:上尾市"},{"$f":"IF(CH446,CI446,\"\")","v":""},null,"□","東松山市",{"$f":"IF(CL446=\"☑\",TRUE)","v":false},{"$f":"\"川越比企地域:\"&CM446","v":"川越比企地域:東松山市"},{"$f":"IF(CN446,CO446,\"\")","v":""},null,"□","飯能市",{"$f":"IF(CR446=\"☑\",TRUE)","v":false},{"$f":"\"西部地域:\"&CS446","v":"西部地域:飯能市"},{"$f":"IF(CT446,CU446,\"\")","v":""},null,"□","加須市",{"$f":"IF(CX446=\"☑\",TRUE)","v":false},{"$f":"\"利根地域:\"&CY446","v":"利根地域:加須市"},{"$f":"IF(CZ446,DA446,\"\")","v":""},null,"□","本庄市",{"$f":"IF(DD446=\"☑\",TRUE)","v":false},{"$f":"\"北部地域:\"&DE446","v":"北部地域:本庄市"},{"$f":"IF(DF446,DG446,\"\")","v":""},null,"□","横瀬町",{"$f":"IF(DJ446=\"☑\",TRUE)","v":false},{"$f":"\"秩父地域:\"&DK446","v":"秩父地域:横瀬町"},{"$f":"IF(DL446,DM446,\"\")","v":""},null,null,null,null,null,null,null,null,null,null,null,null,null,null,"□","火曜日",{"$f":"IF(EC446=\"☑\",TRUE)","v":false},{"$f":"IF(EE446,ED446,\"\")","v":""},null,"□","午後（12:00～16：00）",{"$f":"IF(EH446=\"☑\",TRUE)","v":false},{"$f":"IF(EJ446,EI446,\"\")","v":""},null,null,null,null,"に基づき感染対策を実施している。",null,{"$f":"IF(EQ446,EP446,\"\")","v":""}]
[null,null,null,null,null,null,null,null,null,null,null,null,null,null,null,null,null,null,null,null,null,"□","買物代行",false,"","□","食材宅配",false,"","□","温泉・銭湯（送迎）",false,"","□","屋外作業・力仕事",false,"","□","カフェ・ファーストフード",false,"","□","休憩スペース",false,"","□","映画館",false,"","□","住宅・リフォーム",false,"",null,null,null,null,null,"","□","大宮区",false,"さいたま市:大宮区","",null,"□","戸田市",{"$f":"IF(BN447=\"☑\",TRUE)","v":false},{"$f":"\"南部地域:\"&BO447","v":"南部地域:戸田市"},"",null,"□","和光市",false,"南西部地域:和光市","",null,"□","越谷市",false,"東部地域:越谷市","",null,"□","桶川市",{"$f":"IF(CF447=\"☑\",TRUE)","v":false},{"$f":"\"県央地域:\"&CG447","v":"県央地域:桶川市"},"",null,"□","坂戸市",false,"川越比企地域:坂戸市","",null,"□","狭山市",{"$f":"IF(CR447=\"☑\",TRUE)","v":false},{"$f":"\"西部地域:\"&CS447","v":"西部地域:狭山市"},"",null,"□","羽生市",false,"利根地域:羽生市","",null,"□","深谷市",false,"北部地域:深谷市","",null,"□","皆野町",{"$f":"IF(DJ447=\"☑\",TRUE)","v":false},{"$f":"\"秩父地域:\"&DK447","v":"秩父地域:皆野町"},"",null,null,null,null,null,null,null,null,null,null,null,null,null,null,"□","水曜日",false,"",null,"□","夕方(16:00～18:00)",{"$f":"IF(EH447=\"☑\",TRUE)","v":false},{"$f":"IF(EJ447,EI447,\"\")","v":""},null,null,null,"□","各種団体が定める業種別ガイドライン",{"$f":"IF(EO447=\"☑\",TRUE)","v":false},{"$f":"IF(EQ447,EP447,\"\")","v":""}]
[null,null,null,null,null,null,null,null,null,null,null,null,null,null,null,null,null,null,null,null,null,"□","移動販売",false,"","□","日用品配達",false,"","□","整体・マッサージ（送迎）",false,"","□","整体・マッサージ（出張）",false,"","□","飲食店",false,"","□","駐車場",false,"","□","カラオケ店",false,"","□","パソコン・スマートフォン",false,"",null,null,null,null,null,"","□","見沼区",false,"さいたま市:見沼区","",null,null,null,null,null,"",null,"□","新座市",false,"南西部地域:新座市","",null,"□","八潮市",false,"東部地域:八潮市","",null,"□","北本市",{"$f":"IF(CF448=\"☑\",TRUE)","v":false},{"$f":"\"県央地域:\"&CG448","v":"県央地域:北本市"},"",null,"□","鶴ヶ島市",false,"川越比企地域:鶴ヶ島市","",null,"□","入間市",{"$f":"IF(CR448=\"☑\",TRUE)","v":false},{"$f":"\"西部地域:\"&CS448","v":"西部地域:入間市"},"",null,"□","久喜市",false,"利根地域:久喜市","",null,"□","美里町",false,"北部地域:美里町","",null,"□","長瀞町",{"$f":"IF(DJ448=\"☑\",TRUE)","v":false},{"$f":"\"秩父地域:\"&DK448","v":"秩父地域:長瀞町"},"",null,null,null,null,null,null,null,null,null,null,null,null,null,null,"□","木曜日",false,"",null,"□","夜(18:00～）",{"$f":"IF(EH448=\"☑\",TRUE)","v":false},{"$f":"IF(EJ448,EI448,\"\")","v":""},null,null,null,null,"に基づき感染対策を実施している。"]
[null,null,null,null,null,null,null,null,null,null,null,null,null,null,null,null,null,null,null,null,null,"□","割引サービス",false,"","□","薬・介護用品配達",false,"","□","乗り合いサービス",false,"","□","理容室・美容室（出張）",false,"","□","イートインスペース",false,"","□","貸しスペース",false,"","□","麻雀・将棋・囲碁",false,"","□","認知症サポート企業",false,"",null,null,null,null,null,"","□","中央区",false,"さいたま市:中央区","",null,null,null,null,null,"",null,"□","富士見市",false,"南西部地域:富士見市","",null,"□","三郷市",false,"東部地域:三郷市","",null,"□","伊奈町",{"$f":"IF(CF449=\"☑\",TRUE)","v":false},{"$f":"\"県央地域:\"&CG449","v":"県央地域:伊奈町"},"",null,"□","毛呂山町",false,"川越比企地域:毛呂山町","",null,"□","日高市",{"$f":"IF(CR449=\"☑\",TRUE)","v":false},{"$f":"\"西部地域:\"&CS449","v":"西部地域:日高市"},"",null,"□","蓮田市",false,"利根地域:蓮田市","",null,"□","神川町",false,"北部地域:神川町","",null,"□","小鹿野町",{"$f":"IF(DJ449=\"☑\",TRUE)","v":false},{"$f":"\"秩父地域:\"&DK449","v":"秩父地域:小鹿野町"},"",null,null,null,null,null,null,null,null,null,null,null,null,null,null,"□","金曜日",false,"",null,null,null,null,null,null,null,null,"□","その他の感染対策を実施している。",{"$f":"IF(EO449=\"☑\",TRUE)","v":false},{"$f":"IF(EQ449,EP449,\"\")","v":""}]
[null,null,null,null,null,null,null,null,null,null,null,null,null,null,null,null,null,null,null,null,null,"□","その他（買物）",false,"","□","その他（宅配・デリバリー）",false,"","□","個別移送サービス",false,"","□","ペット",false,"","□","その他（運動・たまり場）",false,"","□","その他（設備・施設・場所貸し）",false,"","□","ゲームセンター",false,"","□","その他（生活サービス）",false,"",null,null,null,null,null,"","□","桜区",false,"さいたま市:桜区","",null,null,null,null,null,"",null,"□","ふじみ野市",false,"南西部地域:ふじみ野市","",null,"□","吉川市",false,"東部地域:吉川市","",null,null,null,null,null,"",null,"□","越生町",false,"川越比企地域:越生町","",null,null,null,null,null,"",null,"□","幸手市",false,"利根地域:幸手市","",null,"□","上里町",false,"北部地域:上里町","",null,null,null,null,null,"",null,null,null,null,null,null,null,null,null,null,null,null,null,null,"□","土曜日",false,"",null,null,null,null,null,null,null,null,"□","感染対策を特に実施していない。",{"$f":"IF(EO450=\"☑\",TRUE)","v":false},{"$f":"IF(EQ450,EP450,\"\")","v":""}]
[null,null,null,null,null,null,null,null,null,null,null,null,null,null,null,null,null,null,null,null,null,null,null,null,null,null,null,null,null,"□","交通機関サービス",false,"","□","その他（出張サービス）",false,"",null,null,null,null,null,null,null,null,"□","旅行代理店",false,"",null,null,null,null,null,null,null,null,null,"","□","浦和区",false,"さいたま市:浦和区","",null,null,null,null,null,"",null,"□","三芳町",false,"南西部地域:三芳町","",null,"□","松伏町",false,"東部地域:松伏町","",null,null,null,null,null,"",null,"□","滑川町",false,"川越比企地域:滑川町","",null,null,null,null,null,"",null,"□","白岡市",false,"利根地域:白岡市","",null,"□","寄居町",false,"北部地域:寄居町","",null,null,null,null,null,"",null,null,null,null,null,null,null,null,null,null,null,null,null,null,"□","日曜日",false,""]
[null,null,null,null,null,null,null,null,null,null,null,null,null,null,null,null,null,null,null,null,null,null,null,null,null,null,null,null,null,"□","その他（送迎・移動支援）",false,"",null,null,null,"",null,null,null,{"$f":"IF(AN452,AM452,\"\")","v":""},null,null,null,{"$f":"IF(AR452,AQ452,\"\")","v":""},"□","その他（学び・趣味）",false,"",null,null,null,null,null,null,null,null,null,"","□","南区",false,"さいたま市:南区","",null,null,null,null,null,"",null,null,null,null,null,"",null,null,null,null,null,"",null,null,null,null,null,"",null,"□","嵐山町",false,"川越比企地域:嵐山町","",null,null,null,null,null,"",null,"□","宮代町",false,"利根地域:宮代町","",null,null,null,null,null,"",null,null,null,null,null,""]
[null,null,null,null,null,null,null,null,null,null,null,null,null,null,null,null,null,null,null,null,null,null,null,null,null,null,null,null,null,null,null,null,null,null,null,null,null,null,null,null,null,null,null,null,null,null,null,null,null,null,null,null,null,null,null,null,null,null,"","□","緑区",false,"さいたま市:緑区","",null,null,null,null,null,"",null,null,null,null,null,"",null,null,null,null,null,"",null,null,null,null,null,"",null,"□","小川町",false,"川越比企地域:小川町","",null,null,null,null,null,"",null,"□","杉戸町",false,"利根地域:杉戸町","",null,null,null,null,null,"",null,null,null,null,null,""]
[null,null,null,null,null,null,null,null,null,null,null,null,null,null,null,null,null,null,null,null,null,null,null,null,null,null,null,null,null,null,null,null,null,null,null,null,null,null,null,null,null,null,null,null,null,null,null,null,null,null,null,null,null,null,null,null,null,null,"","□","岩槻区",{"$f":"IF(BH454=\"☑\",TRUE)","v":false},"さいたま市:岩槻区","",null,null,null,null,null,"",null,null,null,null,null,"",null,null,null,null,null,"",null,null,null,null,null,"",null,"□","川島町",false,"川越比企地域:川島町","",null,null,null,null,null,"",null,null,null,null,null,"",null,null,null,null,null,"",null,null,null,null,null,""]
[null,null,null,null,null,null,null,null,null,null,null,null,null,null,null,null,null,null,null,null,null,null,null,null,null,null,null,null,null,null,null,null,null,null,null,null,null,null,null,null,null,null,null,null,null,null,null,null,null,null,null,null,null,null,null,null,null,null,"",null,null,null,null,null,null,null,null,null,null,null,null,null,null,null,null,null,null,null,null,null,null,null,null,null,null,null,null,null,null,"□","吉見町",false,"川越比企地域:吉見町","",null,null,null,null,null,"",null,null,null,null,null,"",null,null,null,null,null,"",null,null,null,null,null,""]
[null,null,null,null,null,null,null,null,null,null,null,null,null,null,null,null,null,null,null,null,null,null,null,null,null,null,null,null,null,null,null,null,null,null,null,null,null,null,null,null,null,null,null,null,null,null,null,null,null,null,null,null,null,null,null,null,null,null,"",null,null,null,null,null,null,null,null,null,null,null,null,null,null,null,null,null,null,null,null,null,null,null,null,null,null,null,null,null,null,"□","鳩山町",false,"川越比企地域:鳩山町","",null,null,null,null,null,"",null,null,null,null,null,"",null,null,null,null,null,"",null,null,null,null,null,""]
[null,null,null,null,null,null,null,null,null,null,null,null,null,null,null,null,null,null,null,null,null,null,null,null,null,null,null,null,null,null,null,null,null,null,null,null,null,null,null,null,null,null,null,null,null,null,null,null,null,null,null,null,null,null,null,null,null,null,"",null,null,null,null,null,null,null,null,null,null,null,null,null,null,null,null,null,null,null,null,null,null,null,null,null,null,null,null,null,null,"□","ときがわ町",false,"川越比企地域:ときがわ町","",null,null,null,null,null,"",null,null,null,null,null,"",null,null,null,null,null,"",null,null,null,null,null,""]
[null,null,null,null,null,null,null,null,null,null,null,null,null,null,null,null,null,null,null,null,null,null,null,null,null,null,null,null,null,null,null,null,null,null,null,null,null,null,null,null,null,null,null,null,null,null,null,null,null,null,null,null,null,null,null,null,null,null,"",null,null,null,null,null,null,null,null,null,null,null,null,null,null,null,null,null,null,null,null,null,null,null,null,null,null,null,null,null,null,"□","東秩父村",false,"川越比企地域:東秩父村","",null,null,null,null,null,"",null,null,null,null,null,"",null,null,null,null,null,"",null,null,null,null,null,""]
[32,null,null,null,null,null,null,null,null,null,null,null,null,null,null,null,null,null,null,null,null,"□","配送",{"$f":"IF(V459=\"☑\",TRUE)","v":false},{"$f":"IF(X459,W459,\"\")","v":""},"□","弁当配達",{"$f":"IF(Z459=\"☑\",TRUE)","v":false},{"$f":"IF(AB459,AA459,\"\")","v":""},"□","理容室・美容室（送迎）",{"$f":"IF(AD459=\"☑\",TRUE)","v":false},{"$f":"IF(AF459,AE459,\"\")","v":""},"□","家事代行",{"$f":"IF(AH459=\"☑\",TRUE)","v":false},{"$f":"IF(AJ459,AI459,\"\")","v":""},"□","フィットネス・ジム（運動）",{"$f":"IF(AL459=\"☑\",TRUE)","v":false},{"$f":"IF(AN459,AM459,\"\")","v":""},"□","車イス対応（バリアフリー）",{"$f":"IF(AP459=\"☑\",TRUE)","v":false},{"$f":"IF(AR459,AQ459,\"\")","v":""},"□","講座・教室・イベント",{"$f":"IF(AT459=\"☑\",TRUE)","v":false},{"$f":"IF(AV459,AU459,\"\")","v":""},"□","防犯・見守り",{"$f":"IF(AX459=\"☑\",TRUE)","v":false},{"$f":"IF(AZ459,AY459,\"\")","v":""},{"$f":"_xludf.TEXTJOIN(\",\",TRUE,Y459:Y472,AC459:AC472,AG459:AG472,AK459:AK472,AO459:AO472,AS459:AS472,AW459:AW472,BA459:BA472)","v":""},"□","埼玉県全域",{"$f":"IF(BC459=\"☑\",TRUE)","v":false},"さいたま市:西区,さいたま市:北区,さいたま市:大宮区,さいたま市:見沼区,さいたま市:中央区,さいたま市:桜区,さいたま市:浦和区,さいたま市:南区,さいたま市:緑区,さいたま市:岩槻区,南部地域:川口市,南部地域:蕨市,南部地域:戸田市,南西部地域:朝霞市,南西部地域:志木市,南西部地域:和光市,南西部地域:新座市,南西部地域:富士見市,南西部地域:ふじみ野市,南西部地域:三芳町,東部地域:春日部市,東部地域:草加市,東部地域:越谷市,東部地域:八潮市,東部地域:三郷市,東部地域:吉川市,東部地域:松伏町,県央地域:鴻巣市,県央地域:上尾市,県央地域:桶川市,県央地域:北本市,県央地域:伊奈町,川越比企地域:川越市,川越比企地域:東松山市,川越比企地域:坂戸市,川越比企地域:鶴ヶ島市,川越比企地域:毛呂山町,川越比企地域:越生町,川越比企地域:滑川町,川越比企地域:嵐山町,川越比企地域:小川町,川越比企地域:川島町,川越比企地域:吉見町,川越比企地域:鳩山町,川越比企地域:ときがわ町,川越比企地域:東秩父村,西部地域:所沢市,西部地域:飯能市,西部地域:狭山市,西部地域:入間市,西部地域:日高市,利根地域:行田市,利根地域:加須市,利根地域:羽生市,利根地域:久喜市,利根地域:蓮田市,利根地域:幸手市,利根地域:白岡市,利根地域:宮代町,利根地域:杉戸町,北部地域:熊谷市,北部地域:本庄市,北部地域:深谷市,北部地域:美里町,北部地域:神川町,北部地域:上里町,北部地域:寄居町,秩父地域:秩父市,秩父地域:横瀬町,秩父地域:皆野町,秩父地域:長瀞町,秩父地域:小鹿野町",{"$f":"IF(BE459,BF459,\"\")","v":""},"□","西区",{"$f":"IF(BH459=\"☑\",TRUE)","v":false},{"$f":"\"さいたま市:\"&BI459","v":"さいたま市:西区"},{"$f":"IF(BJ459,BK459,\"\")","v":""},{"$f":"_xludf.TEXTJOIN(\",\",TRUE,BL459:BL472)","v":""},"□","川口市",{"$f":"IF(BN459=\"☑\",TRUE)","v":false},{"$f":"\"南部地域:\"&BO459","v":"南部地域:川口市"},{"$f":"IF(BP459,BQ459,\"\")","v":""},{"$f":"_xludf.TEXTJOIN(\",\",TRUE,BR459:BR472)","v":""},"□","朝霞市",{"$f":"IF(BT459=\"☑\",TRUE)","v":false},{"$f":"\"南西部地域:\"&BU459","v":"南西部地域:朝霞市"},{"$f":"IF(BV459,BW459,\"\")","v":""},{"$f":"_xludf.TEXTJOIN(\",\",TRUE,BX459:BX472)","v":""},"□","春日部市",{"$f":"IF(BZ459=\"☑\",TRUE)","v":false},{"$f":"\"東部地域:\"&CA459","v":"東部地域:春日部市"},{"$f":"IF(CB459,CC459,\"\")","v":""},{"$f":"_xludf.TEXTJOIN(\",\",TRUE,CD459:CD472)","v":""},"□","鴻巣市",{"$f":"IF(CF459=\"☑\",TRUE)","v":false},{"$f":"\"県央地域:\"&CG459","v":"県央地域:鴻巣市"},{"$f":"IF(CH459,CI459,\"\")","v":""},{"$f":"_xludf.TEXTJOIN(\",\",TRUE,CJ459:CJ472)","v":""},"□","川越市",{"$f":"IF(CL459=\"☑\",TRUE)","v":false},{"$f":"\"川越比企地域:\"&CM459","v":"川越比企地域:川越市"},{"$f":"IF(CN459,CO459,\"\")","v":""},{"$f":"_xludf.TEXTJOIN(\",\",TRUE,CP459:CP472)","v":""},"□","所沢市",{"$f":"IF(CR459=\"☑\",TRUE)","v":false},{"$f":"\"西部地域:\"&CS459","v":"西部地域:所沢市"},{"$f":"IF(CT459,CU459,\"\")","v":""},{"$f":"_xludf.TEXTJOIN(\",\",TRUE,CV459:CV472)","v":""},"□","行田市",{"$f":"IF(CX459=\"☑\",TRUE)","v":false},{"$f":"\"利根地域:\"&CY459","v":"利根地域:行田市"},{"$f":"IF(CZ459,DA459,\"\")","v":""},{"$f":"_xludf.TEXTJOIN(\",\",TRUE,DB459:DB472)","v":""},"□","熊谷市",{"$f":"IF(DD459=\"☑\",TRUE)","v":false},{"$f":"\"北部地域:\"&DE459","v":"北部地域:熊谷市"},{"$f":"IF(DF459,DG459,\"\")","v":""},{"$f":"_xludf.TEXTJOIN(\",\",TRUE,DH459:DH472)","v":""},"□","秩父市",{"$f":"IF(DJ459=\"☑\",TRUE)","v":false},{"$f":"\"秩父地域:\"&DK459","v":"秩父地域:秩父市"},{"$f":"IF(DL459,DM459,\"\")","v":""},{"$f":"_xludf.TEXTJOIN(\",\",TRUE,DN459:DN472)","v":""},{"$f":"_xludf.TEXTJOIN(\",\",TRUE,BG459,BM459,BS459,BY459,CE459,CK459,CQ459,CW459,DC459,DI459,DO459)","v":""},null,null,null,null,null,null,null,null,null,null,null,null,"□","月曜日",{"$f":"IF(EC459=\"☑\",TRUE)","v":false},{"$f":"IF(EE459,ED459,\"\")","v":""},{"$f":"_xludf.TEXTJOIN(\",\",TRUE,EF459:EF472)","v":""},"□","午前（～12:00）",{"$f":"IF(EH459=\"☑\",TRUE)","v":false},{"$f":"IF(EJ459,EI459,\"\")","v":""},{"$f":"_xludf.TEXTJOIN(\",\",TRUE,EK459:EK472)","v":""},null,null,"□","彩の国「新しい生活様式」安心宣言",{"$f":"IF(EO459=\"☑\",TRUE)","v":false},{"$f":"IF(EQ459,EP459,\"\")","v":""},{"$f":"_xludf.TEXTJOIN(\",\",TRUE,ER459:ER472)","v":""},null,"",null,"",null,"",null,"",null,"",null,"",null,"",null,""]
[null,null,null,null,null,null,null,null,null,null,null,null,null,null,null,null,null,null,null,null,null,"□","買物サポート",false,"","□","料理デリバリー（出前）",false,"","□","フィットネス・ジム（送迎）",{"$f":"IF(AD460=\"☑\",TRUE)","v":false},{"$f":"IF(AF460,AE460,\"\")","v":""},"□","出張料理",{"$f":"IF(AH460=\"☑\",TRUE)","v":false},{"$f":"IF(AJ460,AI460,\"\")","v":""},"□","温泉・銭湯（たまり場）",false,"","□","多目的トイレ",false,"","□","習い事",{"$f":"IF(AT460=\"☑\",TRUE)","v":false},{"$f":"IF(AV460,AU460,\"\")","v":""},"□","金融・保険",false,"",null,null,null,null,null,"","□","北区",{"$f":"IF(BH460=\"☑\",TRUE)","v":false},{"$f":"\"さいたま市:\"&BI460","v":"さいたま市:北区"},{"$f":"IF(BJ460,BK460,\"\")","v":""},null,"□","蕨市",{"$f":"IF(BN460=\"☑\",TRUE)","v":false},{"$f":"\"南部地域:\"&BO460","v":"南部地域:蕨市"},{"$f":"IF(BP460,BQ460,\"\")","v":""},null,"□","志木市",{"$f":"IF(BT460=\"☑\",TRUE)","v":false},{"$f":"\"南西部地域:\"&BU460","v":"南西部地域:志木市"},{"$f":"IF(BV460,BW460,\"\")","v":""},null,"□","草加市",{"$f":"IF(BZ460=\"☑\",TRUE)","v":false},{"$f":"\"東部地域:\"&CA460","v":"東部地域:草加市"},"",null,"□","上尾市",{"$f":"IF(CF460=\"☑\",TRUE)","v":false},{"$f":"\"県央地域:\"&CG460","v":"県央地域:上尾市"},{"$f":"IF(CH460,CI460,\"\")","v":""},null,"□","東松山市",{"$f":"IF(CL460=\"☑\",TRUE)","v":false},{"$f":"\"川越比企地域:\"&CM460","v":"川越比企地域:東松山市"},{"$f":"IF(CN460,CO460,\"\")","v":""},null,"□","飯能市",{"$f":"IF(CR460=\"☑\",TRUE)","v":false},{"$f":"\"西部地域:\"&CS460","v":"西部地域:飯能市"},{"$f":"IF(CT460,CU460,\"\")","v":""},null,"□","加須市",{"$f":"IF(CX460=\"☑\",TRUE)","v":false},{"$f":"\"利根地域:\"&CY460","v":"利根地域:加須市"},{"$f":"IF(CZ460,DA460,\"\")","v":""},null,"□","本庄市",{"$f":"IF(DD460=\"☑\",TRUE)","v":false},{"$f":"\"北部地域:\"&DE460","v":"北部地域:本庄市"},{"$f":"IF(DF460,DG460,\"\")","v":""},null,"□","横瀬町",{"$f":"IF(DJ460=\"☑\",TRUE)","v":false},{"$f":"\"秩父地域:\"&DK460","v":"秩父地域:横瀬町"},{"$f":"IF(DL460,DM460,\"\")","v":""},null,null,null,null,null,null,null,null,null,null,null,null,null,null,"□","火曜日",{"$f":"IF(EC460=\"☑\",TRUE)","v":false},{"$f":"IF(EE460,ED460,\"\")","v":""},null,"□","午後（12:00～16：00）",{"$f":"IF(EH460=\"☑\",TRUE)","v":false},{"$f":"IF(EJ460,EI460,\"\")","v":""},null,null,null,null,"に基づき感染対策を実施している。",null,{"$f":"IF(EQ460,EP460,\"\")","v":""}]
[null,null,null,null,null,null,null,null,null,null,null,null,null,null,null,null,null,null,null,null,null,"□","買物代行",false,"","□","食材宅配",false,"","□","温泉・銭湯（送迎）",false,"","□","屋外作業・力仕事",false,"","□","カフェ・ファーストフード",false,"","□","休憩スペース",false,"","□","映画館",false,"","□","住宅・リフォーム",false,"",null,null,null,null,null,"","□","大宮区",false,"さいたま市:大宮区","",null,"□","戸田市",{"$f":"IF(BN461=\"☑\",TRUE)","v":false},{"$f":"\"南部地域:\"&BO461","v":"南部地域:戸田市"},"",null,"□","和光市",false,"南西部地域:和光市","",null,"□","越谷市",false,"東部地域:越谷市","",null,"□","桶川市",{"$f":"IF(CF461=\"☑\",TRUE)","v":false},{"$f":"\"県央地域:\"&CG461","v":"県央地域:桶川市"},"",null,"□","坂戸市",false,"川越比企地域:坂戸市","",null,"□","狭山市",{"$f":"IF(CR461=\"☑\",TRUE)","v":false},{"$f":"\"西部地域:\"&CS461","v":"西部地域:狭山市"},"",null,"□","羽生市",false,"利根地域:羽生市","",null,"□","深谷市",false,"北部地域:深谷市","",null,"□","皆野町",{"$f":"IF(DJ461=\"☑\",TRUE)","v":false},{"$f":"\"秩父地域:\"&DK461","v":"秩父地域:皆野町"},"",null,null,null,null,null,null,null,null,null,null,null,null,null,null,"□","水曜日",false,"",null,"□","夕方(16:00～18:00)",{"$f":"IF(EH461=\"☑\",TRUE)","v":false},{"$f":"IF(EJ461,EI461,\"\")","v":""},null,null,null,"□","各種団体が定める業種別ガイドライン",{"$f":"IF(EO461=\"☑\",TRUE)","v":false},{"$f":"IF(EQ461,EP461,\"\")","v":""}]
[null,null,null,null,null,null,null,null,null,null,null,null,null,null,null,null,null,null,null,null,null,"□","移動販売",false,"","□","日用品配達",false,"","□","整体・マッサージ（送迎）",false,"","□","整体・マッサージ（出張）",false,"","□","飲食店",false,"","□","駐車場",false,"","□","カラオケ店",false,"","□","パソコン・スマートフォン",false,"",null,null,null,null,null,"","□","見沼区",false,"さいたま市:見沼区","",null,null,null,null,null,"",null,"□","新座市",false,"南西部地域:新座市","",null,"□","八潮市",false,"東部地域:八潮市","",null,"□","北本市",{"$f":"IF(CF462=\"☑\",TRUE)","v":false},{"$f":"\"県央地域:\"&CG462","v":"県央地域:北本市"},"",null,"□","鶴ヶ島市",false,"川越比企地域:鶴ヶ島市","",null,"□","入間市",{"$f":"IF(CR462=\"☑\",TRUE)","v":false},{"$f":"\"西部地域:\"&CS462","v":"西部地域:入間市"},"",null,"□","久喜市",false,"利根地域:久喜市","",null,"□","美里町",false,"北部地域:美里町","",null,"□","長瀞町",{"$f":"IF(DJ462=\"☑\",TRUE)","v":false},{"$f":"\"秩父地域:\"&DK462","v":"秩父地域:長瀞町"},"",null,null,null,null,null,null,null,null,null,null,null,null,null,null,"□","木曜日",false,"",null,"□","夜(18:00～）",{"$f":"IF(EH462=\"☑\",TRUE)","v":false},{"$f":"IF(EJ462,EI462,\"\")","v":""},null,null,null,null,"に基づき感染対策を実施している。"]
[null,null,null,null,null,null,null,null,null,null,null,null,null,null,null,null,null,null,null,null,null,"□","割引サービス",false,"","□","薬・介護用品配達",false,"","□","乗り合いサービス",false,"","□","理容室・美容室（出張）",false,"","□","イートインスペース",false,"","□","貸しスペース",false,"","□","麻雀・将棋・囲碁",false,"","□","認知症サポート企業",false,"",null,null,null,null,null,"","□","中央区",false,"さいたま市:中央区","",null,null,null,null,null,"",null,"□","富士見市",false,"南西部地域:富士見市","",null,"□","三郷市",false,"東部地域:三郷市","",null,"□","伊奈町",{"$f":"IF(CF463=\"☑\",TRUE)","v":false},{"$f":"\"県央地域:\"&CG463","v":"県央地域:伊奈町"},"",null,"□","毛呂山町",false,"川越比企地域:毛呂山町","",null,"□","日高市",{"$f":"IF(CR463=\"☑\",TRUE)","v":false},{"$f":"\"西部地域:\"&CS463","v":"西部地域:日高市"},"",null,"□","蓮田市",false,"利根地域:蓮田市","",null,"□","神川町",false,"北部地域:神川町","",null,"□","小鹿野町",{"$f":"IF(DJ463=\"☑\",TRUE)","v":false},{"$f":"\"秩父地域:\"&DK463","v":"秩父地域:小鹿野町"},"",null,null,null,null,null,null,null,null,null,null,null,null,null,null,"□","金曜日",false,"",null,null,null,null,null,null,null,null,"□","その他の感染対策を実施している。",{"$f":"IF(EO463=\"☑\",TRUE)","v":false},{"$f":"IF(EQ463,EP463,\"\")","v":""}]
[null,null,null,null,null,null,null,null,null,null,null,null,null,null,null,null,null,null,null,null,null,"□","その他（買物）",false,"","□","その他（宅配・デリバリー）",false,"","□","個別移送サービス",false,"","□","ペット",false,"","□","その他（運動・たまり場）",false,"","□","その他（設備・施設・場所貸し）",false,"","□","ゲームセンター",false,"","□","その他（生活サービス）",false,"",null,null,null,null,null,"","□","桜区",false,"さいたま市:桜区","",null,null,null,null,null,"",null,"□","ふじみ野市",false,"南西部地域:ふじみ野市","",null,"□","吉川市",false,"東部地域:吉川市","",null,null,null,null,null,"",null,"□","越生町",false,"川越比企地域:越生町","",null,null,null,null,null,"",null,"□","幸手市",false,"利根地域:幸手市","",null,"□","上里町",false,"北部地域:上里町","",null,null,null,null,null,"",null,null,null,null,null,null,null,null,null,null,null,null,null,null,"□","土曜日",false,"",null,null,null,null,null,null,null,null,"□","感染対策を特に実施していない。",{"$f":"IF(EO464=\"☑\",TRUE)","v":false},{"$f":"IF(EQ464,EP464,\"\")","v":""}]
[null,null,null,null,null,null,null,null,null,null,null,null,null,null,null,null,null,null,null,null,null,null,null,null,null,null,null,null,null,"□","交通機関サービス",false,"","□","その他（出張サービス）",false,"",null,null,null,null,null,null,null,null,"□","旅行代理店",false,"",null,null,null,null,null,null,null,null,null,"","□","浦和区",false,"さいたま市:浦和区","",null,null,null,null,null,"",null,"□","三芳町",false,"南西部地域:三芳町","",null,"□","松伏町",false,"東部地域:松伏町","",null,null,null,null,null,"",null,"□","滑川町",false,"川越比企地域:滑川町","",null,null,null,null,null,"",null,"□","白岡市",false,"利根地域:白岡市","",null,"□","寄居町",false,"北部地域:寄居町","",null,null,null,null,null,"",null,null,null,null,null,null,null,null,null,null,null,null,null,null,"□","日曜日",false,""]
[null,null,null,null,null,null,null,null,null,null,null,null,null,null,null,null,null,null,null,null,null,null,null,null,null,null,null,null,null,"□","その他（送迎・移動支援）",false,"",null,null,null,"",null,null,null,{"$f":"IF(AN466,AM466,\"\")","v":""},null,null,null,{"$f":"IF(AR466,AQ466,\"\")","v":""},"□","その他（学び・趣味）",false,"",null,null,null,null,null,null,null,null,null,"","□","南区",false,"さいたま市:南区","",null,null,null,null,null,"",null,null,null,null,null,"",null,null,null,null,null,"",null,null,null,null,null,"",null,"□","嵐山町",false,"川越比企地域:嵐山町","",null,null,null,null,null,"",null,"□","宮代町",false,"利根地域:宮代町","",null,null,null,null,null,"",null,null,null,null,null,""]
[null,null,null,null,null,null,null,null,null,null,null,null,null,null,null,null,null,null,null,null,null,null,null,null,null,null,null,null,null,null,null,null,null,null,null,null,null,null,null,null,null,null,null,null,null,null,null,null,null,null,null,null,null,null,null,null,null,null,"","□","緑区",false,"さいたま市:緑区","",null,null,null,null,null,"",null,null,null,null,null,"",null,null,null,null,null,"",null,null,null,null,null,"",null,"□","小川町",false,"川越比企地域:小川町","",null,null,null,null,null,"",null,"□","杉戸町",false,"利根地域:杉戸町","",null,null,null,null,null,"",null,null,null,null,null,""]
[null,null,null,null,null,null,null,null,null,null,null,null,null,null,null,null,null,null,null,null,null,null,null,null,null,null,null,null,null,null,null,null,null,null,null,null,null,null,null,null,null,null,null,null,null,null,null,null,null,null,null,null,null,null,null,null,null,null,"","□","岩槻区",{"$f":"IF(BH468=\"☑\",TRUE)","v":false},"さいたま市:岩槻区","",null,null,null,null,null,"",null,null,null,null,null,"",null,null,null,null,null,"",null,null,null,null,null,"",null,"□","川島町",false,"川越比企地域:川島町","",null,null,null,null,null,"",null,null,null,null,null,"",null,null,null,null,null,"",null,null,null,null,null,""]
[null,null,null,null,null,null,null,null,null,null,null,null,null,null,null,null,null,null,null,null,null,null,null,null,null,null,null,null,null,null,null,null,null,null,null,null,null,null,null,null,null,null,null,null,null,null,null,null,null,null,null,null,null,null,null,null,null,null,"",null,null,null,null,null,null,null,null,null,null,null,null,null,null,null,null,null,null,null,null,null,null,null,null,null,null,null,null,null,null,"□","吉見町",false,"川越比企地域:吉見町","",null,null,null,null,null,"",null,null,null,null,null,"",null,null,null,null,null,"",null,null,null,null,null,""]
[null,null,null,null,null,null,null,null,null,null,null,null,null,null,null,null,null,null,null,null,null,null,null,null,null,null,null,null,null,null,null,null,null,null,null,null,null,null,null,null,null,null,null,null,null,null,null,null,null,null,null,null,null,null,null,null,null,null,"",null,null,null,null,null,null,null,null,null,null,null,null,null,null,null,null,null,null,null,null,null,null,null,null,null,null,null,null,null,null,"□","鳩山町",false,"川越比企地域:鳩山町","",null,null,null,null,null,"",null,null,null,null,null,"",null,null,null,null,null,"",null,null,null,null,null,""]
[null,null,null,null,null,null,null,null,null,null,null,null,null,null,null,null,null,null,null,null,null,null,null,null,null,null,null,null,null,null,null,null,null,null,null,null,null,null,null,null,null,null,null,null,null,null,null,null,null,null,null,null,null,null,null,null,null,null,"",null,null,null,null,null,null,null,null,null,null,null,null,null,null,null,null,null,null,null,null,null,null,null,null,null,null,null,null,null,null,"□","ときがわ町",false,"川越比企地域:ときがわ町","",null,null,null,null,null,"",null,null,null,null,null,"",null,null,null,null,null,"",null,null,null,null,null,""]
[null,null,null,null,null,null,null,null,null,null,null,null,null,null,null,null,null,null,null,null,null,null,null,null,null,null,null,null,null,null,null,null,null,null,null,null,null,null,null,null,null,null,null,null,null,null,null,null,null,null,null,null,null,null,null,null,null,null,"",null,null,null,null,null,null,null,null,null,null,null,null,null,null,null,null,null,null,null,null,null,null,null,null,null,null,null,null,null,null,"□","東秩父村",false,"川越比企地域:東秩父村","",null,null,null,null,null,"",null,null,null,null,null,"",null,null,null,null,null,"",null,null,null,null,null,""]
[33,null,null,null,null,null,null,null,null,null,null,null,null,null,null,null,null,null,null,null,null,"□","配送",{"$f":"IF(V473=\"☑\",TRUE)","v":false},{"$f":"IF(X473,W473,\"\")","v":""},"□","弁当配達",{"$f":"IF(Z473=\"☑\",TRUE)","v":false},{"$f":"IF(AB473,AA473,\"\")","v":""},"□","理容室・美容室（送迎）",{"$f":"IF(AD473=\"☑\",TRUE)","v":false},{"$f":"IF(AF473,AE473,\"\")","v":""},"□","家事代行",{"$f":"IF(AH473=\"☑\",TRUE)","v":false},{"$f":"IF(AJ473,AI473,\"\")","v":""},"□","フィットネス・ジム（運動）",{"$f":"IF(AL473=\"☑\",TRUE)","v":false},{"$f":"IF(AN473,AM473,\"\")","v":""},"□","車イス対応（バリアフリー）",{"$f":"IF(AP473=\"☑\",TRUE)","v":false},{"$f":"IF(AR473,AQ473,\"\")","v":""},"□","講座・教室・イベント",{"$f":"IF(AT473=\"☑\",TRUE)","v":false},{"$f":"IF(AV473,AU473,\"\")","v":""},"□","防犯・見守り",{"$f":"IF(AX473=\"☑\",TRUE)","v":false},{"$f":"IF(AZ473,AY473,\"\")","v":""},{"$f":"_xludf.TEXTJOIN(\",\",TRUE,Y473:Y486,AC473:AC486,AG473:AG486,AK473:AK486,AO473:AO486,AS473:AS486,AW473:AW486,BA473:BA486)","v":""},"□","埼玉県全域",{"$f":"IF(BC473=\"☑\",TRUE)","v":false},"さいたま市:西区,さいたま市:北区,さいたま市:大宮区,さいたま市:見沼区,さいたま市:中央区,さいたま市:桜区,さいたま市:浦和区,さいたま市:南区,さいたま市:緑区,さいたま市:岩槻区,南部地域:川口市,南部地域:蕨市,南部地域:戸田市,南西部地域:朝霞市,南西部地域:志木市,南西部地域:和光市,南西部地域:新座市,南西部地域:富士見市,南西部地域:ふじみ野市,南西部地域:三芳町,東部地域:春日部市,東部地域:草加市,東部地域:越谷市,東部地域:八潮市,東部地域:三郷市,東部地域:吉川市,東部地域:松伏町,県央地域:鴻巣市,県央地域:上尾市,県央地域:桶川市,県央地域:北本市,県央地域:伊奈町,川越比企地域:川越市,川越比企地域:東松山市,川越比企地域:坂戸市,川越比企地域:鶴ヶ島市,川越比企地域:毛呂山町,川越比企地域:越生町,川越比企地域:滑川町,川越比企地域:嵐山町,川越比企地域:小川町,川越比企地域:川島町,川越比企地域:吉見町,川越比企地域:鳩山町,川越比企地域:ときがわ町,川越比企地域:東秩父村,西部地域:所沢市,西部地域:飯能市,西部地域:狭山市,西部地域:入間市,西部地域:日高市,利根地域:行田市,利根地域:加須市,利根地域:羽生市,利根地域:久喜市,利根地域:蓮田市,利根地域:幸手市,利根地域:白岡市,利根地域:宮代町,利根地域:杉戸町,北部地域:熊谷市,北部地域:本庄市,北部地域:深谷市,北部地域:美里町,北部地域:神川町,北部地域:上里町,北部地域:寄居町,秩父地域:秩父市,秩父地域:横瀬町,秩父地域:皆野町,秩父地域:長瀞町,秩父地域:小鹿野町","","□","西区",{"$f":"IF(BH473=\"☑\",TRUE)","v":false},{"$f":"\"さいたま市:\"&BI473","v":"さいたま市:西区"},{"$f":"IF(BJ473,BK473,\"\")","v":""},{"$f":"_xludf.TEXTJOIN(\",\",TRUE,BL473:BL486)","v":""},"□","川口市",{"$f":"IF(BN473=\"☑\",TRUE)","v":false},{"$f":"\"南部地域:\"&BO473","v":"南部地域:川口市"},{"$f":"IF(BP473,BQ473,\"\")","v":""},{"$f":"_xludf.TEXTJOIN(\",\",TRUE,BR473:BR486)","v":""},"□","朝霞市",{"$f":"IF(BT473=\"☑\",TRUE)","v":false},{"$f":"\"南西部地域:\"&BU473","v":"南西部地域:朝霞市"},{"$f":"IF(BV473,BW473,\"\")","v":""},{"$f":"_xludf.TEXTJOIN(\",\",TRUE,BX473:BX486)","v":""},"□","春日部市",{"$f":"IF(BZ473=\"☑\",TRUE)","v":false},{"$f":"\"東部地域:\"&CA473","v":"東部地域:春日部市"},{"$f":"IF(CB473,CC473,\"\")","v":""},{"$f":"_xludf.TEXTJOIN(\",\",TRUE,CD473:CD486)","v":""},"□","鴻巣市",{"$f":"IF(CF473=\"☑\",TRUE)","v":false},{"$f":"\"県央地域:\"&CG473","v":"県央地域:鴻巣市"},{"$f":"IF(CH473,CI473,\"\")","v":""},{"$f":"_xludf.TEXTJOIN(\",\",TRUE,CJ473:CJ486)","v":""},"□","川越市",{"$f":"IF(CL473=\"☑\",TRUE)","v":false},{"$f":"\"川越比企地域:\"&CM473","v":"川越比企地域:川越市"},{"$f":"IF(CN473,CO473,\"\")","v":""},{"$f":"_xludf.TEXTJOIN(\",\",TRUE,CP473:CP486)","v":""},"□","所沢市",{"$f":"IF(CR473=\"☑\",TRUE)","v":false},{"$f":"\"西部地域:\"&CS473","v":"西部地域:所沢市"},{"$f":"IF(CT473,CU473,\"\")","v":""},{"$f":"_xludf.TEXTJOIN(\",\",TRUE,CV473:CV486)","v":""},"□","行田市",{"$f":"IF(CX473=\"☑\",TRUE)","v":false},{"$f":"\"利根地域:\"&CY473","v":"利根地域:行田市"},{"$f":"IF(CZ473,DA473,\"\")","v":""},{"$f":"_xludf.TEXTJOIN(\",\",TRUE,DB473:DB486)","v":""},"□","熊谷市",{"$f":"IF(DD473=\"☑\",TRUE)","v":false},{"$f":"\"北部地域:\"&DE473","v":"北部地域:熊谷市"},{"$f":"IF(DF473,DG473,\"\")","v":""},{"$f":"_xludf.TEXTJOIN(\",\",TRUE,DH473:DH486)","v":""},"□","秩父市",{"$f":"IF(DJ473=\"☑\",TRUE)","v":false},{"$f":"\"秩父地域:\"&DK473","v":"秩父地域:秩父市"},{"$f":"IF(DL473,DM473,\"\")","v":""},{"$f":"_xludf.TEXTJOIN(\",\",TRUE,DN473:DN486)","v":""},{"$f":"_xludf.TEXTJOIN(\",\",TRUE,BG473,BM473,BS473,BY473,CE473,CK473,CQ473,CW473,DC473,DI473,DO473)","v":""},null,null,null,null,null,null,null,null,null,null,null,null,"□","月曜日",{"$f":"IF(EC473=\"☑\",TRUE)","v":false},{"$f":"IF(EE473,ED473,\"\")","v":""},{"$f":"_xludf.TEXTJOIN(\",\",TRUE,EF473:EF486)","v":""},"□","午前（～12:00）",{"$f":"IF(EH473=\"☑\",TRUE)","v":false},{"$f":"IF(EJ473,EI473,\"\")","v":""},{"$f":"_xludf.TEXTJOIN(\",\",TRUE,EK473:EK486)","v":""},null,null,"□","彩の国「新しい生活様式」安心宣言",{"$f":"IF(EO473=\"☑\",TRUE)","v":false},{"$f":"IF(EQ473,EP473,\"\")","v":""},{"$f":"_xludf.TEXTJOIN(\",\",TRUE,ER473:ER486)","v":""},null,"",null,"",null,"",null,"",null,"",null,"",null,"",null,""]
[null,null,null,null,null,null,null,null,null,null,null,null,null,null,null,null,null,null,null,null,null,"□","買物サポート",false,"","□","料理デリバリー（出前）",false,"","□","フィットネス・ジム（送迎）",{"$f":"IF(AD474=\"☑\",TRUE)","v":false},{"$f":"IF(AF474,AE474,\"\")","v":""},"□","出張料理",{"$f":"IF(AH474=\"☑\",TRUE)","v":false},{"$f":"IF(AJ474,AI474,\"\")","v":""},"□","温泉・銭湯（たまり場）",false,"","□","多目的トイレ",false,"","□","習い事",{"$f":"IF(AT474=\"☑\",TRUE)","v":false},{"$f":"IF(AV474,AU474,\"\")","v":""},"□","金融・保険",false,"",null,null,null,null,null,"","□","北区",{"$f":"IF(BH474=\"☑\",TRUE)","v":false},{"$f":"\"さいたま市:\"&BI474","v":"さいたま市:北区"},{"$f":"IF(BJ474,BK474,\"\")","v":""},null,"□","蕨市",{"$f":"IF(BN474=\"☑\",TRUE)","v":false},{"$f":"\"南部地域:\"&BO474","v":"南部地域:蕨市"},{"$f":"IF(BP474,BQ474,\"\")","v":""},null,"□","志木市",{"$f":"IF(BT474=\"☑\",TRUE)","v":false},{"$f":"\"南西部地域:\"&BU474","v":"南西部地域:志木市"},{"$f":"IF(BV474,BW474,\"\")","v":""},null,"□","草加市",{"$f":"IF(BZ474=\"☑\",TRUE)","v":false},{"$f":"\"東部地域:\"&CA474","v":"東部地域:草加市"},"",null,"□","上尾市",{"$f":"IF(CF474=\"☑\",TRUE)","v":false},{"$f":"\"県央地域:\"&CG474","v":"県央地域:上尾市"},{"$f":"IF(CH474,CI474,\"\")","v":""},null,"□","東松山市",{"$f":"IF(CL474=\"☑\",TRUE)","v":false},{"$f":"\"川越比企地域:\"&CM474","v":"川越比企地域:東松山市"},{"$f":"IF(CN474,CO474,\"\")","v":""},null,"□","飯能市",{"$f":"IF(CR474=\"☑\",TRUE)","v":false},{"$f":"\"西部地域:\"&CS474","v":"西部地域:飯能市"},{"$f":"IF(CT474,CU474,\"\")","v":""},null,"□","加須市",{"$f":"IF(CX474=\"☑\",TRUE)","v":false},{"$f":"\"利根地域:\"&CY474","v":"利根地域:加須市"},{"$f":"IF(CZ474,DA474,\"\")","v":""},null,"□","本庄市",{"$f":"IF(DD474=\"☑\",TRUE)","v":false},{"$f":"\"北部地域:\"&DE474","v":"北部地域:本庄市"},{"$f":"IF(DF474,DG474,\"\")","v":""},null,"□","横瀬町",{"$f":"IF(DJ474=\"☑\",TRUE)","v":false},{"$f":"\"秩父地域:\"&DK474","v":"秩父地域:横瀬町"},{"$f":"IF(DL474,DM474,\"\")","v":""},null,null,null,null,null,null,null,null,null,null,null,null,null,null,"□","火曜日",{"$f":"IF(EC474=\"☑\",TRUE)","v":false},{"$f":"IF(EE474,ED474,\"\")","v":""},null,"□","午後（12:00～16：00）",{"$f":"IF(EH474=\"☑\",TRUE)","v":false},{"$f":"IF(EJ474,EI474,\"\")","v":""},null,null,null,null,"に基づき感染対策を実施している。",null,{"$f":"IF(EQ474,EP474,\"\")","v":""}]
[null,null,null,null,null,null,null,null,null,null,null,null,null,null,null,null,null,null,null,null,null,"□","買物代行",false,"","□","食材宅配",false,"","□","温泉・銭湯（送迎）",false,"","□","屋外作業・力仕事",false,"","□","カフェ・ファーストフード",false,"","□","休憩スペース",false,"","□","映画館",false,"","□","住宅・リフォーム",false,"",null,null,null,null,null,"","□","大宮区",false,"さいたま市:大宮区","",null,"□","戸田市",{"$f":"IF(BN475=\"☑\",TRUE)","v":false},{"$f":"\"南部地域:\"&BO475","v":"南部地域:戸田市"},"",null,"□","和光市",false,"南西部地域:和光市","",null,"□","越谷市",false,"東部地域:越谷市","",null,"□","桶川市",{"$f":"IF(CF475=\"☑\",TRUE)","v":false},{"$f":"\"県央地域:\"&CG475","v":"県央地域:桶川市"},"",null,"□","坂戸市",false,"川越比企地域:坂戸市","",null,"□","狭山市",{"$f":"IF(CR475=\"☑\",TRUE)","v":false},{"$f":"\"西部地域:\"&CS475","v":"西部地域:狭山市"},"",null,"□","羽生市",false,"利根地域:羽生市","",null,"□","深谷市",false,"北部地域:深谷市","",null,"□","皆野町",{"$f":"IF(DJ475=\"☑\",TRUE)","v":false},{"$f":"\"秩父地域:\"&DK475","v":"秩父地域:皆野町"},"",null,null,null,null,null,null,null,null,null,null,null,null,null,null,"□","水曜日",false,"",null,"□","夕方(16:00～18:00)",{"$f":"IF(EH475=\"☑\",TRUE)","v":false},{"$f":"IF(EJ475,EI475,\"\")","v":""},null,null,null,"□","各種団体が定める業種別ガイドライン",{"$f":"IF(EO475=\"☑\",TRUE)","v":false},{"$f":"IF(EQ475,EP475,\"\")","v":""}]
[null,null,null,null,null,null,null,null,null,null,null,null,null,null,null,null,null,null,null,null,null,"□","移動販売",false,"","□","日用品配達",false,"","□","整体・マッサージ（送迎）",false,"","□","整体・マッサージ（出張）",false,"","□","飲食店",false,"","□","駐車場",false,"","□","カラオケ店",false,"","□","パソコン・スマートフォン",false,"",null,null,null,null,null,"","□","見沼区",false,"さいたま市:見沼区","",null,null,null,null,null,"",null,"□","新座市",false,"南西部地域:新座市","",null,"□","八潮市",false,"東部地域:八潮市","",null,"□","北本市",{"$f":"IF(CF476=\"☑\",TRUE)","v":false},{"$f":"\"県央地域:\"&CG476","v":"県央地域:北本市"},"",null,"□","鶴ヶ島市",false,"川越比企地域:鶴ヶ島市","",null,"□","入間市",{"$f":"IF(CR476=\"☑\",TRUE)","v":false},{"$f":"\"西部地域:\"&CS476","v":"西部地域:入間市"},"",null,"□","久喜市",false,"利根地域:久喜市","",null,"□","美里町",false,"北部地域:美里町","",null,"□","長瀞町",{"$f":"IF(DJ476=\"☑\",TRUE)","v":false},{"$f":"\"秩父地域:\"&DK476","v":"秩父地域:長瀞町"},"",null,null,null,null,null,null,null,null,null,null,null,null,null,null,"□","木曜日",false,"",null,"□","夜(18:00～）",{"$f":"IF(EH476=\"☑\",TRUE)","v":false},{"$f":"IF(EJ476,EI476,\"\")","v":""},null,null,null,null,"に基づき感染対策を実施している。"]
[null,null,null,null,null,null,null,null,null,null,null,null,null,null,null,null,null,null,null,null,null,"□","割引サービス",false,"","□","薬・介護用品配達",false,"","□","乗り合いサービス",false,"","□","理容室・美容室（出張）",false,"","□","イートインスペース",false,"","□","貸しスペース",false,"","□","麻雀・将棋・囲碁",false,"","□","認知症サポート企業",false,"",null,null,null,null,null,"","□","中央区",false,"さいたま市:中央区","",null,null,null,null,null,"",null,"□","富士見市",false,"南西部地域:富士見市","",null,"□","三郷市",false,"東部地域:三郷市","",null,"□","伊奈町",{"$f":"IF(CF477=\"☑\",TRUE)","v":false},{"$f":"\"県央地域:\"&CG477","v":"県央地域:伊奈町"},"",null,"□","毛呂山町",false,"川越比企地域:毛呂山町","",null,"□","日高市",{"$f":"IF(CR477=\"☑\",TRUE)","v":false},{"$f":"\"西部地域:\"&CS477","v":"西部地域:日高市"},"",null,"□","蓮田市",false,"利根地域:蓮田市","",null,"□","神川町",false,"北部地域:神川町","",null,"□","小鹿野町",{"$f":"IF(DJ477=\"☑\",TRUE)","v":false},{"$f":"\"秩父地域:\"&DK477","v":"秩父地域:小鹿野町"},"",null,null,null,null,null,null,null,null,null,null,null,null,null,null,"□","金曜日",false,"",null,null,null,null,null,null,null,null,"□","その他の感染対策を実施している。",{"$f":"IF(EO477=\"☑\",TRUE)","v":false},{"$f":"IF(EQ477,EP477,\"\")","v":""}]
[null,null,null,null,null,null,null,null,null,null,null,null,null,null,null,null,null,null,null,null,null,"□","その他（買物）",false,"","□","その他（宅配・デリバリー）",false,"","□","個別移送サービス",false,"","□","ペット",false,"","□","その他（運動・たまり場）",false,"","□","その他（設備・施設・場所貸し）",false,"","□","ゲームセンター",false,"","□","その他（生活サービス）",false,"",null,null,null,null,null,"","□","桜区",false,"さいたま市:桜区","",null,null,null,null,null,"",null,"□","ふじみ野市",false,"南西部地域:ふじみ野市","",null,"□","吉川市",false,"東部地域:吉川市","",null,null,null,null,null,"",null,"□","越生町",false,"川越比企地域:越生町","",null,null,null,null,null,"",null,"□","幸手市",false,"利根地域:幸手市","",null,"□","上里町",false,"北部地域:上里町","",null,null,null,null,null,"",null,null,null,null,null,null,null,null,null,null,null,null,null,null,"□","土曜日",false,"",null,null,null,null,null,null,null,null,"□","感染対策を特に実施していない。",{"$f":"IF(EO478=\"☑\",TRUE)","v":false},{"$f":"IF(EQ478,EP478,\"\")","v":""}]
[null,null,null,null,null,null,null,null,null,null,null,null,null,null,null,null,null,null,null,null,null,null,null,null,null,null,null,null,null,"□","交通機関サービス",false,"","□","その他（出張サービス）",false,"",null,null,null,null,null,null,null,null,"□","旅行代理店",false,"",null,null,null,null,null,null,null,null,null,"","□","浦和区",false,"さいたま市:浦和区","",null,null,null,null,null,"",null,"□","三芳町",false,"南西部地域:三芳町","",null,"□","松伏町",false,"東部地域:松伏町","",null,null,null,null,null,"",null,"□","滑川町",false,"川越比企地域:滑川町","",null,null,null,null,null,"",null,"□","白岡市",false,"利根地域:白岡市","",null,"□","寄居町",false,"北部地域:寄居町","",null,null,null,null,null,"",null,null,null,null,null,null,null,null,null,null,null,null,null,null,"□","日曜日",false,""]
[null,null,null,null,null,null,null,null,null,null,null,null,null,null,null,null,null,null,null,null,null,null,null,null,null,null,null,null,null,"□","その他（送迎・移動支援）",false,"",null,null,null,"",null,null,null,{"$f":"IF(AN480,AM480,\"\")","v":""},null,null,null,{"$f":"IF(AR480,AQ480,\"\")","v":""},"□","その他（学び・趣味）",false,"",null,null,null,null,null,null,null,null,null,"","□","南区",false,"さいたま市:南区","",null,null,null,null,null,"",null,null,null,null,null,"",null,null,null,null,null,"",null,null,null,null,null,"",null,"□","嵐山町",false,"川越比企地域:嵐山町","",null,null,null,null,null,"",null,"□","宮代町",false,"利根地域:宮代町","",null,null,null,null,null,"",null,null,null,null,null,""]
[null,null,null,null,null,null,null,null,null,null,null,null,null,null,null,null,null,null,null,null,null,null,null,null,null,null,null,null,null,null,null,null,null,null,null,null,null,null,null,null,null,null,null,null,null,null,null,null,null,null,null,null,null,null,null,null,null,null,"","□","緑区",false,"さいたま市:緑区","",null,null,null,null,null,"",null,null,null,null,null,"",null,null,null,null,null,"",null,null,null,null,null,"",null,"□","小川町",false,"川越比企地域:小川町","",null,null,null,null,null,"",null,"□","杉戸町",false,"利根地域:杉戸町","",null,null,null,null,null,"",null,null,null,null,null,""]
[null,null,null,null,null,null,null,null,null,null,null,null,null,null,null,null,null,null,null,null,null,null,null,null,null,null,null,null,null,null,null,null,null,null,null,null,null,null,null,null,null,null,null,null,null,null,null,null,null,null,null,null,null,null,null,null,null,null,"","□","岩槻区",{"$f":"IF(BH482=\"☑\",TRUE)","v":false},"さいたま市:岩槻区","",null,null,null,null,null,"",null,null,null,null,null,"",null,null,null,null,null,"",null,null,null,null,null,"",null,"□","川島町",false,"川越比企地域:川島町","",null,null,null,null,null,"",null,null,null,null,null,"",null,null,null,null,null,"",null,null,null,null,null,""]
[null,null,null,null,null,null,null,null,null,null,null,null,null,null,null,null,null,null,null,null,null,null,null,null,null,null,null,null,null,null,null,null,null,null,null,null,null,null,null,null,null,null,null,null,null,null,null,null,null,null,null,null,null,null,null,null,null,null,"",null,null,null,null,null,null,null,null,null,null,null,null,null,null,null,null,null,null,null,null,null,null,null,null,null,null,null,null,null,null,"□","吉見町",false,"川越比企地域:吉見町","",null,null,null,null,null,"",null,null,null,null,null,"",null,null,null,null,null,"",null,null,null,null,null,""]
[null,null,null,null,null,null,null,null,null,null,null,null,null,null,null,null,null,null,null,null,null,null,null,null,null,null,null,null,null,null,null,null,null,null,null,null,null,null,null,null,null,null,null,null,null,null,null,null,null,null,null,null,null,null,null,null,null,null,"",null,null,null,null,null,null,null,null,null,null,null,null,null,null,null,null,null,null,null,null,null,null,null,null,null,null,null,null,null,null,"□","鳩山町",false,"川越比企地域:鳩山町","",null,null,null,null,null,"",null,null,null,null,null,"",null,null,null,null,null,"",null,null,null,null,null,""]
[null,null,null,null,null,null,null,null,null,null,null,null,null,null,null,null,null,null,null,null,null,null,null,null,null,null,null,null,null,null,null,null,null,null,null,null,null,null,null,null,null,null,null,null,null,null,null,null,null,null,null,null,null,null,null,null,null,null,"",null,null,null,null,null,null,null,null,null,null,null,null,null,null,null,null,null,null,null,null,null,null,null,null,null,null,null,null,null,null,"□","ときがわ町",false,"川越比企地域:ときがわ町","",null,null,null,null,null,"",null,null,null,null,null,"",null,null,null,null,null,"",null,null,null,null,null,""]
[null,null,null,null,null,null,null,null,null,null,null,null,null,null,null,null,null,null,null,null,null,null,null,null,null,null,null,null,null,null,null,null,null,null,null,null,null,null,null,null,null,null,null,null,null,null,null,null,null,null,null,null,null,null,null,null,null,null,"",null,null,null,null,null,null,null,null,null,null,null,null,null,null,null,null,null,null,null,null,null,null,null,null,null,null,null,null,null,null,"□","東秩父村",false,"川越比企地域:東秩父村","",null,null,null,null,null,"",null,null,null,null,null,"",null,null,null,null,null,"",null,null,null,null,null,""]
[34,null,null,null,null,null,null,null,null,null,null,null,null,null,null,null,null,null,null,null,null,"□","配送",{"$f":"IF(V487=\"☑\",TRUE)","v":false},{"$f":"IF(X487,W487,\"\")","v":""},"□","弁当配達",{"$f":"IF(Z487=\"☑\",TRUE)","v":false},{"$f":"IF(AB487,AA487,\"\")","v":""},"□","理容室・美容室（送迎）",{"$f":"IF(AD487=\"☑\",TRUE)","v":false},{"$f":"IF(AF487,AE487,\"\")","v":""},"□","家事代行",{"$f":"IF(AH487=\"☑\",TRUE)","v":false},{"$f":"IF(AJ487,AI487,\"\")","v":""},"□","フィットネス・ジム（運動）",{"$f":"IF(AL487=\"☑\",TRUE)","v":false},{"$f":"IF(AN487,AM487,\"\")","v":""},"□","車イス対応（バリアフリー）",{"$f":"IF(AP487=\"☑\",TRUE)","v":false},{"$f":"IF(AR487,AQ487,\"\")","v":""},"□","講座・教室・イベント",{"$f":"IF(AT487=\"☑\",TRUE)","v":false},{"$f":"IF(AV487,AU487,\"\")","v":""},"□","防犯・見守り",{"$f":"IF(AX487=\"☑\",TRUE)","v":false},{"$f":"IF(AZ487,AY487,\"\")","v":""},{"$f":"_xludf.TEXTJOIN(\",\",TRUE,Y487:Y500,AC487:AC500,AG487:AG500,AK487:AK500,AO487:AO500,AS487:AS500,AW487:AW500,BA487:BA500)","v":""},"□","埼玉県全域",{"$f":"IF(BC487=\"☑\",TRUE)","v":false},"さいたま市:西区,さいたま市:北区,さいたま市:大宮区,さいたま市:見沼区,さいたま市:中央区,さいたま市:桜区,さいたま市:浦和区,さいたま市:南区,さいたま市:緑区,さいたま市:岩槻区,南部地域:川口市,南部地域:蕨市,南部地域:戸田市,南西部地域:朝霞市,南西部地域:志木市,南西部地域:和光市,南西部地域:新座市,南西部地域:富士見市,南西部地域:ふじみ野市,南西部地域:三芳町,東部地域:春日部市,東部地域:草加市,東部地域:越谷市,東部地域:八潮市,東部地域:三郷市,東部地域:吉川市,東部地域:松伏町,県央地域:鴻巣市,県央地域:上尾市,県央地域:桶川市,県央地域:北本市,県央地域:伊奈町,川越比企地域:川越市,川越比企地域:東松山市,川越比企地域:坂戸市,川越比企地域:鶴ヶ島市,川越比企地域:毛呂山町,川越比企地域:越生町,川越比企地域:滑川町,川越比企地域:嵐山町,川越比企地域:小川町,川越比企地域:川島町,川越比企地域:吉見町,川越比企地域:鳩山町,川越比企地域:ときがわ町,川越比企地域:東秩父村,西部地域:所沢市,西部地域:飯能市,西部地域:狭山市,西部地域:入間市,西部地域:日高市,利根地域:行田市,利根地域:加須市,利根地域:羽生市,利根地域:久喜市,利根地域:蓮田市,利根地域:幸手市,利根地域:白岡市,利根地域:宮代町,利根地域:杉戸町,北部地域:熊谷市,北部地域:本庄市,北部地域:深谷市,北部地域:美里町,北部地域:神川町,北部地域:上里町,北部地域:寄居町,秩父地域:秩父市,秩父地域:横瀬町,秩父地域:皆野町,秩父地域:長瀞町,秩父地域:小鹿野町","","□","西区",{"$f":"IF(BH487=\"☑\",TRUE)","v":false},{"$f":"\"さいたま市:\"&BI487","v":"さいたま市:西区"},{"$f":"IF(BJ487,BK487,\"\")","v":""},{"$f":"_xludf.TEXTJOIN(\",\",TRUE,BL487:BL500)","v":""},"□","川口市",{"$f":"IF(BN487=\"☑\",TRUE)","v":false},{"$f":"\"南部地域:\"&BO487","v":"南部地域:川口市"},{"$f":"IF(BP487,BQ487,\"\")","v":""},{"$f":"_xludf.TEXTJOIN(\",\",TRUE,BR487:BR500)","v":""},"□","朝霞市",{"$f":"IF(BT487=\"☑\",TRUE)","v":false},{"$f":"\"南西部地域:\"&BU487","v":"南西部地域:朝霞市"},{"$f":"IF(BV487,BW487,\"\")","v":""},{"$f":"_xludf.TEXTJOIN(\",\",TRUE,BX487:BX500)","v":""},"□","春日部市",{"$f":"IF(BZ487=\"☑\",TRUE)","v":false},{"$f":"\"東部地域:\"&CA487","v":"東部地域:春日部市"},{"$f":"IF(CB487,CC487,\"\")","v":""},{"$f":"_xludf.TEXTJOIN(\",\",TRUE,CD487:CD500)","v":""},"□","鴻巣市",{"$f":"IF(CF487=\"☑\",TRUE)","v":false},{"$f":"\"県央地域:\"&CG487","v":"県央地域:鴻巣市"},{"$f":"IF(CH487,CI487,\"\")","v":""},{"$f":"_xludf.TEXTJOIN(\",\",TRUE,CJ487:CJ500)","v":""},"□","川越市",{"$f":"IF(CL487=\"☑\",TRUE)","v":false},{"$f":"\"川越比企地域:\"&CM487","v":"川越比企地域:川越市"},{"$f":"IF(CN487,CO487,\"\")","v":""},{"$f":"_xludf.TEXTJOIN(\",\",TRUE,CP487:CP500)","v":""},"□","所沢市",{"$f":"IF(CR487=\"☑\",TRUE)","v":false},{"$f":"\"西部地域:\"&CS487","v":"西部地域:所沢市"},{"$f":"IF(CT487,CU487,\"\")","v":""},{"$f":"_xludf.TEXTJOIN(\",\",TRUE,CV487:CV500)","v":""},"□","行田市",{"$f":"IF(CX487=\"☑\",TRUE)","v":false},{"$f":"\"利根地域:\"&CY487","v":"利根地域:行田市"},{"$f":"IF(CZ487,DA487,\"\")","v":""},{"$f":"_xludf.TEXTJOIN(\",\",TRUE,DB487:DB500)","v":""},"□","熊谷市",{"$f":"IF(DD487=\"☑\",TRUE)","v":false},{"$f":"\"北部地域:\"&DE487","v":"北部地域:熊谷市"},{"$f":"IF(DF487,DG487,\"\")","v":""},{"$f":"_xludf.TEXTJOIN(\",\",TRUE,DH487:DH500)","v":""},"□","秩父市",{"$f":"IF(DJ487=\"☑\",TRUE)","v":false},{"$f":"\"秩父地域:\"&DK487","v":"秩父地域:秩父市"},{"$f":"IF(DL487,DM487,\"\")","v":""},{"$f":"_xludf.TEXTJOIN(\",\",TRUE,DN487:DN500)","v":""},{"$f":"_xludf.TEXTJOIN(\",\",TRUE,BG487,BM487,BS487,BY487,CE487,CK487,CQ487,CW487,DC487,DI487,DO487)","v":""},null,null,null,null,null,null,null,null,null,null,null,null,"□","月曜日",{"$f":"IF(EC487=\"☑\",TRUE)","v":false},{"$f":"IF(EE487,ED487,\"\")","v":""},{"$f":"_xludf.TEXTJOIN(\",\",TRUE,EF487:EF500)","v":""},"□","午前（～12:00）",{"$f":"IF(EH487=\"☑\",TRUE)","v":false},{"$f":"IF(EJ487,EI487,\"\")","v":""},{"$f":"_xludf.TEXTJOIN(\",\",TRUE,EK487:EK500)","v":""},null,null,"□","彩の国「新しい生活様式」安心宣言",{"$f":"IF(EO487=\"☑\",TRUE)","v":false},{"$f":"IF(EQ487,EP487,\"\")","v":""},{"$f":"_xludf.TEXTJOIN(\",\",TRUE,ER487:ER500)","v":""},null,"",null,"",null,"",null,"",null,"",null,"",null,"",null,""]
[null,null,null,null,null,null,null,null,null,null,null,null,null,null,null,null,null,null,null,null,null,"□","買物サポート",false,"","□","料理デリバリー（出前）",false,"","□","フィットネス・ジム（送迎）",{"$f":"IF(AD488=\"☑\",TRUE)","v":false},{"$f":"IF(AF488,AE488,\"\")","v":""},"□","出張料理",{"$f":"IF(AH488=\"☑\",TRUE)","v":false},{"$f":"IF(AJ488,AI488,\"\")","v":""},"□","温泉・銭湯（たまり場）",false,"","□","多目的トイレ",false,"","□","習い事",{"$f":"IF(AT488=\"☑\",TRUE)","v":false},{"$f":"IF(AV488,AU488,\"\")","v":""},"□","金融・保険",false,"",null,null,null,null,null,"","□","北区",{"$f":"IF(BH488=\"☑\",TRUE)","v":false},{"$f":"\"さいたま市:\"&BI488","v":"さいたま市:北区"},{"$f":"IF(BJ488,BK488,\"\")","v":""},null,"□","蕨市",{"$f":"IF(BN488=\"☑\",TRUE)","v":false},{"$f":"\"南部地域:\"&BO488","v":"南部地域:蕨市"},{"$f":"IF(BP488,BQ488,\"\")","v":""},null,"□","志木市",{"$f":"IF(BT488=\"☑\",TRUE)","v":false},{"$f":"\"南西部地域:\"&BU488","v":"南西部地域:志木市"},{"$f":"IF(BV488,BW488,\"\")","v":""},null,"□","草加市",{"$f":"IF(BZ488=\"☑\",TRUE)","v":false},{"$f":"\"東部地域:\"&CA488","v":"東部地域:草加市"},"",null,"□","上尾市",{"$f":"IF(CF488=\"☑\",TRUE)","v":false},{"$f":"\"県央地域:\"&CG488","v":"県央地域:上尾市"},{"$f":"IF(CH488,CI488,\"\")","v":""},null,"□","東松山市",{"$f":"IF(CL488=\"☑\",TRUE)","v":false},{"$f":"\"川越比企地域:\"&CM488","v":"川越比企地域:東松山市"},{"$f":"IF(CN488,CO488,\"\")","v":""},null,"□","飯能市",{"$f":"IF(CR488=\"☑\",TRUE)","v":false},{"$f":"\"西部地域:\"&CS488","v":"西部地域:飯能市"},{"$f":"IF(CT488,CU488,\"\")","v":""},null,"□","加須市",{"$f":"IF(CX488=\"☑\",TRUE)","v":false},{"$f":"\"利根地域:\"&CY488","v":"利根地域:加須市"},{"$f":"IF(CZ488,DA488,\"\")","v":""},null,"□","本庄市",{"$f":"IF(DD488=\"☑\",TRUE)","v":false},{"$f":"\"北部地域:\"&DE488","v":"北部地域:本庄市"},{"$f":"IF(DF488,DG488,\"\")","v":""},null,"□","横瀬町",{"$f":"IF(DJ488=\"☑\",TRUE)","v":false},{"$f":"\"秩父地域:\"&DK488","v":"秩父地域:横瀬町"},{"$f":"IF(DL488,DM488,\"\")","v":""},null,null,null,null,null,null,null,null,null,null,null,null,null,null,"□","火曜日",{"$f":"IF(EC488=\"☑\",TRUE)","v":false},{"$f":"IF(EE488,ED488,\"\")","v":""},null,"□","午後（12:00～16：00）",{"$f":"IF(EH488=\"☑\",TRUE)","v":false},{"$f":"IF(EJ488,EI488,\"\")","v":""},null,null,null,null,"に基づき感染対策を実施している。",null,{"$f":"IF(EQ488,EP488,\"\")","v":""}]
[null,null,null,null,null,null,null,null,null,null,null,null,null,null,null,null,null,null,null,null,null,"□","買物代行",false,"","□","食材宅配",false,"","□","温泉・銭湯（送迎）",false,"","□","屋外作業・力仕事",false,"","□","カフェ・ファーストフード",false,"","□","休憩スペース",false,"","□","映画館",false,"","□","住宅・リフォーム",false,"",null,null,null,null,null,"","□","大宮区",false,"さいたま市:大宮区","",null,"□","戸田市",{"$f":"IF(BN489=\"☑\",TRUE)","v":false},{"$f":"\"南部地域:\"&BO489","v":"南部地域:戸田市"},"",null,"□","和光市",false,"南西部地域:和光市","",null,"□","越谷市",false,"東部地域:越谷市","",null,"□","桶川市",{"$f":"IF(CF489=\"☑\",TRUE)","v":false},{"$f":"\"県央地域:\"&CG489","v":"県央地域:桶川市"},"",null,"□","坂戸市",false,"川越比企地域:坂戸市","",null,"□","狭山市",{"$f":"IF(CR489=\"☑\",TRUE)","v":false},{"$f":"\"西部地域:\"&CS489","v":"西部地域:狭山市"},"",null,"□","羽生市",false,"利根地域:羽生市","",null,"□","深谷市",false,"北部地域:深谷市","",null,"□","皆野町",{"$f":"IF(DJ489=\"☑\",TRUE)","v":false},{"$f":"\"秩父地域:\"&DK489","v":"秩父地域:皆野町"},"",null,null,null,null,null,null,null,null,null,null,null,null,null,null,"□","水曜日",false,"",null,"□","夕方(16:00～18:00)",{"$f":"IF(EH489=\"☑\",TRUE)","v":false},{"$f":"IF(EJ489,EI489,\"\")","v":""},null,null,null,"□","各種団体が定める業種別ガイドライン",{"$f":"IF(EO489=\"☑\",TRUE)","v":false},{"$f":"IF(EQ489,EP489,\"\")","v":""}]
[null,null,null,null,null,null,null,null,null,null,null,null,null,null,null,null,null,null,null,null,null,"□","移動販売",false,"","□","日用品配達",false,"","□","整体・マッサージ（送迎）",false,"","□","整体・マッサージ（出張）",false,"","□","飲食店",false,"","□","駐車場",false,"","□","カラオケ店",false,"","□","パソコン・スマートフォン",false,"",null,null,null,null,null,"","□","見沼区",false,"さいたま市:見沼区","",null,null,null,null,null,"",null,"□","新座市",false,"南西部地域:新座市","",null,"□","八潮市",false,"東部地域:八潮市","",null,"□","北本市",{"$f":"IF(CF490=\"☑\",TRUE)","v":false},{"$f":"\"県央地域:\"&CG490","v":"県央地域:北本市"},"",null,"□","鶴ヶ島市",false,"川越比企地域:鶴ヶ島市","",null,"□","入間市",{"$f":"IF(CR490=\"☑\",TRUE)","v":false},{"$f":"\"西部地域:\"&CS490","v":"西部地域:入間市"},"",null,"□","久喜市",false,"利根地域:久喜市","",null,"□","美里町",false,"北部地域:美里町","",null,"□","長瀞町",{"$f":"IF(DJ490=\"☑\",TRUE)","v":false},{"$f":"\"秩父地域:\"&DK490","v":"秩父地域:長瀞町"},"",null,null,null,null,null,null,null,null,null,null,null,null,null,null,"□","木曜日",false,"",null,"□","夜(18:00～）",{"$f":"IF(EH490=\"☑\",TRUE)","v":false},{"$f":"IF(EJ490,EI490,\"\")","v":""},null,null,null,null,"に基づき感染対策を実施している。"]
[null,null,null,null,null,null,null,null,null,null,null,null,null,null,null,null,null,null,null,null,null,"□","割引サービス",false,"","□","薬・介護用品配達",false,"","□","乗り合いサービス",false,"","□","理容室・美容室（出張）",false,"","□","イートインスペース",false,"","□","貸しスペース",false,"","□","麻雀・将棋・囲碁",false,"","□","認知症サポート企業",false,"",null,null,null,null,null,"","□","中央区",false,"さいたま市:中央区","",null,null,null,null,null,"",null,"□","富士見市",false,"南西部地域:富士見市","",null,"□","三郷市",false,"東部地域:三郷市","",null,"□","伊奈町",{"$f":"IF(CF491=\"☑\",TRUE)","v":false},{"$f":"\"県央地域:\"&CG491","v":"県央地域:伊奈町"},"",null,"□","毛呂山町",false,"川越比企地域:毛呂山町","",null,"□","日高市",{"$f":"IF(CR491=\"☑\",TRUE)","v":false},{"$f":"\"西部地域:\"&CS491","v":"西部地域:日高市"},"",null,"□","蓮田市",false,"利根地域:蓮田市","",null,"□","神川町",false,"北部地域:神川町","",null,"□","小鹿野町",{"$f":"IF(DJ491=\"☑\",TRUE)","v":false},{"$f":"\"秩父地域:\"&DK491","v":"秩父地域:小鹿野町"},"",null,null,null,null,null,null,null,null,null,null,null,null,null,null,"□","金曜日",false,"",null,null,null,null,null,null,null,null,"□","その他の感染対策を実施している。",{"$f":"IF(EO491=\"☑\",TRUE)","v":false},{"$f":"IF(EQ491,EP491,\"\")","v":""}]
[null,null,null,null,null,null,null,null,null,null,null,null,null,null,null,null,null,null,null,null,null,"□","その他（買物）",false,"","□","その他（宅配・デリバリー）",false,"","□","個別移送サービス",false,"","□","ペット",false,"","□","その他（運動・たまり場）",false,"","□","その他（設備・施設・場所貸し）",false,"","□","ゲームセンター",false,"","□","その他（生活サービス）",false,"",null,null,null,null,null,"","□","桜区",false,"さいたま市:桜区","",null,null,null,null,null,"",null,"□","ふじみ野市",false,"南西部地域:ふじみ野市","",null,"□","吉川市",false,"東部地域:吉川市","",null,null,null,null,null,"",null,"□","越生町",false,"川越比企地域:越生町","",null,null,null,null,null,"",null,"□","幸手市",false,"利根地域:幸手市","",null,"□","上里町",false,"北部地域:上里町","",null,null,null,null,null,"",null,null,null,null,null,null,null,null,null,null,null,null,null,null,"□","土曜日",false,"",null,null,null,null,null,null,null,null,"□","感染対策を特に実施していない。",{"$f":"IF(EO492=\"☑\",TRUE)","v":false},{"$f":"IF(EQ492,EP492,\"\")","v":""}]
[null,null,null,null,null,null,null,null,null,null,null,null,null,null,null,null,null,null,null,null,null,null,null,null,null,null,null,null,null,"□","交通機関サービス",false,"","□","その他（出張サービス）",false,"",null,null,null,null,null,null,null,null,"□","旅行代理店",false,"",null,null,null,null,null,null,null,null,null,"","□","浦和区",false,"さいたま市:浦和区","",null,null,null,null,null,"",null,"□","三芳町",false,"南西部地域:三芳町","",null,"□","松伏町",false,"東部地域:松伏町","",null,null,null,null,null,"",null,"□","滑川町",false,"川越比企地域:滑川町","",null,null,null,null,null,"",null,"□","白岡市",false,"利根地域:白岡市","",null,"□","寄居町",false,"北部地域:寄居町","",null,null,null,null,null,"",null,null,null,null,null,null,null,null,null,null,null,null,null,null,"□","日曜日",false,""]
[null,null,null,null,null,null,null,null,null,null,null,null,null,null,null,null,null,null,null,null,null,null,null,null,null,null,null,null,null,"□","その他（送迎・移動支援）",false,"",null,null,null,"",null,null,null,{"$f":"IF(AN494,AM494,\"\")","v":""},null,null,null,{"$f":"IF(AR494,AQ494,\"\")","v":""},"□","その他（学び・趣味）",false,"",null,null,null,null,null,null,null,null,null,"","□","南区",false,"さいたま市:南区","",null,null,null,null,null,"",null,null,null,null,null,"",null,null,null,null,null,"",null,null,null,null,null,"",null,"□","嵐山町",false,"川越比企地域:嵐山町","",null,null,null,null,null,"",null,"□","宮代町",false,"利根地域:宮代町","",null,null,null,null,null,"",null,null,null,null,null,""]
[null,null,null,null,null,null,null,null,null,null,null,null,null,null,null,null,null,null,null,null,null,null,null,null,null,null,null,null,null,null,null,null,null,null,null,null,null,null,null,null,null,null,null,null,null,null,null,null,null,null,null,null,null,null,null,null,null,null,"","□","緑区",false,"さいたま市:緑区","",null,null,null,null,null,"",null,null,null,null,null,"",null,null,null,null,null,"",null,null,null,null,null,"",null,"□","小川町",false,"川越比企地域:小川町","",null,null,null,null,null,"",null,"□","杉戸町",false,"利根地域:杉戸町","",null,null,null,null,null,"",null,null,null,null,null,""]
[null,null,null,null,null,null,null,null,null,null,null,null,null,null,null,null,null,null,null,null,null,null,null,null,null,null,null,null,null,null,null,null,null,null,null,null,null,null,null,null,null,null,null,null,null,null,null,null,null,null,null,null,null,null,null,null,null,null,"","□","岩槻区",{"$f":"IF(BH496=\"☑\",TRUE)","v":false},"さいたま市:岩槻区","",null,null,null,null,null,"",null,null,null,null,null,"",null,null,null,null,null,"",null,null,null,null,null,"",null,"□","川島町",false,"川越比企地域:川島町","",null,null,null,null,null,"",null,null,null,null,null,"",null,null,null,null,null,"",null,null,null,null,null,""]
[null,null,null,null,null,null,null,null,null,null,null,null,null,null,null,null,null,null,null,null,null,null,null,null,null,null,null,null,null,null,null,null,null,null,null,null,null,null,null,null,null,null,null,null,null,null,null,null,null,null,null,null,null,null,null,null,null,null,"",null,null,null,null,null,null,null,null,null,null,null,null,null,null,null,null,null,null,null,null,null,null,null,null,null,null,null,null,null,null,"□","吉見町",false,"川越比企地域:吉見町","",null,null,null,null,null,"",null,null,null,null,null,"",null,null,null,null,null,"",null,null,null,null,null,""]
[null,null,null,null,null,null,null,null,null,null,null,null,null,null,null,null,null,null,null,null,null,null,null,null,null,null,null,null,null,null,null,null,null,null,null,null,null,null,null,null,null,null,null,null,null,null,null,null,null,null,null,null,null,null,null,null,null,null,"",null,null,null,null,null,null,null,null,null,null,null,null,null,null,null,null,null,null,null,null,null,null,null,null,null,null,null,null,null,null,"□","鳩山町",false,"川越比企地域:鳩山町","",null,null,null,null,null,"",null,null,null,null,null,"",null,null,null,null,null,"",null,null,null,null,null,""]
[null,null,null,null,null,null,null,null,null,null,null,null,null,null,null,null,null,null,null,null,null,null,null,null,null,null,null,null,null,null,null,null,null,null,null,null,null,null,null,null,null,null,null,null,null,null,null,null,null,null,null,null,null,null,null,null,null,null,"",null,null,null,null,null,null,null,null,null,null,null,null,null,null,null,null,null,null,null,null,null,null,null,null,null,null,null,null,null,null,"□","ときがわ町",false,"川越比企地域:ときがわ町","",null,null,null,null,null,"",null,null,null,null,null,"",null,null,null,null,null,"",null,null,null,null,null,""]
[null,null,null,null,null,null,null,null,null,null,null,null,null,null,null,null,null,null,null,null,null,null,null,null,null,null,null,null,null,null,null,null,null,null,null,null,null,null,null,null,null,null,null,null,null,null,null,null,null,null,null,null,null,null,null,null,null,null,"",null,null,null,null,null,null,null,null,null,null,null,null,null,null,null,null,null,null,null,null,null,null,null,null,null,null,null,null,null,null,"□","東秩父村",false,"川越比企地域:東秩父村","",null,null,null,null,null,"",null,null,null,null,null,"",null,null,null,null,null,"",null,null,null,null,null,""]
[35,null,null,null,null,null,null,null,null,null,null,null,null,null,null,null,null,null,null,null,null,"□","配送",{"$f":"IF(V501=\"☑\",TRUE)","v":false},{"$f":"IF(X501,W501,\"\")","v":""},"□","弁当配達",{"$f":"IF(Z501=\"☑\",TRUE)","v":false},{"$f":"IF(AB501,AA501,\"\")","v":""},"□","理容室・美容室（送迎）",{"$f":"IF(AD501=\"☑\",TRUE)","v":false},{"$f":"IF(AF501,AE501,\"\")","v":""},"□","家事代行",{"$f":"IF(AH501=\"☑\",TRUE)","v":false},{"$f":"IF(AJ501,AI501,\"\")","v":""},"□","フィットネス・ジム（運動）",{"$f":"IF(AL501=\"☑\",TRUE)","v":false},{"$f":"IF(AN501,AM501,\"\")","v":""},"□","車イス対応（バリアフリー）",{"$f":"IF(AP501=\"☑\",TRUE)","v":false},{"$f":"IF(AR501,AQ501,\"\")","v":""},"□","講座・教室・イベント",{"$f":"IF(AT501=\"☑\",TRUE)","v":false},{"$f":"IF(AV501,AU501,\"\")","v":""},"□","防犯・見守り",{"$f":"IF(AX501=\"☑\",TRUE)","v":false},{"$f":"IF(AZ501,AY501,\"\")","v":""},{"$f":"_xludf.TEXTJOIN(\",\",TRUE,Y501:Y514,AC501:AC514,AG501:AG514,AK501:AK514,AO501:AO514,AS501:AS514,AW501:AW514,BA501:BA514)","v":""},"□","埼玉県全域",{"$f":"IF(BC501=\"☑\",TRUE)","v":false},"さいたま市:西区,さいたま市:北区,さいたま市:大宮区,さいたま市:見沼区,さいたま市:中央区,さいたま市:桜区,さいたま市:浦和区,さいたま市:南区,さいたま市:緑区,さいたま市:岩槻区,南部地域:川口市,南部地域:蕨市,南部地域:戸田市,南西部地域:朝霞市,南西部地域:志木市,南西部地域:和光市,南西部地域:新座市,南西部地域:富士見市,南西部地域:ふじみ野市,南西部地域:三芳町,東部地域:春日部市,東部地域:草加市,東部地域:越谷市,東部地域:八潮市,東部地域:三郷市,東部地域:吉川市,東部地域:松伏町,県央地域:鴻巣市,県央地域:上尾市,県央地域:桶川市,県央地域:北本市,県央地域:伊奈町,川越比企地域:川越市,川越比企地域:東松山市,川越比企地域:坂戸市,川越比企地域:鶴ヶ島市,川越比企地域:毛呂山町,川越比企地域:越生町,川越比企地域:滑川町,川越比企地域:嵐山町,川越比企地域:小川町,川越比企地域:川島町,川越比企地域:吉見町,川越比企地域:鳩山町,川越比企地域:ときがわ町,川越比企地域:東秩父村,西部地域:所沢市,西部地域:飯能市,西部地域:狭山市,西部地域:入間市,西部地域:日高市,利根地域:行田市,利根地域:加須市,利根地域:羽生市,利根地域:久喜市,利根地域:蓮田市,利根地域:幸手市,利根地域:白岡市,利根地域:宮代町,利根地域:杉戸町,北部地域:熊谷市,北部地域:本庄市,北部地域:深谷市,北部地域:美里町,北部地域:神川町,北部地域:上里町,北部地域:寄居町,秩父地域:秩父市,秩父地域:横瀬町,秩父地域:皆野町,秩父地域:長瀞町,秩父地域:小鹿野町","","□","西区",{"$f":"IF(BH501=\"☑\",TRUE)","v":false},{"$f":"\"さいたま市:\"&BI501","v":"さいたま市:西区"},{"$f":"IF(BJ501,BK501,\"\")","v":""},{"$f":"_xludf.TEXTJOIN(\",\",TRUE,BL501:BL514)","v":""},"□","川口市",{"$f":"IF(BN501=\"☑\",TRUE)","v":false},{"$f":"\"南部地域:\"&BO501","v":"南部地域:川口市"},{"$f":"IF(BP501,BQ501,\"\")","v":""},{"$f":"_xludf.TEXTJOIN(\",\",TRUE,BR501:BR514)","v":""},"□","朝霞市",{"$f":"IF(BT501=\"☑\",TRUE)","v":false},{"$f":"\"南西部地域:\"&BU501","v":"南西部地域:朝霞市"},{"$f":"IF(BV501,BW501,\"\")","v":""},{"$f":"_xludf.TEXTJOIN(\",\",TRUE,BX501:BX514)","v":""},"□","春日部市",{"$f":"IF(BZ501=\"☑\",TRUE)","v":false},{"$f":"\"東部地域:\"&CA501","v":"東部地域:春日部市"},{"$f":"IF(CB501,CC501,\"\")","v":""},{"$f":"_xludf.TEXTJOIN(\",\",TRUE,CD501:CD514)","v":""},"□","鴻巣市",{"$f":"IF(CF501=\"☑\",TRUE)","v":false},{"$f":"\"県央地域:\"&CG501","v":"県央地域:鴻巣市"},{"$f":"IF(CH501,CI501,\"\")","v":""},{"$f":"_xludf.TEXTJOIN(\",\",TRUE,CJ501:CJ514)","v":""},"□","川越市",{"$f":"IF(CL501=\"☑\",TRUE)","v":false},{"$f":"\"川越比企地域:\"&CM501","v":"川越比企地域:川越市"},{"$f":"IF(CN501,CO501,\"\")","v":""},{"$f":"_xludf.TEXTJOIN(\",\",TRUE,CP501:CP514)","v":""},"□","所沢市",{"$f":"IF(CR501=\"☑\",TRUE)","v":false},{"$f":"\"西部地域:\"&CS501","v":"西部地域:所沢市"},{"$f":"IF(CT501,CU501,\"\")","v":""},{"$f":"_xludf.TEXTJOIN(\",\",TRUE,CV501:CV514)","v":""},"□","行田市",{"$f":"IF(CX501=\"☑\",TRUE)","v":false},{"$f":"\"利根地域:\"&CY501","v":"利根地域:行田市"},{"$f":"IF(CZ501,DA501,\"\")","v":""},{"$f":"_xludf.TEXTJOIN(\",\",TRUE,DB501:DB514)","v":""},"□","熊谷市",{"$f":"IF(DD501=\"☑\",TRUE)","v":false},{"$f":"\"北部地域:\"&DE501","v":"北部地域:熊谷市"},{"$f":"IF(DF501,DG501,\"\")","v":""},{"$f":"_xludf.TEXTJOIN(\",\",TRUE,DH501:DH514)","v":""},"□","秩父市",{"$f":"IF(DJ501=\"☑\",TRUE)","v":false},{"$f":"\"秩父地域:\"&DK501","v":"秩父地域:秩父市"},{"$f":"IF(DL501,DM501,\"\")","v":""},{"$f":"_xludf.TEXTJOIN(\",\",TRUE,DN501:DN514)","v":""},{"$f":"_xludf.TEXTJOIN(\",\",TRUE,BG501,BM501,BS501,BY501,CE501,CK501,CQ501,CW501,DC501,DI501,DO501)","v":""},null,null,null,null,null,null,null,null,null,null,null,null,"□","月曜日",{"$f":"IF(EC501=\"☑\",TRUE)","v":false},{"$f":"IF(EE501,ED501,\"\")","v":""},{"$f":"_xludf.TEXTJOIN(\",\",TRUE,EF501:EF514)","v":""},"□","午前（～12:00）",{"$f":"IF(EH501=\"☑\",TRUE)","v":false},{"$f":"IF(EJ501,EI501,\"\")","v":""},{"$f":"_xludf.TEXTJOIN(\",\",TRUE,EK501:EK514)","v":""},null,null,"□","彩の国「新しい生活様式」安心宣言",{"$f":"IF(EO501=\"☑\",TRUE)","v":false},{"$f":"IF(EQ501,EP501,\"\")","v":""},{"$f":"_xludf.TEXTJOIN(\",\",TRUE,ER501:ER514)","v":""},null,"",null,"",null,"",null,"",null,"",null,"",null,"",null,""]
[null,null,null,null,null,null,null,null,null,null,null,null,null,null,null,null,null,null,null,null,null,"□","買物サポート",false,"","□","料理デリバリー（出前）",false,"","□","フィットネス・ジム（送迎）",{"$f":"IF(AD502=\"☑\",TRUE)","v":false},{"$f":"IF(AF502,AE502,\"\")","v":""},"□","出張料理",{"$f":"IF(AH502=\"☑\",TRUE)","v":false},{"$f":"IF(AJ502,AI502,\"\")","v":""},"□","温泉・銭湯（たまり場）",false,"","□","多目的トイレ",false,"","□","習い事",{"$f":"IF(AT502=\"☑\",TRUE)","v":false},{"$f":"IF(AV502,AU502,\"\")","v":""},"□","金融・保険",false,"",null,null,null,null,null,"","□","北区",{"$f":"IF(BH502=\"☑\",TRUE)","v":false},{"$f":"\"さいたま市:\"&BI502","v":"さいたま市:北区"},{"$f":"IF(BJ502,BK502,\"\")","v":""},null,"□","蕨市",{"$f":"IF(BN502=\"☑\",TRUE)","v":false},{"$f":"\"南部地域:\"&BO502","v":"南部地域:蕨市"},{"$f":"IF(BP502,BQ502,\"\")","v":""},null,"□","志木市",{"$f":"IF(BT502=\"☑\",TRUE)","v":false},{"$f":"\"南西部地域:\"&BU502","v":"南西部地域:志木市"},{"$f":"IF(BV502,BW502,\"\")","v":""},null,"□","草加市",{"$f":"IF(BZ502=\"☑\",TRUE)","v":false},{"$f":"\"東部地域:\"&CA502","v":"東部地域:草加市"},"",null,"□","上尾市",{"$f":"IF(CF502=\"☑\",TRUE)","v":false},{"$f":"\"県央地域:\"&CG502","v":"県央地域:上尾市"},{"$f":"IF(CH502,CI502,\"\")","v":""},null,"□","東松山市",{"$f":"IF(CL502=\"☑\",TRUE)","v":false},{"$f":"\"川越比企地域:\"&CM502","v":"川越比企地域:東松山市"},{"$f":"IF(CN502,CO502,\"\")","v":""},null,"□","飯能市",{"$f":"IF(CR502=\"☑\",TRUE)","v":false},{"$f":"\"西部地域:\"&CS502","v":"西部地域:飯能市"},{"$f":"IF(CT502,CU502,\"\")","v":""},null,"□","加須市",{"$f":"IF(CX502=\"☑\",TRUE)","v":false},{"$f":"\"利根地域:\"&CY502","v":"利根地域:加須市"},{"$f":"IF(CZ502,DA502,\"\")","v":""},null,"□","本庄市",{"$f":"IF(DD502=\"☑\",TRUE)","v":false},{"$f":"\"北部地域:\"&DE502","v":"北部地域:本庄市"},{"$f":"IF(DF502,DG502,\"\")","v":""},null,"□","横瀬町",{"$f":"IF(DJ502=\"☑\",TRUE)","v":false},{"$f":"\"秩父地域:\"&DK502","v":"秩父地域:横瀬町"},{"$f":"IF(DL502,DM502,\"\")","v":""},null,null,null,null,null,null,null,null,null,null,null,null,null,null,"□","火曜日",{"$f":"IF(EC502=\"☑\",TRUE)","v":false},{"$f":"IF(EE502,ED502,\"\")","v":""},null,"□","午後（12:00～16：00）",{"$f":"IF(EH502=\"☑\",TRUE)","v":false},{"$f":"IF(EJ502,EI502,\"\")","v":""},null,null,null,null,"に基づき感染対策を実施している。",null,{"$f":"IF(EQ502,EP502,\"\")","v":""}]
[null,null,null,null,null,null,null,null,null,null,null,null,null,null,null,null,null,null,null,null,null,"□","買物代行",false,"","□","食材宅配",false,"","□","温泉・銭湯（送迎）",false,"","□","屋外作業・力仕事",false,"","□","カフェ・ファーストフード",false,"","□","休憩スペース",false,"","□","映画館",false,"","□","住宅・リフォーム",false,"",null,null,null,null,null,"","□","大宮区",false,"さいたま市:大宮区","",null,"□","戸田市",{"$f":"IF(BN503=\"☑\",TRUE)","v":false},{"$f":"\"南部地域:\"&BO503","v":"南部地域:戸田市"},"",null,"□","和光市",false,"南西部地域:和光市","",null,"□","越谷市",false,"東部地域:越谷市","",null,"□","桶川市",{"$f":"IF(CF503=\"☑\",TRUE)","v":false},{"$f":"\"県央地域:\"&CG503","v":"県央地域:桶川市"},"",null,"□","坂戸市",false,"川越比企地域:坂戸市","",null,"□","狭山市",{"$f":"IF(CR503=\"☑\",TRUE)","v":false},{"$f":"\"西部地域:\"&CS503","v":"西部地域:狭山市"},"",null,"□","羽生市",false,"利根地域:羽生市","",null,"□","深谷市",false,"北部地域:深谷市","",null,"□","皆野町",{"$f":"IF(DJ503=\"☑\",TRUE)","v":false},{"$f":"\"秩父地域:\"&DK503","v":"秩父地域:皆野町"},"",null,null,null,null,null,null,null,null,null,null,null,null,null,null,"□","水曜日",false,"",null,"□","夕方(16:00～18:00)",{"$f":"IF(EH503=\"☑\",TRUE)","v":false},{"$f":"IF(EJ503,EI503,\"\")","v":""},null,null,null,"□","各種団体が定める業種別ガイドライン",{"$f":"IF(EO503=\"☑\",TRUE)","v":false},{"$f":"IF(EQ503,EP503,\"\")","v":""}]
[null,null,null,null,null,null,null,null,null,null,null,null,null,null,null,null,null,null,null,null,null,"□","移動販売",false,"","□","日用品配達",false,"","□","整体・マッサージ（送迎）",false,"","□","整体・マッサージ（出張）",false,"","□","飲食店",false,"","□","駐車場",false,"","□","カラオケ店",false,"","□","パソコン・スマートフォン",false,"",null,null,null,null,null,"","□","見沼区",false,"さいたま市:見沼区","",null,null,null,null,null,"",null,"□","新座市",false,"南西部地域:新座市","",null,"□","八潮市",false,"東部地域:八潮市","",null,"□","北本市",{"$f":"IF(CF504=\"☑\",TRUE)","v":false},{"$f":"\"県央地域:\"&CG504","v":"県央地域:北本市"},"",null,"□","鶴ヶ島市",false,"川越比企地域:鶴ヶ島市","",null,"□","入間市",{"$f":"IF(CR504=\"☑\",TRUE)","v":false},{"$f":"\"西部地域:\"&CS504","v":"西部地域:入間市"},"",null,"□","久喜市",false,"利根地域:久喜市","",null,"□","美里町",false,"北部地域:美里町","",null,"□","長瀞町",{"$f":"IF(DJ504=\"☑\",TRUE)","v":false},{"$f":"\"秩父地域:\"&DK504","v":"秩父地域:長瀞町"},"",null,null,null,null,null,null,null,null,null,null,null,null,null,null,"□","木曜日",false,"",null,"□","夜(18:00～）",{"$f":"IF(EH504=\"☑\",TRUE)","v":false},{"$f":"IF(EJ504,EI504,\"\")","v":""},null,null,null,null,"に基づき感染対策を実施している。"]
[null,null,null,null,null,null,null,null,null,null,null,null,null,null,null,null,null,null,null,null,null,"□","割引サービス",false,"","□","薬・介護用品配達",false,"","□","乗り合いサービス",false,"","□","理容室・美容室（出張）",false,"","□","イートインスペース",false,"","□","貸しスペース",false,"","□","麻雀・将棋・囲碁",false,"","□","認知症サポート企業",false,"",null,null,null,null,null,"","□","中央区",false,"さいたま市:中央区","",null,null,null,null,null,"",null,"□","富士見市",false,"南西部地域:富士見市","",null,"□","三郷市",false,"東部地域:三郷市","",null,"□","伊奈町",{"$f":"IF(CF505=\"☑\",TRUE)","v":false},{"$f":"\"県央地域:\"&CG505","v":"県央地域:伊奈町"},"",null,"□","毛呂山町",false,"川越比企地域:毛呂山町","",null,"□","日高市",{"$f":"IF(CR505=\"☑\",TRUE)","v":false},{"$f":"\"西部地域:\"&CS505","v":"西部地域:日高市"},"",null,"□","蓮田市",false,"利根地域:蓮田市","",null,"□","神川町",false,"北部地域:神川町","",null,"□","小鹿野町",{"$f":"IF(DJ505=\"☑\",TRUE)","v":false},{"$f":"\"秩父地域:\"&DK505","v":"秩父地域:小鹿野町"},"",null,null,null,null,null,null,null,null,null,null,null,null,null,null,"□","金曜日",false,"",null,null,null,null,null,null,null,null,"□","その他の感染対策を実施している。",{"$f":"IF(EO505=\"☑\",TRUE)","v":false},{"$f":"IF(EQ505,EP505,\"\")","v":""}]
[null,null,null,null,null,null,null,null,null,null,null,null,null,null,null,null,null,null,null,null,null,"□","その他（買物）",false,"","□","その他（宅配・デリバリー）",false,"","□","個別移送サービス",false,"","□","ペット",false,"","□","その他（運動・たまり場）",false,"","□","その他（設備・施設・場所貸し）",false,"","□","ゲームセンター",false,"","□","その他（生活サービス）",false,"",null,null,null,null,null,"","□","桜区",false,"さいたま市:桜区","",null,null,null,null,null,"",null,"□","ふじみ野市",false,"南西部地域:ふじみ野市","",null,"□","吉川市",false,"東部地域:吉川市","",null,null,null,null,null,"",null,"□","越生町",false,"川越比企地域:越生町","",null,null,null,null,null,"",null,"□","幸手市",false,"利根地域:幸手市","",null,"□","上里町",false,"北部地域:上里町","",null,null,null,null,null,"",null,null,null,null,null,null,null,null,null,null,null,null,null,null,"□","土曜日",false,"",null,null,null,null,null,null,null,null,"□","感染対策を特に実施していない。",{"$f":"IF(EO506=\"☑\",TRUE)","v":false},{"$f":"IF(EQ506,EP506,\"\")","v":""}]
[null,null,null,null,null,null,null,null,null,null,null,null,null,null,null,null,null,null,null,null,null,null,null,null,null,null,null,null,null,"□","交通機関サービス",false,"","□","その他（出張サービス）",false,"",null,null,null,null,null,null,null,null,"□","旅行代理店",false,"",null,null,null,null,null,null,null,null,null,"","□","浦和区",false,"さいたま市:浦和区","",null,null,null,null,null,"",null,"□","三芳町",false,"南西部地域:三芳町","",null,"□","松伏町",false,"東部地域:松伏町","",null,null,null,null,null,"",null,"□","滑川町",false,"川越比企地域:滑川町","",null,null,null,null,null,"",null,"□","白岡市",false,"利根地域:白岡市","",null,"□","寄居町",false,"北部地域:寄居町","",null,null,null,null,null,"",null,null,null,null,null,null,null,null,null,null,null,null,null,null,"□","日曜日",false,""]
[null,null,null,null,null,null,null,null,null,null,null,null,null,null,null,null,null,null,null,null,null,null,null,null,null,null,null,null,null,"□","その他（送迎・移動支援）",false,"",null,null,null,"",null,null,null,{"$f":"IF(AN508,AM508,\"\")","v":""},null,null,null,{"$f":"IF(AR508,AQ508,\"\")","v":""},"□","その他（学び・趣味）",false,"",null,null,null,null,null,null,null,null,null,"","□","南区",false,"さいたま市:南区","",null,null,null,null,null,"",null,null,null,null,null,"",null,null,null,null,null,"",null,null,null,null,null,"",null,"□","嵐山町",false,"川越比企地域:嵐山町","",null,null,null,null,null,"",null,"□","宮代町",false,"利根地域:宮代町","",null,null,null,null,null,"",null,null,null,null,null,""]
[null,null,null,null,null,null,null,null,null,null,null,null,null,null,null,null,null,null,null,null,null,null,null,null,null,null,null,null,null,null,null,null,null,null,null,null,null,null,null,null,null,null,null,null,null,null,null,null,null,null,null,null,null,null,null,null,null,null,"","□","緑区",false,"さいたま市:緑区","",null,null,null,null,null,"",null,null,null,null,null,"",null,null,null,null,null,"",null,null,null,null,null,"",null,"□","小川町",false,"川越比企地域:小川町","",null,null,null,null,null,"",null,"□","杉戸町",false,"利根地域:杉戸町","",null,null,null,null,null,"",null,null,null,null,null,""]
[null,null,null,null,null,null,null,null,null,null,null,null,null,null,null,null,null,null,null,null,null,null,null,null,null,null,null,null,null,null,null,null,null,null,null,null,null,null,null,null,null,null,null,null,null,null,null,null,null,null,null,null,null,null,null,null,null,null,"","□","岩槻区",{"$f":"IF(BH510=\"☑\",TRUE)","v":false},"さいたま市:岩槻区","",null,null,null,null,null,"",null,null,null,null,null,"",null,null,null,null,null,"",null,null,null,null,null,"",null,"□","川島町",false,"川越比企地域:川島町","",null,null,null,null,null,"",null,null,null,null,null,"",null,null,null,null,null,"",null,null,null,null,null,""]
[null,null,null,null,null,null,null,null,null,null,null,null,null,null,null,null,null,null,null,null,null,null,null,null,null,null,null,null,null,null,null,null,null,null,null,null,null,null,null,null,null,null,null,null,null,null,null,null,null,null,null,null,null,null,null,null,null,null,"",null,null,null,null,null,null,null,null,null,null,null,null,null,null,null,null,null,null,null,null,null,null,null,null,null,null,null,null,null,null,"□","吉見町",false,"川越比企地域:吉見町","",null,null,null,null,null,"",null,null,null,null,null,"",null,null,null,null,null,"",null,null,null,null,null,""]
[null,null,null,null,null,null,null,null,null,null,null,null,null,null,null,null,null,null,null,null,null,null,null,null,null,null,null,null,null,null,null,null,null,null,null,null,null,null,null,null,null,null,null,null,null,null,null,null,null,null,null,null,null,null,null,null,null,null,"",null,null,null,null,null,null,null,null,null,null,null,null,null,null,null,null,null,null,null,null,null,null,null,null,null,null,null,null,null,null,"□","鳩山町",false,"川越比企地域:鳩山町","",null,null,null,null,null,"",null,null,null,null,null,"",null,null,null,null,null,"",null,null,null,null,null,""]
[null,null,null,null,null,null,null,null,null,null,null,null,null,null,null,null,null,null,null,null,null,null,null,null,null,null,null,null,null,null,null,null,null,null,null,null,null,null,null,null,null,null,null,null,null,null,null,null,null,null,null,null,null,null,null,null,null,null,"",null,null,null,null,null,null,null,null,null,null,null,null,null,null,null,null,null,null,null,null,null,null,null,null,null,null,null,null,null,null,"□","ときがわ町",false,"川越比企地域:ときがわ町","",null,null,null,null,null,"",null,null,null,null,null,"",null,null,null,null,null,"",null,null,null,null,null,""]
[null,null,null,null,null,null,null,null,null,null,null,null,null,null,null,null,null,null,null,null,null,null,null,null,null,null,null,null,null,null,null,null,null,null,null,null,null,null,null,null,null,null,null,null,null,null,null,null,null,null,null,null,null,null,null,null,null,null,"",null,null,null,null,null,null,null,null,null,null,null,null,null,null,null,null,null,null,null,null,null,null,null,null,null,null,null,null,null,null,"□","東秩父村",false,"川越比企地域:東秩父村","",null,null,null,null,null,"",null,null,null,null,null,"",null,null,null,null,null,"",null,null,null,null,null,""]
[36,null,null,null,null,null,null,null,null,null,null,null,null,null,null,null,null,null,null,null,null,"□","配送",{"$f":"IF(V515=\"☑\",TRUE)","v":false},{"$f":"IF(X515,W515,\"\")","v":""},"□","弁当配達",{"$f":"IF(Z515=\"☑\",TRUE)","v":false},{"$f":"IF(AB515,AA515,\"\")","v":""},"□","理容室・美容室（送迎）",{"$f":"IF(AD515=\"☑\",TRUE)","v":false},{"$f":"IF(AF515,AE515,\"\")","v":""},"□","家事代行",{"$f":"IF(AH515=\"☑\",TRUE)","v":false},{"$f":"IF(AJ515,AI515,\"\")","v":""},"□","フィットネス・ジム（運動）",{"$f":"IF(AL515=\"☑\",TRUE)","v":false},{"$f":"IF(AN515,AM515,\"\")","v":""},"□","車イス対応（バリアフリー）",{"$f":"IF(AP515=\"☑\",TRUE)","v":false},{"$f":"IF(AR515,AQ515,\"\")","v":""},"□","講座・教室・イベント",{"$f":"IF(AT515=\"☑\",TRUE)","v":false},{"$f":"IF(AV515,AU515,\"\")","v":""},"□","防犯・見守り",{"$f":"IF(AX515=\"☑\",TRUE)","v":false},{"$f":"IF(AZ515,AY515,\"\")","v":""},{"$f":"_xludf.TEXTJOIN(\",\",TRUE,Y515:Y528,AC515:AC528,AG515:AG528,AK515:AK528,AO515:AO528,AS515:AS528,AW515:AW528,BA515:BA528)","v":""},"□","埼玉県全域",{"$f":"IF(BC515=\"☑\",TRUE)","v":false},"さいたま市:西区,さいたま市:北区,さいたま市:大宮区,さいたま市:見沼区,さいたま市:中央区,さいたま市:桜区,さいたま市:浦和区,さいたま市:南区,さいたま市:緑区,さいたま市:岩槻区,南部地域:川口市,南部地域:蕨市,南部地域:戸田市,南西部地域:朝霞市,南西部地域:志木市,南西部地域:和光市,南西部地域:新座市,南西部地域:富士見市,南西部地域:ふじみ野市,南西部地域:三芳町,東部地域:春日部市,東部地域:草加市,東部地域:越谷市,東部地域:八潮市,東部地域:三郷市,東部地域:吉川市,東部地域:松伏町,県央地域:鴻巣市,県央地域:上尾市,県央地域:桶川市,県央地域:北本市,県央地域:伊奈町,川越比企地域:川越市,川越比企地域:東松山市,川越比企地域:坂戸市,川越比企地域:鶴ヶ島市,川越比企地域:毛呂山町,川越比企地域:越生町,川越比企地域:滑川町,川越比企地域:嵐山町,川越比企地域:小川町,川越比企地域:川島町,川越比企地域:吉見町,川越比企地域:鳩山町,川越比企地域:ときがわ町,川越比企地域:東秩父村,西部地域:所沢市,西部地域:飯能市,西部地域:狭山市,西部地域:入間市,西部地域:日高市,利根地域:行田市,利根地域:加須市,利根地域:羽生市,利根地域:久喜市,利根地域:蓮田市,利根地域:幸手市,利根地域:白岡市,利根地域:宮代町,利根地域:杉戸町,北部地域:熊谷市,北部地域:本庄市,北部地域:深谷市,北部地域:美里町,北部地域:神川町,北部地域:上里町,北部地域:寄居町,秩父地域:秩父市,秩父地域:横瀬町,秩父地域:皆野町,秩父地域:長瀞町,秩父地域:小鹿野町","","□","西区",{"$f":"IF(BH515=\"☑\",TRUE)","v":false},{"$f":"\"さいたま市:\"&BI515","v":"さいたま市:西区"},{"$f":"IF(BJ515,BK515,\"\")","v":""},{"$f":"_xludf.TEXTJOIN(\",\",TRUE,BL515:BL528)","v":""},"□","川口市",{"$f":"IF(BN515=\"☑\",TRUE)","v":false},{"$f":"\"南部地域:\"&BO515","v":"南部地域:川口市"},{"$f":"IF(BP515,BQ515,\"\")","v":""},{"$f":"_xludf.TEXTJOIN(\",\",TRUE,BR515:BR528)","v":""},"□","朝霞市",{"$f":"IF(BT515=\"☑\",TRUE)","v":false},{"$f":"\"南西部地域:\"&BU515","v":"南西部地域:朝霞市"},{"$f":"IF(BV515,BW515,\"\")","v":""},{"$f":"_xludf.TEXTJOIN(\",\",TRUE,BX515:BX528)","v":""},"□","春日部市",{"$f":"IF(BZ515=\"☑\",TRUE)","v":false},{"$f":"\"東部地域:\"&CA515","v":"東部地域:春日部市"},{"$f":"IF(CB515,CC515,\"\")","v":""},{"$f":"_xludf.TEXTJOIN(\",\",TRUE,CD515:CD528)","v":""},"□","鴻巣市",{"$f":"IF(CF515=\"☑\",TRUE)","v":false},{"$f":"\"県央地域:\"&CG515","v":"県央地域:鴻巣市"},{"$f":"IF(CH515,CI515,\"\")","v":""},{"$f":"_xludf.TEXTJOIN(\",\",TRUE,CJ515:CJ528)","v":""},"□","川越市",{"$f":"IF(CL515=\"☑\",TRUE)","v":false},{"$f":"\"川越比企地域:\"&CM515","v":"川越比企地域:川越市"},{"$f":"IF(CN515,CO515,\"\")","v":""},{"$f":"_xludf.TEXTJOIN(\",\",TRUE,CP515:CP528)","v":""},"□","所沢市",{"$f":"IF(CR515=\"☑\",TRUE)","v":false},{"$f":"\"西部地域:\"&CS515","v":"西部地域:所沢市"},{"$f":"IF(CT515,CU515,\"\")","v":""},{"$f":"_xludf.TEXTJOIN(\",\",TRUE,CV515:CV528)","v":""},"□","行田市",{"$f":"IF(CX515=\"☑\",TRUE)","v":false},{"$f":"\"利根地域:\"&CY515","v":"利根地域:行田市"},{"$f":"IF(CZ515,DA515,\"\")","v":""},{"$f":"_xludf.TEXTJOIN(\",\",TRUE,DB515:DB528)","v":""},"□","熊谷市",{"$f":"IF(DD515=\"☑\",TRUE)","v":false},{"$f":"\"北部地域:\"&DE515","v":"北部地域:熊谷市"},{"$f":"IF(DF515,DG515,\"\")","v":""},{"$f":"_xludf.TEXTJOIN(\",\",TRUE,DH515:DH528)","v":""},"□","秩父市",{"$f":"IF(DJ515=\"☑\",TRUE)","v":false},{"$f":"\"秩父地域:\"&DK515","v":"秩父地域:秩父市"},{"$f":"IF(DL515,DM515,\"\")","v":""},{"$f":"_xludf.TEXTJOIN(\",\",TRUE,DN515:DN528)","v":""},{"$f":"_xludf.TEXTJOIN(\",\",TRUE,BG515,BM515,BS515,BY515,CE515,CK515,CQ515,CW515,DC515,DI515,DO515)","v":""},null,null,null,null,null,null,null,null,null,null,null,null,"□","月曜日",{"$f":"IF(EC515=\"☑\",TRUE)","v":false},{"$f":"IF(EE515,ED515,\"\")","v":""},{"$f":"_xludf.TEXTJOIN(\",\",TRUE,EF515:EF528)","v":""},"□","午前（～12:00）",{"$f":"IF(EH515=\"☑\",TRUE)","v":false},{"$f":"IF(EJ515,EI515,\"\")","v":""},{"$f":"_xludf.TEXTJOIN(\",\",TRUE,EK515:EK528)","v":""},null,null,"□","彩の国「新しい生活様式」安心宣言",{"$f":"IF(EO515=\"☑\",TRUE)","v":false},{"$f":"IF(EQ515,EP515,\"\")","v":""},{"$f":"_xludf.TEXTJOIN(\",\",TRUE,ER515:ER528)","v":""},null,"",null,"",null,"",null,"",null,"",null,"",null,"",null,""]
[null,null,null,null,null,null,null,null,null,null,null,null,null,null,null,null,null,null,null,null,null,"□","買物サポート",false,"","□","料理デリバリー（出前）",false,"","□","フィットネス・ジム（送迎）",{"$f":"IF(AD516=\"☑\",TRUE)","v":false},{"$f":"IF(AF516,AE516,\"\")","v":""},"□","出張料理",{"$f":"IF(AH516=\"☑\",TRUE)","v":false},{"$f":"IF(AJ516,AI516,\"\")","v":""},"□","温泉・銭湯（たまり場）",false,"","□","多目的トイレ",false,"","□","習い事",{"$f":"IF(AT516=\"☑\",TRUE)","v":false},{"$f":"IF(AV516,AU516,\"\")","v":""},"□","金融・保険",false,"",null,null,null,null,null,"","□","北区",{"$f":"IF(BH516=\"☑\",TRUE)","v":false},{"$f":"\"さいたま市:\"&BI516","v":"さいたま市:北区"},{"$f":"IF(BJ516,BK516,\"\")","v":""},null,"□","蕨市",{"$f":"IF(BN516=\"☑\",TRUE)","v":false},{"$f":"\"南部地域:\"&BO516","v":"南部地域:蕨市"},{"$f":"IF(BP516,BQ516,\"\")","v":""},null,"□","志木市",{"$f":"IF(BT516=\"☑\",TRUE)","v":false},{"$f":"\"南西部地域:\"&BU516","v":"南西部地域:志木市"},{"$f":"IF(BV516,BW516,\"\")","v":""},null,"□","草加市",{"$f":"IF(BZ516=\"☑\",TRUE)","v":false},{"$f":"\"東部地域:\"&CA516","v":"東部地域:草加市"},"",null,"□","上尾市",{"$f":"IF(CF516=\"☑\",TRUE)","v":false},{"$f":"\"県央地域:\"&CG516","v":"県央地域:上尾市"},{"$f":"IF(CH516,CI516,\"\")","v":""},null,"□","東松山市",{"$f":"IF(CL516=\"☑\",TRUE)","v":false},{"$f":"\"川越比企地域:\"&CM516","v":"川越比企地域:東松山市"},{"$f":"IF(CN516,CO516,\"\")","v":""},null,"□","飯能市",{"$f":"IF(CR516=\"☑\",TRUE)","v":false},{"$f":"\"西部地域:\"&CS516","v":"西部地域:飯能市"},{"$f":"IF(CT516,CU516,\"\")","v":""},null,"□","加須市",{"$f":"IF(CX516=\"☑\",TRUE)","v":false},{"$f":"\"利根地域:\"&CY516","v":"利根地域:加須市"},{"$f":"IF(CZ516,DA516,\"\")","v":""},null,"□","本庄市",{"$f":"IF(DD516=\"☑\",TRUE)","v":false},{"$f":"\"北部地域:\"&DE516","v":"北部地域:本庄市"},{"$f":"IF(DF516,DG516,\"\")","v":""},null,"□","横瀬町",{"$f":"IF(DJ516=\"☑\",TRUE)","v":false},{"$f":"\"秩父地域:\"&DK516","v":"秩父地域:横瀬町"},{"$f":"IF(DL516,DM516,\"\")","v":""},null,null,null,null,null,null,null,null,null,null,null,null,null,null,"□","火曜日",{"$f":"IF(EC516=\"☑\",TRUE)","v":false},{"$f":"IF(EE516,ED516,\"\")","v":""},null,"□","午後（12:00～16：00）",{"$f":"IF(EH516=\"☑\",TRUE)","v":false},{"$f":"IF(EJ516,EI516,\"\")","v":""},null,null,null,null,"に基づき感染対策を実施している。",null,{"$f":"IF(EQ516,EP516,\"\")","v":""}]
[null,null,null,null,null,null,null,null,null,null,null,null,null,null,null,null,null,null,null,null,null,"□","買物代行",false,"","□","食材宅配",false,"","□","温泉・銭湯（送迎）",false,"","□","屋外作業・力仕事",false,"","□","カフェ・ファーストフード",false,"","□","休憩スペース",false,"","□","映画館",false,"","□","住宅・リフォーム",false,"",null,null,null,null,null,"","□","大宮区",false,"さいたま市:大宮区","",null,"□","戸田市",{"$f":"IF(BN517=\"☑\",TRUE)","v":false},{"$f":"\"南部地域:\"&BO517","v":"南部地域:戸田市"},"",null,"□","和光市",false,"南西部地域:和光市","",null,"□","越谷市",false,"東部地域:越谷市","",null,"□","桶川市",{"$f":"IF(CF517=\"☑\",TRUE)","v":false},{"$f":"\"県央地域:\"&CG517","v":"県央地域:桶川市"},"",null,"□","坂戸市",false,"川越比企地域:坂戸市","",null,"□","狭山市",{"$f":"IF(CR517=\"☑\",TRUE)","v":false},{"$f":"\"西部地域:\"&CS517","v":"西部地域:狭山市"},"",null,"□","羽生市",false,"利根地域:羽生市","",null,"□","深谷市",false,"北部地域:深谷市","",null,"□","皆野町",{"$f":"IF(DJ517=\"☑\",TRUE)","v":false},{"$f":"\"秩父地域:\"&DK517","v":"秩父地域:皆野町"},"",null,null,null,null,null,null,null,null,null,null,null,null,null,null,"□","水曜日",false,"",null,"□","夕方(16:00～18:00)",{"$f":"IF(EH517=\"☑\",TRUE)","v":false},{"$f":"IF(EJ517,EI517,\"\")","v":""},null,null,null,"□","各種団体が定める業種別ガイドライン",{"$f":"IF(EO517=\"☑\",TRUE)","v":false},{"$f":"IF(EQ517,EP517,\"\")","v":""}]
[null,null,null,null,null,null,null,null,null,null,null,null,null,null,null,null,null,null,null,null,null,"□","移動販売",false,"","□","日用品配達",false,"","□","整体・マッサージ（送迎）",false,"","□","整体・マッサージ（出張）",false,"","□","飲食店",false,"","□","駐車場",false,"","□","カラオケ店",false,"","□","パソコン・スマートフォン",false,"",null,null,null,null,null,"","□","見沼区",false,"さいたま市:見沼区","",null,null,null,null,null,"",null,"□","新座市",false,"南西部地域:新座市","",null,"□","八潮市",false,"東部地域:八潮市","",null,"□","北本市",{"$f":"IF(CF518=\"☑\",TRUE)","v":false},{"$f":"\"県央地域:\"&CG518","v":"県央地域:北本市"},"",null,"□","鶴ヶ島市",false,"川越比企地域:鶴ヶ島市","",null,"□","入間市",{"$f":"IF(CR518=\"☑\",TRUE)","v":false},{"$f":"\"西部地域:\"&CS518","v":"西部地域:入間市"},"",null,"□","久喜市",false,"利根地域:久喜市","",null,"□","美里町",false,"北部地域:美里町","",null,"□","長瀞町",{"$f":"IF(DJ518=\"☑\",TRUE)","v":false},{"$f":"\"秩父地域:\"&DK518","v":"秩父地域:長瀞町"},"",null,null,null,null,null,null,null,null,null,null,null,null,null,null,"□","木曜日",false,"",null,"□","夜(18:00～）",{"$f":"IF(EH518=\"☑\",TRUE)","v":false},{"$f":"IF(EJ518,EI518,\"\")","v":""},null,null,null,null,"に基づき感染対策を実施している。"]
[null,null,null,null,null,null,null,null,null,null,null,null,null,null,null,null,null,null,null,null,null,"□","割引サービス",false,"","□","薬・介護用品配達",false,"","□","乗り合いサービス",false,"","□","理容室・美容室（出張）",false,"","□","イートインスペース",false,"","□","貸しスペース",false,"","□","麻雀・将棋・囲碁",false,"","□","認知症サポート企業",false,"",null,null,null,null,null,"","□","中央区",false,"さいたま市:中央区","",null,null,null,null,null,"",null,"□","富士見市",false,"南西部地域:富士見市","",null,"□","三郷市",false,"東部地域:三郷市","",null,"□","伊奈町",{"$f":"IF(CF519=\"☑\",TRUE)","v":false},{"$f":"\"県央地域:\"&CG519","v":"県央地域:伊奈町"},"",null,"□","毛呂山町",false,"川越比企地域:毛呂山町","",null,"□","日高市",{"$f":"IF(CR519=\"☑\",TRUE)","v":false},{"$f":"\"西部地域:\"&CS519","v":"西部地域:日高市"},"",null,"□","蓮田市",false,"利根地域:蓮田市","",null,"□","神川町",false,"北部地域:神川町","",null,"□","小鹿野町",{"$f":"IF(DJ519=\"☑\",TRUE)","v":false},{"$f":"\"秩父地域:\"&DK519","v":"秩父地域:小鹿野町"},"",null,null,null,null,null,null,null,null,null,null,null,null,null,null,"□","金曜日",false,"",null,null,null,null,null,null,null,null,"□","その他の感染対策を実施している。",{"$f":"IF(EO519=\"☑\",TRUE)","v":false},{"$f":"IF(EQ519,EP519,\"\")","v":""}]
[null,null,null,null,null,null,null,null,null,null,null,null,null,null,null,null,null,null,null,null,null,"□","その他（買物）",false,"","□","その他（宅配・デリバリー）",false,"","□","個別移送サービス",false,"","□","ペット",false,"","□","その他（運動・たまり場）",false,"","□","その他（設備・施設・場所貸し）",false,"","□","ゲームセンター",false,"","□","その他（生活サービス）",false,"",null,null,null,null,null,"","□","桜区",false,"さいたま市:桜区","",null,null,null,null,null,"",null,"□","ふじみ野市",false,"南西部地域:ふじみ野市","",null,"□","吉川市",false,"東部地域:吉川市","",null,null,null,null,null,"",null,"□","越生町",false,"川越比企地域:越生町","",null,null,null,null,null,"",null,"□","幸手市",false,"利根地域:幸手市","",null,"□","上里町",false,"北部地域:上里町","",null,null,null,null,null,"",null,null,null,null,null,null,null,null,null,null,null,null,null,null,"□","土曜日",false,"",null,null,null,null,null,null,null,null,"□","感染対策を特に実施していない。",{"$f":"IF(EO520=\"☑\",TRUE)","v":false},{"$f":"IF(EQ520,EP520,\"\")","v":""}]
[null,null,null,null,null,null,null,null,null,null,null,null,null,null,null,null,null,null,null,null,null,null,null,null,null,null,null,null,null,"□","交通機関サービス",false,"","□","その他（出張サービス）",false,"",null,null,null,null,null,null,null,null,"□","旅行代理店",false,"",null,null,null,null,null,null,null,null,null,"","□","浦和区",false,"さいたま市:浦和区","",null,null,null,null,null,"",null,"□","三芳町",false,"南西部地域:三芳町","",null,"□","松伏町",false,"東部地域:松伏町","",null,null,null,null,null,"",null,"□","滑川町",false,"川越比企地域:滑川町","",null,null,null,null,null,"",null,"□","白岡市",false,"利根地域:白岡市","",null,"□","寄居町",false,"北部地域:寄居町","",null,null,null,null,null,"",null,null,null,null,null,null,null,null,null,null,null,null,null,null,"□","日曜日",false,""]
[null,null,null,null,null,null,null,null,null,null,null,null,null,null,null,null,null,null,null,null,null,null,null,null,null,null,null,null,null,"□","その他（送迎・移動支援）",false,"",null,null,null,"",null,null,null,{"$f":"IF(AN522,AM522,\"\")","v":""},null,null,null,{"$f":"IF(AR522,AQ522,\"\")","v":""},"□","その他（学び・趣味）",false,"",null,null,null,null,null,null,null,null,null,"","□","南区",false,"さいたま市:南区","",null,null,null,null,null,"",null,null,null,null,null,"",null,null,null,null,null,"",null,null,null,null,null,"",null,"□","嵐山町",false,"川越比企地域:嵐山町","",null,null,null,null,null,"",null,"□","宮代町",false,"利根地域:宮代町","",null,null,null,null,null,"",null,null,null,null,null,""]
[null,null,null,null,null,null,null,null,null,null,null,null,null,null,null,null,null,null,null,null,null,null,null,null,null,null,null,null,null,null,null,null,null,null,null,null,null,null,null,null,null,null,null,null,null,null,null,null,null,null,null,null,null,null,null,null,null,null,{"$f":"IF(BE523,BF523,\"\")","v":""},"□","緑区",false,"さいたま市:緑区","",null,null,null,null,null,"",null,null,null,null,null,"",null,null,null,null,null,"",null,null,null,null,null,"",null,"□","小川町",false,"川越比企地域:小川町","",null,null,null,null,null,"",null,"□","杉戸町",false,"利根地域:杉戸町","",null,null,null,null,null,"",null,null,null,null,null,""]
[null,null,null,null,null,null,null,null,null,null,null,null,null,null,null,null,null,null,null,null,null,null,null,null,null,null,null,null,null,null,null,null,null,null,null,null,null,null,null,null,null,null,null,null,null,null,null,null,null,null,null,null,null,null,null,null,null,null,"","□","岩槻区",{"$f":"IF(BH524=\"☑\",TRUE)","v":false},"さいたま市:岩槻区","",null,null,null,null,null,"",null,null,null,null,null,"",null,null,null,null,null,"",null,null,null,null,null,"",null,"□","川島町",false,"川越比企地域:川島町","",null,null,null,null,null,"",null,null,null,null,null,"",null,null,null,null,null,"",null,null,null,null,null,""]
[null,null,null,null,null,null,null,null,null,null,null,null,null,null,null,null,null,null,null,null,null,null,null,null,null,null,null,null,null,null,null,null,null,null,null,null,null,null,null,null,null,null,null,null,null,null,null,null,null,null,null,null,null,null,null,null,null,null,"",null,null,null,null,null,null,null,null,null,null,null,null,null,null,null,null,null,null,null,null,null,null,null,null,null,null,null,null,null,null,"□","吉見町",false,"川越比企地域:吉見町","",null,null,null,null,null,"",null,null,null,null,null,"",null,null,null,null,null,"",null,null,null,null,null,""]
[null,null,null,null,null,null,null,null,null,null,null,null,null,null,null,null,null,null,null,null,null,null,null,null,null,null,null,null,null,null,null,null,null,null,null,null,null,null,null,null,null,null,null,null,null,null,null,null,null,null,null,null,null,null,null,null,null,null,"",null,null,null,null,null,null,null,null,null,null,null,null,null,null,null,null,null,null,null,null,null,null,null,null,null,null,null,null,null,null,"□","鳩山町",false,"川越比企地域:鳩山町","",null,null,null,null,null,"",null,null,null,null,null,"",null,null,null,null,null,"",null,null,null,null,null,""]
[null,null,null,null,null,null,null,null,null,null,null,null,null,null,null,null,null,null,null,null,null,null,null,null,null,null,null,null,null,null,null,null,null,null,null,null,null,null,null,null,null,null,null,null,null,null,null,null,null,null,null,null,null,null,null,null,null,null,"",null,null,null,null,null,null,null,null,null,null,null,null,null,null,null,null,null,null,null,null,null,null,null,null,null,null,null,null,null,null,"□","ときがわ町",false,"川越比企地域:ときがわ町","",null,null,null,null,null,"",null,null,null,null,null,"",null,null,null,null,null,"",null,null,null,null,null,""]
[null,null,null,null,null,null,null,null,null,null,null,null,null,null,null,null,null,null,null,null,null,null,null,null,null,null,null,null,null,null,null,null,null,null,null,null,null,null,null,null,null,null,null,null,null,null,null,null,null,null,null,null,null,null,null,null,null,null,"",null,null,null,null,null,null,null,null,null,null,null,null,null,null,null,null,null,null,null,null,null,null,null,null,null,null,null,null,null,null,"□","東秩父村",false,"川越比企地域:東秩父村","",null,null,null,null,null,"",null,null,null,null,null,"",null,null,null,null,null,"",null,null,null,null,null,""]
[37,null,null,null,null,null,null,null,null,null,null,null,null,null,null,null,null,null,null,null,null,"□","配送",{"$f":"IF(V529=\"☑\",TRUE)","v":false},{"$f":"IF(X529,W529,\"\")","v":""},"□","弁当配達",{"$f":"IF(Z529=\"☑\",TRUE)","v":false},{"$f":"IF(AB529,AA529,\"\")","v":""},"□","理容室・美容室（送迎）",{"$f":"IF(AD529=\"☑\",TRUE)","v":false},{"$f":"IF(AF529,AE529,\"\")","v":""},"□","家事代行",{"$f":"IF(AH529=\"☑\",TRUE)","v":false},{"$f":"IF(AJ529,AI529,\"\")","v":""},"□","フィットネス・ジム（運動）",{"$f":"IF(AL529=\"☑\",TRUE)","v":false},{"$f":"IF(AN529,AM529,\"\")","v":""},"□","車イス対応（バリアフリー）",{"$f":"IF(AP529=\"☑\",TRUE)","v":false},{"$f":"IF(AR529,AQ529,\"\")","v":""},"□","講座・教室・イベント",{"$f":"IF(AT529=\"☑\",TRUE)","v":false},{"$f":"IF(AV529,AU529,\"\")","v":""},"□","防犯・見守り",{"$f":"IF(AX529=\"☑\",TRUE)","v":false},{"$f":"IF(AZ529,AY529,\"\")","v":""},{"$f":"_xludf.TEXTJOIN(\",\",TRUE,Y529:Y542,AC529:AC542,AG529:AG542,AK529:AK542,AO529:AO542,AS529:AS542,AW529:AW542,BA529:BA542)","v":""},"□","埼玉県全域",{"$f":"IF(BC529=\"☑\",TRUE)","v":false},"さいたま市:西区,さいたま市:北区,さいたま市:大宮区,さいたま市:見沼区,さいたま市:中央区,さいたま市:桜区,さいたま市:浦和区,さいたま市:南区,さいたま市:緑区,さいたま市:岩槻区,南部地域:川口市,南部地域:蕨市,南部地域:戸田市,南西部地域:朝霞市,南西部地域:志木市,南西部地域:和光市,南西部地域:新座市,南西部地域:富士見市,南西部地域:ふじみ野市,南西部地域:三芳町,東部地域:春日部市,東部地域:草加市,東部地域:越谷市,東部地域:八潮市,東部地域:三郷市,東部地域:吉川市,東部地域:松伏町,県央地域:鴻巣市,県央地域:上尾市,県央地域:桶川市,県央地域:北本市,県央地域:伊奈町,川越比企地域:川越市,川越比企地域:東松山市,川越比企地域:坂戸市,川越比企地域:鶴ヶ島市,川越比企地域:毛呂山町,川越比企地域:越生町,川越比企地域:滑川町,川越比企地域:嵐山町,川越比企地域:小川町,川越比企地域:川島町,川越比企地域:吉見町,川越比企地域:鳩山町,川越比企地域:ときがわ町,川越比企地域:東秩父村,西部地域:所沢市,西部地域:飯能市,西部地域:狭山市,西部地域:入間市,西部地域:日高市,利根地域:行田市,利根地域:加須市,利根地域:羽生市,利根地域:久喜市,利根地域:蓮田市,利根地域:幸手市,利根地域:白岡市,利根地域:宮代町,利根地域:杉戸町,北部地域:熊谷市,北部地域:本庄市,北部地域:深谷市,北部地域:美里町,北部地域:神川町,北部地域:上里町,北部地域:寄居町,秩父地域:秩父市,秩父地域:横瀬町,秩父地域:皆野町,秩父地域:長瀞町,秩父地域:小鹿野町","","□","西区",{"$f":"IF(BH529=\"☑\",TRUE)","v":false},{"$f":"\"さいたま市:\"&BI529","v":"さいたま市:西区"},{"$f":"IF(BJ529,BK529,\"\")","v":""},{"$f":"_xludf.TEXTJOIN(\",\",TRUE,BL529:BL542)","v":""},"□","川口市",{"$f":"IF(BN529=\"☑\",TRUE)","v":false},{"$f":"\"南部地域:\"&BO529","v":"南部地域:川口市"},{"$f":"IF(BP529,BQ529,\"\")","v":""},{"$f":"_xludf.TEXTJOIN(\",\",TRUE,BR529:BR542)","v":""},"□","朝霞市",{"$f":"IF(BT529=\"☑\",TRUE)","v":false},{"$f":"\"南西部地域:\"&BU529","v":"南西部地域:朝霞市"},{"$f":"IF(BV529,BW529,\"\")","v":""},{"$f":"_xludf.TEXTJOIN(\",\",TRUE,BX529:BX542)","v":""},"□","春日部市",{"$f":"IF(BZ529=\"☑\",TRUE)","v":false},{"$f":"\"東部地域:\"&CA529","v":"東部地域:春日部市"},{"$f":"IF(CB529,CC529,\"\")","v":""},{"$f":"_xludf.TEXTJOIN(\",\",TRUE,CD529:CD542)","v":""},"□","鴻巣市",{"$f":"IF(CF529=\"☑\",TRUE)","v":false},{"$f":"\"県央地域:\"&CG529","v":"県央地域:鴻巣市"},{"$f":"IF(CH529,CI529,\"\")","v":""},{"$f":"_xludf.TEXTJOIN(\",\",TRUE,CJ529:CJ542)","v":""},"□","川越市",{"$f":"IF(CL529=\"☑\",TRUE)","v":false},{"$f":"\"川越比企地域:\"&CM529","v":"川越比企地域:川越市"},{"$f":"IF(CN529,CO529,\"\")","v":""},{"$f":"_xludf.TEXTJOIN(\",\",TRUE,CP529:CP542)","v":""},"□","所沢市",{"$f":"IF(CR529=\"☑\",TRUE)","v":false},{"$f":"\"西部地域:\"&CS529","v":"西部地域:所沢市"},{"$f":"IF(CT529,CU529,\"\")","v":""},{"$f":"_xludf.TEXTJOIN(\",\",TRUE,CV529:CV542)","v":""},"□","行田市",{"$f":"IF(CX529=\"☑\",TRUE)","v":false},{"$f":"\"利根地域:\"&CY529","v":"利根地域:行田市"},{"$f":"IF(CZ529,DA529,\"\")","v":""},{"$f":"_xludf.TEXTJOIN(\",\",TRUE,DB529:DB542)","v":""},"□","熊谷市",{"$f":"IF(DD529=\"☑\",TRUE)","v":false},{"$f":"\"北部地域:\"&DE529","v":"北部地域:熊谷市"},{"$f":"IF(DF529,DG529,\"\")","v":""},{"$f":"_xludf.TEXTJOIN(\",\",TRUE,DH529:DH542)","v":""},"□","秩父市",{"$f":"IF(DJ529=\"☑\",TRUE)","v":false},{"$f":"\"秩父地域:\"&DK529","v":"秩父地域:秩父市"},{"$f":"IF(DL529,DM529,\"\")","v":""},{"$f":"_xludf.TEXTJOIN(\",\",TRUE,DN529:DN542)","v":""},{"$f":"_xludf.TEXTJOIN(\",\",TRUE,BG529,BM529,BS529,BY529,CE529,CK529,CQ529,CW529,DC529,DI529,DO529)","v":""},null,null,null,null,null,null,null,null,null,null,null,null,"□","月曜日",{"$f":"IF(EC529=\"☑\",TRUE)","v":false},{"$f":"IF(EE529,ED529,\"\")","v":""},{"$f":"_xludf.TEXTJOIN(\",\",TRUE,EF529:EF542)","v":""},"□","午前（～12:00）",{"$f":"IF(EH529=\"☑\",TRUE)","v":false},{"$f":"IF(EJ529,EI529,\"\")","v":""},{"$f":"_xludf.TEXTJOIN(\",\",TRUE,EK529:EK542)","v":""},null,null,"□","彩の国「新しい生活様式」安心宣言",{"$f":"IF(EO529=\"☑\",TRUE)","v":false},{"$f":"IF(EQ529,EP529,\"\")","v":""},{"$f":"_xludf.TEXTJOIN(\",\",TRUE,ER529:ER542)","v":""},null,"",null,"",null,"",null,"",null,"",null,"",null,"",null,""]
[null,null,null,null,null,null,null,null,null,null,null,null,null,null,null,null,null,null,null,null,null,"□","買物サポート",false,"","□","料理デリバリー（出前）",false,"","□","フィットネス・ジム（送迎）",{"$f":"IF(AD530=\"☑\",TRUE)","v":false},{"$f":"IF(AF530,AE530,\"\")","v":""},"□","出張料理",{"$f":"IF(AH530=\"☑\",TRUE)","v":false},{"$f":"IF(AJ530,AI530,\"\")","v":""},"□","温泉・銭湯（たまり場）",false,"","□","多目的トイレ",false,"","□","習い事",{"$f":"IF(AT530=\"☑\",TRUE)","v":false},{"$f":"IF(AV530,AU530,\"\")","v":""},"□","金融・保険",false,"",null,null,null,null,null,"","□","北区",{"$f":"IF(BH530=\"☑\",TRUE)","v":false},{"$f":"\"さいたま市:\"&BI530","v":"さいたま市:北区"},{"$f":"IF(BJ530,BK530,\"\")","v":""},null,"□","蕨市",{"$f":"IF(BN530=\"☑\",TRUE)","v":false},{"$f":"\"南部地域:\"&BO530","v":"南部地域:蕨市"},{"$f":"IF(BP530,BQ530,\"\")","v":""},null,"□","志木市",{"$f":"IF(BT530=\"☑\",TRUE)","v":false},{"$f":"\"南西部地域:\"&BU530","v":"南西部地域:志木市"},{"$f":"IF(BV530,BW530,\"\")","v":""},null,"□","草加市",{"$f":"IF(BZ530=\"☑\",TRUE)","v":false},{"$f":"\"東部地域:\"&CA530","v":"東部地域:草加市"},"",null,"□","上尾市",{"$f":"IF(CF530=\"☑\",TRUE)","v":false},{"$f":"\"県央地域:\"&CG530","v":"県央地域:上尾市"},{"$f":"IF(CH530,CI530,\"\")","v":""},null,"□","東松山市",{"$f":"IF(CL530=\"☑\",TRUE)","v":false},{"$f":"\"川越比企地域:\"&CM530","v":"川越比企地域:東松山市"},{"$f":"IF(CN530,CO530,\"\")","v":""},null,"□","飯能市",{"$f":"IF(CR530=\"☑\",TRUE)","v":false},{"$f":"\"西部地域:\"&CS530","v":"西部地域:飯能市"},{"$f":"IF(CT530,CU530,\"\")","v":""},null,"□","加須市",{"$f":"IF(CX530=\"☑\",TRUE)","v":false},{"$f":"\"利根地域:\"&CY530","v":"利根地域:加須市"},{"$f":"IF(CZ530,DA530,\"\")","v":""},null,"□","本庄市",{"$f":"IF(DD530=\"☑\",TRUE)","v":false},{"$f":"\"北部地域:\"&DE530","v":"北部地域:本庄市"},{"$f":"IF(DF530,DG530,\"\")","v":""},null,"□","横瀬町",{"$f":"IF(DJ530=\"☑\",TRUE)","v":false},{"$f":"\"秩父地域:\"&DK530","v":"秩父地域:横瀬町"},{"$f":"IF(DL530,DM530,\"\")","v":""},null,null,null,null,null,null,null,null,null,null,null,null,null,null,"□","火曜日",{"$f":"IF(EC530=\"☑\",TRUE)","v":false},{"$f":"IF(EE530,ED530,\"\")","v":""},null,"□","午後（12:00～16：00）",{"$f":"IF(EH530=\"☑\",TRUE)","v":false},{"$f":"IF(EJ530,EI530,\"\")","v":""},null,null,null,null,"に基づき感染対策を実施している。",null,{"$f":"IF(EQ530,EP530,\"\")","v":""}]
[null,null,null,null,null,null,null,null,null,null,null,null,null,null,null,null,null,null,null,null,null,"□","買物代行",false,"","□","食材宅配",false,"","□","温泉・銭湯（送迎）",false,"","□","屋外作業・力仕事",false,"","□","カフェ・ファーストフード",false,"","□","休憩スペース",false,"","□","映画館",false,"","□","住宅・リフォーム",false,"",null,null,null,null,null,"","□","大宮区",false,"さいたま市:大宮区","",null,"□","戸田市",{"$f":"IF(BN531=\"☑\",TRUE)","v":false},{"$f":"\"南部地域:\"&BO531","v":"南部地域:戸田市"},"",null,"□","和光市",false,"南西部地域:和光市","",null,"□","越谷市",false,"東部地域:越谷市","",null,"□","桶川市",{"$f":"IF(CF531=\"☑\",TRUE)","v":false},{"$f":"\"県央地域:\"&CG531","v":"県央地域:桶川市"},"",null,"□","坂戸市",false,"川越比企地域:坂戸市","",null,"□","狭山市",{"$f":"IF(CR531=\"☑\",TRUE)","v":false},{"$f":"\"西部地域:\"&CS531","v":"西部地域:狭山市"},"",null,"□","羽生市",false,"利根地域:羽生市","",null,"□","深谷市",false,"北部地域:深谷市","",null,"□","皆野町",{"$f":"IF(DJ531=\"☑\",TRUE)","v":false},{"$f":"\"秩父地域:\"&DK531","v":"秩父地域:皆野町"},"",null,null,null,null,null,null,null,null,null,null,null,null,null,null,"□","水曜日",false,"",null,"□","夕方(16:00～18:00)",{"$f":"IF(EH531=\"☑\",TRUE)","v":false},{"$f":"IF(EJ531,EI531,\"\")","v":""},null,null,null,"□","各種団体が定める業種別ガイドライン",{"$f":"IF(EO531=\"☑\",TRUE)","v":false},{"$f":"IF(EQ531,EP531,\"\")","v":""}]
[null,null,null,null,null,null,null,null,null,null,null,null,null,null,null,null,null,null,null,null,null,"□","移動販売",false,"","□","日用品配達",false,"","□","整体・マッサージ（送迎）",false,"","□","整体・マッサージ（出張）",false,"","□","飲食店",false,"","□","駐車場",false,"","□","カラオケ店",false,"","□","パソコン・スマートフォン",false,"",null,null,null,null,null,"","□","見沼区",false,"さいたま市:見沼区","",null,null,null,null,null,"",null,"□","新座市",false,"南西部地域:新座市","",null,"□","八潮市",false,"東部地域:八潮市","",null,"□","北本市",{"$f":"IF(CF532=\"☑\",TRUE)","v":false},{"$f":"\"県央地域:\"&CG532","v":"県央地域:北本市"},"",null,"□","鶴ヶ島市",false,"川越比企地域:鶴ヶ島市","",null,"□","入間市",{"$f":"IF(CR532=\"☑\",TRUE)","v":false},{"$f":"\"西部地域:\"&CS532","v":"西部地域:入間市"},"",null,"□","久喜市",false,"利根地域:久喜市","",null,"□","美里町",false,"北部地域:美里町","",null,"□","長瀞町",{"$f":"IF(DJ532=\"☑\",TRUE)","v":false},{"$f":"\"秩父地域:\"&DK532","v":"秩父地域:長瀞町"},"",null,null,null,null,null,null,null,null,null,null,null,null,null,null,"□","木曜日",false,"",null,"□","夜(18:00～）",{"$f":"IF(EH532=\"☑\",TRUE)","v":false},{"$f":"IF(EJ532,EI532,\"\")","v":""},null,null,null,null,"に基づき感染対策を実施している。"]
[null,null,null,null,null,null,null,null,null,null,null,null,null,null,null,null,null,null,null,null,null,"□","割引サービス",false,"","□","薬・介護用品配達",false,"","□","乗り合いサービス",false,"","□","理容室・美容室（出張）",false,"","□","イートインスペース",false,"","□","貸しスペース",false,"","□","麻雀・将棋・囲碁",false,"","□","認知症サポート企業",false,"",null,null,null,null,null,"","□","中央区",false,"さいたま市:中央区","",null,null,null,null,null,"",null,"□","富士見市",false,"南西部地域:富士見市","",null,"□","三郷市",false,"東部地域:三郷市","",null,"□","伊奈町",{"$f":"IF(CF533=\"☑\",TRUE)","v":false},{"$f":"\"県央地域:\"&CG533","v":"県央地域:伊奈町"},"",null,"□","毛呂山町",false,"川越比企地域:毛呂山町","",null,"□","日高市",{"$f":"IF(CR533=\"☑\",TRUE)","v":false},{"$f":"\"西部地域:\"&CS533","v":"西部地域:日高市"},"",null,"□","蓮田市",false,"利根地域:蓮田市","",null,"□","神川町",false,"北部地域:神川町","",null,"□","小鹿野町",{"$f":"IF(DJ533=\"☑\",TRUE)","v":false},{"$f":"\"秩父地域:\"&DK533","v":"秩父地域:小鹿野町"},"",null,null,null,null,null,null,null,null,null,null,null,null,null,null,"□","金曜日",false,"",null,null,null,null,null,null,null,null,"□","その他の感染対策を実施している。",{"$f":"IF(EO533=\"☑\",TRUE)","v":false},{"$f":"IF(EQ533,EP533,\"\")","v":""}]
[null,null,null,null,null,null,null,null,null,null,null,null,null,null,null,null,null,null,null,null,null,"□","その他（買物）",false,"","□","その他（宅配・デリバリー）",false,"","□","個別移送サービス",false,"","□","ペット",false,"","□","その他（運動・たまり場）",false,"","□","その他（設備・施設・場所貸し）",false,"","□","ゲームセンター",false,"","□","その他（生活サービス）",false,"",null,null,null,null,null,"","□","桜区",false,"さいたま市:桜区","",null,null,null,null,null,"",null,"□","ふじみ野市",false,"南西部地域:ふじみ野市","",null,"□","吉川市",false,"東部地域:吉川市","",null,null,null,null,null,"",null,"□","越生町",false,"川越比企地域:越生町","",null,null,null,null,null,"",null,"□","幸手市",false,"利根地域:幸手市","",null,"□","上里町",false,"北部地域:上里町","",null,null,null,null,null,"",null,null,null,null,null,null,null,null,null,null,null,null,null,null,"□","土曜日",false,"",null,null,null,null,null,null,null,null,"□","感染対策を特に実施していない。",{"$f":"IF(EO534=\"☑\",TRUE)","v":false},{"$f":"IF(EQ534,EP534,\"\")","v":""}]
[null,null,null,null,null,null,null,null,null,null,null,null,null,null,null,null,null,null,null,null,null,null,null,null,null,null,null,null,null,"□","交通機関サービス",false,"","□","その他（出張サービス）",false,"",null,null,null,null,null,null,null,null,"□","旅行代理店",false,"",null,null,null,null,null,null,null,null,null,"","□","浦和区",false,"さいたま市:浦和区","",null,null,null,null,null,"",null,"□","三芳町",false,"南西部地域:三芳町","",null,"□","松伏町",false,"東部地域:松伏町","",null,null,null,null,null,"",null,"□","滑川町",false,"川越比企地域:滑川町","",null,null,null,null,null,"",null,"□","白岡市",false,"利根地域:白岡市","",null,"□","寄居町",false,"北部地域:寄居町","",null,null,null,null,null,"",null,null,null,null,null,null,null,null,null,null,null,null,null,null,"□","日曜日",false,""]
[null,null,null,null,null,null,null,null,null,null,null,null,null,null,null,null,null,null,null,null,null,null,null,null,null,null,null,null,null,"□","その他（送迎・移動支援）",false,"",null,null,null,"",null,null,null,{"$f":"IF(AN536,AM536,\"\")","v":""},null,null,null,{"$f":"IF(AR536,AQ536,\"\")","v":""},"□","その他（学び・趣味）",false,"",null,null,null,null,null,null,null,null,null,"","□","南区",false,"さいたま市:南区","",null,null,null,null,null,"",null,null,null,null,null,"",null,null,null,null,null,"",null,null,null,null,null,"",null,"□","嵐山町",false,"川越比企地域:嵐山町","",null,null,null,null,null,"",null,"□","宮代町",false,"利根地域:宮代町","",null,null,null,null,null,"",null,null,null,null,null,""]
[null,null,null,null,null,null,null,null,null,null,null,null,null,null,null,null,null,null,null,null,null,null,null,null,null,null,null,null,null,null,null,null,null,null,null,null,null,null,null,null,null,null,null,null,null,null,null,null,null,null,null,null,null,null,null,null,null,null,"","□","緑区",false,"さいたま市:緑区","",null,null,null,null,null,"",null,null,null,null,null,"",null,null,null,null,null,"",null,null,null,null,null,"",null,"□","小川町",false,"川越比企地域:小川町","",null,null,null,null,null,"",null,"□","杉戸町",false,"利根地域:杉戸町","",null,null,null,null,null,"",null,null,null,null,null,""]
[null,null,null,null,null,null,null,null,null,null,null,null,null,null,null,null,null,null,null,null,null,null,null,null,null,null,null,null,null,null,null,null,null,null,null,null,null,null,null,null,null,null,null,null,null,null,null,null,null,null,null,null,null,null,null,null,null,null,"","□","岩槻区",{"$f":"IF(BH538=\"☑\",TRUE)","v":false},"さいたま市:岩槻区","",null,null,null,null,null,"",null,null,null,null,null,"",null,null,null,null,null,"",null,null,null,null,null,"",null,"□","川島町",false,"川越比企地域:川島町","",null,null,null,null,null,"",null,null,null,null,null,"",null,null,null,null,null,"",null,null,null,null,null,""]
[null,null,null,null,null,null,null,null,null,null,null,null,null,null,null,null,null,null,null,null,null,null,null,null,null,null,null,null,null,null,null,null,null,null,null,null,null,null,null,null,null,null,null,null,null,null,null,null,null,null,null,null,null,null,null,null,null,null,"",null,null,null,null,null,null,null,null,null,null,null,null,null,null,null,null,null,null,null,null,null,null,null,null,null,null,null,null,null,null,"□","吉見町",false,"川越比企地域:吉見町","",null,null,null,null,null,"",null,null,null,null,null,"",null,null,null,null,null,"",null,null,null,null,null,""]
[null,null,null,null,null,null,null,null,null,null,null,null,null,null,null,null,null,null,null,null,null,null,null,null,null,null,null,null,null,null,null,null,null,null,null,null,null,null,null,null,null,null,null,null,null,null,null,null,null,null,null,null,null,null,null,null,null,null,"",null,null,null,null,null,null,null,null,null,null,null,null,null,null,null,null,null,null,null,null,null,null,null,null,null,null,null,null,null,null,"□","鳩山町",false,"川越比企地域:鳩山町","",null,null,null,null,null,"",null,null,null,null,null,"",null,null,null,null,null,"",null,null,null,null,null,""]
[null,null,null,null,null,null,null,null,null,null,null,null,null,null,null,null,null,null,null,null,null,null,null,null,null,null,null,null,null,null,null,null,null,null,null,null,null,null,null,null,null,null,null,null,null,null,null,null,null,null,null,null,null,null,null,null,null,null,"",null,null,null,null,null,null,null,null,null,null,null,null,null,null,null,null,null,null,null,null,null,null,null,null,null,null,null,null,null,null,"□","ときがわ町",false,"川越比企地域:ときがわ町","",null,null,null,null,null,"",null,null,null,null,null,"",null,null,null,null,null,"",null,null,null,null,null,""]
[null,null,null,null,null,null,null,null,null,null,null,null,null,null,null,null,null,null,null,null,null,null,null,null,null,null,null,null,null,null,null,null,null,null,null,null,null,null,null,null,null,null,null,null,null,null,null,null,null,null,null,null,null,null,null,null,null,null,"",null,null,null,null,null,null,null,null,null,null,null,null,null,null,null,null,null,null,null,null,null,null,null,null,null,null,null,null,null,null,"□","東秩父村",false,"川越比企地域:東秩父村","",null,null,null,null,null,"",null,null,null,null,null,"",null,null,null,null,null,"",null,null,null,null,null,""]
[38,null,null,null,null,null,null,null,null,null,null,null,null,null,null,null,null,null,null,null,null,"□","配送",{"$f":"IF(V543=\"☑\",TRUE)","v":false},{"$f":"IF(X543,W543,\"\")","v":""},"□","弁当配達",{"$f":"IF(Z543=\"☑\",TRUE)","v":false},{"$f":"IF(AB543,AA543,\"\")","v":""},"□","理容室・美容室（送迎）",{"$f":"IF(AD543=\"☑\",TRUE)","v":false},{"$f":"IF(AF543,AE543,\"\")","v":""},"□","家事代行",{"$f":"IF(AH543=\"☑\",TRUE)","v":false},{"$f":"IF(AJ543,AI543,\"\")","v":""},"□","フィットネス・ジム（運動）",{"$f":"IF(AL543=\"☑\",TRUE)","v":false},{"$f":"IF(AN543,AM543,\"\")","v":""},"□","車イス対応（バリアフリー）",{"$f":"IF(AP543=\"☑\",TRUE)","v":false},{"$f":"IF(AR543,AQ543,\"\")","v":""},"□","講座・教室・イベント",{"$f":"IF(AT543=\"☑\",TRUE)","v":false},{"$f":"IF(AV543,AU543,\"\")","v":""},"□","防犯・見守り",{"$f":"IF(AX543=\"☑\",TRUE)","v":false},{"$f":"IF(AZ543,AY543,\"\")","v":""},{"$f":"_xludf.TEXTJOIN(\",\",TRUE,Y543:Y556,AC543:AC556,AG543:AG556,AK543:AK556,AO543:AO556,AS543:AS556,AW543:AW556,BA543:BA556)","v":""},"□","埼玉県全域",{"$f":"IF(BC543=\"☑\",TRUE)","v":false},"さいたま市:西区,さいたま市:北区,さいたま市:大宮区,さいたま市:見沼区,さいたま市:中央区,さいたま市:桜区,さいたま市:浦和区,さいたま市:南区,さいたま市:緑区,さいたま市:岩槻区,南部地域:川口市,南部地域:蕨市,南部地域:戸田市,南西部地域:朝霞市,南西部地域:志木市,南西部地域:和光市,南西部地域:新座市,南西部地域:富士見市,南西部地域:ふじみ野市,南西部地域:三芳町,東部地域:春日部市,東部地域:草加市,東部地域:越谷市,東部地域:八潮市,東部地域:三郷市,東部地域:吉川市,東部地域:松伏町,県央地域:鴻巣市,県央地域:上尾市,県央地域:桶川市,県央地域:北本市,県央地域:伊奈町,川越比企地域:川越市,川越比企地域:東松山市,川越比企地域:坂戸市,川越比企地域:鶴ヶ島市,川越比企地域:毛呂山町,川越比企地域:越生町,川越比企地域:滑川町,川越比企地域:嵐山町,川越比企地域:小川町,川越比企地域:川島町,川越比企地域:吉見町,川越比企地域:鳩山町,川越比企地域:ときがわ町,川越比企地域:東秩父村,西部地域:所沢市,西部地域:飯能市,西部地域:狭山市,西部地域:入間市,西部地域:日高市,利根地域:行田市,利根地域:加須市,利根地域:羽生市,利根地域:久喜市,利根地域:蓮田市,利根地域:幸手市,利根地域:白岡市,利根地域:宮代町,利根地域:杉戸町,北部地域:熊谷市,北部地域:本庄市,北部地域:深谷市,北部地域:美里町,北部地域:神川町,北部地域:上里町,北部地域:寄居町,秩父地域:秩父市,秩父地域:横瀬町,秩父地域:皆野町,秩父地域:長瀞町,秩父地域:小鹿野町","","□","西区",{"$f":"IF(BH543=\"☑\",TRUE)","v":false},{"$f":"\"さいたま市:\"&BI543","v":"さいたま市:西区"},{"$f":"IF(BJ543,BK543,\"\")","v":""},{"$f":"_xludf.TEXTJOIN(\",\",TRUE,BL543:BL556)","v":""},"□","川口市",{"$f":"IF(BN543=\"☑\",TRUE)","v":false},{"$f":"\"南部地域:\"&BO543","v":"南部地域:川口市"},{"$f":"IF(BP543,BQ543,\"\")","v":""},{"$f":"_xludf.TEXTJOIN(\",\",TRUE,BR543:BR556)","v":""},"□","朝霞市",{"$f":"IF(BT543=\"☑\",TRUE)","v":false},{"$f":"\"南西部地域:\"&BU543","v":"南西部地域:朝霞市"},{"$f":"IF(BV543,BW543,\"\")","v":""},{"$f":"_xludf.TEXTJOIN(\",\",TRUE,BX543:BX556)","v":""},"□","春日部市",{"$f":"IF(BZ543=\"☑\",TRUE)","v":false},{"$f":"\"東部地域:\"&CA543","v":"東部地域:春日部市"},{"$f":"IF(CB543,CC543,\"\")","v":""},{"$f":"_xludf.TEXTJOIN(\",\",TRUE,CD543:CD556)","v":""},"□","鴻巣市",{"$f":"IF(CF543=\"☑\",TRUE)","v":false},{"$f":"\"県央地域:\"&CG543","v":"県央地域:鴻巣市"},{"$f":"IF(CH543,CI543,\"\")","v":""},{"$f":"_xludf.TEXTJOIN(\",\",TRUE,CJ543:CJ556)","v":""},"□","川越市",{"$f":"IF(CL543=\"☑\",TRUE)","v":false},{"$f":"\"川越比企地域:\"&CM543","v":"川越比企地域:川越市"},{"$f":"IF(CN543,CO543,\"\")","v":""},{"$f":"_xludf.TEXTJOIN(\",\",TRUE,CP543:CP556)","v":""},"□","所沢市",{"$f":"IF(CR543=\"☑\",TRUE)","v":false},{"$f":"\"西部地域:\"&CS543","v":"西部地域:所沢市"},{"$f":"IF(CT543,CU543,\"\")","v":""},{"$f":"_xludf.TEXTJOIN(\",\",TRUE,CV543:CV556)","v":""},"□","行田市",{"$f":"IF(CX543=\"☑\",TRUE)","v":false},{"$f":"\"利根地域:\"&CY543","v":"利根地域:行田市"},{"$f":"IF(CZ543,DA543,\"\")","v":""},{"$f":"_xludf.TEXTJOIN(\",\",TRUE,DB543:DB556)","v":""},"□","熊谷市",{"$f":"IF(DD543=\"☑\",TRUE)","v":false},{"$f":"\"北部地域:\"&DE543","v":"北部地域:熊谷市"},{"$f":"IF(DF543,DG543,\"\")","v":""},{"$f":"_xludf.TEXTJOIN(\",\",TRUE,DH543:DH556)","v":""},"□","秩父市",{"$f":"IF(DJ543=\"☑\",TRUE)","v":false},{"$f":"\"秩父地域:\"&DK543","v":"秩父地域:秩父市"},{"$f":"IF(DL543,DM543,\"\")","v":""},{"$f":"_xludf.TEXTJOIN(\",\",TRUE,DN543:DN556)","v":""},{"$f":"_xludf.TEXTJOIN(\",\",TRUE,BG543,BM543,BS543,BY543,CE543,CK543,CQ543,CW543,DC543,DI543,DO543)","v":""},null,null,null,null,null,null,null,null,null,null,null,null,"□","月曜日",{"$f":"IF(EC543=\"☑\",TRUE)","v":false},{"$f":"IF(EE543,ED543,\"\")","v":""},{"$f":"_xludf.TEXTJOIN(\",\",TRUE,EF543:EF556)","v":""},"□","午前（～12:00）",{"$f":"IF(EH543=\"☑\",TRUE)","v":false},{"$f":"IF(EJ543,EI543,\"\")","v":""},{"$f":"_xludf.TEXTJOIN(\",\",TRUE,EK543:EK556)","v":""},null,null,"□","彩の国「新しい生活様式」安心宣言",{"$f":"IF(EO543=\"☑\",TRUE)","v":false},{"$f":"IF(EQ543,EP543,\"\")","v":""},{"$f":"_xludf.TEXTJOIN(\",\",TRUE,ER543:ER556)","v":""},null,"",null,"",null,"",null,"",null,"",null,"",null,"",null,""]
[null,null,null,null,null,null,null,null,null,null,null,null,null,null,null,null,null,null,null,null,null,"□","買物サポート",false,"","□","料理デリバリー（出前）",false,"","□","フィットネス・ジム（送迎）",{"$f":"IF(AD544=\"☑\",TRUE)","v":false},{"$f":"IF(AF544,AE544,\"\")","v":""},"□","出張料理",{"$f":"IF(AH544=\"☑\",TRUE)","v":false},{"$f":"IF(AJ544,AI544,\"\")","v":""},"□","温泉・銭湯（たまり場）",false,"","□","多目的トイレ",false,"","□","習い事",{"$f":"IF(AT544=\"☑\",TRUE)","v":false},{"$f":"IF(AV544,AU544,\"\")","v":""},"□","金融・保険",false,"",null,null,null,null,null,"","□","北区",{"$f":"IF(BH544=\"☑\",TRUE)","v":false},{"$f":"\"さいたま市:\"&BI544","v":"さいたま市:北区"},{"$f":"IF(BJ544,BK544,\"\")","v":""},null,"□","蕨市",{"$f":"IF(BN544=\"☑\",TRUE)","v":false},{"$f":"\"南部地域:\"&BO544","v":"南部地域:蕨市"},{"$f":"IF(BP544,BQ544,\"\")","v":""},null,"□","志木市",{"$f":"IF(BT544=\"☑\",TRUE)","v":false},{"$f":"\"南西部地域:\"&BU544","v":"南西部地域:志木市"},{"$f":"IF(BV544,BW544,\"\")","v":""},null,"□","草加市",{"$f":"IF(BZ544=\"☑\",TRUE)","v":false},{"$f":"\"東部地域:\"&CA544","v":"東部地域:草加市"},"",null,"□","上尾市",{"$f":"IF(CF544=\"☑\",TRUE)","v":false},{"$f":"\"県央地域:\"&CG544","v":"県央地域:上尾市"},{"$f":"IF(CH544,CI544,\"\")","v":""},null,"□","東松山市",{"$f":"IF(CL544=\"☑\",TRUE)","v":false},{"$f":"\"川越比企地域:\"&CM544","v":"川越比企地域:東松山市"},{"$f":"IF(CN544,CO544,\"\")","v":""},null,"□","飯能市",{"$f":"IF(CR544=\"☑\",TRUE)","v":false},{"$f":"\"西部地域:\"&CS544","v":"西部地域:飯能市"},{"$f":"IF(CT544,CU544,\"\")","v":""},null,"□","加須市",{"$f":"IF(CX544=\"☑\",TRUE)","v":false},{"$f":"\"利根地域:\"&CY544","v":"利根地域:加須市"},{"$f":"IF(CZ544,DA544,\"\")","v":""},null,"□","本庄市",{"$f":"IF(DD544=\"☑\",TRUE)","v":false},{"$f":"\"北部地域:\"&DE544","v":"北部地域:本庄市"},{"$f":"IF(DF544,DG544,\"\")","v":""},null,"□","横瀬町",{"$f":"IF(DJ544=\"☑\",TRUE)","v":false},{"$f":"\"秩父地域:\"&DK544","v":"秩父地域:横瀬町"},{"$f":"IF(DL544,DM544,\"\")","v":""},null,null,null,null,null,null,null,null,null,null,null,null,null,null,"□","火曜日",{"$f":"IF(EC544=\"☑\",TRUE)","v":false},{"$f":"IF(EE544,ED544,\"\")","v":""},null,"□","午後（12:00～16：00）",{"$f":"IF(EH544=\"☑\",TRUE)","v":false},{"$f":"IF(EJ544,EI544,\"\")","v":""},null,null,null,null,"に基づき感染対策を実施している。",null,{"$f":"IF(EQ544,EP544,\"\")","v":""}]
[null,null,null,null,null,null,null,null,null,null,null,null,null,null,null,null,null,null,null,null,null,"□","買物代行",false,"","□","食材宅配",false,"","□","温泉・銭湯（送迎）",false,"","□","屋外作業・力仕事",false,"","□","カフェ・ファーストフード",false,"","□","休憩スペース",false,"","□","映画館",false,"","□","住宅・リフォーム",false,"",null,null,null,null,null,"","□","大宮区",false,"さいたま市:大宮区","",null,"□","戸田市",{"$f":"IF(BN545=\"☑\",TRUE)","v":false},{"$f":"\"南部地域:\"&BO545","v":"南部地域:戸田市"},"",null,"□","和光市",false,"南西部地域:和光市","",null,"□","越谷市",false,"東部地域:越谷市","",null,"□","桶川市",{"$f":"IF(CF545=\"☑\",TRUE)","v":false},{"$f":"\"県央地域:\"&CG545","v":"県央地域:桶川市"},"",null,"□","坂戸市",false,"川越比企地域:坂戸市","",null,"□","狭山市",{"$f":"IF(CR545=\"☑\",TRUE)","v":false},{"$f":"\"西部地域:\"&CS545","v":"西部地域:狭山市"},"",null,"□","羽生市",false,"利根地域:羽生市","",null,"□","深谷市",false,"北部地域:深谷市","",null,"□","皆野町",{"$f":"IF(DJ545=\"☑\",TRUE)","v":false},{"$f":"\"秩父地域:\"&DK545","v":"秩父地域:皆野町"},"",null,null,null,null,null,null,null,null,null,null,null,null,null,null,"□","水曜日",false,"",null,"□","夕方(16:00～18:00)",{"$f":"IF(EH545=\"☑\",TRUE)","v":false},{"$f":"IF(EJ545,EI545,\"\")","v":""},null,null,null,"□","各種団体が定める業種別ガイドライン",{"$f":"IF(EO545=\"☑\",TRUE)","v":false},{"$f":"IF(EQ545,EP545,\"\")","v":""}]
[null,null,null,null,null,null,null,null,null,null,null,null,null,null,null,null,null,null,null,null,null,"□","移動販売",false,"","□","日用品配達",false,"","□","整体・マッサージ（送迎）",false,"","□","整体・マッサージ（出張）",false,"","□","飲食店",false,"","□","駐車場",false,"","□","カラオケ店",false,"","□","パソコン・スマートフォン",false,"",null,null,null,null,null,"","□","見沼区",false,"さいたま市:見沼区","",null,null,null,null,null,"",null,"□","新座市",false,"南西部地域:新座市","",null,"□","八潮市",false,"東部地域:八潮市","",null,"□","北本市",{"$f":"IF(CF546=\"☑\",TRUE)","v":false},{"$f":"\"県央地域:\"&CG546","v":"県央地域:北本市"},"",null,"□","鶴ヶ島市",false,"川越比企地域:鶴ヶ島市","",null,"□","入間市",{"$f":"IF(CR546=\"☑\",TRUE)","v":false},{"$f":"\"西部地域:\"&CS546","v":"西部地域:入間市"},"",null,"□","久喜市",false,"利根地域:久喜市","",null,"□","美里町",false,"北部地域:美里町","",null,"□","長瀞町",{"$f":"IF(DJ546=\"☑\",TRUE)","v":false},{"$f":"\"秩父地域:\"&DK546","v":"秩父地域:長瀞町"},"",null,null,null,null,null,null,null,null,null,null,null,null,null,null,"□","木曜日",false,"",null,"□","夜(18:00～）",{"$f":"IF(EH546=\"☑\",TRUE)","v":false},{"$f":"IF(EJ546,EI546,\"\")","v":""},null,null,null,null,"に基づき感染対策を実施している。"]
[null,null,null,null,null,null,null,null,null,null,null,null,null,null,null,null,null,null,null,null,null,"□","割引サービス",false,"","□","薬・介護用品配達",false,"","□","乗り合いサービス",false,"","□","理容室・美容室（出張）",false,"","□","イートインスペース",false,"","□","貸しスペース",false,"","□","麻雀・将棋・囲碁",false,"","□","認知症サポート企業",false,"",null,null,null,null,null,"","□","中央区",false,"さいたま市:中央区","",null,null,null,null,null,"",null,"□","富士見市",false,"南西部地域:富士見市","",null,"□","三郷市",false,"東部地域:三郷市","",null,"□","伊奈町",{"$f":"IF(CF547=\"☑\",TRUE)","v":false},{"$f":"\"県央地域:\"&CG547","v":"県央地域:伊奈町"},"",null,"□","毛呂山町",false,"川越比企地域:毛呂山町","",null,"□","日高市",{"$f":"IF(CR547=\"☑\",TRUE)","v":false},{"$f":"\"西部地域:\"&CS547","v":"西部地域:日高市"},"",null,"□","蓮田市",false,"利根地域:蓮田市","",null,"□","神川町",false,"北部地域:神川町","",null,"□","小鹿野町",{"$f":"IF(DJ547=\"☑\",TRUE)","v":false},{"$f":"\"秩父地域:\"&DK547","v":"秩父地域:小鹿野町"},"",null,null,null,null,null,null,null,null,null,null,null,null,null,null,"□","金曜日",false,"",null,null,null,null,null,null,null,null,"□","その他の感染対策を実施している。",{"$f":"IF(EO547=\"☑\",TRUE)","v":false},{"$f":"IF(EQ547,EP547,\"\")","v":""}]
[null,null,null,null,null,null,null,null,null,null,null,null,null,null,null,null,null,null,null,null,null,"□","その他（買物）",false,"","□","その他（宅配・デリバリー）",false,"","□","個別移送サービス",false,"","□","ペット",false,"","□","その他（運動・たまり場）",false,"","□","その他（設備・施設・場所貸し）",false,"","□","ゲームセンター",false,"","□","その他（生活サービス）",false,"",null,null,null,null,null,"","□","桜区",false,"さいたま市:桜区","",null,null,null,null,null,"",null,"□","ふじみ野市",false,"南西部地域:ふじみ野市","",null,"□","吉川市",false,"東部地域:吉川市","",null,null,null,null,null,"",null,"□","越生町",false,"川越比企地域:越生町","",null,null,null,null,null,"",null,"□","幸手市",false,"利根地域:幸手市","",null,"□","上里町",false,"北部地域:上里町","",null,null,null,null,null,"",null,null,null,null,null,null,null,null,null,null,null,null,null,null,"□","土曜日",false,"",null,null,null,null,null,null,null,null,"□","感染対策を特に実施していない。",{"$f":"IF(EO548=\"☑\",TRUE)","v":false},{"$f":"IF(EQ548,EP548,\"\")","v":""}]
[null,null,null,null,null,null,null,null,null,null,null,null,null,null,null,null,null,null,null,null,null,null,null,null,null,null,null,null,null,"□","交通機関サービス",false,"","□","その他（出張サービス）",false,"",null,null,null,null,null,null,null,null,"□","旅行代理店",false,"",null,null,null,null,null,null,null,null,null,"","□","浦和区",false,"さいたま市:浦和区","",null,null,null,null,null,"",null,"□","三芳町",false,"南西部地域:三芳町","",null,"□","松伏町",false,"東部地域:松伏町","",null,null,null,null,null,"",null,"□","滑川町",false,"川越比企地域:滑川町","",null,null,null,null,null,"",null,"□","白岡市",false,"利根地域:白岡市","",null,"□","寄居町",false,"北部地域:寄居町","",null,null,null,null,null,"",null,null,null,null,null,null,null,null,null,null,null,null,null,null,"□","日曜日",false,""]
[null,null,null,null,null,null,null,null,null,null,null,null,null,null,null,null,null,null,null,null,null,null,null,null,null,null,null,null,null,"□","その他（送迎・移動支援）",false,"",null,null,null,"",null,null,null,{"$f":"IF(AN550,AM550,\"\")","v":""},null,null,null,{"$f":"IF(AR550,AQ550,\"\")","v":""},"□","その他（学び・趣味）",false,"",null,null,null,null,null,null,null,null,null,"","□","南区",false,"さいたま市:南区","",null,null,null,null,null,"",null,null,null,null,null,"",null,null,null,null,null,"",null,null,null,null,null,"",null,"□","嵐山町",false,"川越比企地域:嵐山町","",null,null,null,null,null,"",null,"□","宮代町",false,"利根地域:宮代町","",null,null,null,null,null,"",null,null,null,null,null,""]
[null,null,null,null,null,null,null,null,null,null,null,null,null,null,null,null,null,null,null,null,null,null,null,null,null,null,null,null,null,null,null,null,null,null,null,null,null,null,null,null,null,null,null,null,null,null,null,null,null,null,null,null,null,null,null,null,null,null,"","□","緑区",false,"さいたま市:緑区","",null,null,null,null,null,"",null,null,null,null,null,"",null,null,null,null,null,"",null,null,null,null,null,"",null,"□","小川町",false,"川越比企地域:小川町","",null,null,null,null,null,"",null,"□","杉戸町",false,"利根地域:杉戸町","",null,null,null,null,null,"",null,null,null,null,null,""]
[null,null,null,null,null,null,null,null,null,null,null,null,null,null,null,null,null,null,null,null,null,null,null,null,null,null,null,null,null,null,null,null,null,null,null,null,null,null,null,null,null,null,null,null,null,null,null,null,null,null,null,null,null,null,null,null,null,null,"","□","岩槻区",{"$f":"IF(BH552=\"☑\",TRUE)","v":false},"さいたま市:岩槻区","",null,null,null,null,null,"",null,null,null,null,null,"",null,null,null,null,null,"",null,null,null,null,null,"",null,"□","川島町",false,"川越比企地域:川島町","",null,null,null,null,null,"",null,null,null,null,null,"",null,null,null,null,null,"",null,null,null,null,null,""]
[null,null,null,null,null,null,null,null,null,null,null,null,null,null,null,null,null,null,null,null,null,null,null,null,null,null,null,null,null,null,null,null,null,null,null,null,null,null,null,null,null,null,null,null,null,null,null,null,null,null,null,null,null,null,null,null,null,null,"",null,null,null,null,null,null,null,null,null,null,null,null,null,null,null,null,null,null,null,null,null,null,null,null,null,null,null,null,null,null,"□","吉見町",false,"川越比企地域:吉見町","",null,null,null,null,null,"",null,null,null,null,null,"",null,null,null,null,null,"",null,null,null,null,null,""]
[null,null,null,null,null,null,null,null,null,null,null,null,null,null,null,null,null,null,null,null,null,null,null,null,null,null,null,null,null,null,null,null,null,null,null,null,null,null,null,null,null,null,null,null,null,null,null,null,null,null,null,null,null,null,null,null,null,null,"",null,null,null,null,null,null,null,null,null,null,null,null,null,null,null,null,null,null,null,null,null,null,null,null,null,null,null,null,null,null,"□","鳩山町",false,"川越比企地域:鳩山町","",null,null,null,null,null,"",null,null,null,null,null,"",null,null,null,null,null,"",null,null,null,null,null,""]
[null,null,null,null,null,null,null,null,null,null,null,null,null,null,null,null,null,null,null,null,null,null,null,null,null,null,null,null,null,null,null,null,null,null,null,null,null,null,null,null,null,null,null,null,null,null,null,null,null,null,null,null,null,null,null,null,null,null,"",null,null,null,null,null,null,null,null,null,null,null,null,null,null,null,null,null,null,null,null,null,null,null,null,null,null,null,null,null,null,"□","ときがわ町",false,"川越比企地域:ときがわ町","",null,null,null,null,null,"",null,null,null,null,null,"",null,null,null,null,null,"",null,null,null,null,null,""]
[null,null,null,null,null,null,null,null,null,null,null,null,null,null,null,null,null,null,null,null,null,null,null,null,null,null,null,null,null,null,null,null,null,null,null,null,null,null,null,null,null,null,null,null,null,null,null,null,null,null,null,null,null,null,null,null,null,null,"",null,null,null,null,null,null,null,null,null,null,null,null,null,null,null,null,null,null,null,null,null,null,null,null,null,null,null,null,null,null,"□","東秩父村",false,"川越比企地域:東秩父村","",null,null,null,null,null,"",null,null,null,null,null,"",null,null,null,null,null,"",null,null,null,null,null,""]
[39,null,null,null,null,null,null,null,null,null,null,null,null,null,null,null,null,null,null,null,null,"□","配送",{"$f":"IF(V557=\"☑\",TRUE)","v":false},{"$f":"IF(X557,W557,\"\")","v":""},"□","弁当配達",{"$f":"IF(Z557=\"☑\",TRUE)","v":false},{"$f":"IF(AB557,AA557,\"\")","v":""},"□","理容室・美容室（送迎）",{"$f":"IF(AD557=\"☑\",TRUE)","v":false},{"$f":"IF(AF557,AE557,\"\")","v":""},"□","家事代行",{"$f":"IF(AH557=\"☑\",TRUE)","v":false},{"$f":"IF(AJ557,AI557,\"\")","v":""},"□","フィットネス・ジム（運動）",{"$f":"IF(AL557=\"☑\",TRUE)","v":false},{"$f":"IF(AN557,AM557,\"\")","v":""},"□","車イス対応（バリアフリー）",{"$f":"IF(AP557=\"☑\",TRUE)","v":false},{"$f":"IF(AR557,AQ557,\"\")","v":""},"□","講座・教室・イベント",{"$f":"IF(AT557=\"☑\",TRUE)","v":false},{"$f":"IF(AV557,AU557,\"\")","v":""},"□","防犯・見守り",{"$f":"IF(AX557=\"☑\",TRUE)","v":false},{"$f":"IF(AZ557,AY557,\"\")","v":""},{"$f":"_xludf.TEXTJOIN(\",\",TRUE,Y557:Y570,AC557:AC570,AG557:AG570,AK557:AK570,AO557:AO570,AS557:AS570,AW557:AW570,BA557:BA570)","v":""},"□","埼玉県全域",{"$f":"IF(BC557=\"☑\",TRUE)","v":false},"さいたま市:西区,さいたま市:北区,さいたま市:大宮区,さいたま市:見沼区,さいたま市:中央区,さいたま市:桜区,さいたま市:浦和区,さいたま市:南区,さいたま市:緑区,さいたま市:岩槻区,南部地域:川口市,南部地域:蕨市,南部地域:戸田市,南西部地域:朝霞市,南西部地域:志木市,南西部地域:和光市,南西部地域:新座市,南西部地域:富士見市,南西部地域:ふじみ野市,南西部地域:三芳町,東部地域:春日部市,東部地域:草加市,東部地域:越谷市,東部地域:八潮市,東部地域:三郷市,東部地域:吉川市,東部地域:松伏町,県央地域:鴻巣市,県央地域:上尾市,県央地域:桶川市,県央地域:北本市,県央地域:伊奈町,川越比企地域:川越市,川越比企地域:東松山市,川越比企地域:坂戸市,川越比企地域:鶴ヶ島市,川越比企地域:毛呂山町,川越比企地域:越生町,川越比企地域:滑川町,川越比企地域:嵐山町,川越比企地域:小川町,川越比企地域:川島町,川越比企地域:吉見町,川越比企地域:鳩山町,川越比企地域:ときがわ町,川越比企地域:東秩父村,西部地域:所沢市,西部地域:飯能市,西部地域:狭山市,西部地域:入間市,西部地域:日高市,利根地域:行田市,利根地域:加須市,利根地域:羽生市,利根地域:久喜市,利根地域:蓮田市,利根地域:幸手市,利根地域:白岡市,利根地域:宮代町,利根地域:杉戸町,北部地域:熊谷市,北部地域:本庄市,北部地域:深谷市,北部地域:美里町,北部地域:神川町,北部地域:上里町,北部地域:寄居町,秩父地域:秩父市,秩父地域:横瀬町,秩父地域:皆野町,秩父地域:長瀞町,秩父地域:小鹿野町","","□","西区",{"$f":"IF(BH557=\"☑\",TRUE)","v":false},{"$f":"\"さいたま市:\"&BI557","v":"さいたま市:西区"},{"$f":"IF(BJ557,BK557,\"\")","v":""},{"$f":"_xludf.TEXTJOIN(\",\",TRUE,BL557:BL570)","v":""},"□","川口市",{"$f":"IF(BN557=\"☑\",TRUE)","v":false},{"$f":"\"南部地域:\"&BO557","v":"南部地域:川口市"},{"$f":"IF(BP557,BQ557,\"\")","v":""},{"$f":"_xludf.TEXTJOIN(\",\",TRUE,BR557:BR570)","v":""},"□","朝霞市",{"$f":"IF(BT557=\"☑\",TRUE)","v":false},{"$f":"\"南西部地域:\"&BU557","v":"南西部地域:朝霞市"},{"$f":"IF(BV557,BW557,\"\")","v":""},{"$f":"_xludf.TEXTJOIN(\",\",TRUE,BX557:BX570)","v":""},"□","春日部市",{"$f":"IF(BZ557=\"☑\",TRUE)","v":false},{"$f":"\"東部地域:\"&CA557","v":"東部地域:春日部市"},{"$f":"IF(CB557,CC557,\"\")","v":""},{"$f":"_xludf.TEXTJOIN(\",\",TRUE,CD557:CD570)","v":""},"□","鴻巣市",{"$f":"IF(CF557=\"☑\",TRUE)","v":false},{"$f":"\"県央地域:\"&CG557","v":"県央地域:鴻巣市"},{"$f":"IF(CH557,CI557,\"\")","v":""},{"$f":"_xludf.TEXTJOIN(\",\",TRUE,CJ557:CJ570)","v":""},"□","川越市",{"$f":"IF(CL557=\"☑\",TRUE)","v":false},{"$f":"\"川越比企地域:\"&CM557","v":"川越比企地域:川越市"},{"$f":"IF(CN557,CO557,\"\")","v":""},{"$f":"_xludf.TEXTJOIN(\",\",TRUE,CP557:CP570)","v":""},"□","所沢市",{"$f":"IF(CR557=\"☑\",TRUE)","v":false},{"$f":"\"西部地域:\"&CS557","v":"西部地域:所沢市"},{"$f":"IF(CT557,CU557,\"\")","v":""},{"$f":"_xludf.TEXTJOIN(\",\",TRUE,CV557:CV570)","v":""},"□","行田市",{"$f":"IF(CX557=\"☑\",TRUE)","v":false},{"$f":"\"利根地域:\"&CY557","v":"利根地域:行田市"},{"$f":"IF(CZ557,DA557,\"\")","v":""},{"$f":"_xludf.TEXTJOIN(\",\",TRUE,DB557:DB570)","v":""},"□","熊谷市",{"$f":"IF(DD557=\"☑\",TRUE)","v":false},{"$f":"\"北部地域:\"&DE557","v":"北部地域:熊谷市"},{"$f":"IF(DF557,DG557,\"\")","v":""},{"$f":"_xludf.TEXTJOIN(\",\",TRUE,DH557:DH570)","v":""},"□","秩父市",{"$f":"IF(DJ557=\"☑\",TRUE)","v":false},{"$f":"\"秩父地域:\"&DK557","v":"秩父地域:秩父市"},{"$f":"IF(DL557,DM557,\"\")","v":""},{"$f":"_xludf.TEXTJOIN(\",\",TRUE,DN557:DN570)","v":""},{"$f":"_xludf.TEXTJOIN(\",\",TRUE,BG557,BM557,BS557,BY557,CE557,CK557,CQ557,CW557,DC557,DI557,DO557)","v":""},null,null,null,null,null,null,null,null,null,null,null,null,"□","月曜日",{"$f":"IF(EC557=\"☑\",TRUE)","v":false},{"$f":"IF(EE557,ED557,\"\")","v":""},{"$f":"_xludf.TEXTJOIN(\",\",TRUE,EF557:EF570)","v":""},"□","午前（～12:00）",{"$f":"IF(EH557=\"☑\",TRUE)","v":false},{"$f":"IF(EJ557,EI557,\"\")","v":""},{"$f":"_xludf.TEXTJOIN(\",\",TRUE,EK557:EK570)","v":""},null,null,"□","彩の国「新しい生活様式」安心宣言",{"$f":"IF(EO557=\"☑\",TRUE)","v":false},{"$f":"IF(EQ557,EP557,\"\")","v":""},{"$f":"_xludf.TEXTJOIN(\",\",TRUE,ER557:ER570)","v":""},null,"",null,"",null,"",null,"",null,"",null,"",null,"",null,""]
[null,null,null,null,null,null,null,null,null,null,null,null,null,null,null,null,null,null,null,null,null,"□","買物サポート",false,"","□","料理デリバリー（出前）",false,"","□","フィットネス・ジム（送迎）",{"$f":"IF(AD558=\"☑\",TRUE)","v":false},{"$f":"IF(AF558,AE558,\"\")","v":""},"□","出張料理",{"$f":"IF(AH558=\"☑\",TRUE)","v":false},{"$f":"IF(AJ558,AI558,\"\")","v":""},"□","温泉・銭湯（たまり場）",false,"","□","多目的トイレ",false,"","□","習い事",{"$f":"IF(AT558=\"☑\",TRUE)","v":false},{"$f":"IF(AV558,AU558,\"\")","v":""},"□","金融・保険",false,"",null,null,null,null,null,"","□","北区",{"$f":"IF(BH558=\"☑\",TRUE)","v":false},{"$f":"\"さいたま市:\"&BI558","v":"さいたま市:北区"},{"$f":"IF(BJ558,BK558,\"\")","v":""},null,"□","蕨市",{"$f":"IF(BN558=\"☑\",TRUE)","v":false},{"$f":"\"南部地域:\"&BO558","v":"南部地域:蕨市"},{"$f":"IF(BP558,BQ558,\"\")","v":""},null,"□","志木市",{"$f":"IF(BT558=\"☑\",TRUE)","v":false},{"$f":"\"南西部地域:\"&BU558","v":"南西部地域:志木市"},{"$f":"IF(BV558,BW558,\"\")","v":""},null,"□","草加市",{"$f":"IF(BZ558=\"☑\",TRUE)","v":false},{"$f":"\"東部地域:\"&CA558","v":"東部地域:草加市"},"",null,"□","上尾市",{"$f":"IF(CF558=\"☑\",TRUE)","v":false},{"$f":"\"県央地域:\"&CG558","v":"県央地域:上尾市"},{"$f":"IF(CH558,CI558,\"\")","v":""},null,"□","東松山市",{"$f":"IF(CL558=\"☑\",TRUE)","v":false},{"$f":"\"川越比企地域:\"&CM558","v":"川越比企地域:東松山市"},{"$f":"IF(CN558,CO558,\"\")","v":""},null,"□","飯能市",{"$f":"IF(CR558=\"☑\",TRUE)","v":false},{"$f":"\"西部地域:\"&CS558","v":"西部地域:飯能市"},{"$f":"IF(CT558,CU558,\"\")","v":""},null,"□","加須市",{"$f":"IF(CX558=\"☑\",TRUE)","v":false},{"$f":"\"利根地域:\"&CY558","v":"利根地域:加須市"},{"$f":"IF(CZ558,DA558,\"\")","v":""},null,"□","本庄市",{"$f":"IF(DD558=\"☑\",TRUE)","v":false},{"$f":"\"北部地域:\"&DE558","v":"北部地域:本庄市"},{"$f":"IF(DF558,DG558,\"\")","v":""},null,"□","横瀬町",{"$f":"IF(DJ558=\"☑\",TRUE)","v":false},{"$f":"\"秩父地域:\"&DK558","v":"秩父地域:横瀬町"},{"$f":"IF(DL558,DM558,\"\")","v":""},null,null,null,null,null,null,null,null,null,null,null,null,null,null,"□","火曜日",{"$f":"IF(EC558=\"☑\",TRUE)","v":false},{"$f":"IF(EE558,ED558,\"\")","v":""},null,"□","午後（12:00～16：00）",{"$f":"IF(EH558=\"☑\",TRUE)","v":false},{"$f":"IF(EJ558,EI558,\"\")","v":""},null,null,null,null,"に基づき感染対策を実施している。",null,{"$f":"IF(EQ558,EP558,\"\")","v":""}]
[null,null,null,null,null,null,null,null,null,null,null,null,null,null,null,null,null,null,null,null,null,"□","買物代行",false,"","□","食材宅配",false,"","□","温泉・銭湯（送迎）",false,"","□","屋外作業・力仕事",false,"","□","カフェ・ファーストフード",false,"","□","休憩スペース",false,"","□","映画館",false,"","□","住宅・リフォーム",false,"",null,null,null,null,null,"","□","大宮区",false,"さいたま市:大宮区","",null,"□","戸田市",{"$f":"IF(BN559=\"☑\",TRUE)","v":false},{"$f":"\"南部地域:\"&BO559","v":"南部地域:戸田市"},"",null,"□","和光市",false,"南西部地域:和光市","",null,"□","越谷市",false,"東部地域:越谷市","",null,"□","桶川市",{"$f":"IF(CF559=\"☑\",TRUE)","v":false},{"$f":"\"県央地域:\"&CG559","v":"県央地域:桶川市"},"",null,"□","坂戸市",false,"川越比企地域:坂戸市","",null,"□","狭山市",{"$f":"IF(CR559=\"☑\",TRUE)","v":false},{"$f":"\"西部地域:\"&CS559","v":"西部地域:狭山市"},"",null,"□","羽生市",false,"利根地域:羽生市","",null,"□","深谷市",false,"北部地域:深谷市","",null,"□","皆野町",{"$f":"IF(DJ559=\"☑\",TRUE)","v":false},{"$f":"\"秩父地域:\"&DK559","v":"秩父地域:皆野町"},"",null,null,null,null,null,null,null,null,null,null,null,null,null,null,"□","水曜日",false,"",null,"□","夕方(16:00～18:00)",{"$f":"IF(EH559=\"☑\",TRUE)","v":false},{"$f":"IF(EJ559,EI559,\"\")","v":""},null,null,null,"□","各種団体が定める業種別ガイドライン",{"$f":"IF(EO559=\"☑\",TRUE)","v":false},{"$f":"IF(EQ559,EP559,\"\")","v":""}]
[null,null,null,null,null,null,null,null,null,null,null,null,null,null,null,null,null,null,null,null,null,"□","移動販売",false,"","□","日用品配達",false,"","□","整体・マッサージ（送迎）",false,"","□","整体・マッサージ（出張）",false,"","□","飲食店",false,"","□","駐車場",false,"","□","カラオケ店",false,"","□","パソコン・スマートフォン",false,"",null,null,null,null,null,"","□","見沼区",false,"さいたま市:見沼区","",null,null,null,null,null,"",null,"□","新座市",false,"南西部地域:新座市","",null,"□","八潮市",false,"東部地域:八潮市","",null,"□","北本市",{"$f":"IF(CF560=\"☑\",TRUE)","v":false},{"$f":"\"県央地域:\"&CG560","v":"県央地域:北本市"},"",null,"□","鶴ヶ島市",false,"川越比企地域:鶴ヶ島市","",null,"□","入間市",{"$f":"IF(CR560=\"☑\",TRUE)","v":false},{"$f":"\"西部地域:\"&CS560","v":"西部地域:入間市"},"",null,"□","久喜市",false,"利根地域:久喜市","",null,"□","美里町",false,"北部地域:美里町","",null,"□","長瀞町",{"$f":"IF(DJ560=\"☑\",TRUE)","v":false},{"$f":"\"秩父地域:\"&DK560","v":"秩父地域:長瀞町"},"",null,null,null,null,null,null,null,null,null,null,null,null,null,null,"□","木曜日",false,"",null,"□","夜(18:00～）",{"$f":"IF(EH560=\"☑\",TRUE)","v":false},{"$f":"IF(EJ560,EI560,\"\")","v":""},null,null,null,null,"に基づき感染対策を実施している。"]
[null,null,null,null,null,null,null,null,null,null,null,null,null,null,null,null,null,null,null,null,null,"□","割引サービス",false,"","□","薬・介護用品配達",false,"","□","乗り合いサービス",false,"","□","理容室・美容室（出張）",false,"","□","イートインスペース",false,"","□","貸しスペース",false,"","□","麻雀・将棋・囲碁",false,"","□","認知症サポート企業",false,"",null,null,null,null,null,"","□","中央区",false,"さいたま市:中央区","",null,null,null,null,null,"",null,"□","富士見市",false,"南西部地域:富士見市","",null,"□","三郷市",false,"東部地域:三郷市","",null,"□","伊奈町",{"$f":"IF(CF561=\"☑\",TRUE)","v":false},{"$f":"\"県央地域:\"&CG561","v":"県央地域:伊奈町"},"",null,"□","毛呂山町",false,"川越比企地域:毛呂山町","",null,"□","日高市",{"$f":"IF(CR561=\"☑\",TRUE)","v":false},{"$f":"\"西部地域:\"&CS561","v":"西部地域:日高市"},"",null,"□","蓮田市",false,"利根地域:蓮田市","",null,"□","神川町",false,"北部地域:神川町","",null,"□","小鹿野町",{"$f":"IF(DJ561=\"☑\",TRUE)","v":false},{"$f":"\"秩父地域:\"&DK561","v":"秩父地域:小鹿野町"},"",null,null,null,null,null,null,null,null,null,null,null,null,null,null,"□","金曜日",false,"",null,null,null,null,null,null,null,null,"□","その他の感染対策を実施している。",{"$f":"IF(EO561=\"☑\",TRUE)","v":false},{"$f":"IF(EQ561,EP561,\"\")","v":""}]
[null,null,null,null,null,null,null,null,null,null,null,null,null,null,null,null,null,null,null,null,null,"□","その他（買物）",false,"","□","その他（宅配・デリバリー）",false,"","□","個別移送サービス",false,"","□","ペット",false,"","□","その他（運動・たまり場）",false,"","□","その他（設備・施設・場所貸し）",false,"","□","ゲームセンター",false,"","□","その他（生活サービス）",false,"",null,null,null,null,null,"","□","桜区",false,"さいたま市:桜区","",null,null,null,null,null,"",null,"□","ふじみ野市",false,"南西部地域:ふじみ野市","",null,"□","吉川市",false,"東部地域:吉川市","",null,null,null,null,null,"",null,"□","越生町",false,"川越比企地域:越生町","",null,null,null,null,null,"",null,"□","幸手市",false,"利根地域:幸手市","",null,"□","上里町",false,"北部地域:上里町","",null,null,null,null,null,"",null,null,null,null,null,null,null,null,null,null,null,null,null,null,"□","土曜日",false,"",null,null,null,null,null,null,null,null,"□","感染対策を特に実施していない。",{"$f":"IF(EO562=\"☑\",TRUE)","v":false},{"$f":"IF(EQ562,EP562,\"\")","v":""}]
[null,null,null,null,null,null,null,null,null,null,null,null,null,null,null,null,null,null,null,null,null,null,null,null,null,null,null,null,null,"□","交通機関サービス",false,"","□","その他（出張サービス）",false,"",null,null,null,null,null,null,null,null,"□","旅行代理店",false,"",null,null,null,null,null,null,null,null,null,"","□","浦和区",false,"さいたま市:浦和区","",null,null,null,null,null,"",null,"□","三芳町",false,"南西部地域:三芳町","",null,"□","松伏町",false,"東部地域:松伏町","",null,null,null,null,null,"",null,"□","滑川町",false,"川越比企地域:滑川町","",null,null,null,null,null,"",null,"□","白岡市",false,"利根地域:白岡市","",null,"□","寄居町",false,"北部地域:寄居町","",null,null,null,null,null,"",null,null,null,null,null,null,null,null,null,null,null,null,null,null,"□","日曜日",false,""]
[null,null,null,null,null,null,null,null,null,null,null,null,null,null,null,null,null,null,null,null,null,null,null,null,null,null,null,null,null,"□","その他（送迎・移動支援）",false,"",null,null,null,"",null,null,null,{"$f":"IF(AN564,AM564,\"\")","v":""},null,null,null,{"$f":"IF(AR564,AQ564,\"\")","v":""},"□","その他（学び・趣味）",false,"",null,null,null,null,null,null,null,null,null,"","□","南区",false,"さいたま市:南区","",null,null,null,null,null,"",null,null,null,null,null,"",null,null,null,null,null,"",null,null,null,null,null,"",null,"□","嵐山町",false,"川越比企地域:嵐山町","",null,null,null,null,null,"",null,"□","宮代町",false,"利根地域:宮代町","",null,null,null,null,null,"",null,null,null,null,null,""]
[null,null,null,null,null,null,null,null,null,null,null,null,null,null,null,null,null,null,null,null,null,null,null,null,null,null,null,null,null,null,null,null,null,null,null,null,null,null,null,null,null,null,null,null,null,null,null,null,null,null,null,null,null,null,null,null,null,null,"","□","緑区",false,"さいたま市:緑区","",null,null,null,null,null,"",null,null,null,null,null,"",null,null,null,null,null,"",null,null,null,null,null,"",null,"□","小川町",false,"川越比企地域:小川町","",null,null,null,null,null,"",null,"□","杉戸町",false,"利根地域:杉戸町","",null,null,null,null,null,"",null,null,null,null,null,""]
[null,null,null,null,null,null,null,null,null,null,null,null,null,null,null,null,null,null,null,null,null,null,null,null,null,null,null,null,null,null,null,null,null,null,null,null,null,null,null,null,null,null,null,null,null,null,null,null,null,null,null,null,null,null,null,null,null,null,"","□","岩槻区",{"$f":"IF(BH566=\"☑\",TRUE)","v":false},"さいたま市:岩槻区","",null,null,null,null,null,"",null,null,null,null,null,"",null,null,null,null,null,"",null,null,null,null,null,"",null,"□","川島町",false,"川越比企地域:川島町","",null,null,null,null,null,"",null,null,null,null,null,"",null,null,null,null,null,"",null,null,null,null,null,""]
[null,null,null,null,null,null,null,null,null,null,null,null,null,null,null,null,null,null,null,null,null,null,null,null,null,null,null,null,null,null,null,null,null,null,null,null,null,null,null,null,null,null,null,null,null,null,null,null,null,null,null,null,null,null,null,null,null,null,"",null,null,null,null,null,null,null,null,null,null,null,null,null,null,null,null,null,null,null,null,null,null,null,null,null,null,null,null,null,null,"□","吉見町",false,"川越比企地域:吉見町","",null,null,null,null,null,"",null,null,null,null,null,"",null,null,null,null,null,"",null,null,null,null,null,""]
[null,null,null,null,null,null,null,null,null,null,null,null,null,null,null,null,null,null,null,null,null,null,null,null,null,null,null,null,null,null,null,null,null,null,null,null,null,null,null,null,null,null,null,null,null,null,null,null,null,null,null,null,null,null,null,null,null,null,"",null,null,null,null,null,null,null,null,null,null,null,null,null,null,null,null,null,null,null,null,null,null,null,null,null,null,null,null,null,null,"□","鳩山町",false,"川越比企地域:鳩山町","",null,null,null,null,null,"",null,null,null,null,null,"",null,null,null,null,null,"",null,null,null,null,null,""]
[null,null,null,null,null,null,null,null,null,null,null,null,null,null,null,null,null,null,null,null,null,null,null,null,null,null,null,null,null,null,null,null,null,null,null,null,null,null,null,null,null,null,null,null,null,null,null,null,null,null,null,null,null,null,null,null,null,null,"",null,null,null,null,null,null,null,null,null,null,null,null,null,null,null,null,null,null,null,null,null,null,null,null,null,null,null,null,null,null,"□","ときがわ町",false,"川越比企地域:ときがわ町","",null,null,null,null,null,"",null,null,null,null,null,"",null,null,null,null,null,"",null,null,null,null,null,""]
[null,null,null,null,null,null,null,null,null,null,null,null,null,null,null,null,null,null,null,null,null,null,null,null,null,null,null,null,null,null,null,null,null,null,null,null,null,null,null,null,null,null,null,null,null,null,null,null,null,null,null,null,null,null,null,null,null,null,"",null,null,null,null,null,null,null,null,null,null,null,null,null,null,null,null,null,null,null,null,null,null,null,null,null,null,null,null,null,null,"□","東秩父村",false,"川越比企地域:東秩父村","",null,null,null,null,null,"",null,null,null,null,null,"",null,null,null,null,null,"",null,null,null,null,null,""]
[40,null,null,null,null,null,null,null,null,null,null,null,null,null,null,null,null,null,null,null,null,"□","配送",{"$f":"IF(V571=\"☑\",TRUE)","v":false},{"$f":"IF(X571,W571,\"\")","v":""},"□","弁当配達",{"$f":"IF(Z571=\"☑\",TRUE)","v":false},{"$f":"IF(AB571,AA571,\"\")","v":""},"□","理容室・美容室（送迎）",{"$f":"IF(AD571=\"☑\",TRUE)","v":false},{"$f":"IF(AF571,AE571,\"\")","v":""},"□","家事代行",{"$f":"IF(AH571=\"☑\",TRUE)","v":false},{"$f":"IF(AJ571,AI571,\"\")","v":""},"□","フィットネス・ジム（運動）",{"$f":"IF(AL571=\"☑\",TRUE)","v":false},{"$f":"IF(AN571,AM571,\"\")","v":""},"□","車イス対応（バリアフリー）",{"$f":"IF(AP571=\"☑\",TRUE)","v":false},{"$f":"IF(AR571,AQ571,\"\")","v":""},"□","講座・教室・イベント",{"$f":"IF(AT571=\"☑\",TRUE)","v":false},{"$f":"IF(AV571,AU571,\"\")","v":""},"□","防犯・見守り",{"$f":"IF(AX571=\"☑\",TRUE)","v":false},{"$f":"IF(AZ571,AY571,\"\")","v":""},{"$f":"_xludf.TEXTJOIN(\",\",TRUE,Y571:Y584,AC571:AC584,AG571:AG584,AK571:AK584,AO571:AO584,AS571:AS584,AW571:AW584,BA571:BA584)","v":""},"□","埼玉県全域",{"$f":"IF(BC571=\"☑\",TRUE)","v":false},"さいたま市:西区,さいたま市:北区,さいたま市:大宮区,さいたま市:見沼区,さいたま市:中央区,さいたま市:桜区,さいたま市:浦和区,さいたま市:南区,さいたま市:緑区,さいたま市:岩槻区,南部地域:川口市,南部地域:蕨市,南部地域:戸田市,南西部地域:朝霞市,南西部地域:志木市,南西部地域:和光市,南西部地域:新座市,南西部地域:富士見市,南西部地域:ふじみ野市,南西部地域:三芳町,東部地域:春日部市,東部地域:草加市,東部地域:越谷市,東部地域:八潮市,東部地域:三郷市,東部地域:吉川市,東部地域:松伏町,県央地域:鴻巣市,県央地域:上尾市,県央地域:桶川市,県央地域:北本市,県央地域:伊奈町,川越比企地域:川越市,川越比企地域:東松山市,川越比企地域:坂戸市,川越比企地域:鶴ヶ島市,川越比企地域:毛呂山町,川越比企地域:越生町,川越比企地域:滑川町,川越比企地域:嵐山町,川越比企地域:小川町,川越比企地域:川島町,川越比企地域:吉見町,川越比企地域:鳩山町,川越比企地域:ときがわ町,川越比企地域:東秩父村,西部地域:所沢市,西部地域:飯能市,西部地域:狭山市,西部地域:入間市,西部地域:日高市,利根地域:行田市,利根地域:加須市,利根地域:羽生市,利根地域:久喜市,利根地域:蓮田市,利根地域:幸手市,利根地域:白岡市,利根地域:宮代町,利根地域:杉戸町,北部地域:熊谷市,北部地域:本庄市,北部地域:深谷市,北部地域:美里町,北部地域:神川町,北部地域:上里町,北部地域:寄居町,秩父地域:秩父市,秩父地域:横瀬町,秩父地域:皆野町,秩父地域:長瀞町,秩父地域:小鹿野町","","□","西区",{"$f":"IF(BH571=\"☑\",TRUE)","v":false},{"$f":"\"さいたま市:\"&BI571","v":"さいたま市:西区"},{"$f":"IF(BJ571,BK571,\"\")","v":""},{"$f":"_xludf.TEXTJOIN(\",\",TRUE,BL571:BL584)","v":""},"□","川口市",{"$f":"IF(BN571=\"☑\",TRUE)","v":false},{"$f":"\"南部地域:\"&BO571","v":"南部地域:川口市"},{"$f":"IF(BP571,BQ571,\"\")","v":""},{"$f":"_xludf.TEXTJOIN(\",\",TRUE,BR571:BR584)","v":""},"□","朝霞市",{"$f":"IF(BT571=\"☑\",TRUE)","v":false},{"$f":"\"南西部地域:\"&BU571","v":"南西部地域:朝霞市"},{"$f":"IF(BV571,BW571,\"\")","v":""},{"$f":"_xludf.TEXTJOIN(\",\",TRUE,BX571:BX584)","v":""},"□","春日部市",{"$f":"IF(BZ571=\"☑\",TRUE)","v":false},{"$f":"\"東部地域:\"&CA571","v":"東部地域:春日部市"},{"$f":"IF(CB571,CC571,\"\")","v":""},{"$f":"_xludf.TEXTJOIN(\",\",TRUE,CD571:CD584)","v":""},"□","鴻巣市",{"$f":"IF(CF571=\"☑\",TRUE)","v":false},{"$f":"\"県央地域:\"&CG571","v":"県央地域:鴻巣市"},{"$f":"IF(CH571,CI571,\"\")","v":""},{"$f":"_xludf.TEXTJOIN(\",\",TRUE,CJ571:CJ584)","v":""},"□","川越市",{"$f":"IF(CL571=\"☑\",TRUE)","v":false},{"$f":"\"川越比企地域:\"&CM571","v":"川越比企地域:川越市"},{"$f":"IF(CN571,CO571,\"\")","v":""},{"$f":"_xludf.TEXTJOIN(\",\",TRUE,CP571:CP584)","v":""},"□","所沢市",{"$f":"IF(CR571=\"☑\",TRUE)","v":false},{"$f":"\"西部地域:\"&CS571","v":"西部地域:所沢市"},{"$f":"IF(CT571,CU571,\"\")","v":""},{"$f":"_xludf.TEXTJOIN(\",\",TRUE,CV571:CV584)","v":""},"□","行田市",{"$f":"IF(CX571=\"☑\",TRUE)","v":false},{"$f":"\"利根地域:\"&CY571","v":"利根地域:行田市"},{"$f":"IF(CZ571,DA571,\"\")","v":""},{"$f":"_xludf.TEXTJOIN(\",\",TRUE,DB571:DB584)","v":""},"□","熊谷市",{"$f":"IF(DD571=\"☑\",TRUE)","v":false},{"$f":"\"北部地域:\"&DE571","v":"北部地域:熊谷市"},{"$f":"IF(DF571,DG571,\"\")","v":""},{"$f":"_xludf.TEXTJOIN(\",\",TRUE,DH571:DH584)","v":""},"□","秩父市",{"$f":"IF(DJ571=\"☑\",TRUE)","v":false},{"$f":"\"秩父地域:\"&DK571","v":"秩父地域:秩父市"},{"$f":"IF(DL571,DM571,\"\")","v":""},{"$f":"_xludf.TEXTJOIN(\",\",TRUE,DN571:DN584)","v":""},{"$f":"_xludf.TEXTJOIN(\",\",TRUE,BG571,BM571,BS571,BY571,CE571,CK571,CQ571,CW571,DC571,DI571,DO571)","v":""},null,null,null,null,null,null,null,null,null,null,null,null,"□","月曜日",{"$f":"IF(EC571=\"☑\",TRUE)","v":false},{"$f":"IF(EE571,ED571,\"\")","v":""},{"$f":"_xludf.TEXTJOIN(\",\",TRUE,EF571:EF584)","v":""},"□","午前（～12:00）",{"$f":"IF(EH571=\"☑\",TRUE)","v":false},{"$f":"IF(EJ571,EI571,\"\")","v":""},{"$f":"_xludf.TEXTJOIN(\",\",TRUE,EK571:EK584)","v":""},null,null,"□","彩の国「新しい生活様式」安心宣言",{"$f":"IF(EO571=\"☑\",TRUE)","v":false},{"$f":"IF(EQ571,EP571,\"\")","v":""},{"$f":"_xludf.TEXTJOIN(\",\",TRUE,ER571:ER584)","v":""},null,"",null,"",null,"",null,"",null,"",null,"",null,"",null,""]
[null,null,null,null,null,null,null,null,null,null,null,null,null,null,null,null,null,null,null,null,null,"□","買物サポート",false,"","□","料理デリバリー（出前）",false,"","□","フィットネス・ジム（送迎）",{"$f":"IF(AD572=\"☑\",TRUE)","v":false},{"$f":"IF(AF572,AE572,\"\")","v":""},"□","出張料理",{"$f":"IF(AH572=\"☑\",TRUE)","v":false},{"$f":"IF(AJ572,AI572,\"\")","v":""},"□","温泉・銭湯（たまり場）",false,"","□","多目的トイレ",false,"","□","習い事",{"$f":"IF(AT572=\"☑\",TRUE)","v":false},{"$f":"IF(AV572,AU572,\"\")","v":""},"□","金融・保険",false,"",null,null,null,null,null,"","□","北区",{"$f":"IF(BH572=\"☑\",TRUE)","v":false},{"$f":"\"さいたま市:\"&BI572","v":"さいたま市:北区"},{"$f":"IF(BJ572,BK572,\"\")","v":""},null,"□","蕨市",{"$f":"IF(BN572=\"☑\",TRUE)","v":false},{"$f":"\"南部地域:\"&BO572","v":"南部地域:蕨市"},{"$f":"IF(BP572,BQ572,\"\")","v":""},null,"□","志木市",{"$f":"IF(BT572=\"☑\",TRUE)","v":false},{"$f":"\"南西部地域:\"&BU572","v":"南西部地域:志木市"},{"$f":"IF(BV572,BW572,\"\")","v":""},null,"□","草加市",{"$f":"IF(BZ572=\"☑\",TRUE)","v":false},{"$f":"\"東部地域:\"&CA572","v":"東部地域:草加市"},"",null,"□","上尾市",{"$f":"IF(CF572=\"☑\",TRUE)","v":false},{"$f":"\"県央地域:\"&CG572","v":"県央地域:上尾市"},{"$f":"IF(CH572,CI572,\"\")","v":""},null,"□","東松山市",{"$f":"IF(CL572=\"☑\",TRUE)","v":false},{"$f":"\"川越比企地域:\"&CM572","v":"川越比企地域:東松山市"},{"$f":"IF(CN572,CO572,\"\")","v":""},null,"□","飯能市",{"$f":"IF(CR572=\"☑\",TRUE)","v":false},{"$f":"\"西部地域:\"&CS572","v":"西部地域:飯能市"},{"$f":"IF(CT572,CU572,\"\")","v":""},null,"□","加須市",{"$f":"IF(CX572=\"☑\",TRUE)","v":false},{"$f":"\"利根地域:\"&CY572","v":"利根地域:加須市"},{"$f":"IF(CZ572,DA572,\"\")","v":""},null,"□","本庄市",{"$f":"IF(DD572=\"☑\",TRUE)","v":false},{"$f":"\"北部地域:\"&DE572","v":"北部地域:本庄市"},{"$f":"IF(DF572,DG572,\"\")","v":""},null,"□","横瀬町",{"$f":"IF(DJ572=\"☑\",TRUE)","v":false},{"$f":"\"秩父地域:\"&DK572","v":"秩父地域:横瀬町"},{"$f":"IF(DL572,DM572,\"\")","v":""},null,null,null,null,null,null,null,null,null,null,null,null,null,null,"□","火曜日",{"$f":"IF(EC572=\"☑\",TRUE)","v":false},{"$f":"IF(EE572,ED572,\"\")","v":""},null,"□","午後（12:00～16：00）",{"$f":"IF(EH572=\"☑\",TRUE)","v":false},{"$f":"IF(EJ572,EI572,\"\")","v":""},null,null,null,null,"に基づき感染対策を実施している。",null,{"$f":"IF(EQ572,EP572,\"\")","v":""}]
[null,null,null,null,null,null,null,null,null,null,null,null,null,null,null,null,null,null,null,null,null,"□","買物代行",false,"","□","食材宅配",false,"","□","温泉・銭湯（送迎）",false,"","□","屋外作業・力仕事",false,"","□","カフェ・ファーストフード",false,"","□","休憩スペース",false,"","□","映画館",false,"","□","住宅・リフォーム",false,"",null,null,null,null,null,"","□","大宮区",false,"さいたま市:大宮区","",null,"□","戸田市",{"$f":"IF(BN573=\"☑\",TRUE)","v":false},{"$f":"\"南部地域:\"&BO573","v":"南部地域:戸田市"},"",null,"□","和光市",false,"南西部地域:和光市","",null,"□","越谷市",false,"東部地域:越谷市","",null,"□","桶川市",{"$f":"IF(CF573=\"☑\",TRUE)","v":false},{"$f":"\"県央地域:\"&CG573","v":"県央地域:桶川市"},"",null,"□","坂戸市",false,"川越比企地域:坂戸市","",null,"□","狭山市",{"$f":"IF(CR573=\"☑\",TRUE)","v":false},{"$f":"\"西部地域:\"&CS573","v":"西部地域:狭山市"},"",null,"□","羽生市",false,"利根地域:羽生市","",null,"□","深谷市",false,"北部地域:深谷市","",null,"□","皆野町",{"$f":"IF(DJ573=\"☑\",TRUE)","v":false},{"$f":"\"秩父地域:\"&DK573","v":"秩父地域:皆野町"},"",null,null,null,null,null,null,null,null,null,null,null,null,null,null,"□","水曜日",false,"",null,"□","夕方(16:00～18:00)",{"$f":"IF(EH573=\"☑\",TRUE)","v":false},{"$f":"IF(EJ573,EI573,\"\")","v":""},null,null,null,"□","各種団体が定める業種別ガイドライン",{"$f":"IF(EO573=\"☑\",TRUE)","v":false},{"$f":"IF(EQ573,EP573,\"\")","v":""}]
[null,null,null,null,null,null,null,null,null,null,null,null,null,null,null,null,null,null,null,null,null,"□","移動販売",false,"","□","日用品配達",false,"","□","整体・マッサージ（送迎）",false,"","□","整体・マッサージ（出張）",false,"","□","飲食店",false,"","□","駐車場",false,"","□","カラオケ店",false,"","□","パソコン・スマートフォン",false,"",null,null,null,null,null,"","□","見沼区",false,"さいたま市:見沼区","",null,null,null,null,null,"",null,"□","新座市",false,"南西部地域:新座市","",null,"□","八潮市",false,"東部地域:八潮市","",null,"□","北本市",{"$f":"IF(CF574=\"☑\",TRUE)","v":false},{"$f":"\"県央地域:\"&CG574","v":"県央地域:北本市"},"",null,"□","鶴ヶ島市",false,"川越比企地域:鶴ヶ島市","",null,"□","入間市",{"$f":"IF(CR574=\"☑\",TRUE)","v":false},{"$f":"\"西部地域:\"&CS574","v":"西部地域:入間市"},"",null,"□","久喜市",false,"利根地域:久喜市","",null,"□","美里町",false,"北部地域:美里町","",null,"□","長瀞町",{"$f":"IF(DJ574=\"☑\",TRUE)","v":false},{"$f":"\"秩父地域:\"&DK574","v":"秩父地域:長瀞町"},"",null,null,null,null,null,null,null,null,null,null,null,null,null,null,"□","木曜日",false,"",null,"□","夜(18:00～）",{"$f":"IF(EH574=\"☑\",TRUE)","v":false},{"$f":"IF(EJ574,EI574,\"\")","v":""},null,null,null,null,"に基づき感染対策を実施している。"]
[null,null,null,null,null,null,null,null,null,null,null,null,null,null,null,null,null,null,null,null,null,"□","割引サービス",false,"","□","薬・介護用品配達",false,"","□","乗り合いサービス",false,"","□","理容室・美容室（出張）",false,"","□","イートインスペース",false,"","□","貸しスペース",false,"","□","麻雀・将棋・囲碁",false,"","□","認知症サポート企業",false,"",null,null,null,null,null,"","□","中央区",false,"さいたま市:中央区","",null,null,null,null,null,"",null,"□","富士見市",false,"南西部地域:富士見市","",null,"□","三郷市",false,"東部地域:三郷市","",null,"□","伊奈町",{"$f":"IF(CF575=\"☑\",TRUE)","v":false},{"$f":"\"県央地域:\"&CG575","v":"県央地域:伊奈町"},"",null,"□","毛呂山町",false,"川越比企地域:毛呂山町","",null,"□","日高市",{"$f":"IF(CR575=\"☑\",TRUE)","v":false},{"$f":"\"西部地域:\"&CS575","v":"西部地域:日高市"},"",null,"□","蓮田市",false,"利根地域:蓮田市","",null,"□","神川町",false,"北部地域:神川町","",null,"□","小鹿野町",{"$f":"IF(DJ575=\"☑\",TRUE)","v":false},{"$f":"\"秩父地域:\"&DK575","v":"秩父地域:小鹿野町"},"",null,null,null,null,null,null,null,null,null,null,null,null,null,null,"□","金曜日",false,"",null,null,null,null,null,null,null,null,"□","その他の感染対策を実施している。",{"$f":"IF(EO575=\"☑\",TRUE)","v":false},{"$f":"IF(EQ575,EP575,\"\")","v":""}]
[null,null,null,null,null,null,null,null,null,null,null,null,null,null,null,null,null,null,null,null,null,"□","その他（買物）",false,"","□","その他（宅配・デリバリー）",false,"","□","個別移送サービス",false,"","□","ペット",false,"","□","その他（運動・たまり場）",false,"","□","その他（設備・施設・場所貸し）",false,"","□","ゲームセンター",false,"","□","その他（生活サービス）",false,"",null,null,null,null,null,"","□","桜区",false,"さいたま市:桜区","",null,null,null,null,null,"",null,"□","ふじみ野市",false,"南西部地域:ふじみ野市","",null,"□","吉川市",false,"東部地域:吉川市","",null,null,null,null,null,"",null,"□","越生町",false,"川越比企地域:越生町","",null,null,null,null,null,"",null,"□","幸手市",false,"利根地域:幸手市","",null,"□","上里町",false,"北部地域:上里町","",null,null,null,null,null,"",null,null,null,null,null,null,null,null,null,null,null,null,null,null,"□","土曜日",false,"",null,null,null,null,null,null,null,null,"□","感染対策を特に実施していない。",{"$f":"IF(EO576=\"☑\",TRUE)","v":false},{"$f":"IF(EQ576,EP576,\"\")","v":""}]
[null,null,null,null,null,null,null,null,null,null,null,null,null,null,null,null,null,null,null,null,null,null,null,null,null,null,null,null,null,"□","交通機関サービス",false,"","□","その他（出張サービス）",false,"",null,null,null,null,null,null,null,null,"□","旅行代理店",false,"",null,null,null,null,null,null,null,null,null,"","□","浦和区",false,"さいたま市:浦和区","",null,null,null,null,null,"",null,"□","三芳町",false,"南西部地域:三芳町","",null,"□","松伏町",false,"東部地域:松伏町","",null,null,null,null,null,"",null,"□","滑川町",false,"川越比企地域:滑川町","",null,null,null,null,null,"",null,"□","白岡市",false,"利根地域:白岡市","",null,"□","寄居町",false,"北部地域:寄居町","",null,null,null,null,null,"",null,null,null,null,null,null,null,null,null,null,null,null,null,null,"□","日曜日",false,""]
[null,null,null,null,null,null,null,null,null,null,null,null,null,null,null,null,null,null,null,null,null,null,null,null,null,null,null,null,null,"□","その他（送迎・移動支援）",false,"",null,null,null,"",null,null,null,{"$f":"IF(AN578,AM578,\"\")","v":""},null,null,null,{"$f":"IF(AR578,AQ578,\"\")","v":""},"□","その他（学び・趣味）",false,"",null,null,null,null,null,null,null,null,null,"","□","南区",false,"さいたま市:南区","",null,null,null,null,null,"",null,null,null,null,null,"",null,null,null,null,null,"",null,null,null,null,null,"",null,"□","嵐山町",false,"川越比企地域:嵐山町","",null,null,null,null,null,"",null,"□","宮代町",false,"利根地域:宮代町","",null,null,null,null,null,"",null,null,null,null,null,""]
[null,null,null,null,null,null,null,null,null,null,null,null,null,null,null,null,null,null,null,null,null,null,null,null,null,null,null,null,null,null,null,null,null,null,null,null,null,null,null,null,null,null,null,null,null,null,null,null,null,null,null,null,null,null,null,null,null,null,"","□","緑区",false,"さいたま市:緑区","",null,null,null,null,null,"",null,null,null,null,null,"",null,null,null,null,null,"",null,null,null,null,null,"",null,"□","小川町",false,"川越比企地域:小川町","",null,null,null,null,null,"",null,"□","杉戸町",false,"利根地域:杉戸町","",null,null,null,null,null,"",null,null,null,null,null,""]
[null,null,null,null,null,null,null,null,null,null,null,null,null,null,null,null,null,null,null,null,null,null,null,null,null,null,null,null,null,null,null,null,null,null,null,null,null,null,null,null,null,null,null,null,null,null,null,null,null,null,null,null,null,null,null,null,null,null,"","□","岩槻区",{"$f":"IF(BH580=\"☑\",TRUE)","v":false},"さいたま市:岩槻区","",null,null,null,null,null,"",null,null,null,null,null,"",null,null,null,null,null,"",null,null,null,null,null,"",null,"□","川島町",false,"川越比企地域:川島町","",null,null,null,null,null,"",null,null,null,null,null,"",null,null,null,null,null,"",null,null,null,null,null,""]
[null,null,null,null,null,null,null,null,null,null,null,null,null,null,null,null,null,null,null,null,null,null,null,null,null,null,null,null,null,null,null,null,null,null,null,null,null,null,null,null,null,null,null,null,null,null,null,null,null,null,null,null,null,null,null,null,null,null,"",null,null,null,null,null,null,null,null,null,null,null,null,null,null,null,null,null,null,null,null,null,null,null,null,null,null,null,null,null,null,"□","吉見町",false,"川越比企地域:吉見町","",null,null,null,null,null,"",null,null,null,null,null,"",null,null,null,null,null,"",null,null,null,null,null,""]
[null,null,null,null,null,null,null,null,null,null,null,null,null,null,null,null,null,null,null,null,null,null,null,null,null,null,null,null,null,null,null,null,null,null,null,null,null,null,null,null,null,null,null,null,null,null,null,null,null,null,null,null,null,null,null,null,null,null,"",null,null,null,null,null,null,null,null,null,null,null,null,null,null,null,null,null,null,null,null,null,null,null,null,null,null,null,null,null,null,"□","鳩山町",false,"川越比企地域:鳩山町","",null,null,null,null,null,"",null,null,null,null,null,"",null,null,null,null,null,"",null,null,null,null,null,""]
[null,null,null,null,null,null,null,null,null,null,null,null,null,null,null,null,null,null,null,null,null,null,null,null,null,null,null,null,null,null,null,null,null,null,null,null,null,null,null,null,null,null,null,null,null,null,null,null,null,null,null,null,null,null,null,null,null,null,"",null,null,null,null,null,null,null,null,null,null,null,null,null,null,null,null,null,null,null,null,null,null,null,null,null,null,null,null,null,null,"□","ときがわ町",false,"川越比企地域:ときがわ町","",null,null,null,null,null,"",null,null,null,null,null,"",null,null,null,null,null,"",null,null,null,null,null,""]
[null,null,null,null,null,null,null,null,null,null,null,null,null,null,null,null,null,null,null,null,null,null,null,null,null,null,null,null,null,null,null,null,null,null,null,null,null,null,null,null,null,null,null,null,null,null,null,null,null,null,null,null,null,null,null,null,null,null,"",null,null,null,null,null,null,null,null,null,null,null,null,null,null,null,null,null,null,null,null,null,null,null,null,null,null,null,null,null,null,"□","東秩父村",false,"川越比企地域:東秩父村","",null,null,null,null,null,"",null,null,null,null,null,"",null,null,null,null,null,"",null,null,null,null,null,""]
[41,null,null,null,null,null,null,null,null,null,null,null,null,null,null,null,null,null,null,null,null,"□","配送",{"$f":"IF(V585=\"☑\",TRUE)","v":false},{"$f":"IF(X585,W585,\"\")","v":""},"□","弁当配達",{"$f":"IF(Z585=\"☑\",TRUE)","v":false},{"$f":"IF(AB585,AA585,\"\")","v":""},"□","理容室・美容室（送迎）",{"$f":"IF(AD585=\"☑\",TRUE)","v":false},{"$f":"IF(AF585,AE585,\"\")","v":""},"□","家事代行",{"$f":"IF(AH585=\"☑\",TRUE)","v":false},{"$f":"IF(AJ585,AI585,\"\")","v":""},"□","フィットネス・ジム（運動）",{"$f":"IF(AL585=\"☑\",TRUE)","v":false},{"$f":"IF(AN585,AM585,\"\")","v":""},"□","車イス対応（バリアフリー）",{"$f":"IF(AP585=\"☑\",TRUE)","v":false},{"$f":"IF(AR585,AQ585,\"\")","v":""},"□","講座・教室・イベント",{"$f":"IF(AT585=\"☑\",TRUE)","v":false},{"$f":"IF(AV585,AU585,\"\")","v":""},"□","防犯・見守り",{"$f":"IF(AX585=\"☑\",TRUE)","v":false},{"$f":"IF(AZ585,AY585,\"\")","v":""},{"$f":"_xludf.TEXTJOIN(\",\",TRUE,Y585:Y598,AC585:AC598,AG585:AG598,AK585:AK598,AO585:AO598,AS585:AS598,AW585:AW598,BA585:BA598)","v":""},"□","埼玉県全域",{"$f":"IF(BC585=\"☑\",TRUE)","v":false},"さいたま市:西区,さいたま市:北区,さいたま市:大宮区,さいたま市:見沼区,さいたま市:中央区,さいたま市:桜区,さいたま市:浦和区,さいたま市:南区,さいたま市:緑区,さいたま市:岩槻区,南部地域:川口市,南部地域:蕨市,南部地域:戸田市,南西部地域:朝霞市,南西部地域:志木市,南西部地域:和光市,南西部地域:新座市,南西部地域:富士見市,南西部地域:ふじみ野市,南西部地域:三芳町,東部地域:春日部市,東部地域:草加市,東部地域:越谷市,東部地域:八潮市,東部地域:三郷市,東部地域:吉川市,東部地域:松伏町,県央地域:鴻巣市,県央地域:上尾市,県央地域:桶川市,県央地域:北本市,県央地域:伊奈町,川越比企地域:川越市,川越比企地域:東松山市,川越比企地域:坂戸市,川越比企地域:鶴ヶ島市,川越比企地域:毛呂山町,川越比企地域:越生町,川越比企地域:滑川町,川越比企地域:嵐山町,川越比企地域:小川町,川越比企地域:川島町,川越比企地域:吉見町,川越比企地域:鳩山町,川越比企地域:ときがわ町,川越比企地域:東秩父村,西部地域:所沢市,西部地域:飯能市,西部地域:狭山市,西部地域:入間市,西部地域:日高市,利根地域:行田市,利根地域:加須市,利根地域:羽生市,利根地域:久喜市,利根地域:蓮田市,利根地域:幸手市,利根地域:白岡市,利根地域:宮代町,利根地域:杉戸町,北部地域:熊谷市,北部地域:本庄市,北部地域:深谷市,北部地域:美里町,北部地域:神川町,北部地域:上里町,北部地域:寄居町,秩父地域:秩父市,秩父地域:横瀬町,秩父地域:皆野町,秩父地域:長瀞町,秩父地域:小鹿野町","","□","西区",{"$f":"IF(BH585=\"☑\",TRUE)","v":false},{"$f":"\"さいたま市:\"&BI585","v":"さいたま市:西区"},{"$f":"IF(BJ585,BK585,\"\")","v":""},{"$f":"_xludf.TEXTJOIN(\",\",TRUE,BL585:BL598)","v":""},"□","川口市",{"$f":"IF(BN585=\"☑\",TRUE)","v":false},{"$f":"\"南部地域:\"&BO585","v":"南部地域:川口市"},{"$f":"IF(BP585,BQ585,\"\")","v":""},{"$f":"_xludf.TEXTJOIN(\",\",TRUE,BR585:BR598)","v":""},"□","朝霞市",{"$f":"IF(BT585=\"☑\",TRUE)","v":false},{"$f":"\"南西部地域:\"&BU585","v":"南西部地域:朝霞市"},{"$f":"IF(BV585,BW585,\"\")","v":""},{"$f":"_xludf.TEXTJOIN(\",\",TRUE,BX585:BX598)","v":""},"□","春日部市",{"$f":"IF(BZ585=\"☑\",TRUE)","v":false},{"$f":"\"東部地域:\"&CA585","v":"東部地域:春日部市"},{"$f":"IF(CB585,CC585,\"\")","v":""},{"$f":"_xludf.TEXTJOIN(\",\",TRUE,CD585:CD598)","v":""},"□","鴻巣市",{"$f":"IF(CF585=\"☑\",TRUE)","v":false},{"$f":"\"県央地域:\"&CG585","v":"県央地域:鴻巣市"},{"$f":"IF(CH585,CI585,\"\")","v":""},{"$f":"_xludf.TEXTJOIN(\",\",TRUE,CJ585:CJ598)","v":""},"□","川越市",{"$f":"IF(CL585=\"☑\",TRUE)","v":false},{"$f":"\"川越比企地域:\"&CM585","v":"川越比企地域:川越市"},{"$f":"IF(CN585,CO585,\"\")","v":""},{"$f":"_xludf.TEXTJOIN(\",\",TRUE,CP585:CP598)","v":""},"□","所沢市",{"$f":"IF(CR585=\"☑\",TRUE)","v":false},{"$f":"\"西部地域:\"&CS585","v":"西部地域:所沢市"},{"$f":"IF(CT585,CU585,\"\")","v":""},{"$f":"_xludf.TEXTJOIN(\",\",TRUE,CV585:CV598)","v":""},"□","行田市",{"$f":"IF(CX585=\"☑\",TRUE)","v":false},{"$f":"\"利根地域:\"&CY585","v":"利根地域:行田市"},{"$f":"IF(CZ585,DA585,\"\")","v":""},{"$f":"_xludf.TEXTJOIN(\",\",TRUE,DB585:DB598)","v":""},"□","熊谷市",{"$f":"IF(DD585=\"☑\",TRUE)","v":false},{"$f":"\"北部地域:\"&DE585","v":"北部地域:熊谷市"},{"$f":"IF(DF585,DG585,\"\")","v":""},{"$f":"_xludf.TEXTJOIN(\",\",TRUE,DH585:DH598)","v":""},"□","秩父市",{"$f":"IF(DJ585=\"☑\",TRUE)","v":false},{"$f":"\"秩父地域:\"&DK585","v":"秩父地域:秩父市"},{"$f":"IF(DL585,DM585,\"\")","v":""},{"$f":"_xludf.TEXTJOIN(\",\",TRUE,DN585:DN598)","v":""},{"$f":"_xludf.TEXTJOIN(\",\",TRUE,BG585,BM585,BS585,BY585,CE585,CK585,CQ585,CW585,DC585,DI585,DO585)","v":""},null,null,null,null,null,null,null,null,null,null,null,null,"□","月曜日",{"$f":"IF(EC585=\"☑\",TRUE)","v":false},{"$f":"IF(EE585,ED585,\"\")","v":""},{"$f":"_xludf.TEXTJOIN(\",\",TRUE,EF585:EF598)","v":""},"□","午前（～12:00）",{"$f":"IF(EH585=\"☑\",TRUE)","v":false},{"$f":"IF(EJ585,EI585,\"\")","v":""},{"$f":"_xludf.TEXTJOIN(\",\",TRUE,EK585:EK598)","v":""},null,null,"□","彩の国「新しい生活様式」安心宣言",{"$f":"IF(EO585=\"☑\",TRUE)","v":false},{"$f":"IF(EQ585,EP585,\"\")","v":""},{"$f":"_xludf.TEXTJOIN(\",\",TRUE,ER585:ER598)","v":""},null,"",null,"",null,"",null,"",null,"",null,"",null,"",null,""]
[null,null,null,null,null,null,null,null,null,null,null,null,null,null,null,null,null,null,null,null,null,"□","買物サポート",false,"","□","料理デリバリー（出前）",false,"","□","フィットネス・ジム（送迎）",{"$f":"IF(AD586=\"☑\",TRUE)","v":false},{"$f":"IF(AF586,AE586,\"\")","v":""},"□","出張料理",{"$f":"IF(AH586=\"☑\",TRUE)","v":false},{"$f":"IF(AJ586,AI586,\"\")","v":""},"□","温泉・銭湯（たまり場）",false,"","□","多目的トイレ",false,"","□","習い事",{"$f":"IF(AT586=\"☑\",TRUE)","v":false},{"$f":"IF(AV586,AU586,\"\")","v":""},"□","金融・保険",false,"",null,null,null,null,null,"","□","北区",{"$f":"IF(BH586=\"☑\",TRUE)","v":false},{"$f":"\"さいたま市:\"&BI586","v":"さいたま市:北区"},{"$f":"IF(BJ586,BK586,\"\")","v":""},null,"□","蕨市",{"$f":"IF(BN586=\"☑\",TRUE)","v":false},{"$f":"\"南部地域:\"&BO586","v":"南部地域:蕨市"},{"$f":"IF(BP586,BQ586,\"\")","v":""},null,"□","志木市",{"$f":"IF(BT586=\"☑\",TRUE)","v":false},{"$f":"\"南西部地域:\"&BU586","v":"南西部地域:志木市"},{"$f":"IF(BV586,BW586,\"\")","v":""},null,"□","草加市",{"$f":"IF(BZ586=\"☑\",TRUE)","v":false},{"$f":"\"東部地域:\"&CA586","v":"東部地域:草加市"},"",null,"□","上尾市",{"$f":"IF(CF586=\"☑\",TRUE)","v":false},{"$f":"\"県央地域:\"&CG586","v":"県央地域:上尾市"},{"$f":"IF(CH586,CI586,\"\")","v":""},null,"□","東松山市",{"$f":"IF(CL586=\"☑\",TRUE)","v":false},{"$f":"\"川越比企地域:\"&CM586","v":"川越比企地域:東松山市"},{"$f":"IF(CN586,CO586,\"\")","v":""},null,"□","飯能市",{"$f":"IF(CR586=\"☑\",TRUE)","v":false},{"$f":"\"西部地域:\"&CS586","v":"西部地域:飯能市"},{"$f":"IF(CT586,CU586,\"\")","v":""},null,"□","加須市",{"$f":"IF(CX586=\"☑\",TRUE)","v":false},{"$f":"\"利根地域:\"&CY586","v":"利根地域:加須市"},{"$f":"IF(CZ586,DA586,\"\")","v":""},null,"□","本庄市",{"$f":"IF(DD586=\"☑\",TRUE)","v":false},{"$f":"\"北部地域:\"&DE586","v":"北部地域:本庄市"},{"$f":"IF(DF586,DG586,\"\")","v":""},null,"□","横瀬町",{"$f":"IF(DJ586=\"☑\",TRUE)","v":false},{"$f":"\"秩父地域:\"&DK586","v":"秩父地域:横瀬町"},{"$f":"IF(DL586,DM586,\"\")","v":""},null,null,null,null,null,null,null,null,null,null,null,null,null,null,"□","火曜日",{"$f":"IF(EC586=\"☑\",TRUE)","v":false},{"$f":"IF(EE586,ED586,\"\")","v":""},null,"□","午後（12:00～16：00）",{"$f":"IF(EH586=\"☑\",TRUE)","v":false},{"$f":"IF(EJ586,EI586,\"\")","v":""},null,null,null,null,"に基づき感染対策を実施している。",null,{"$f":"IF(EQ586,EP586,\"\")","v":""}]
[null,null,null,null,null,null,null,null,null,null,null,null,null,null,null,null,null,null,null,null,null,"□","買物代行",false,"","□","食材宅配",false,"","□","温泉・銭湯（送迎）",false,"","□","屋外作業・力仕事",false,"","□","カフェ・ファーストフード",false,"","□","休憩スペース",false,"","□","映画館",false,"","□","住宅・リフォーム",false,"",null,null,null,null,null,{"$f":"IF(BE587,BF587,\"\")","v":""},"□","大宮区",false,"さいたま市:大宮区","",null,"□","戸田市",{"$f":"IF(BN587=\"☑\",TRUE)","v":false},{"$f":"\"南部地域:\"&BO587","v":"南部地域:戸田市"},"",null,"□","和光市",false,"南西部地域:和光市","",null,"□","越谷市",false,"東部地域:越谷市","",null,"□","桶川市",{"$f":"IF(CF587=\"☑\",TRUE)","v":false},{"$f":"\"県央地域:\"&CG587","v":"県央地域:桶川市"},"",null,"□","坂戸市",false,"川越比企地域:坂戸市","",null,"□","狭山市",{"$f":"IF(CR587=\"☑\",TRUE)","v":false},{"$f":"\"西部地域:\"&CS587","v":"西部地域:狭山市"},"",null,"□","羽生市",false,"利根地域:羽生市","",null,"□","深谷市",false,"北部地域:深谷市","",null,"□","皆野町",{"$f":"IF(DJ587=\"☑\",TRUE)","v":false},{"$f":"\"秩父地域:\"&DK587","v":"秩父地域:皆野町"},"",null,null,null,null,null,null,null,null,null,null,null,null,null,null,"□","水曜日",false,"",null,"□","夕方(16:00～18:00)",{"$f":"IF(EH587=\"☑\",TRUE)","v":false},{"$f":"IF(EJ587,EI587,\"\")","v":""},null,null,null,"□","各種団体が定める業種別ガイドライン",{"$f":"IF(EO587=\"☑\",TRUE)","v":false},{"$f":"IF(EQ587,EP587,\"\")","v":""}]
[null,null,null,null,null,null,null,null,null,null,null,null,null,null,null,null,null,null,null,null,null,"□","移動販売",false,"","□","日用品配達",false,"","□","整体・マッサージ（送迎）",false,"","□","整体・マッサージ（出張）",false,"","□","飲食店",false,"","□","駐車場",false,"","□","カラオケ店",false,"","□","パソコン・スマートフォン",false,"",null,null,null,null,null,"","□","見沼区",false,"さいたま市:見沼区","",null,null,null,null,null,"",null,"□","新座市",false,"南西部地域:新座市","",null,"□","八潮市",false,"東部地域:八潮市","",null,"□","北本市",{"$f":"IF(CF588=\"☑\",TRUE)","v":false},{"$f":"\"県央地域:\"&CG588","v":"県央地域:北本市"},"",null,"□","鶴ヶ島市",false,"川越比企地域:鶴ヶ島市","",null,"□","入間市",{"$f":"IF(CR588=\"☑\",TRUE)","v":false},{"$f":"\"西部地域:\"&CS588","v":"西部地域:入間市"},"",null,"□","久喜市",false,"利根地域:久喜市","",null,"□","美里町",false,"北部地域:美里町","",null,"□","長瀞町",{"$f":"IF(DJ588=\"☑\",TRUE)","v":false},{"$f":"\"秩父地域:\"&DK588","v":"秩父地域:長瀞町"},"",null,null,null,null,null,null,null,null,null,null,null,null,null,null,"□","木曜日",false,"",null,"□","夜(18:00～）",{"$f":"IF(EH588=\"☑\",TRUE)","v":false},{"$f":"IF(EJ588,EI588,\"\")","v":""},null,null,null,null,"に基づき感染対策を実施している。"]
[null,null,null,null,null,null,null,null,null,null,null,null,null,null,null,null,null,null,null,null,null,"□","割引サービス",false,"","□","薬・介護用品配達",false,"","□","乗り合いサービス",false,"","□","理容室・美容室（出張）",false,"","□","イートインスペース",false,"","□","貸しスペース",false,"","□","麻雀・将棋・囲碁",false,"","□","認知症サポート企業",false,"",null,null,null,null,null,"","□","中央区",false,"さいたま市:中央区","",null,null,null,null,null,"",null,"□","富士見市",false,"南西部地域:富士見市","",null,"□","三郷市",false,"東部地域:三郷市","",null,"□","伊奈町",{"$f":"IF(CF589=\"☑\",TRUE)","v":false},{"$f":"\"県央地域:\"&CG589","v":"県央地域:伊奈町"},"",null,"□","毛呂山町",false,"川越比企地域:毛呂山町","",null,"□","日高市",{"$f":"IF(CR589=\"☑\",TRUE)","v":false},{"$f":"\"西部地域:\"&CS589","v":"西部地域:日高市"},"",null,"□","蓮田市",false,"利根地域:蓮田市","",null,"□","神川町",false,"北部地域:神川町","",null,"□","小鹿野町",{"$f":"IF(DJ589=\"☑\",TRUE)","v":false},{"$f":"\"秩父地域:\"&DK589","v":"秩父地域:小鹿野町"},"",null,null,null,null,null,null,null,null,null,null,null,null,null,null,"□","金曜日",false,"",null,null,null,null,null,null,null,null,"□","その他の感染対策を実施している。",{"$f":"IF(EO589=\"☑\",TRUE)","v":false},{"$f":"IF(EQ589,EP589,\"\")","v":""}]
[null,null,null,null,null,null,null,null,null,null,null,null,null,null,null,null,null,null,null,null,null,"□","その他（買物）",false,"","□","その他（宅配・デリバリー）",false,"","□","個別移送サービス",false,"","□","ペット",false,"","□","その他（運動・たまり場）",false,"","□","その他（設備・施設・場所貸し）",false,"","□","ゲームセンター",false,"","□","その他（生活サービス）",false,"",null,null,null,null,null,"","□","桜区",false,"さいたま市:桜区","",null,null,null,null,null,"",null,"□","ふじみ野市",false,"南西部地域:ふじみ野市","",null,"□","吉川市",false,"東部地域:吉川市","",null,null,null,null,null,"",null,"□","越生町",false,"川越比企地域:越生町","",null,null,null,null,null,"",null,"□","幸手市",false,"利根地域:幸手市","",null,"□","上里町",false,"北部地域:上里町","",null,null,null,null,null,"",null,null,null,null,null,null,null,null,null,null,null,null,null,null,"□","土曜日",false,"",null,null,null,null,null,null,null,null,"□","感染対策を特に実施していない。",{"$f":"IF(EO590=\"☑\",TRUE)","v":false},{"$f":"IF(EQ590,EP590,\"\")","v":""}]
[null,null,null,null,null,null,null,null,null,null,null,null,null,null,null,null,null,null,null,null,null,null,null,null,null,null,null,null,null,"□","交通機関サービス",false,"","□","その他（出張サービス）",false,"",null,null,null,null,null,null,null,null,"□","旅行代理店",false,"",null,null,null,null,null,null,null,null,null,"","□","浦和区",false,"さいたま市:浦和区","",null,null,null,null,null,"",null,"□","三芳町",false,"南西部地域:三芳町","",null,"□","松伏町",false,"東部地域:松伏町","",null,null,null,null,null,"",null,"□","滑川町",false,"川越比企地域:滑川町","",null,null,null,null,null,"",null,"□","白岡市",false,"利根地域:白岡市","",null,"□","寄居町",false,"北部地域:寄居町","",null,null,null,null,null,"",null,null,null,null,null,null,null,null,null,null,null,null,null,null,"□","日曜日",false,""]
[null,null,null,null,null,null,null,null,null,null,null,null,null,null,null,null,null,null,null,null,null,null,null,null,null,null,null,null,null,"□","その他（送迎・移動支援）",false,"",null,null,null,"",null,null,null,{"$f":"IF(AN592,AM592,\"\")","v":""},null,null,null,{"$f":"IF(AR592,AQ592,\"\")","v":""},"□","その他（学び・趣味）",false,"",null,null,null,null,null,null,null,null,null,"","□","南区",false,"さいたま市:南区","",null,null,null,null,null,"",null,null,null,null,null,"",null,null,null,null,null,"",null,null,null,null,null,"",null,"□","嵐山町",false,"川越比企地域:嵐山町","",null,null,null,null,null,"",null,"□","宮代町",false,"利根地域:宮代町","",null,null,null,null,null,"",null,null,null,null,null,""]
[null,null,null,null,null,null,null,null,null,null,null,null,null,null,null,null,null,null,null,null,null,null,null,null,null,null,null,null,null,null,null,null,null,null,null,null,null,null,null,null,null,null,null,null,null,null,null,null,null,null,null,null,null,null,null,null,null,null,"","□","緑区",false,"さいたま市:緑区","",null,null,null,null,null,"",null,null,null,null,null,"",null,null,null,null,null,"",null,null,null,null,null,"",null,"□","小川町",false,"川越比企地域:小川町","",null,null,null,null,null,"",null,"□","杉戸町",false,"利根地域:杉戸町","",null,null,null,null,null,"",null,null,null,null,null,""]
[null,null,null,null,null,null,null,null,null,null,null,null,null,null,null,null,null,null,null,null,null,null,null,null,null,null,null,null,null,null,null,null,null,null,null,null,null,null,null,null,null,null,null,null,null,null,null,null,null,null,null,null,null,null,null,null,null,null,"","□","岩槻区",{"$f":"IF(BH594=\"☑\",TRUE)","v":false},"さいたま市:岩槻区","",null,null,null,null,null,"",null,null,null,null,null,"",null,null,null,null,null,"",null,null,null,null,null,"",null,"□","川島町",false,"川越比企地域:川島町","",null,null,null,null,null,"",null,null,null,null,null,"",null,null,null,null,null,"",null,null,null,null,null,""]
[null,null,null,null,null,null,null,null,null,null,null,null,null,null,null,null,null,null,null,null,null,null,null,null,null,null,null,null,null,null,null,null,null,null,null,null,null,null,null,null,null,null,null,null,null,null,null,null,null,null,null,null,null,null,null,null,null,null,"",null,null,null,null,null,null,null,null,null,null,null,null,null,null,null,null,null,null,null,null,null,null,null,null,null,null,null,null,null,null,"□","吉見町",false,"川越比企地域:吉見町","",null,null,null,null,null,"",null,null,null,null,null,"",null,null,null,null,null,"",null,null,null,null,null,""]
[null,null,null,null,null,null,null,null,null,null,null,null,null,null,null,null,null,null,null,null,null,null,null,null,null,null,null,null,null,null,null,null,null,null,null,null,null,null,null,null,null,null,null,null,null,null,null,null,null,null,null,null,null,null,null,null,null,null,"",null,null,null,null,null,null,null,null,null,null,null,null,null,null,null,null,null,null,null,null,null,null,null,null,null,null,null,null,null,null,"□","鳩山町",false,"川越比企地域:鳩山町","",null,null,null,null,null,"",null,null,null,null,null,"",null,null,null,null,null,"",null,null,null,null,null,""]
[null,null,null,null,null,null,null,null,null,null,null,null,null,null,null,null,null,null,null,null,null,null,null,null,null,null,null,null,null,null,null,null,null,null,null,null,null,null,null,null,null,null,null,null,null,null,null,null,null,null,null,null,null,null,null,null,null,null,"",null,null,null,null,null,null,null,null,null,null,null,null,null,null,null,null,null,null,null,null,null,null,null,null,null,null,null,null,null,null,"□","ときがわ町",false,"川越比企地域:ときがわ町","",null,null,null,null,null,"",null,null,null,null,null,"",null,null,null,null,null,"",null,null,null,null,null,""]
[null,null,null,null,null,null,null,null,null,null,null,null,null,null,null,null,null,null,null,null,null,null,null,null,null,null,null,null,null,null,null,null,null,null,null,null,null,null,null,null,null,null,null,null,null,null,null,null,null,null,null,null,null,null,null,null,null,null,"",null,null,null,null,null,null,null,null,null,null,null,null,null,null,null,null,null,null,null,null,null,null,null,null,null,null,null,null,null,null,"□","東秩父村",false,"川越比企地域:東秩父村","",null,null,null,null,null,"",null,null,null,null,null,"",null,null,null,null,null,"",null,null,null,null,null,""]
[42,null,null,null,null,null,null,null,null,null,null,null,null,null,null,null,null,null,null,null,null,"□","配送",{"$f":"IF(V599=\"☑\",TRUE)","v":false},{"$f":"IF(X599,W599,\"\")","v":""},"□","弁当配達",{"$f":"IF(Z599=\"☑\",TRUE)","v":false},{"$f":"IF(AB599,AA599,\"\")","v":""},"□","理容室・美容室（送迎）",{"$f":"IF(AD599=\"☑\",TRUE)","v":false},{"$f":"IF(AF599,AE599,\"\")","v":""},"□","家事代行",{"$f":"IF(AH599=\"☑\",TRUE)","v":false},{"$f":"IF(AJ599,AI599,\"\")","v":""},"□","フィットネス・ジム（運動）",{"$f":"IF(AL599=\"☑\",TRUE)","v":false},{"$f":"IF(AN599,AM599,\"\")","v":""},"□","車イス対応（バリアフリー）",{"$f":"IF(AP599=\"☑\",TRUE)","v":false},{"$f":"IF(AR599,AQ599,\"\")","v":""},"□","講座・教室・イベント",{"$f":"IF(AT599=\"☑\",TRUE)","v":false},{"$f":"IF(AV599,AU599,\"\")","v":""},"□","防犯・見守り",{"$f":"IF(AX599=\"☑\",TRUE)","v":false},{"$f":"IF(AZ599,AY599,\"\")","v":""},{"$f":"_xludf.TEXTJOIN(\",\",TRUE,Y599:Y612,AC599:AC612,AG599:AG612,AK599:AK612,AO599:AO612,AS599:AS612,AW599:AW612,BA599:BA612)","v":""},"□","埼玉県全域",{"$f":"IF(BC599=\"☑\",TRUE)","v":false},"さいたま市:西区,さいたま市:北区,さいたま市:大宮区,さいたま市:見沼区,さいたま市:中央区,さいたま市:桜区,さいたま市:浦和区,さいたま市:南区,さいたま市:緑区,さいたま市:岩槻区,南部地域:川口市,南部地域:蕨市,南部地域:戸田市,南西部地域:朝霞市,南西部地域:志木市,南西部地域:和光市,南西部地域:新座市,南西部地域:富士見市,南西部地域:ふじみ野市,南西部地域:三芳町,東部地域:春日部市,東部地域:草加市,東部地域:越谷市,東部地域:八潮市,東部地域:三郷市,東部地域:吉川市,東部地域:松伏町,県央地域:鴻巣市,県央地域:上尾市,県央地域:桶川市,県央地域:北本市,県央地域:伊奈町,川越比企地域:川越市,川越比企地域:東松山市,川越比企地域:坂戸市,川越比企地域:鶴ヶ島市,川越比企地域:毛呂山町,川越比企地域:越生町,川越比企地域:滑川町,川越比企地域:嵐山町,川越比企地域:小川町,川越比企地域:川島町,川越比企地域:吉見町,川越比企地域:鳩山町,川越比企地域:ときがわ町,川越比企地域:東秩父村,西部地域:所沢市,西部地域:飯能市,西部地域:狭山市,西部地域:入間市,西部地域:日高市,利根地域:行田市,利根地域:加須市,利根地域:羽生市,利根地域:久喜市,利根地域:蓮田市,利根地域:幸手市,利根地域:白岡市,利根地域:宮代町,利根地域:杉戸町,北部地域:熊谷市,北部地域:本庄市,北部地域:深谷市,北部地域:美里町,北部地域:神川町,北部地域:上里町,北部地域:寄居町,秩父地域:秩父市,秩父地域:横瀬町,秩父地域:皆野町,秩父地域:長瀞町,秩父地域:小鹿野町","","□","西区",{"$f":"IF(BH599=\"☑\",TRUE)","v":false},{"$f":"\"さいたま市:\"&BI599","v":"さいたま市:西区"},{"$f":"IF(BJ599,BK599,\"\")","v":""},{"$f":"_xludf.TEXTJOIN(\",\",TRUE,BL599:BL612)","v":""},"□","川口市",{"$f":"IF(BN599=\"☑\",TRUE)","v":false},{"$f":"\"南部地域:\"&BO599","v":"南部地域:川口市"},{"$f":"IF(BP599,BQ599,\"\")","v":""},{"$f":"_xludf.TEXTJOIN(\",\",TRUE,BR599:BR612)","v":""},"□","朝霞市",{"$f":"IF(BT599=\"☑\",TRUE)","v":false},{"$f":"\"南西部地域:\"&BU599","v":"南西部地域:朝霞市"},{"$f":"IF(BV599,BW599,\"\")","v":""},{"$f":"_xludf.TEXTJOIN(\",\",TRUE,BX599:BX612)","v":""},"□","春日部市",{"$f":"IF(BZ599=\"☑\",TRUE)","v":false},{"$f":"\"東部地域:\"&CA599","v":"東部地域:春日部市"},{"$f":"IF(CB599,CC599,\"\")","v":""},{"$f":"_xludf.TEXTJOIN(\",\",TRUE,CD599:CD612)","v":""},"□","鴻巣市",{"$f":"IF(CF599=\"☑\",TRUE)","v":false},{"$f":"\"県央地域:\"&CG599","v":"県央地域:鴻巣市"},{"$f":"IF(CH599,CI599,\"\")","v":""},{"$f":"_xludf.TEXTJOIN(\",\",TRUE,CJ599:CJ612)","v":""},"□","川越市",{"$f":"IF(CL599=\"☑\",TRUE)","v":false},{"$f":"\"川越比企地域:\"&CM599","v":"川越比企地域:川越市"},{"$f":"IF(CN599,CO599,\"\")","v":""},{"$f":"_xludf.TEXTJOIN(\",\",TRUE,CP599:CP612)","v":""},"□","所沢市",{"$f":"IF(CR599=\"☑\",TRUE)","v":false},{"$f":"\"西部地域:\"&CS599","v":"西部地域:所沢市"},{"$f":"IF(CT599,CU599,\"\")","v":""},{"$f":"_xludf.TEXTJOIN(\",\",TRUE,CV599:CV612)","v":""},"□","行田市",{"$f":"IF(CX599=\"☑\",TRUE)","v":false},{"$f":"\"利根地域:\"&CY599","v":"利根地域:行田市"},{"$f":"IF(CZ599,DA599,\"\")","v":""},{"$f":"_xludf.TEXTJOIN(\",\",TRUE,DB599:DB612)","v":""},"□","熊谷市",{"$f":"IF(DD599=\"☑\",TRUE)","v":false},{"$f":"\"北部地域:\"&DE599","v":"北部地域:熊谷市"},{"$f":"IF(DF599,DG599,\"\")","v":""},{"$f":"_xludf.TEXTJOIN(\",\",TRUE,DH599:DH612)","v":""},"□","秩父市",{"$f":"IF(DJ599=\"☑\",TRUE)","v":false},{"$f":"\"秩父地域:\"&DK599","v":"秩父地域:秩父市"},{"$f":"IF(DL599,DM599,\"\")","v":""},{"$f":"_xludf.TEXTJOIN(\",\",TRUE,DN599:DN612)","v":""},{"$f":"_xludf.TEXTJOIN(\",\",TRUE,BG599,BM599,BS599,BY599,CE599,CK599,CQ599,CW599,DC599,DI599,DO599)","v":""},null,null,null,null,null,null,null,null,null,null,null,null,"□","月曜日",{"$f":"IF(EC599=\"☑\",TRUE)","v":false},{"$f":"IF(EE599,ED599,\"\")","v":""},{"$f":"_xludf.TEXTJOIN(\",\",TRUE,EF599:EF612)","v":""},"□","午前（～12:00）",{"$f":"IF(EH599=\"☑\",TRUE)","v":false},{"$f":"IF(EJ599,EI599,\"\")","v":""},{"$f":"_xludf.TEXTJOIN(\",\",TRUE,EK599:EK612)","v":""},null,null,"□","彩の国「新しい生活様式」安心宣言",{"$f":"IF(EO599=\"☑\",TRUE)","v":false},{"$f":"IF(EQ599,EP599,\"\")","v":""},{"$f":"_xludf.TEXTJOIN(\",\",TRUE,ER599:ER612)","v":""},null,"",null,"",null,"",null,"",null,"",null,"",null,"",null,""]
[null,null,null,null,null,null,null,null,null,null,null,null,null,null,null,null,null,null,null,null,null,"□","買物サポート",false,"","□","料理デリバリー（出前）",false,"","□","フィットネス・ジム（送迎）",{"$f":"IF(AD600=\"☑\",TRUE)","v":false},{"$f":"IF(AF600,AE600,\"\")","v":""},"□","出張料理",{"$f":"IF(AH600=\"☑\",TRUE)","v":false},{"$f":"IF(AJ600,AI600,\"\")","v":""},"□","温泉・銭湯（たまり場）",false,"","□","多目的トイレ",false,"","□","習い事",{"$f":"IF(AT600=\"☑\",TRUE)","v":false},{"$f":"IF(AV600,AU600,\"\")","v":""},"□","金融・保険",false,"",null,null,null,null,null,"","□","北区",{"$f":"IF(BH600=\"☑\",TRUE)","v":false},{"$f":"\"さいたま市:\"&BI600","v":"さいたま市:北区"},{"$f":"IF(BJ600,BK600,\"\")","v":""},null,"□","蕨市",{"$f":"IF(BN600=\"☑\",TRUE)","v":false},{"$f":"\"南部地域:\"&BO600","v":"南部地域:蕨市"},{"$f":"IF(BP600,BQ600,\"\")","v":""},null,"□","志木市",{"$f":"IF(BT600=\"☑\",TRUE)","v":false},{"$f":"\"南西部地域:\"&BU600","v":"南西部地域:志木市"},{"$f":"IF(BV600,BW600,\"\")","v":""},null,"□","草加市",{"$f":"IF(BZ600=\"☑\",TRUE)","v":false},{"$f":"\"東部地域:\"&CA600","v":"東部地域:草加市"},"",null,"□","上尾市",{"$f":"IF(CF600=\"☑\",TRUE)","v":false},{"$f":"\"県央地域:\"&CG600","v":"県央地域:上尾市"},{"$f":"IF(CH600,CI600,\"\")","v":""},null,"□","東松山市",{"$f":"IF(CL600=\"☑\",TRUE)","v":false},{"$f":"\"川越比企地域:\"&CM600","v":"川越比企地域:東松山市"},{"$f":"IF(CN600,CO600,\"\")","v":""},null,"□","飯能市",{"$f":"IF(CR600=\"☑\",TRUE)","v":false},{"$f":"\"西部地域:\"&CS600","v":"西部地域:飯能市"},{"$f":"IF(CT600,CU600,\"\")","v":""},null,"□","加須市",{"$f":"IF(CX600=\"☑\",TRUE)","v":false},{"$f":"\"利根地域:\"&CY600","v":"利根地域:加須市"},{"$f":"IF(CZ600,DA600,\"\")","v":""},null,"□","本庄市",{"$f":"IF(DD600=\"☑\",TRUE)","v":false},{"$f":"\"北部地域:\"&DE600","v":"北部地域:本庄市"},{"$f":"IF(DF600,DG600,\"\")","v":""},null,"□","横瀬町",{"$f":"IF(DJ600=\"☑\",TRUE)","v":false},{"$f":"\"秩父地域:\"&DK600","v":"秩父地域:横瀬町"},{"$f":"IF(DL600,DM600,\"\")","v":""},null,null,null,null,null,null,null,null,null,null,null,null,null,null,"□","火曜日",{"$f":"IF(EC600=\"☑\",TRUE)","v":false},{"$f":"IF(EE600,ED600,\"\")","v":""},null,"□","午後（12:00～16：00）",{"$f":"IF(EH600=\"☑\",TRUE)","v":false},{"$f":"IF(EJ600,EI600,\"\")","v":""},null,null,null,null,"に基づき感染対策を実施している。",null,{"$f":"IF(EQ600,EP600,\"\")","v":""}]
[null,null,null,null,null,null,null,null,null,null,null,null,null,null,null,null,null,null,null,null,null,"□","買物代行",false,"","□","食材宅配",false,"","□","温泉・銭湯（送迎）",false,"","□","屋外作業・力仕事",false,"","□","カフェ・ファーストフード",false,"","□","休憩スペース",false,"","□","映画館",false,"","□","住宅・リフォーム",false,"",null,null,null,null,null,"","□","大宮区",false,"さいたま市:大宮区","",null,"□","戸田市",{"$f":"IF(BN601=\"☑\",TRUE)","v":false},{"$f":"\"南部地域:\"&BO601","v":"南部地域:戸田市"},"",null,"□","和光市",false,"南西部地域:和光市","",null,"□","越谷市",false,"東部地域:越谷市","",null,"□","桶川市",{"$f":"IF(CF601=\"☑\",TRUE)","v":false},{"$f":"\"県央地域:\"&CG601","v":"県央地域:桶川市"},"",null,"□","坂戸市",false,"川越比企地域:坂戸市","",null,"□","狭山市",{"$f":"IF(CR601=\"☑\",TRUE)","v":false},{"$f":"\"西部地域:\"&CS601","v":"西部地域:狭山市"},"",null,"□","羽生市",false,"利根地域:羽生市","",null,"□","深谷市",false,"北部地域:深谷市","",null,"□","皆野町",{"$f":"IF(DJ601=\"☑\",TRUE)","v":false},{"$f":"\"秩父地域:\"&DK601","v":"秩父地域:皆野町"},"",null,null,null,null,null,null,null,null,null,null,null,null,null,null,"□","水曜日",false,"",null,"□","夕方(16:00～18:00)",{"$f":"IF(EH601=\"☑\",TRUE)","v":false},{"$f":"IF(EJ601,EI601,\"\")","v":""},null,null,null,"□","各種団体が定める業種別ガイドライン",{"$f":"IF(EO601=\"☑\",TRUE)","v":false},{"$f":"IF(EQ601,EP601,\"\")","v":""}]
[null,null,null,null,null,null,null,null,null,null,null,null,null,null,null,null,null,null,null,null,null,"□","移動販売",false,"","□","日用品配達",false,"","□","整体・マッサージ（送迎）",false,"","□","整体・マッサージ（出張）",false,"","□","飲食店",false,"","□","駐車場",false,"","□","カラオケ店",false,"","□","パソコン・スマートフォン",false,"",null,null,null,null,null,"","□","見沼区",false,"さいたま市:見沼区","",null,null,null,null,null,"",null,"□","新座市",false,"南西部地域:新座市","",null,"□","八潮市",false,"東部地域:八潮市","",null,"□","北本市",{"$f":"IF(CF602=\"☑\",TRUE)","v":false},{"$f":"\"県央地域:\"&CG602","v":"県央地域:北本市"},"",null,"□","鶴ヶ島市",false,"川越比企地域:鶴ヶ島市","",null,"□","入間市",{"$f":"IF(CR602=\"☑\",TRUE)","v":false},{"$f":"\"西部地域:\"&CS602","v":"西部地域:入間市"},"",null,"□","久喜市",false,"利根地域:久喜市","",null,"□","美里町",false,"北部地域:美里町","",null,"□","長瀞町",{"$f":"IF(DJ602=\"☑\",TRUE)","v":false},{"$f":"\"秩父地域:\"&DK602","v":"秩父地域:長瀞町"},"",null,null,null,null,null,null,null,null,null,null,null,null,null,null,"□","木曜日",false,"",null,"□","夜(18:00～）",{"$f":"IF(EH602=\"☑\",TRUE)","v":false},{"$f":"IF(EJ602,EI602,\"\")","v":""},null,null,null,null,"に基づき感染対策を実施している。"]
[null,null,null,null,null,null,null,null,null,null,null,null,null,null,null,null,null,null,null,null,null,"□","割引サービス",false,"","□","薬・介護用品配達",false,"","□","乗り合いサービス",false,"","□","理容室・美容室（出張）",false,"","□","イートインスペース",false,"","□","貸しスペース",false,"","□","麻雀・将棋・囲碁",false,"","□","認知症サポート企業",false,"",null,null,null,null,null,"","□","中央区",false,"さいたま市:中央区","",null,null,null,null,null,"",null,"□","富士見市",false,"南西部地域:富士見市","",null,"□","三郷市",false,"東部地域:三郷市","",null,"□","伊奈町",{"$f":"IF(CF603=\"☑\",TRUE)","v":false},{"$f":"\"県央地域:\"&CG603","v":"県央地域:伊奈町"},"",null,"□","毛呂山町",false,"川越比企地域:毛呂山町","",null,"□","日高市",{"$f":"IF(CR603=\"☑\",TRUE)","v":false},{"$f":"\"西部地域:\"&CS603","v":"西部地域:日高市"},"",null,"□","蓮田市",false,"利根地域:蓮田市","",null,"□","神川町",false,"北部地域:神川町","",null,"□","小鹿野町",{"$f":"IF(DJ603=\"☑\",TRUE)","v":false},{"$f":"\"秩父地域:\"&DK603","v":"秩父地域:小鹿野町"},"",null,null,null,null,null,null,null,null,null,null,null,null,null,null,"□","金曜日",false,"",null,null,null,null,null,null,null,null,"□","その他の感染対策を実施している。",{"$f":"IF(EO603=\"☑\",TRUE)","v":false},{"$f":"IF(EQ603,EP603,\"\")","v":""}]
[null,null,null,null,null,null,null,null,null,null,null,null,null,null,null,null,null,null,null,null,null,"□","その他（買物）",false,"","□","その他（宅配・デリバリー）",false,"","□","個別移送サービス",false,"","□","ペット",false,"","□","その他（運動・たまり場）",false,"","□","その他（設備・施設・場所貸し）",false,"","□","ゲームセンター",false,"","□","その他（生活サービス）",false,"",null,null,null,null,null,"","□","桜区",false,"さいたま市:桜区","",null,null,null,null,null,"",null,"□","ふじみ野市",false,"南西部地域:ふじみ野市","",null,"□","吉川市",false,"東部地域:吉川市","",null,null,null,null,null,"",null,"□","越生町",false,"川越比企地域:越生町","",null,null,null,null,null,"",null,"□","幸手市",false,"利根地域:幸手市","",null,"□","上里町",false,"北部地域:上里町","",null,null,null,null,null,"",null,null,null,null,null,null,null,null,null,null,null,null,null,null,"□","土曜日",false,"",null,null,null,null,null,null,null,null,"□","感染対策を特に実施していない。",{"$f":"IF(EO604=\"☑\",TRUE)","v":false},{"$f":"IF(EQ604,EP604,\"\")","v":""}]
[null,null,null,null,null,null,null,null,null,null,null,null,null,null,null,null,null,null,null,null,null,null,null,null,null,null,null,null,null,"□","交通機関サービス",false,"","□","その他（出張サービス）",false,"",null,null,null,null,null,null,null,null,"□","旅行代理店",false,"",null,null,null,null,null,null,null,null,null,"","□","浦和区",false,"さいたま市:浦和区","",null,null,null,null,null,"",null,"□","三芳町",false,"南西部地域:三芳町","",null,"□","松伏町",false,"東部地域:松伏町","",null,null,null,null,null,"",null,"□","滑川町",false,"川越比企地域:滑川町","",null,null,null,null,null,"",null,"□","白岡市",false,"利根地域:白岡市","",null,"□","寄居町",false,"北部地域:寄居町","",null,null,null,null,null,"",null,null,null,null,null,null,null,null,null,null,null,null,null,null,"□","日曜日",false,""]
[null,null,null,null,null,null,null,null,null,null,null,null,null,null,null,null,null,null,null,null,null,null,null,null,null,null,null,null,null,"□","その他（送迎・移動支援）",false,"",null,null,null,"",null,null,null,{"$f":"IF(AN606,AM606,\"\")","v":""},null,null,null,{"$f":"IF(AR606,AQ606,\"\")","v":""},"□","その他（学び・趣味）",false,"",null,null,null,null,null,null,null,null,null,"","□","南区",false,"さいたま市:南区","",null,null,null,null,null,"",null,null,null,null,null,"",null,null,null,null,null,"",null,null,null,null,null,"",null,"□","嵐山町",false,"川越比企地域:嵐山町","",null,null,null,null,null,"",null,"□","宮代町",false,"利根地域:宮代町","",null,null,null,null,null,"",null,null,null,null,null,""]
[null,null,null,null,null,null,null,null,null,null,null,null,null,null,null,null,null,null,null,null,null,null,null,null,null,null,null,null,null,null,null,null,null,null,null,null,null,null,null,null,null,null,null,null,null,null,null,null,null,null,null,null,null,null,null,null,null,null,"","□","緑区",false,"さいたま市:緑区","",null,null,null,null,null,"",null,null,null,null,null,"",null,null,null,null,null,"",null,null,null,null,null,"",null,"□","小川町",false,"川越比企地域:小川町","",null,null,null,null,null,"",null,"□","杉戸町",false,"利根地域:杉戸町","",null,null,null,null,null,"",null,null,null,null,null,""]
[null,null,null,null,null,null,null,null,null,null,null,null,null,null,null,null,null,null,null,null,null,null,null,null,null,null,null,null,null,null,null,null,null,null,null,null,null,null,null,null,null,null,null,null,null,null,null,null,null,null,null,null,null,null,null,null,null,null,"","□","岩槻区",{"$f":"IF(BH608=\"☑\",TRUE)","v":false},"さいたま市:岩槻区","",null,null,null,null,null,"",null,null,null,null,null,"",null,null,null,null,null,"",null,null,null,null,null,"",null,"□","川島町",false,"川越比企地域:川島町","",null,null,null,null,null,"",null,null,null,null,null,"",null,null,null,null,null,"",null,null,null,null,null,""]
[null,null,null,null,null,null,null,null,null,null,null,null,null,null,null,null,null,null,null,null,null,null,null,null,null,null,null,null,null,null,null,null,null,null,null,null,null,null,null,null,null,null,null,null,null,null,null,null,null,null,null,null,null,null,null,null,null,null,"",null,null,null,null,null,null,null,null,null,null,null,null,null,null,null,null,null,null,null,null,null,null,null,null,null,null,null,null,null,null,"□","吉見町",false,"川越比企地域:吉見町","",null,null,null,null,null,"",null,null,null,null,null,"",null,null,null,null,null,"",null,null,null,null,null,""]
[null,null,null,null,null,null,null,null,null,null,null,null,null,null,null,null,null,null,null,null,null,null,null,null,null,null,null,null,null,null,null,null,null,null,null,null,null,null,null,null,null,null,null,null,null,null,null,null,null,null,null,null,null,null,null,null,null,null,"",null,null,null,null,null,null,null,null,null,null,null,null,null,null,null,null,null,null,null,null,null,null,null,null,null,null,null,null,null,null,"□","鳩山町",false,"川越比企地域:鳩山町","",null,null,null,null,null,"",null,null,null,null,null,"",null,null,null,null,null,"",null,null,null,null,null,""]
[null,null,null,null,null,null,null,null,null,null,null,null,null,null,null,null,null,null,null,null,null,null,null,null,null,null,null,null,null,null,null,null,null,null,null,null,null,null,null,null,null,null,null,null,null,null,null,null,null,null,null,null,null,null,null,null,null,null,"",null,null,null,null,null,null,null,null,null,null,null,null,null,null,null,null,null,null,null,null,null,null,null,null,null,null,null,null,null,null,"□","ときがわ町",false,"川越比企地域:ときがわ町","",null,null,null,null,null,"",null,null,null,null,null,"",null,null,null,null,null,"",null,null,null,null,null,""]
[null,null,null,null,null,null,null,null,null,null,null,null,null,null,null,null,null,null,null,null,null,null,null,null,null,null,null,null,null,null,null,null,null,null,null,null,null,null,null,null,null,null,null,null,null,null,null,null,null,null,null,null,null,null,null,null,null,null,"",null,null,null,null,null,null,null,null,null,null,null,null,null,null,null,null,null,null,null,null,null,null,null,null,null,null,null,null,null,null,"□","東秩父村",false,"川越比企地域:東秩父村","",null,null,null,null,null,"",null,null,null,null,null,"",null,null,null,null,null,"",null,null,null,null,null,""]
[43,null,null,null,null,null,null,null,null,null,null,null,null,null,null,null,null,null,null,null,null,"□","配送",{"$f":"IF(V613=\"☑\",TRUE)","v":false},{"$f":"IF(X613,W613,\"\")","v":""},"□","弁当配達",{"$f":"IF(Z613=\"☑\",TRUE)","v":false},{"$f":"IF(AB613,AA613,\"\")","v":""},"□","理容室・美容室（送迎）",{"$f":"IF(AD613=\"☑\",TRUE)","v":false},{"$f":"IF(AF613,AE613,\"\")","v":""},"□","家事代行",{"$f":"IF(AH613=\"☑\",TRUE)","v":false},{"$f":"IF(AJ613,AI613,\"\")","v":""},"□","フィットネス・ジム（運動）",{"$f":"IF(AL613=\"☑\",TRUE)","v":false},{"$f":"IF(AN613,AM613,\"\")","v":""},"□","車イス対応（バリアフリー）",{"$f":"IF(AP613=\"☑\",TRUE)","v":false},{"$f":"IF(AR613,AQ613,\"\")","v":""},"□","講座・教室・イベント",{"$f":"IF(AT613=\"☑\",TRUE)","v":false},{"$f":"IF(AV613,AU613,\"\")","v":""},"□","防犯・見守り",{"$f":"IF(AX613=\"☑\",TRUE)","v":false},{"$f":"IF(AZ613,AY613,\"\")","v":""},{"$f":"_xludf.TEXTJOIN(\",\",TRUE,Y613:Y626,AC613:AC626,AG613:AG626,AK613:AK626,AO613:AO626,AS613:AS626,AW613:AW626,BA613:BA626)","v":""},"□","埼玉県全域",{"$f":"IF(BC613=\"☑\",TRUE)","v":false},"さいたま市:西区,さいたま市:北区,さいたま市:大宮区,さいたま市:見沼区,さいたま市:中央区,さいたま市:桜区,さいたま市:浦和区,さいたま市:南区,さいたま市:緑区,さいたま市:岩槻区,南部地域:川口市,南部地域:蕨市,南部地域:戸田市,南西部地域:朝霞市,南西部地域:志木市,南西部地域:和光市,南西部地域:新座市,南西部地域:富士見市,南西部地域:ふじみ野市,南西部地域:三芳町,東部地域:春日部市,東部地域:草加市,東部地域:越谷市,東部地域:八潮市,東部地域:三郷市,東部地域:吉川市,東部地域:松伏町,県央地域:鴻巣市,県央地域:上尾市,県央地域:桶川市,県央地域:北本市,県央地域:伊奈町,川越比企地域:川越市,川越比企地域:東松山市,川越比企地域:坂戸市,川越比企地域:鶴ヶ島市,川越比企地域:毛呂山町,川越比企地域:越生町,川越比企地域:滑川町,川越比企地域:嵐山町,川越比企地域:小川町,川越比企地域:川島町,川越比企地域:吉見町,川越比企地域:鳩山町,川越比企地域:ときがわ町,川越比企地域:東秩父村,西部地域:所沢市,西部地域:飯能市,西部地域:狭山市,西部地域:入間市,西部地域:日高市,利根地域:行田市,利根地域:加須市,利根地域:羽生市,利根地域:久喜市,利根地域:蓮田市,利根地域:幸手市,利根地域:白岡市,利根地域:宮代町,利根地域:杉戸町,北部地域:熊谷市,北部地域:本庄市,北部地域:深谷市,北部地域:美里町,北部地域:神川町,北部地域:上里町,北部地域:寄居町,秩父地域:秩父市,秩父地域:横瀬町,秩父地域:皆野町,秩父地域:長瀞町,秩父地域:小鹿野町","","□","西区",{"$f":"IF(BH613=\"☑\",TRUE)","v":false},{"$f":"\"さいたま市:\"&BI613","v":"さいたま市:西区"},{"$f":"IF(BJ613,BK613,\"\")","v":""},{"$f":"_xludf.TEXTJOIN(\",\",TRUE,BL613:BL626)","v":""},"□","川口市",{"$f":"IF(BN613=\"☑\",TRUE)","v":false},{"$f":"\"南部地域:\"&BO613","v":"南部地域:川口市"},{"$f":"IF(BP613,BQ613,\"\")","v":""},{"$f":"_xludf.TEXTJOIN(\",\",TRUE,BR613:BR626)","v":""},"□","朝霞市",{"$f":"IF(BT613=\"☑\",TRUE)","v":false},{"$f":"\"南西部地域:\"&BU613","v":"南西部地域:朝霞市"},{"$f":"IF(BV613,BW613,\"\")","v":""},{"$f":"_xludf.TEXTJOIN(\",\",TRUE,BX613:BX626)","v":""},"□","春日部市",{"$f":"IF(BZ613=\"☑\",TRUE)","v":false},{"$f":"\"東部地域:\"&CA613","v":"東部地域:春日部市"},{"$f":"IF(CB613,CC613,\"\")","v":""},{"$f":"_xludf.TEXTJOIN(\",\",TRUE,CD613:CD626)","v":""},"□","鴻巣市",{"$f":"IF(CF613=\"☑\",TRUE)","v":false},{"$f":"\"県央地域:\"&CG613","v":"県央地域:鴻巣市"},{"$f":"IF(CH613,CI613,\"\")","v":""},{"$f":"_xludf.TEXTJOIN(\",\",TRUE,CJ613:CJ626)","v":""},"□","川越市",{"$f":"IF(CL613=\"☑\",TRUE)","v":false},{"$f":"\"川越比企地域:\"&CM613","v":"川越比企地域:川越市"},{"$f":"IF(CN613,CO613,\"\")","v":""},{"$f":"_xludf.TEXTJOIN(\",\",TRUE,CP613:CP626)","v":""},"□","所沢市",{"$f":"IF(CR613=\"☑\",TRUE)","v":false},{"$f":"\"西部地域:\"&CS613","v":"西部地域:所沢市"},{"$f":"IF(CT613,CU613,\"\")","v":""},{"$f":"_xludf.TEXTJOIN(\",\",TRUE,CV613:CV626)","v":""},"□","行田市",{"$f":"IF(CX613=\"☑\",TRUE)","v":false},{"$f":"\"利根地域:\"&CY613","v":"利根地域:行田市"},{"$f":"IF(CZ613,DA613,\"\")","v":""},{"$f":"_xludf.TEXTJOIN(\",\",TRUE,DB613:DB626)","v":""},"□","熊谷市",{"$f":"IF(DD613=\"☑\",TRUE)","v":false},{"$f":"\"北部地域:\"&DE613","v":"北部地域:熊谷市"},{"$f":"IF(DF613,DG613,\"\")","v":""},{"$f":"_xludf.TEXTJOIN(\",\",TRUE,DH613:DH626)","v":""},"□","秩父市",{"$f":"IF(DJ613=\"☑\",TRUE)","v":false},{"$f":"\"秩父地域:\"&DK613","v":"秩父地域:秩父市"},{"$f":"IF(DL613,DM613,\"\")","v":""},{"$f":"_xludf.TEXTJOIN(\",\",TRUE,DN613:DN626)","v":""},{"$f":"_xludf.TEXTJOIN(\",\",TRUE,BG613,BM613,BS613,BY613,CE613,CK613,CQ613,CW613,DC613,DI613,DO613)","v":""},null,null,null,null,null,null,null,null,null,null,null,null,"□","月曜日",{"$f":"IF(EC613=\"☑\",TRUE)","v":false},{"$f":"IF(EE613,ED613,\"\")","v":""},{"$f":"_xludf.TEXTJOIN(\",\",TRUE,EF613:EF626)","v":""},"□","午前（～12:00）",{"$f":"IF(EH613=\"☑\",TRUE)","v":false},{"$f":"IF(EJ613,EI613,\"\")","v":""},{"$f":"_xludf.TEXTJOIN(\",\",TRUE,EK613:EK626)","v":""},null,null,"□","彩の国「新しい生活様式」安心宣言",{"$f":"IF(EO613=\"☑\",TRUE)","v":false},{"$f":"IF(EQ613,EP613,\"\")","v":""},{"$f":"_xludf.TEXTJOIN(\",\",TRUE,ER613:ER626)","v":""},null,"",null,"",null,"",null,"",null,"",null,"",null,"",null,""]
[null,null,null,null,null,null,null,null,null,null,null,null,null,null,null,null,null,null,null,null,null,"□","買物サポート",false,"","□","料理デリバリー（出前）",false,"","□","フィットネス・ジム（送迎）",{"$f":"IF(AD614=\"☑\",TRUE)","v":false},{"$f":"IF(AF614,AE614,\"\")","v":""},"□","出張料理",{"$f":"IF(AH614=\"☑\",TRUE)","v":false},{"$f":"IF(AJ614,AI614,\"\")","v":""},"□","温泉・銭湯（たまり場）",false,"","□","多目的トイレ",false,"","□","習い事",{"$f":"IF(AT614=\"☑\",TRUE)","v":false},{"$f":"IF(AV614,AU614,\"\")","v":""},"□","金融・保険",false,"",null,null,null,null,null,"","□","北区",{"$f":"IF(BH614=\"☑\",TRUE)","v":false},{"$f":"\"さいたま市:\"&BI614","v":"さいたま市:北区"},{"$f":"IF(BJ614,BK614,\"\")","v":""},null,"□","蕨市",{"$f":"IF(BN614=\"☑\",TRUE)","v":false},{"$f":"\"南部地域:\"&BO614","v":"南部地域:蕨市"},{"$f":"IF(BP614,BQ614,\"\")","v":""},null,"□","志木市",{"$f":"IF(BT614=\"☑\",TRUE)","v":false},{"$f":"\"南西部地域:\"&BU614","v":"南西部地域:志木市"},{"$f":"IF(BV614,BW614,\"\")","v":""},null,"□","草加市",{"$f":"IF(BZ614=\"☑\",TRUE)","v":false},{"$f":"\"東部地域:\"&CA614","v":"東部地域:草加市"},"",null,"□","上尾市",{"$f":"IF(CF614=\"☑\",TRUE)","v":false},{"$f":"\"県央地域:\"&CG614","v":"県央地域:上尾市"},{"$f":"IF(CH614,CI614,\"\")","v":""},null,"□","東松山市",{"$f":"IF(CL614=\"☑\",TRUE)","v":false},{"$f":"\"川越比企地域:\"&CM614","v":"川越比企地域:東松山市"},{"$f":"IF(CN614,CO614,\"\")","v":""},null,"□","飯能市",{"$f":"IF(CR614=\"☑\",TRUE)","v":false},{"$f":"\"西部地域:\"&CS614","v":"西部地域:飯能市"},{"$f":"IF(CT614,CU614,\"\")","v":""},null,"□","加須市",{"$f":"IF(CX614=\"☑\",TRUE)","v":false},{"$f":"\"利根地域:\"&CY614","v":"利根地域:加須市"},{"$f":"IF(CZ614,DA614,\"\")","v":""},null,"□","本庄市",{"$f":"IF(DD614=\"☑\",TRUE)","v":false},{"$f":"\"北部地域:\"&DE614","v":"北部地域:本庄市"},{"$f":"IF(DF614,DG614,\"\")","v":""},null,"□","横瀬町",{"$f":"IF(DJ614=\"☑\",TRUE)","v":false},{"$f":"\"秩父地域:\"&DK614","v":"秩父地域:横瀬町"},{"$f":"IF(DL614,DM614,\"\")","v":""},null,null,null,null,null,null,null,null,null,null,null,null,null,null,"□","火曜日",{"$f":"IF(EC614=\"☑\",TRUE)","v":false},{"$f":"IF(EE614,ED614,\"\")","v":""},null,"□","午後（12:00～16：00）",{"$f":"IF(EH614=\"☑\",TRUE)","v":false},{"$f":"IF(EJ614,EI614,\"\")","v":""},null,null,null,null,"に基づき感染対策を実施している。",null,{"$f":"IF(EQ614,EP614,\"\")","v":""}]
[null,null,null,null,null,null,null,null,null,null,null,null,null,null,null,null,null,null,null,null,null,"□","買物代行",false,"","□","食材宅配",false,"","□","温泉・銭湯（送迎）",false,"","□","屋外作業・力仕事",false,"","□","カフェ・ファーストフード",false,"","□","休憩スペース",false,"","□","映画館",false,"","□","住宅・リフォーム",false,"",null,null,null,null,null,"","□","大宮区",false,"さいたま市:大宮区","",null,"□","戸田市",{"$f":"IF(BN615=\"☑\",TRUE)","v":false},{"$f":"\"南部地域:\"&BO615","v":"南部地域:戸田市"},"",null,"□","和光市",false,"南西部地域:和光市","",null,"□","越谷市",false,"東部地域:越谷市","",null,"□","桶川市",{"$f":"IF(CF615=\"☑\",TRUE)","v":false},{"$f":"\"県央地域:\"&CG615","v":"県央地域:桶川市"},"",null,"□","坂戸市",false,"川越比企地域:坂戸市","",null,"□","狭山市",{"$f":"IF(CR615=\"☑\",TRUE)","v":false},{"$f":"\"西部地域:\"&CS615","v":"西部地域:狭山市"},"",null,"□","羽生市",false,"利根地域:羽生市","",null,"□","深谷市",false,"北部地域:深谷市","",null,"□","皆野町",{"$f":"IF(DJ615=\"☑\",TRUE)","v":false},{"$f":"\"秩父地域:\"&DK615","v":"秩父地域:皆野町"},"",null,null,null,null,null,null,null,null,null,null,null,null,null,null,"□","水曜日",false,"",null,"□","夕方(16:00～18:00)",{"$f":"IF(EH615=\"☑\",TRUE)","v":false},{"$f":"IF(EJ615,EI615,\"\")","v":""},null,null,null,"□","各種団体が定める業種別ガイドライン",{"$f":"IF(EO615=\"☑\",TRUE)","v":false},{"$f":"IF(EQ615,EP615,\"\")","v":""}]
[null,null,null,null,null,null,null,null,null,null,null,null,null,null,null,null,null,null,null,null,null,"□","移動販売",false,"","□","日用品配達",false,"","□","整体・マッサージ（送迎）",false,"","□","整体・マッサージ（出張）",false,"","□","飲食店",false,"","□","駐車場",false,"","□","カラオケ店",false,"","□","パソコン・スマートフォン",false,"",null,null,null,null,null,"","□","見沼区",false,"さいたま市:見沼区","",null,null,null,null,null,"",null,"□","新座市",false,"南西部地域:新座市","",null,"□","八潮市",false,"東部地域:八潮市","",null,"□","北本市",{"$f":"IF(CF616=\"☑\",TRUE)","v":false},{"$f":"\"県央地域:\"&CG616","v":"県央地域:北本市"},"",null,"□","鶴ヶ島市",false,"川越比企地域:鶴ヶ島市","",null,"□","入間市",{"$f":"IF(CR616=\"☑\",TRUE)","v":false},{"$f":"\"西部地域:\"&CS616","v":"西部地域:入間市"},"",null,"□","久喜市",false,"利根地域:久喜市","",null,"□","美里町",false,"北部地域:美里町","",null,"□","長瀞町",{"$f":"IF(DJ616=\"☑\",TRUE)","v":false},{"$f":"\"秩父地域:\"&DK616","v":"秩父地域:長瀞町"},"",null,null,null,null,null,null,null,null,null,null,null,null,null,null,"□","木曜日",false,"",null,"□","夜(18:00～）",{"$f":"IF(EH616=\"☑\",TRUE)","v":false},{"$f":"IF(EJ616,EI616,\"\")","v":""},null,null,null,null,"に基づき感染対策を実施している。"]
[null,null,null,null,null,null,null,null,null,null,null,null,null,null,null,null,null,null,null,null,null,"□","割引サービス",false,"","□","薬・介護用品配達",false,"","□","乗り合いサービス",false,"","□","理容室・美容室（出張）",false,"","□","イートインスペース",false,"","□","貸しスペース",false,"","□","麻雀・将棋・囲碁",false,"","□","認知症サポート企業",false,"",null,null,null,null,null,"","□","中央区",false,"さいたま市:中央区","",null,null,null,null,null,"",null,"□","富士見市",false,"南西部地域:富士見市","",null,"□","三郷市",false,"東部地域:三郷市","",null,"□","伊奈町",{"$f":"IF(CF617=\"☑\",TRUE)","v":false},{"$f":"\"県央地域:\"&CG617","v":"県央地域:伊奈町"},"",null,"□","毛呂山町",false,"川越比企地域:毛呂山町","",null,"□","日高市",{"$f":"IF(CR617=\"☑\",TRUE)","v":false},{"$f":"\"西部地域:\"&CS617","v":"西部地域:日高市"},"",null,"□","蓮田市",false,"利根地域:蓮田市","",null,"□","神川町",false,"北部地域:神川町","",null,"□","小鹿野町",{"$f":"IF(DJ617=\"☑\",TRUE)","v":false},{"$f":"\"秩父地域:\"&DK617","v":"秩父地域:小鹿野町"},"",null,null,null,null,null,null,null,null,null,null,null,null,null,null,"□","金曜日",false,"",null,null,null,null,null,null,null,null,"□","その他の感染対策を実施している。",{"$f":"IF(EO617=\"☑\",TRUE)","v":false},{"$f":"IF(EQ617,EP617,\"\")","v":""}]
[null,null,null,null,null,null,null,null,null,null,null,null,null,null,null,null,null,null,null,null,null,"□","その他（買物）",false,"","□","その他（宅配・デリバリー）",false,"","□","個別移送サービス",false,"","□","ペット",false,"","□","その他（運動・たまり場）",false,"","□","その他（設備・施設・場所貸し）",false,"","□","ゲームセンター",false,"","□","その他（生活サービス）",false,"",null,null,null,null,null,"","□","桜区",false,"さいたま市:桜区","",null,null,null,null,null,"",null,"□","ふじみ野市",false,"南西部地域:ふじみ野市","",null,"□","吉川市",false,"東部地域:吉川市","",null,null,null,null,null,"",null,"□","越生町",false,"川越比企地域:越生町","",null,null,null,null,null,"",null,"□","幸手市",false,"利根地域:幸手市","",null,"□","上里町",false,"北部地域:上里町","",null,null,null,null,null,"",null,null,null,null,null,null,null,null,null,null,null,null,null,null,"□","土曜日",false,"",null,null,null,null,null,null,null,null,"□","感染対策を特に実施していない。",{"$f":"IF(EO618=\"☑\",TRUE)","v":false},{"$f":"IF(EQ618,EP618,\"\")","v":""}]
[null,null,null,null,null,null,null,null,null,null,null,null,null,null,null,null,null,null,null,null,null,null,null,null,null,null,null,null,null,"□","交通機関サービス",false,"","□","その他（出張サービス）",false,"",null,null,null,null,null,null,null,null,"□","旅行代理店",false,"",null,null,null,null,null,null,null,null,null,"","□","浦和区",false,"さいたま市:浦和区","",null,null,null,null,null,"",null,"□","三芳町",false,"南西部地域:三芳町","",null,"□","松伏町",false,"東部地域:松伏町","",null,null,null,null,null,"",null,"□","滑川町",false,"川越比企地域:滑川町","",null,null,null,null,null,"",null,"□","白岡市",false,"利根地域:白岡市","",null,"□","寄居町",false,"北部地域:寄居町","",null,null,null,null,null,"",null,null,null,null,null,null,null,null,null,null,null,null,null,null,"□","日曜日",false,""]
[null,null,null,null,null,null,null,null,null,null,null,null,null,null,null,null,null,null,null,null,null,null,null,null,null,null,null,null,null,"□","その他（送迎・移動支援）",false,"",null,null,null,"",null,null,null,{"$f":"IF(AN620,AM620,\"\")","v":""},null,null,null,{"$f":"IF(AR620,AQ620,\"\")","v":""},"□","その他（学び・趣味）",false,"",null,null,null,null,null,null,null,null,null,"","□","南区",false,"さいたま市:南区","",null,null,null,null,null,"",null,null,null,null,null,"",null,null,null,null,null,"",null,null,null,null,null,"",null,"□","嵐山町",false,"川越比企地域:嵐山町","",null,null,null,null,null,"",null,"□","宮代町",false,"利根地域:宮代町","",null,null,null,null,null,"",null,null,null,null,null,""]
[null,null,null,null,null,null,null,null,null,null,null,null,null,null,null,null,null,null,null,null,null,null,null,null,null,null,null,null,null,null,null,null,null,null,null,null,null,null,null,null,null,null,null,null,null,null,null,null,null,null,null,null,null,null,null,null,null,null,"","□","緑区",false,"さいたま市:緑区","",null,null,null,null,null,"",null,null,null,null,null,"",null,null,null,null,null,"",null,null,null,null,null,"",null,"□","小川町",false,"川越比企地域:小川町","",null,null,null,null,null,"",null,"□","杉戸町",false,"利根地域:杉戸町","",null,null,null,null,null,"",null,null,null,null,null,""]
[null,null,null,null,null,null,null,null,null,null,null,null,null,null,null,null,null,null,null,null,null,null,null,null,null,null,null,null,null,null,null,null,null,null,null,null,null,null,null,null,null,null,null,null,null,null,null,null,null,null,null,null,null,null,null,null,null,null,"","□","岩槻区",{"$f":"IF(BH622=\"☑\",TRUE)","v":false},"さいたま市:岩槻区","",null,null,null,null,null,"",null,null,null,null,null,"",null,null,null,null,null,"",null,null,null,null,null,"",null,"□","川島町",false,"川越比企地域:川島町","",null,null,null,null,null,"",null,null,null,null,null,"",null,null,null,null,null,"",null,null,null,null,null,""]
[null,null,null,null,null,null,null,null,null,null,null,null,null,null,null,null,null,null,null,null,null,null,null,null,null,null,null,null,null,null,null,null,null,null,null,null,null,null,null,null,null,null,null,null,null,null,null,null,null,null,null,null,null,null,null,null,null,null,"",null,null,null,null,null,null,null,null,null,null,null,null,null,null,null,null,null,null,null,null,null,null,null,null,null,null,null,null,null,null,"□","吉見町",false,"川越比企地域:吉見町","",null,null,null,null,null,"",null,null,null,null,null,"",null,null,null,null,null,"",null,null,null,null,null,""]
[null,null,null,null,null,null,null,null,null,null,null,null,null,null,null,null,null,null,null,null,null,null,null,null,null,null,null,null,null,null,null,null,null,null,null,null,null,null,null,null,null,null,null,null,null,null,null,null,null,null,null,null,null,null,null,null,null,null,"",null,null,null,null,null,null,null,null,null,null,null,null,null,null,null,null,null,null,null,null,null,null,null,null,null,null,null,null,null,null,"□","鳩山町",false,"川越比企地域:鳩山町","",null,null,null,null,null,"",null,null,null,null,null,"",null,null,null,null,null,"",null,null,null,null,null,""]
[null,null,null,null,null,null,null,null,null,null,null,null,null,null,null,null,null,null,null,null,null,null,null,null,null,null,null,null,null,null,null,null,null,null,null,null,null,null,null,null,null,null,null,null,null,null,null,null,null,null,null,null,null,null,null,null,null,null,"",null,null,null,null,null,null,null,null,null,null,null,null,null,null,null,null,null,null,null,null,null,null,null,null,null,null,null,null,null,null,"□","ときがわ町",false,"川越比企地域:ときがわ町","",null,null,null,null,null,"",null,null,null,null,null,"",null,null,null,null,null,"",null,null,null,null,null,""]
[null,null,null,null,null,null,null,null,null,null,null,null,null,null,null,null,null,null,null,null,null,null,null,null,null,null,null,null,null,null,null,null,null,null,null,null,null,null,null,null,null,null,null,null,null,null,null,null,null,null,null,null,null,null,null,null,null,null,"",null,null,null,null,null,null,null,null,null,null,null,null,null,null,null,null,null,null,null,null,null,null,null,null,null,null,null,null,null,null,"□","東秩父村",false,"川越比企地域:東秩父村","",null,null,null,null,null,"",null,null,null,null,null,"",null,null,null,null,null,"",null,null,null,null,null,""]
[44,null,null,null,null,null,null,null,null,null,null,null,null,null,null,null,null,null,null,null,null,"□","配送",{"$f":"IF(V627=\"☑\",TRUE)","v":false},{"$f":"IF(X627,W627,\"\")","v":""},"□","弁当配達",{"$f":"IF(Z627=\"☑\",TRUE)","v":false},{"$f":"IF(AB627,AA627,\"\")","v":""},"□","理容室・美容室（送迎）",{"$f":"IF(AD627=\"☑\",TRUE)","v":false},{"$f":"IF(AF627,AE627,\"\")","v":""},"□","家事代行",{"$f":"IF(AH627=\"☑\",TRUE)","v":false},{"$f":"IF(AJ627,AI627,\"\")","v":""},"□","フィットネス・ジム（運動）",{"$f":"IF(AL627=\"☑\",TRUE)","v":false},{"$f":"IF(AN627,AM627,\"\")","v":""},"□","車イス対応（バリアフリー）",{"$f":"IF(AP627=\"☑\",TRUE)","v":false},{"$f":"IF(AR627,AQ627,\"\")","v":""},"□","講座・教室・イベント",{"$f":"IF(AT627=\"☑\",TRUE)","v":false},{"$f":"IF(AV627,AU627,\"\")","v":""},"□","防犯・見守り",{"$f":"IF(AX627=\"☑\",TRUE)","v":false},{"$f":"IF(AZ627,AY627,\"\")","v":""},{"$f":"_xludf.TEXTJOIN(\",\",TRUE,Y627:Y640,AC627:AC640,AG627:AG640,AK627:AK640,AO627:AO640,AS627:AS640,AW627:AW640,BA627:BA640)","v":""},"□","埼玉県全域",{"$f":"IF(BC627=\"☑\",TRUE)","v":false},"さいたま市:西区,さいたま市:北区,さいたま市:大宮区,さいたま市:見沼区,さいたま市:中央区,さいたま市:桜区,さいたま市:浦和区,さいたま市:南区,さいたま市:緑区,さいたま市:岩槻区,南部地域:川口市,南部地域:蕨市,南部地域:戸田市,南西部地域:朝霞市,南西部地域:志木市,南西部地域:和光市,南西部地域:新座市,南西部地域:富士見市,南西部地域:ふじみ野市,南西部地域:三芳町,東部地域:春日部市,東部地域:草加市,東部地域:越谷市,東部地域:八潮市,東部地域:三郷市,東部地域:吉川市,東部地域:松伏町,県央地域:鴻巣市,県央地域:上尾市,県央地域:桶川市,県央地域:北本市,県央地域:伊奈町,川越比企地域:川越市,川越比企地域:東松山市,川越比企地域:坂戸市,川越比企地域:鶴ヶ島市,川越比企地域:毛呂山町,川越比企地域:越生町,川越比企地域:滑川町,川越比企地域:嵐山町,川越比企地域:小川町,川越比企地域:川島町,川越比企地域:吉見町,川越比企地域:鳩山町,川越比企地域:ときがわ町,川越比企地域:東秩父村,西部地域:所沢市,西部地域:飯能市,西部地域:狭山市,西部地域:入間市,西部地域:日高市,利根地域:行田市,利根地域:加須市,利根地域:羽生市,利根地域:久喜市,利根地域:蓮田市,利根地域:幸手市,利根地域:白岡市,利根地域:宮代町,利根地域:杉戸町,北部地域:熊谷市,北部地域:本庄市,北部地域:深谷市,北部地域:美里町,北部地域:神川町,北部地域:上里町,北部地域:寄居町,秩父地域:秩父市,秩父地域:横瀬町,秩父地域:皆野町,秩父地域:長瀞町,秩父地域:小鹿野町","","□","西区",{"$f":"IF(BH627=\"☑\",TRUE)","v":false},{"$f":"\"さいたま市:\"&BI627","v":"さいたま市:西区"},{"$f":"IF(BJ627,BK627,\"\")","v":""},{"$f":"_xludf.TEXTJOIN(\",\",TRUE,BL627:BL640)","v":""},"□","川口市",{"$f":"IF(BN627=\"☑\",TRUE)","v":false},{"$f":"\"南部地域:\"&BO627","v":"南部地域:川口市"},{"$f":"IF(BP627,BQ627,\"\")","v":""},{"$f":"_xludf.TEXTJOIN(\",\",TRUE,BR627:BR640)","v":""},"□","朝霞市",{"$f":"IF(BT627=\"☑\",TRUE)","v":false},{"$f":"\"南西部地域:\"&BU627","v":"南西部地域:朝霞市"},{"$f":"IF(BV627,BW627,\"\")","v":""},{"$f":"_xludf.TEXTJOIN(\",\",TRUE,BX627:BX640)","v":""},"□","春日部市",{"$f":"IF(BZ627=\"☑\",TRUE)","v":false},{"$f":"\"東部地域:\"&CA627","v":"東部地域:春日部市"},{"$f":"IF(CB627,CC627,\"\")","v":""},{"$f":"_xludf.TEXTJOIN(\",\",TRUE,CD627:CD640)","v":""},"□","鴻巣市",{"$f":"IF(CF627=\"☑\",TRUE)","v":false},{"$f":"\"県央地域:\"&CG627","v":"県央地域:鴻巣市"},{"$f":"IF(CH627,CI627,\"\")","v":""},{"$f":"_xludf.TEXTJOIN(\",\",TRUE,CJ627:CJ640)","v":""},"□","川越市",{"$f":"IF(CL627=\"☑\",TRUE)","v":false},{"$f":"\"川越比企地域:\"&CM627","v":"川越比企地域:川越市"},{"$f":"IF(CN627,CO627,\"\")","v":""},{"$f":"_xludf.TEXTJOIN(\",\",TRUE,CP627:CP640)","v":""},"□","所沢市",{"$f":"IF(CR627=\"☑\",TRUE)","v":false},{"$f":"\"西部地域:\"&CS627","v":"西部地域:所沢市"},{"$f":"IF(CT627,CU627,\"\")","v":""},{"$f":"_xludf.TEXTJOIN(\",\",TRUE,CV627:CV640)","v":""},"□","行田市",{"$f":"IF(CX627=\"☑\",TRUE)","v":false},{"$f":"\"利根地域:\"&CY627","v":"利根地域:行田市"},{"$f":"IF(CZ627,DA627,\"\")","v":""},{"$f":"_xludf.TEXTJOIN(\",\",TRUE,DB627:DB640)","v":""},"□","熊谷市",{"$f":"IF(DD627=\"☑\",TRUE)","v":false},{"$f":"\"北部地域:\"&DE627","v":"北部地域:熊谷市"},{"$f":"IF(DF627,DG627,\"\")","v":""},{"$f":"_xludf.TEXTJOIN(\",\",TRUE,DH627:DH640)","v":""},"□","秩父市",{"$f":"IF(DJ627=\"☑\",TRUE)","v":false},{"$f":"\"秩父地域:\"&DK627","v":"秩父地域:秩父市"},{"$f":"IF(DL627,DM627,\"\")","v":""},{"$f":"_xludf.TEXTJOIN(\",\",TRUE,DN627:DN640)","v":""},{"$f":"_xludf.TEXTJOIN(\",\",TRUE,BG627,BM627,BS627,BY627,CE627,CK627,CQ627,CW627,DC627,DI627,DO627)","v":""},null,null,null,null,null,null,null,null,null,null,null,null,"□","月曜日",{"$f":"IF(EC627=\"☑\",TRUE)","v":false},{"$f":"IF(EE627,ED627,\"\")","v":""},{"$f":"_xludf.TEXTJOIN(\",\",TRUE,EF627:EF640)","v":""},"□","午前（～12:00）",{"$f":"IF(EH627=\"☑\",TRUE)","v":false},{"$f":"IF(EJ627,EI627,\"\")","v":""},{"$f":"_xludf.TEXTJOIN(\",\",TRUE,EK627:EK640)","v":""},null,null,"□","彩の国「新しい生活様式」安心宣言",{"$f":"IF(EO627=\"☑\",TRUE)","v":false},{"$f":"IF(EQ627,EP627,\"\")","v":""},{"$f":"_xludf.TEXTJOIN(\",\",TRUE,ER627:ER640)","v":""},null,"",null,"",null,"",null,"",null,"",null,"",null,"",null,""]
[null,null,null,null,null,null,null,null,null,null,null,null,null,null,null,null,null,null,null,null,null,"□","買物サポート",false,"","□","料理デリバリー（出前）",false,"","□","フィットネス・ジム（送迎）",{"$f":"IF(AD628=\"☑\",TRUE)","v":false},{"$f":"IF(AF628,AE628,\"\")","v":""},"□","出張料理",{"$f":"IF(AH628=\"☑\",TRUE)","v":false},{"$f":"IF(AJ628,AI628,\"\")","v":""},"□","温泉・銭湯（たまり場）",false,"","□","多目的トイレ",false,"","□","習い事",{"$f":"IF(AT628=\"☑\",TRUE)","v":false},{"$f":"IF(AV628,AU628,\"\")","v":""},"□","金融・保険",false,"",null,null,null,null,null,"","□","北区",{"$f":"IF(BH628=\"☑\",TRUE)","v":false},{"$f":"\"さいたま市:\"&BI628","v":"さいたま市:北区"},{"$f":"IF(BJ628,BK628,\"\")","v":""},null,"□","蕨市",{"$f":"IF(BN628=\"☑\",TRUE)","v":false},{"$f":"\"南部地域:\"&BO628","v":"南部地域:蕨市"},{"$f":"IF(BP628,BQ628,\"\")","v":""},null,"□","志木市",{"$f":"IF(BT628=\"☑\",TRUE)","v":false},{"$f":"\"南西部地域:\"&BU628","v":"南西部地域:志木市"},{"$f":"IF(BV628,BW628,\"\")","v":""},null,"□","草加市",{"$f":"IF(BZ628=\"☑\",TRUE)","v":false},{"$f":"\"東部地域:\"&CA628","v":"東部地域:草加市"},"",null,"□","上尾市",{"$f":"IF(CF628=\"☑\",TRUE)","v":false},{"$f":"\"県央地域:\"&CG628","v":"県央地域:上尾市"},{"$f":"IF(CH628,CI628,\"\")","v":""},null,"□","東松山市",{"$f":"IF(CL628=\"☑\",TRUE)","v":false},{"$f":"\"川越比企地域:\"&CM628","v":"川越比企地域:東松山市"},{"$f":"IF(CN628,CO628,\"\")","v":""},null,"□","飯能市",{"$f":"IF(CR628=\"☑\",TRUE)","v":false},{"$f":"\"西部地域:\"&CS628","v":"西部地域:飯能市"},{"$f":"IF(CT628,CU628,\"\")","v":""},null,"□","加須市",{"$f":"IF(CX628=\"☑\",TRUE)","v":false},{"$f":"\"利根地域:\"&CY628","v":"利根地域:加須市"},{"$f":"IF(CZ628,DA628,\"\")","v":""},null,"□","本庄市",{"$f":"IF(DD628=\"☑\",TRUE)","v":false},{"$f":"\"北部地域:\"&DE628","v":"北部地域:本庄市"},{"$f":"IF(DF628,DG628,\"\")","v":""},null,"□","横瀬町",{"$f":"IF(DJ628=\"☑\",TRUE)","v":false},{"$f":"\"秩父地域:\"&DK628","v":"秩父地域:横瀬町"},{"$f":"IF(DL628,DM628,\"\")","v":""},null,null,null,null,null,null,null,null,null,null,null,null,null,null,"□","火曜日",{"$f":"IF(EC628=\"☑\",TRUE)","v":false},{"$f":"IF(EE628,ED628,\"\")","v":""},null,"□","午後（12:00～16：00）",{"$f":"IF(EH628=\"☑\",TRUE)","v":false},{"$f":"IF(EJ628,EI628,\"\")","v":""},null,null,null,null,"に基づき感染対策を実施している。",null,{"$f":"IF(EQ628,EP628,\"\")","v":""}]
[null,null,null,null,null,null,null,null,null,null,null,null,null,null,null,null,null,null,null,null,null,"□","買物代行",false,"","□","食材宅配",false,"","□","温泉・銭湯（送迎）",false,"","□","屋外作業・力仕事",false,"","□","カフェ・ファーストフード",false,"","□","休憩スペース",false,"","□","映画館",false,"","□","住宅・リフォーム",false,"",null,null,null,null,null,"","□","大宮区",false,"さいたま市:大宮区","",null,"□","戸田市",{"$f":"IF(BN629=\"☑\",TRUE)","v":false},{"$f":"\"南部地域:\"&BO629","v":"南部地域:戸田市"},"",null,"□","和光市",false,"南西部地域:和光市","",null,"□","越谷市",false,"東部地域:越谷市","",null,"□","桶川市",{"$f":"IF(CF629=\"☑\",TRUE)","v":false},{"$f":"\"県央地域:\"&CG629","v":"県央地域:桶川市"},"",null,"□","坂戸市",false,"川越比企地域:坂戸市","",null,"□","狭山市",{"$f":"IF(CR629=\"☑\",TRUE)","v":false},{"$f":"\"西部地域:\"&CS629","v":"西部地域:狭山市"},"",null,"□","羽生市",false,"利根地域:羽生市","",null,"□","深谷市",false,"北部地域:深谷市","",null,"□","皆野町",{"$f":"IF(DJ629=\"☑\",TRUE)","v":false},{"$f":"\"秩父地域:\"&DK629","v":"秩父地域:皆野町"},"",null,null,null,null,null,null,null,null,null,null,null,null,null,null,"□","水曜日",false,"",null,"□","夕方(16:00～18:00)",{"$f":"IF(EH629=\"☑\",TRUE)","v":false},{"$f":"IF(EJ629,EI629,\"\")","v":""},null,null,null,"□","各種団体が定める業種別ガイドライン",{"$f":"IF(EO629=\"☑\",TRUE)","v":false},{"$f":"IF(EQ629,EP629,\"\")","v":""}]
[null,null,null,null,null,null,null,null,null,null,null,null,null,null,null,null,null,null,null,null,null,"□","移動販売",false,"","□","日用品配達",false,"","□","整体・マッサージ（送迎）",false,"","□","整体・マッサージ（出張）",false,"","□","飲食店",false,"","□","駐車場",false,"","□","カラオケ店",false,"","□","パソコン・スマートフォン",false,"",null,null,null,null,null,"","□","見沼区",false,"さいたま市:見沼区","",null,null,null,null,null,"",null,"□","新座市",false,"南西部地域:新座市","",null,"□","八潮市",false,"東部地域:八潮市","",null,"□","北本市",{"$f":"IF(CF630=\"☑\",TRUE)","v":false},{"$f":"\"県央地域:\"&CG630","v":"県央地域:北本市"},"",null,"□","鶴ヶ島市",false,"川越比企地域:鶴ヶ島市","",null,"□","入間市",{"$f":"IF(CR630=\"☑\",TRUE)","v":false},{"$f":"\"西部地域:\"&CS630","v":"西部地域:入間市"},"",null,"□","久喜市",false,"利根地域:久喜市","",null,"□","美里町",false,"北部地域:美里町","",null,"□","長瀞町",{"$f":"IF(DJ630=\"☑\",TRUE)","v":false},{"$f":"\"秩父地域:\"&DK630","v":"秩父地域:長瀞町"},"",null,null,null,null,null,null,null,null,null,null,null,null,null,null,"□","木曜日",false,"",null,"□","夜(18:00～）",{"$f":"IF(EH630=\"☑\",TRUE)","v":false},{"$f":"IF(EJ630,EI630,\"\")","v":""},null,null,null,null,"に基づき感染対策を実施している。"]
[null,null,null,null,null,null,null,null,null,null,null,null,null,null,null,null,null,null,null,null,null,"□","割引サービス",false,"","□","薬・介護用品配達",false,"","□","乗り合いサービス",false,"","□","理容室・美容室（出張）",false,"","□","イートインスペース",false,"","□","貸しスペース",false,"","□","麻雀・将棋・囲碁",false,"","□","認知症サポート企業",false,"",null,null,null,null,null,"","□","中央区",false,"さいたま市:中央区","",null,null,null,null,null,"",null,"□","富士見市",false,"南西部地域:富士見市","",null,"□","三郷市",false,"東部地域:三郷市","",null,"□","伊奈町",{"$f":"IF(CF631=\"☑\",TRUE)","v":false},{"$f":"\"県央地域:\"&CG631","v":"県央地域:伊奈町"},"",null,"□","毛呂山町",false,"川越比企地域:毛呂山町","",null,"□","日高市",{"$f":"IF(CR631=\"☑\",TRUE)","v":false},{"$f":"\"西部地域:\"&CS631","v":"西部地域:日高市"},"",null,"□","蓮田市",false,"利根地域:蓮田市","",null,"□","神川町",false,"北部地域:神川町","",null,"□","小鹿野町",{"$f":"IF(DJ631=\"☑\",TRUE)","v":false},{"$f":"\"秩父地域:\"&DK631","v":"秩父地域:小鹿野町"},"",null,null,null,null,null,null,null,null,null,null,null,null,null,null,"□","金曜日",false,"",null,null,null,null,null,null,null,null,"□","その他の感染対策を実施している。",{"$f":"IF(EO631=\"☑\",TRUE)","v":false},{"$f":"IF(EQ631,EP631,\"\")","v":""}]
[null,null,null,null,null,null,null,null,null,null,null,null,null,null,null,null,null,null,null,null,null,"□","その他（買物）",false,"","□","その他（宅配・デリバリー）",false,"","□","個別移送サービス",false,"","□","ペット",false,"","□","その他（運動・たまり場）",false,"","□","その他（設備・施設・場所貸し）",false,"","□","ゲームセンター",false,"","□","その他（生活サービス）",false,"",null,null,null,null,null,"","□","桜区",false,"さいたま市:桜区","",null,null,null,null,null,"",null,"□","ふじみ野市",false,"南西部地域:ふじみ野市","",null,"□","吉川市",false,"東部地域:吉川市","",null,null,null,null,null,"",null,"□","越生町",false,"川越比企地域:越生町","",null,null,null,null,null,"",null,"□","幸手市",false,"利根地域:幸手市","",null,"□","上里町",false,"北部地域:上里町","",null,null,null,null,null,"",null,null,null,null,null,null,null,null,null,null,null,null,null,null,"□","土曜日",false,"",null,null,null,null,null,null,null,null,"□","感染対策を特に実施していない。",{"$f":"IF(EO632=\"☑\",TRUE)","v":false},{"$f":"IF(EQ632,EP632,\"\")","v":""}]
[null,null,null,null,null,null,null,null,null,null,null,null,null,null,null,null,null,null,null,null,null,null,null,null,null,null,null,null,null,"□","交通機関サービス",false,"","□","その他（出張サービス）",false,"",null,null,null,null,null,null,null,null,"□","旅行代理店",false,"",null,null,null,null,null,null,null,null,null,"","□","浦和区",false,"さいたま市:浦和区","",null,null,null,null,null,"",null,"□","三芳町",false,"南西部地域:三芳町","",null,"□","松伏町",false,"東部地域:松伏町","",null,null,null,null,null,"",null,"□","滑川町",false,"川越比企地域:滑川町","",null,null,null,null,null,"",null,"□","白岡市",false,"利根地域:白岡市","",null,"□","寄居町",false,"北部地域:寄居町","",null,null,null,null,null,"",null,null,null,null,null,null,null,null,null,null,null,null,null,null,"□","日曜日",false,""]
[null,null,null,null,null,null,null,null,null,null,null,null,null,null,null,null,null,null,null,null,null,null,null,null,null,null,null,null,null,"□","その他（送迎・移動支援）",false,"",null,null,null,"",null,null,null,{"$f":"IF(AN634,AM634,\"\")","v":""},null,null,null,{"$f":"IF(AR634,AQ634,\"\")","v":""},"□","その他（学び・趣味）",false,"",null,null,null,null,null,null,null,null,null,"","□","南区",false,"さいたま市:南区","",null,null,null,null,null,"",null,null,null,null,null,"",null,null,null,null,null,"",null,null,null,null,null,"",null,"□","嵐山町",false,"川越比企地域:嵐山町","",null,null,null,null,null,"",null,"□","宮代町",false,"利根地域:宮代町","",null,null,null,null,null,"",null,null,null,null,null,""]
[null,null,null,null,null,null,null,null,null,null,null,null,null,null,null,null,null,null,null,null,null,null,null,null,null,null,null,null,null,null,null,null,null,null,null,null,null,null,null,null,null,null,null,null,null,null,null,null,null,null,null,null,null,null,null,null,null,null,"","□","緑区",false,"さいたま市:緑区","",null,null,null,null,null,"",null,null,null,null,null,"",null,null,null,null,null,"",null,null,null,null,null,"",null,"□","小川町",false,"川越比企地域:小川町","",null,null,null,null,null,"",null,"□","杉戸町",false,"利根地域:杉戸町","",null,null,null,null,null,"",null,null,null,null,null,""]
[null,null,null,null,null,null,null,null,null,null,null,null,null,null,null,null,null,null,null,null,null,null,null,null,null,null,null,null,null,null,null,null,null,null,null,null,null,null,null,null,null,null,null,null,null,null,null,null,null,null,null,null,null,null,null,null,null,null,"","□","岩槻区",{"$f":"IF(BH636=\"☑\",TRUE)","v":false},"さいたま市:岩槻区","",null,null,null,null,null,"",null,null,null,null,null,"",null,null,null,null,null,"",null,null,null,null,null,"",null,"□","川島町",false,"川越比企地域:川島町","",null,null,null,null,null,"",null,null,null,null,null,"",null,null,null,null,null,"",null,null,null,null,null,""]
[null,null,null,null,null,null,null,null,null,null,null,null,null,null,null,null,null,null,null,null,null,null,null,null,null,null,null,null,null,null,null,null,null,null,null,null,null,null,null,null,null,null,null,null,null,null,null,null,null,null,null,null,null,null,null,null,null,null,"",null,null,null,null,null,null,null,null,null,null,null,null,null,null,null,null,null,null,null,null,null,null,null,null,null,null,null,null,null,null,"□","吉見町",false,"川越比企地域:吉見町","",null,null,null,null,null,"",null,null,null,null,null,"",null,null,null,null,null,"",null,null,null,null,null,""]
[null,null,null,null,null,null,null,null,null,null,null,null,null,null,null,null,null,null,null,null,null,null,null,null,null,null,null,null,null,null,null,null,null,null,null,null,null,null,null,null,null,null,null,null,null,null,null,null,null,null,null,null,null,null,null,null,null,null,"",null,null,null,null,null,null,null,null,null,null,null,null,null,null,null,null,null,null,null,null,null,null,null,null,null,null,null,null,null,null,"□","鳩山町",false,"川越比企地域:鳩山町","",null,null,null,null,null,"",null,null,null,null,null,"",null,null,null,null,null,"",null,null,null,null,null,""]
[null,null,null,null,null,null,null,null,null,null,null,null,null,null,null,null,null,null,null,null,null,null,null,null,null,null,null,null,null,null,null,null,null,null,null,null,null,null,null,null,null,null,null,null,null,null,null,null,null,null,null,null,null,null,null,null,null,null,"",null,null,null,null,null,null,null,null,null,null,null,null,null,null,null,null,null,null,null,null,null,null,null,null,null,null,null,null,null,null,"□","ときがわ町",false,"川越比企地域:ときがわ町","",null,null,null,null,null,"",null,null,null,null,null,"",null,null,null,null,null,"",null,null,null,null,null,""]
[null,null,null,null,null,null,null,null,null,null,null,null,null,null,null,null,null,null,null,null,null,null,null,null,null,null,null,null,null,null,null,null,null,null,null,null,null,null,null,null,null,null,null,null,null,null,null,null,null,null,null,null,null,null,null,null,null,null,"",null,null,null,null,null,null,null,null,null,null,null,null,null,null,null,null,null,null,null,null,null,null,null,null,null,null,null,null,null,null,"□","東秩父村",false,"川越比企地域:東秩父村","",null,null,null,null,null,"",null,null,null,null,null,"",null,null,null,null,null,"",null,null,null,null,null,""]
[45,null,null,null,null,null,null,null,null,null,null,null,null,null,null,null,null,null,null,null,null,"□","配送",{"$f":"IF(V641=\"☑\",TRUE)","v":false},{"$f":"IF(X641,W641,\"\")","v":""},"□","弁当配達",{"$f":"IF(Z641=\"☑\",TRUE)","v":false},{"$f":"IF(AB641,AA641,\"\")","v":""},"□","理容室・美容室（送迎）",{"$f":"IF(AD641=\"☑\",TRUE)","v":false},{"$f":"IF(AF641,AE641,\"\")","v":""},"□","家事代行",{"$f":"IF(AH641=\"☑\",TRUE)","v":false},{"$f":"IF(AJ641,AI641,\"\")","v":""},"□","フィットネス・ジム（運動）",{"$f":"IF(AL641=\"☑\",TRUE)","v":false},{"$f":"IF(AN641,AM641,\"\")","v":""},"□","車イス対応（バリアフリー）",{"$f":"IF(AP641=\"☑\",TRUE)","v":false},{"$f":"IF(AR641,AQ641,\"\")","v":""},"□","講座・教室・イベント",{"$f":"IF(AT641=\"☑\",TRUE)","v":false},{"$f":"IF(AV641,AU641,\"\")","v":""},"□","防犯・見守り",{"$f":"IF(AX641=\"☑\",TRUE)","v":false},{"$f":"IF(AZ641,AY641,\"\")","v":""},{"$f":"_xludf.TEXTJOIN(\",\",TRUE,Y641:Y654,AC641:AC654,AG641:AG654,AK641:AK654,AO641:AO654,AS641:AS654,AW641:AW654,BA641:BA654)","v":""},"□","埼玉県全域",{"$f":"IF(BC641=\"☑\",TRUE)","v":false},"さいたま市:西区,さいたま市:北区,さいたま市:大宮区,さいたま市:見沼区,さいたま市:中央区,さいたま市:桜区,さいたま市:浦和区,さいたま市:南区,さいたま市:緑区,さいたま市:岩槻区,南部地域:川口市,南部地域:蕨市,南部地域:戸田市,南西部地域:朝霞市,南西部地域:志木市,南西部地域:和光市,南西部地域:新座市,南西部地域:富士見市,南西部地域:ふじみ野市,南西部地域:三芳町,東部地域:春日部市,東部地域:草加市,東部地域:越谷市,東部地域:八潮市,東部地域:三郷市,東部地域:吉川市,東部地域:松伏町,県央地域:鴻巣市,県央地域:上尾市,県央地域:桶川市,県央地域:北本市,県央地域:伊奈町,川越比企地域:川越市,川越比企地域:東松山市,川越比企地域:坂戸市,川越比企地域:鶴ヶ島市,川越比企地域:毛呂山町,川越比企地域:越生町,川越比企地域:滑川町,川越比企地域:嵐山町,川越比企地域:小川町,川越比企地域:川島町,川越比企地域:吉見町,川越比企地域:鳩山町,川越比企地域:ときがわ町,川越比企地域:東秩父村,西部地域:所沢市,西部地域:飯能市,西部地域:狭山市,西部地域:入間市,西部地域:日高市,利根地域:行田市,利根地域:加須市,利根地域:羽生市,利根地域:久喜市,利根地域:蓮田市,利根地域:幸手市,利根地域:白岡市,利根地域:宮代町,利根地域:杉戸町,北部地域:熊谷市,北部地域:本庄市,北部地域:深谷市,北部地域:美里町,北部地域:神川町,北部地域:上里町,北部地域:寄居町,秩父地域:秩父市,秩父地域:横瀬町,秩父地域:皆野町,秩父地域:長瀞町,秩父地域:小鹿野町","","□","西区",{"$f":"IF(BH641=\"☑\",TRUE)","v":false},{"$f":"\"さいたま市:\"&BI641","v":"さいたま市:西区"},{"$f":"IF(BJ641,BK641,\"\")","v":""},{"$f":"_xludf.TEXTJOIN(\",\",TRUE,BL641:BL654)","v":""},"□","川口市",{"$f":"IF(BN641=\"☑\",TRUE)","v":false},{"$f":"\"南部地域:\"&BO641","v":"南部地域:川口市"},{"$f":"IF(BP641,BQ641,\"\")","v":""},{"$f":"_xludf.TEXTJOIN(\",\",TRUE,BR641:BR654)","v":""},"□","朝霞市",{"$f":"IF(BT641=\"☑\",TRUE)","v":false},{"$f":"\"南西部地域:\"&BU641","v":"南西部地域:朝霞市"},{"$f":"IF(BV641,BW641,\"\")","v":""},{"$f":"_xludf.TEXTJOIN(\",\",TRUE,BX641:BX654)","v":""},"□","春日部市",{"$f":"IF(BZ641=\"☑\",TRUE)","v":false},{"$f":"\"東部地域:\"&CA641","v":"東部地域:春日部市"},{"$f":"IF(CB641,CC641,\"\")","v":""},{"$f":"_xludf.TEXTJOIN(\",\",TRUE,CD641:CD654)","v":""},"□","鴻巣市",{"$f":"IF(CF641=\"☑\",TRUE)","v":false},{"$f":"\"県央地域:\"&CG641","v":"県央地域:鴻巣市"},{"$f":"IF(CH641,CI641,\"\")","v":""},{"$f":"_xludf.TEXTJOIN(\",\",TRUE,CJ641:CJ654)","v":""},"□","川越市",{"$f":"IF(CL641=\"☑\",TRUE)","v":false},{"$f":"\"川越比企地域:\"&CM641","v":"川越比企地域:川越市"},{"$f":"IF(CN641,CO641,\"\")","v":""},{"$f":"_xludf.TEXTJOIN(\",\",TRUE,CP641:CP654)","v":""},"□","所沢市",{"$f":"IF(CR641=\"☑\",TRUE)","v":false},{"$f":"\"西部地域:\"&CS641","v":"西部地域:所沢市"},{"$f":"IF(CT641,CU641,\"\")","v":""},{"$f":"_xludf.TEXTJOIN(\",\",TRUE,CV641:CV654)","v":""},"□","行田市",{"$f":"IF(CX641=\"☑\",TRUE)","v":false},{"$f":"\"利根地域:\"&CY641","v":"利根地域:行田市"},{"$f":"IF(CZ641,DA641,\"\")","v":""},{"$f":"_xludf.TEXTJOIN(\",\",TRUE,DB641:DB654)","v":""},"□","熊谷市",{"$f":"IF(DD641=\"☑\",TRUE)","v":false},{"$f":"\"北部地域:\"&DE641","v":"北部地域:熊谷市"},{"$f":"IF(DF641,DG641,\"\")","v":""},{"$f":"_xludf.TEXTJOIN(\",\",TRUE,DH641:DH654)","v":""},"□","秩父市",{"$f":"IF(DJ641=\"☑\",TRUE)","v":false},{"$f":"\"秩父地域:\"&DK641","v":"秩父地域:秩父市"},{"$f":"IF(DL641,DM641,\"\")","v":""},{"$f":"_xludf.TEXTJOIN(\",\",TRUE,DN641:DN654)","v":""},{"$f":"_xludf.TEXTJOIN(\",\",TRUE,BG641,BM641,BS641,BY641,CE641,CK641,CQ641,CW641,DC641,DI641,DO641)","v":""},null,null,null,null,null,null,null,null,null,null,null,null,"□","月曜日",{"$f":"IF(EC641=\"☑\",TRUE)","v":false},{"$f":"IF(EE641,ED641,\"\")","v":""},{"$f":"_xludf.TEXTJOIN(\",\",TRUE,EF641:EF654)","v":""},"□","午前（～12:00）",{"$f":"IF(EH641=\"☑\",TRUE)","v":false},{"$f":"IF(EJ641,EI641,\"\")","v":""},{"$f":"_xludf.TEXTJOIN(\",\",TRUE,EK641:EK654)","v":""},null,null,"□","彩の国「新しい生活様式」安心宣言",{"$f":"IF(EO641=\"☑\",TRUE)","v":false},{"$f":"IF(EQ641,EP641,\"\")","v":""},{"$f":"_xludf.TEXTJOIN(\",\",TRUE,ER641:ER654)","v":""},null,"",null,"",null,"",null,"",null,"",null,"",null,"",null,""]
[null,null,null,null,null,null,null,null,null,null,null,null,null,null,null,null,null,null,null,null,null,"□","買物サポート",false,"","□","料理デリバリー（出前）",false,"","□","フィットネス・ジム（送迎）",{"$f":"IF(AD642=\"☑\",TRUE)","v":false},{"$f":"IF(AF642,AE642,\"\")","v":""},"□","出張料理",{"$f":"IF(AH642=\"☑\",TRUE)","v":false},{"$f":"IF(AJ642,AI642,\"\")","v":""},"□","温泉・銭湯（たまり場）",false,"","□","多目的トイレ",false,"","□","習い事",{"$f":"IF(AT642=\"☑\",TRUE)","v":false},{"$f":"IF(AV642,AU642,\"\")","v":""},"□","金融・保険",false,"",null,null,null,null,null,"","□","北区",{"$f":"IF(BH642=\"☑\",TRUE)","v":false},{"$f":"\"さいたま市:\"&BI642","v":"さいたま市:北区"},{"$f":"IF(BJ642,BK642,\"\")","v":""},null,"□","蕨市",{"$f":"IF(BN642=\"☑\",TRUE)","v":false},{"$f":"\"南部地域:\"&BO642","v":"南部地域:蕨市"},{"$f":"IF(BP642,BQ642,\"\")","v":""},null,"□","志木市",{"$f":"IF(BT642=\"☑\",TRUE)","v":false},{"$f":"\"南西部地域:\"&BU642","v":"南西部地域:志木市"},{"$f":"IF(BV642,BW642,\"\")","v":""},null,"□","草加市",{"$f":"IF(BZ642=\"☑\",TRUE)","v":false},{"$f":"\"東部地域:\"&CA642","v":"東部地域:草加市"},"",null,"□","上尾市",{"$f":"IF(CF642=\"☑\",TRUE)","v":false},{"$f":"\"県央地域:\"&CG642","v":"県央地域:上尾市"},{"$f":"IF(CH642,CI642,\"\")","v":""},null,"□","東松山市",{"$f":"IF(CL642=\"☑\",TRUE)","v":false},{"$f":"\"川越比企地域:\"&CM642","v":"川越比企地域:東松山市"},{"$f":"IF(CN642,CO642,\"\")","v":""},null,"□","飯能市",{"$f":"IF(CR642=\"☑\",TRUE)","v":false},{"$f":"\"西部地域:\"&CS642","v":"西部地域:飯能市"},{"$f":"IF(CT642,CU642,\"\")","v":""},null,"□","加須市",{"$f":"IF(CX642=\"☑\",TRUE)","v":false},{"$f":"\"利根地域:\"&CY642","v":"利根地域:加須市"},{"$f":"IF(CZ642,DA642,\"\")","v":""},null,"□","本庄市",{"$f":"IF(DD642=\"☑\",TRUE)","v":false},{"$f":"\"北部地域:\"&DE642","v":"北部地域:本庄市"},{"$f":"IF(DF642,DG642,\"\")","v":""},null,"□","横瀬町",{"$f":"IF(DJ642=\"☑\",TRUE)","v":false},{"$f":"\"秩父地域:\"&DK642","v":"秩父地域:横瀬町"},{"$f":"IF(DL642,DM642,\"\")","v":""},null,null,null,null,null,null,null,null,null,null,null,null,null,null,"□","火曜日",{"$f":"IF(EC642=\"☑\",TRUE)","v":false},{"$f":"IF(EE642,ED642,\"\")","v":""},null,"□","午後（12:00～16：00）",{"$f":"IF(EH642=\"☑\",TRUE)","v":false},{"$f":"IF(EJ642,EI642,\"\")","v":""},null,null,null,null,"に基づき感染対策を実施している。",null,{"$f":"IF(EQ642,EP642,\"\")","v":""}]
[null,null,null,null,null,null,null,null,null,null,null,null,null,null,null,null,null,null,null,null,null,"□","買物代行",false,"","□","食材宅配",false,"","□","温泉・銭湯（送迎）",false,"","□","屋外作業・力仕事",false,"","□","カフェ・ファーストフード",false,"","□","休憩スペース",false,"","□","映画館",false,"","□","住宅・リフォーム",false,"",null,null,null,null,null,"","□","大宮区",false,"さいたま市:大宮区","",null,"□","戸田市",{"$f":"IF(BN643=\"☑\",TRUE)","v":false},{"$f":"\"南部地域:\"&BO643","v":"南部地域:戸田市"},"",null,"□","和光市",false,"南西部地域:和光市","",null,"□","越谷市",false,"東部地域:越谷市","",null,"□","桶川市",{"$f":"IF(CF643=\"☑\",TRUE)","v":false},{"$f":"\"県央地域:\"&CG643","v":"県央地域:桶川市"},"",null,"□","坂戸市",false,"川越比企地域:坂戸市","",null,"□","狭山市",{"$f":"IF(CR643=\"☑\",TRUE)","v":false},{"$f":"\"西部地域:\"&CS643","v":"西部地域:狭山市"},"",null,"□","羽生市",false,"利根地域:羽生市","",null,"□","深谷市",false,"北部地域:深谷市","",null,"□","皆野町",{"$f":"IF(DJ643=\"☑\",TRUE)","v":false},{"$f":"\"秩父地域:\"&DK643","v":"秩父地域:皆野町"},"",null,null,null,null,null,null,null,null,null,null,null,null,null,null,"□","水曜日",false,"",null,"□","夕方(16:00～18:00)",{"$f":"IF(EH643=\"☑\",TRUE)","v":false},{"$f":"IF(EJ643,EI643,\"\")","v":""},null,null,null,"□","各種団体が定める業種別ガイドライン",{"$f":"IF(EO643=\"☑\",TRUE)","v":false},{"$f":"IF(EQ643,EP643,\"\")","v":""}]
[null,null,null,null,null,null,null,null,null,null,null,null,null,null,null,null,null,null,null,null,null,"□","移動販売",false,"","□","日用品配達",false,"","□","整体・マッサージ（送迎）",false,"","□","整体・マッサージ（出張）",false,"","□","飲食店",false,"","□","駐車場",false,"","□","カラオケ店",false,"","□","パソコン・スマートフォン",false,"",null,null,null,null,null,"","□","見沼区",false,"さいたま市:見沼区","",null,null,null,null,null,"",null,"□","新座市",false,"南西部地域:新座市","",null,"□","八潮市",false,"東部地域:八潮市","",null,"□","北本市",{"$f":"IF(CF644=\"☑\",TRUE)","v":false},{"$f":"\"県央地域:\"&CG644","v":"県央地域:北本市"},"",null,"□","鶴ヶ島市",false,"川越比企地域:鶴ヶ島市","",null,"□","入間市",{"$f":"IF(CR644=\"☑\",TRUE)","v":false},{"$f":"\"西部地域:\"&CS644","v":"西部地域:入間市"},"",null,"□","久喜市",false,"利根地域:久喜市","",null,"□","美里町",false,"北部地域:美里町","",null,"□","長瀞町",{"$f":"IF(DJ644=\"☑\",TRUE)","v":false},{"$f":"\"秩父地域:\"&DK644","v":"秩父地域:長瀞町"},"",null,null,null,null,null,null,null,null,null,null,null,null,null,null,"□","木曜日",false,"",null,"□","夜(18:00～）",{"$f":"IF(EH644=\"☑\",TRUE)","v":false},{"$f":"IF(EJ644,EI644,\"\")","v":""},null,null,null,null,"に基づき感染対策を実施している。"]
[null,null,null,null,null,null,null,null,null,null,null,null,null,null,null,null,null,null,null,null,null,"□","割引サービス",false,"","□","薬・介護用品配達",false,"","□","乗り合いサービス",false,"","□","理容室・美容室（出張）",false,"","□","イートインスペース",false,"","□","貸しスペース",false,"","□","麻雀・将棋・囲碁",false,"","□","認知症サポート企業",false,"",null,null,null,null,null,"","□","中央区",false,"さいたま市:中央区","",null,null,null,null,null,"",null,"□","富士見市",false,"南西部地域:富士見市","",null,"□","三郷市",false,"東部地域:三郷市","",null,"□","伊奈町",{"$f":"IF(CF645=\"☑\",TRUE)","v":false},{"$f":"\"県央地域:\"&CG645","v":"県央地域:伊奈町"},"",null,"□","毛呂山町",false,"川越比企地域:毛呂山町","",null,"□","日高市",{"$f":"IF(CR645=\"☑\",TRUE)","v":false},{"$f":"\"西部地域:\"&CS645","v":"西部地域:日高市"},"",null,"□","蓮田市",false,"利根地域:蓮田市","",null,"□","神川町",false,"北部地域:神川町","",null,"□","小鹿野町",{"$f":"IF(DJ645=\"☑\",TRUE)","v":false},{"$f":"\"秩父地域:\"&DK645","v":"秩父地域:小鹿野町"},"",null,null,null,null,null,null,null,null,null,null,null,null,null,null,"□","金曜日",false,"",null,null,null,null,null,null,null,null,"□","その他の感染対策を実施している。",{"$f":"IF(EO645=\"☑\",TRUE)","v":false},{"$f":"IF(EQ645,EP645,\"\")","v":""}]
[null,null,null,null,null,null,null,null,null,null,null,null,null,null,null,null,null,null,null,null,null,"□","その他（買物）",false,"","□","その他（宅配・デリバリー）",false,"","□","個別移送サービス",false,"","□","ペット",false,"","□","その他（運動・たまり場）",false,"","□","その他（設備・施設・場所貸し）",false,"","□","ゲームセンター",false,"","□","その他（生活サービス）",false,"",null,null,null,null,null,"","□","桜区",false,"さいたま市:桜区","",null,null,null,null,null,"",null,"□","ふじみ野市",false,"南西部地域:ふじみ野市","",null,"□","吉川市",false,"東部地域:吉川市","",null,null,null,null,null,"",null,"□","越生町",false,"川越比企地域:越生町","",null,null,null,null,null,"",null,"□","幸手市",false,"利根地域:幸手市","",null,"□","上里町",false,"北部地域:上里町","",null,null,null,null,null,"",null,null,null,null,null,null,null,null,null,null,null,null,null,null,"□","土曜日",false,"",null,null,null,null,null,null,null,null,"□","感染対策を特に実施していない。",{"$f":"IF(EO646=\"☑\",TRUE)","v":false},{"$f":"IF(EQ646,EP646,\"\")","v":""}]
[null,null,null,null,null,null,null,null,null,null,null,null,null,null,null,null,null,null,null,null,null,null,null,null,null,null,null,null,null,"□","交通機関サービス",false,"","□","その他（出張サービス）",false,"",null,null,null,null,null,null,null,null,"□","旅行代理店",false,"",null,null,null,null,null,null,null,null,null,"","□","浦和区",false,"さいたま市:浦和区","",null,null,null,null,null,"",null,"□","三芳町",false,"南西部地域:三芳町","",null,"□","松伏町",false,"東部地域:松伏町","",null,null,null,null,null,"",null,"□","滑川町",false,"川越比企地域:滑川町","",null,null,null,null,null,"",null,"□","白岡市",false,"利根地域:白岡市","",null,"□","寄居町",false,"北部地域:寄居町","",null,null,null,null,null,"",null,null,null,null,null,null,null,null,null,null,null,null,null,null,"□","日曜日",false,""]
[null,null,null,null,null,null,null,null,null,null,null,null,null,null,null,null,null,null,null,null,null,null,null,null,null,null,null,null,null,"□","その他（送迎・移動支援）",false,"",null,null,null,"",null,null,null,{"$f":"IF(AN648,AM648,\"\")","v":""},null,null,null,{"$f":"IF(AR648,AQ648,\"\")","v":""},"□","その他（学び・趣味）",false,"",null,null,null,null,null,null,null,null,null,"","□","南区",false,"さいたま市:南区","",null,null,null,null,null,"",null,null,null,null,null,"",null,null,null,null,null,"",null,null,null,null,null,"",null,"□","嵐山町",false,"川越比企地域:嵐山町","",null,null,null,null,null,"",null,"□","宮代町",false,"利根地域:宮代町","",null,null,null,null,null,"",null,null,null,null,null,""]
[null,null,null,null,null,null,null,null,null,null,null,null,null,null,null,null,null,null,null,null,null,null,null,null,null,null,null,null,null,null,null,null,null,null,null,null,null,null,null,null,null,null,null,null,null,null,null,null,null,null,null,null,null,null,null,null,null,null,"","□","緑区",false,"さいたま市:緑区","",null,null,null,null,null,"",null,null,null,null,null,"",null,null,null,null,null,"",null,null,null,null,null,"",null,"□","小川町",false,"川越比企地域:小川町","",null,null,null,null,null,"",null,"□","杉戸町",false,"利根地域:杉戸町","",null,null,null,null,null,"",null,null,null,null,null,""]
[null,null,null,null,null,null,null,null,null,null,null,null,null,null,null,null,null,null,null,null,null,null,null,null,null,null,null,null,null,null,null,null,null,null,null,null,null,null,null,null,null,null,null,null,null,null,null,null,null,null,null,null,null,null,null,null,null,null,"","□","岩槻区",{"$f":"IF(BH650=\"☑\",TRUE)","v":false},"さいたま市:岩槻区","",null,null,null,null,null,"",null,null,null,null,null,"",null,null,null,null,null,"",null,null,null,null,null,"",null,"□","川島町",false,"川越比企地域:川島町","",null,null,null,null,null,"",null,null,null,null,null,"",null,null,null,null,null,"",null,null,null,null,null,""]
[null,null,null,null,null,null,null,null,null,null,null,null,null,null,null,null,null,null,null,null,null,null,null,null,null,null,null,null,null,null,null,null,null,null,null,null,null,null,null,null,null,null,null,null,null,null,null,null,null,null,null,null,null,null,null,null,null,null,{"$f":"IF(BE651,BF651,\"\")","v":""},null,null,null,null,null,null,null,null,null,null,null,null,null,null,null,null,null,null,null,null,null,null,null,null,null,null,null,null,null,null,"□","吉見町",false,"川越比企地域:吉見町","",null,null,null,null,null,"",null,null,null,null,null,"",null,null,null,null,null,"",null,null,null,null,null,""]
[null,null,null,null,null,null,null,null,null,null,null,null,null,null,null,null,null,null,null,null,null,null,null,null,null,null,null,null,null,null,null,null,null,null,null,null,null,null,null,null,null,null,null,null,null,null,null,null,null,null,null,null,null,null,null,null,null,null,"",null,null,null,null,null,null,null,null,null,null,null,null,null,null,null,null,null,null,null,null,null,null,null,null,null,null,null,null,null,null,"□","鳩山町",false,"川越比企地域:鳩山町","",null,null,null,null,null,"",null,null,null,null,null,"",null,null,null,null,null,"",null,null,null,null,null,""]
[null,null,null,null,null,null,null,null,null,null,null,null,null,null,null,null,null,null,null,null,null,null,null,null,null,null,null,null,null,null,null,null,null,null,null,null,null,null,null,null,null,null,null,null,null,null,null,null,null,null,null,null,null,null,null,null,null,null,"",null,null,null,null,null,null,null,null,null,null,null,null,null,null,null,null,null,null,null,null,null,null,null,null,null,null,null,null,null,null,"□","ときがわ町",false,"川越比企地域:ときがわ町","",null,null,null,null,null,"",null,null,null,null,null,"",null,null,null,null,null,"",null,null,null,null,null,""]
[null,null,null,null,null,null,null,null,null,null,null,null,null,null,null,null,null,null,null,null,null,null,null,null,null,null,null,null,null,null,null,null,null,null,null,null,null,null,null,null,null,null,null,null,null,null,null,null,null,null,null,null,null,null,null,null,null,null,"",null,null,null,null,null,null,null,null,null,null,null,null,null,null,null,null,null,null,null,null,null,null,null,null,null,null,null,null,null,null,"□","東秩父村",false,"川越比企地域:東秩父村","",null,null,null,null,null,"",null,null,null,null,null,"",null,null,null,null,null,"",null,null,null,null,null,""]
[46,null,null,null,null,null,null,null,null,null,null,null,null,null,null,null,null,null,null,null,null,"□","配送",{"$f":"IF(V655=\"☑\",TRUE)","v":false},{"$f":"IF(X655,W655,\"\")","v":""},"□","弁当配達",{"$f":"IF(Z655=\"☑\",TRUE)","v":false},{"$f":"IF(AB655,AA655,\"\")","v":""},"□","理容室・美容室（送迎）",{"$f":"IF(AD655=\"☑\",TRUE)","v":false},{"$f":"IF(AF655,AE655,\"\")","v":""},"□","家事代行",{"$f":"IF(AH655=\"☑\",TRUE)","v":false},{"$f":"IF(AJ655,AI655,\"\")","v":""},"□","フィットネス・ジム（運動）",{"$f":"IF(AL655=\"☑\",TRUE)","v":false},{"$f":"IF(AN655,AM655,\"\")","v":""},"□","車イス対応（バリアフリー）",{"$f":"IF(AP655=\"☑\",TRUE)","v":false},{"$f":"IF(AR655,AQ655,\"\")","v":""},"□","講座・教室・イベント",{"$f":"IF(AT655=\"☑\",TRUE)","v":false},{"$f":"IF(AV655,AU655,\"\")","v":""},"□","防犯・見守り",{"$f":"IF(AX655=\"☑\",TRUE)","v":false},{"$f":"IF(AZ655,AY655,\"\")","v":""},{"$f":"_xludf.TEXTJOIN(\",\",TRUE,Y655:Y668,AC655:AC668,AG655:AG668,AK655:AK668,AO655:AO668,AS655:AS668,AW655:AW668,BA655:BA668)","v":""},"□","埼玉県全域",{"$f":"IF(BC655=\"☑\",TRUE)","v":false},"さいたま市:西区,さいたま市:北区,さいたま市:大宮区,さいたま市:見沼区,さいたま市:中央区,さいたま市:桜区,さいたま市:浦和区,さいたま市:南区,さいたま市:緑区,さいたま市:岩槻区,南部地域:川口市,南部地域:蕨市,南部地域:戸田市,南西部地域:朝霞市,南西部地域:志木市,南西部地域:和光市,南西部地域:新座市,南西部地域:富士見市,南西部地域:ふじみ野市,南西部地域:三芳町,東部地域:春日部市,東部地域:草加市,東部地域:越谷市,東部地域:八潮市,東部地域:三郷市,東部地域:吉川市,東部地域:松伏町,県央地域:鴻巣市,県央地域:上尾市,県央地域:桶川市,県央地域:北本市,県央地域:伊奈町,川越比企地域:川越市,川越比企地域:東松山市,川越比企地域:坂戸市,川越比企地域:鶴ヶ島市,川越比企地域:毛呂山町,川越比企地域:越生町,川越比企地域:滑川町,川越比企地域:嵐山町,川越比企地域:小川町,川越比企地域:川島町,川越比企地域:吉見町,川越比企地域:鳩山町,川越比企地域:ときがわ町,川越比企地域:東秩父村,西部地域:所沢市,西部地域:飯能市,西部地域:狭山市,西部地域:入間市,西部地域:日高市,利根地域:行田市,利根地域:加須市,利根地域:羽生市,利根地域:久喜市,利根地域:蓮田市,利根地域:幸手市,利根地域:白岡市,利根地域:宮代町,利根地域:杉戸町,北部地域:熊谷市,北部地域:本庄市,北部地域:深谷市,北部地域:美里町,北部地域:神川町,北部地域:上里町,北部地域:寄居町,秩父地域:秩父市,秩父地域:横瀬町,秩父地域:皆野町,秩父地域:長瀞町,秩父地域:小鹿野町","","□","西区",{"$f":"IF(BH655=\"☑\",TRUE)","v":false},{"$f":"\"さいたま市:\"&BI655","v":"さいたま市:西区"},{"$f":"IF(BJ655,BK655,\"\")","v":""},{"$f":"_xludf.TEXTJOIN(\",\",TRUE,BL655:BL668)","v":""},"□","川口市",{"$f":"IF(BN655=\"☑\",TRUE)","v":false},{"$f":"\"南部地域:\"&BO655","v":"南部地域:川口市"},{"$f":"IF(BP655,BQ655,\"\")","v":""},{"$f":"_xludf.TEXTJOIN(\",\",TRUE,BR655:BR668)","v":""},"□","朝霞市",{"$f":"IF(BT655=\"☑\",TRUE)","v":false},{"$f":"\"南西部地域:\"&BU655","v":"南西部地域:朝霞市"},{"$f":"IF(BV655,BW655,\"\")","v":""},{"$f":"_xludf.TEXTJOIN(\",\",TRUE,BX655:BX668)","v":""},"□","春日部市",{"$f":"IF(BZ655=\"☑\",TRUE)","v":false},{"$f":"\"東部地域:\"&CA655","v":"東部地域:春日部市"},{"$f":"IF(CB655,CC655,\"\")","v":""},{"$f":"_xludf.TEXTJOIN(\",\",TRUE,CD655:CD668)","v":""},"□","鴻巣市",{"$f":"IF(CF655=\"☑\",TRUE)","v":false},{"$f":"\"県央地域:\"&CG655","v":"県央地域:鴻巣市"},{"$f":"IF(CH655,CI655,\"\")","v":""},{"$f":"_xludf.TEXTJOIN(\",\",TRUE,CJ655:CJ668)","v":""},"□","川越市",{"$f":"IF(CL655=\"☑\",TRUE)","v":false},{"$f":"\"川越比企地域:\"&CM655","v":"川越比企地域:川越市"},{"$f":"IF(CN655,CO655,\"\")","v":""},{"$f":"_xludf.TEXTJOIN(\",\",TRUE,CP655:CP668)","v":""},"□","所沢市",{"$f":"IF(CR655=\"☑\",TRUE)","v":false},{"$f":"\"西部地域:\"&CS655","v":"西部地域:所沢市"},{"$f":"IF(CT655,CU655,\"\")","v":""},{"$f":"_xludf.TEXTJOIN(\",\",TRUE,CV655:CV668)","v":""},"□","行田市",{"$f":"IF(CX655=\"☑\",TRUE)","v":false},{"$f":"\"利根地域:\"&CY655","v":"利根地域:行田市"},{"$f":"IF(CZ655,DA655,\"\")","v":""},{"$f":"_xludf.TEXTJOIN(\",\",TRUE,DB655:DB668)","v":""},"□","熊谷市",{"$f":"IF(DD655=\"☑\",TRUE)","v":false},{"$f":"\"北部地域:\"&DE655","v":"北部地域:熊谷市"},{"$f":"IF(DF655,DG655,\"\")","v":""},{"$f":"_xludf.TEXTJOIN(\",\",TRUE,DH655:DH668)","v":""},"□","秩父市",{"$f":"IF(DJ655=\"☑\",TRUE)","v":false},{"$f":"\"秩父地域:\"&DK655","v":"秩父地域:秩父市"},{"$f":"IF(DL655,DM655,\"\")","v":""},{"$f":"_xludf.TEXTJOIN(\",\",TRUE,DN655:DN668)","v":""},{"$f":"_xludf.TEXTJOIN(\",\",TRUE,BG655,BM655,BS655,BY655,CE655,CK655,CQ655,CW655,DC655,DI655,DO655)","v":""},null,null,null,null,null,null,null,null,null,null,null,null,"□","月曜日",{"$f":"IF(EC655=\"☑\",TRUE)","v":false},{"$f":"IF(EE655,ED655,\"\")","v":""},{"$f":"_xludf.TEXTJOIN(\",\",TRUE,EF655:EF668)","v":""},"□","午前（～12:00）",{"$f":"IF(EH655=\"☑\",TRUE)","v":false},{"$f":"IF(EJ655,EI655,\"\")","v":""},{"$f":"_xludf.TEXTJOIN(\",\",TRUE,EK655:EK668)","v":""},null,null,"□","彩の国「新しい生活様式」安心宣言",{"$f":"IF(EO655=\"☑\",TRUE)","v":false},{"$f":"IF(EQ655,EP655,\"\")","v":""},{"$f":"_xludf.TEXTJOIN(\",\",TRUE,ER655:ER668)","v":""},null,"",null,"",null,"",null,"",null,"",null,"",null,"",null,""]
[null,null,null,null,null,null,null,null,null,null,null,null,null,null,null,null,null,null,null,null,null,"□","買物サポート",false,"","□","料理デリバリー（出前）",false,"","□","フィットネス・ジム（送迎）",{"$f":"IF(AD656=\"☑\",TRUE)","v":false},{"$f":"IF(AF656,AE656,\"\")","v":""},"□","出張料理",{"$f":"IF(AH656=\"☑\",TRUE)","v":false},{"$f":"IF(AJ656,AI656,\"\")","v":""},"□","温泉・銭湯（たまり場）",false,"","□","多目的トイレ",false,"","□","習い事",{"$f":"IF(AT656=\"☑\",TRUE)","v":false},{"$f":"IF(AV656,AU656,\"\")","v":""},"□","金融・保険",false,"",null,null,null,null,null,"","□","北区",{"$f":"IF(BH656=\"☑\",TRUE)","v":false},{"$f":"\"さいたま市:\"&BI656","v":"さいたま市:北区"},{"$f":"IF(BJ656,BK656,\"\")","v":""},null,"□","蕨市",{"$f":"IF(BN656=\"☑\",TRUE)","v":false},{"$f":"\"南部地域:\"&BO656","v":"南部地域:蕨市"},{"$f":"IF(BP656,BQ656,\"\")","v":""},null,"□","志木市",{"$f":"IF(BT656=\"☑\",TRUE)","v":false},{"$f":"\"南西部地域:\"&BU656","v":"南西部地域:志木市"},{"$f":"IF(BV656,BW656,\"\")","v":""},null,"□","草加市",{"$f":"IF(BZ656=\"☑\",TRUE)","v":false},{"$f":"\"東部地域:\"&CA656","v":"東部地域:草加市"},"",null,"□","上尾市",{"$f":"IF(CF656=\"☑\",TRUE)","v":false},{"$f":"\"県央地域:\"&CG656","v":"県央地域:上尾市"},{"$f":"IF(CH656,CI656,\"\")","v":""},null,"□","東松山市",{"$f":"IF(CL656=\"☑\",TRUE)","v":false},{"$f":"\"川越比企地域:\"&CM656","v":"川越比企地域:東松山市"},{"$f":"IF(CN656,CO656,\"\")","v":""},null,"□","飯能市",{"$f":"IF(CR656=\"☑\",TRUE)","v":false},{"$f":"\"西部地域:\"&CS656","v":"西部地域:飯能市"},{"$f":"IF(CT656,CU656,\"\")","v":""},null,"□","加須市",{"$f":"IF(CX656=\"☑\",TRUE)","v":false},{"$f":"\"利根地域:\"&CY656","v":"利根地域:加須市"},{"$f":"IF(CZ656,DA656,\"\")","v":""},null,"□","本庄市",{"$f":"IF(DD656=\"☑\",TRUE)","v":false},{"$f":"\"北部地域:\"&DE656","v":"北部地域:本庄市"},{"$f":"IF(DF656,DG656,\"\")","v":""},null,"□","横瀬町",{"$f":"IF(DJ656=\"☑\",TRUE)","v":false},{"$f":"\"秩父地域:\"&DK656","v":"秩父地域:横瀬町"},{"$f":"IF(DL656,DM656,\"\")","v":""},null,null,null,null,null,null,null,null,null,null,null,null,null,null,"□","火曜日",{"$f":"IF(EC656=\"☑\",TRUE)","v":false},{"$f":"IF(EE656,ED656,\"\")","v":""},null,"□","午後（12:00～16：00）",{"$f":"IF(EH656=\"☑\",TRUE)","v":false},{"$f":"IF(EJ656,EI656,\"\")","v":""},null,null,null,null,"に基づき感染対策を実施している。",null,{"$f":"IF(EQ656,EP656,\"\")","v":""}]
[null,null,null,null,null,null,null,null,null,null,null,null,null,null,null,null,null,null,null,null,null,"□","買物代行",false,"","□","食材宅配",false,"","□","温泉・銭湯（送迎）",false,"","□","屋外作業・力仕事",false,"","□","カフェ・ファーストフード",false,"","□","休憩スペース",false,"","□","映画館",false,"","□","住宅・リフォーム",false,"",null,null,null,null,null,"","□","大宮区",false,"さいたま市:大宮区","",null,"□","戸田市",{"$f":"IF(BN657=\"☑\",TRUE)","v":false},{"$f":"\"南部地域:\"&BO657","v":"南部地域:戸田市"},"",null,"□","和光市",false,"南西部地域:和光市","",null,"□","越谷市",false,"東部地域:越谷市","",null,"□","桶川市",{"$f":"IF(CF657=\"☑\",TRUE)","v":false},{"$f":"\"県央地域:\"&CG657","v":"県央地域:桶川市"},"",null,"□","坂戸市",false,"川越比企地域:坂戸市","",null,"□","狭山市",{"$f":"IF(CR657=\"☑\",TRUE)","v":false},{"$f":"\"西部地域:\"&CS657","v":"西部地域:狭山市"},"",null,"□","羽生市",false,"利根地域:羽生市","",null,"□","深谷市",false,"北部地域:深谷市","",null,"□","皆野町",{"$f":"IF(DJ657=\"☑\",TRUE)","v":false},{"$f":"\"秩父地域:\"&DK657","v":"秩父地域:皆野町"},"",null,null,null,null,null,null,null,null,null,null,null,null,null,null,"□","水曜日",false,"",null,"□","夕方(16:00～18:00)",{"$f":"IF(EH657=\"☑\",TRUE)","v":false},{"$f":"IF(EJ657,EI657,\"\")","v":""},null,null,null,"□","各種団体が定める業種別ガイドライン",{"$f":"IF(EO657=\"☑\",TRUE)","v":false},{"$f":"IF(EQ657,EP657,\"\")","v":""}]
[null,null,null,null,null,null,null,null,null,null,null,null,null,null,null,null,null,null,null,null,null,"□","移動販売",false,"","□","日用品配達",false,"","□","整体・マッサージ（送迎）",false,"","□","整体・マッサージ（出張）",false,"","□","飲食店",false,"","□","駐車場",false,"","□","カラオケ店",false,"","□","パソコン・スマートフォン",false,"",null,null,null,null,null,"","□","見沼区",false,"さいたま市:見沼区","",null,null,null,null,null,"",null,"□","新座市",false,"南西部地域:新座市","",null,"□","八潮市",false,"東部地域:八潮市","",null,"□","北本市",{"$f":"IF(CF658=\"☑\",TRUE)","v":false},{"$f":"\"県央地域:\"&CG658","v":"県央地域:北本市"},"",null,"□","鶴ヶ島市",false,"川越比企地域:鶴ヶ島市","",null,"□","入間市",{"$f":"IF(CR658=\"☑\",TRUE)","v":false},{"$f":"\"西部地域:\"&CS658","v":"西部地域:入間市"},"",null,"□","久喜市",false,"利根地域:久喜市","",null,"□","美里町",false,"北部地域:美里町","",null,"□","長瀞町",{"$f":"IF(DJ658=\"☑\",TRUE)","v":false},{"$f":"\"秩父地域:\"&DK658","v":"秩父地域:長瀞町"},"",null,null,null,null,null,null,null,null,null,null,null,null,null,null,"□","木曜日",false,"",null,"□","夜(18:00～）",{"$f":"IF(EH658=\"☑\",TRUE)","v":false},{"$f":"IF(EJ658,EI658,\"\")","v":""},null,null,null,null,"に基づき感染対策を実施している。"]
[null,null,null,null,null,null,null,null,null,null,null,null,null,null,null,null,null,null,null,null,null,"□","割引サービス",false,"","□","薬・介護用品配達",false,"","□","乗り合いサービス",false,"","□","理容室・美容室（出張）",false,"","□","イートインスペース",false,"","□","貸しスペース",false,"","□","麻雀・将棋・囲碁",false,"","□","認知症サポート企業",false,"",null,null,null,null,null,"","□","中央区",false,"さいたま市:中央区","",null,null,null,null,null,"",null,"□","富士見市",false,"南西部地域:富士見市","",null,"□","三郷市",false,"東部地域:三郷市","",null,"□","伊奈町",{"$f":"IF(CF659=\"☑\",TRUE)","v":false},{"$f":"\"県央地域:\"&CG659","v":"県央地域:伊奈町"},"",null,"□","毛呂山町",false,"川越比企地域:毛呂山町","",null,"□","日高市",{"$f":"IF(CR659=\"☑\",TRUE)","v":false},{"$f":"\"西部地域:\"&CS659","v":"西部地域:日高市"},"",null,"□","蓮田市",false,"利根地域:蓮田市","",null,"□","神川町",false,"北部地域:神川町","",null,"□","小鹿野町",{"$f":"IF(DJ659=\"☑\",TRUE)","v":false},{"$f":"\"秩父地域:\"&DK659","v":"秩父地域:小鹿野町"},"",null,null,null,null,null,null,null,null,null,null,null,null,null,null,"□","金曜日",false,"",null,null,null,null,null,null,null,null,"□","その他の感染対策を実施している。",{"$f":"IF(EO659=\"☑\",TRUE)","v":false},{"$f":"IF(EQ659,EP659,\"\")","v":""}]
[null,null,null,null,null,null,null,null,null,null,null,null,null,null,null,null,null,null,null,null,null,"□","その他（買物）",false,"","□","その他（宅配・デリバリー）",false,"","□","個別移送サービス",false,"","□","ペット",false,"","□","その他（運動・たまり場）",false,"","□","その他（設備・施設・場所貸し）",false,"","□","ゲームセンター",false,"","□","その他（生活サービス）",false,"",null,null,null,null,null,"","□","桜区",false,"さいたま市:桜区","",null,null,null,null,null,"",null,"□","ふじみ野市",false,"南西部地域:ふじみ野市","",null,"□","吉川市",false,"東部地域:吉川市","",null,null,null,null,null,"",null,"□","越生町",false,"川越比企地域:越生町","",null,null,null,null,null,"",null,"□","幸手市",false,"利根地域:幸手市","",null,"□","上里町",false,"北部地域:上里町","",null,null,null,null,null,"",null,null,null,null,null,null,null,null,null,null,null,null,null,null,"□","土曜日",false,"",null,null,null,null,null,null,null,null,"□","感染対策を特に実施していない。",{"$f":"IF(EO660=\"☑\",TRUE)","v":false},{"$f":"IF(EQ660,EP660,\"\")","v":""}]
[null,null,null,null,null,null,null,null,null,null,null,null,null,null,null,null,null,null,null,null,null,null,null,null,null,null,null,null,null,"□","交通機関サービス",false,"","□","その他（出張サービス）",false,"",null,null,null,null,null,null,null,null,"□","旅行代理店",false,"",null,null,null,null,null,null,null,null,null,"","□","浦和区",false,"さいたま市:浦和区","",null,null,null,null,null,"",null,"□","三芳町",false,"南西部地域:三芳町","",null,"□","松伏町",false,"東部地域:松伏町","",null,null,null,null,null,"",null,"□","滑川町",false,"川越比企地域:滑川町","",null,null,null,null,null,"",null,"□","白岡市",false,"利根地域:白岡市","",null,"□","寄居町",false,"北部地域:寄居町","",null,null,null,null,null,"",null,null,null,null,null,null,null,null,null,null,null,null,null,null,"□","日曜日",false,""]
[null,null,null,null,null,null,null,null,null,null,null,null,null,null,null,null,null,null,null,null,null,null,null,null,null,null,null,null,null,"□","その他（送迎・移動支援）",false,"",null,null,null,"",null,null,null,{"$f":"IF(AN662,AM662,\"\")","v":""},null,null,null,{"$f":"IF(AR662,AQ662,\"\")","v":""},"□","その他（学び・趣味）",false,"",null,null,null,null,null,null,null,null,null,"","□","南区",false,"さいたま市:南区","",null,null,null,null,null,"",null,null,null,null,null,"",null,null,null,null,null,"",null,null,null,null,null,"",null,"□","嵐山町",false,"川越比企地域:嵐山町","",null,null,null,null,null,"",null,"□","宮代町",false,"利根地域:宮代町","",null,null,null,null,null,"",null,null,null,null,null,""]
[null,null,null,null,null,null,null,null,null,null,null,null,null,null,null,null,null,null,null,null,null,null,null,null,null,null,null,null,null,null,null,null,null,null,null,null,null,null,null,null,null,null,null,null,null,null,null,null,null,null,null,null,null,null,null,null,null,null,"","□","緑区",false,"さいたま市:緑区","",null,null,null,null,null,"",null,null,null,null,null,"",null,null,null,null,null,"",null,null,null,null,null,"",null,"□","小川町",false,"川越比企地域:小川町","",null,null,null,null,null,"",null,"□","杉戸町",false,"利根地域:杉戸町","",null,null,null,null,null,"",null,null,null,null,null,""]
[null,null,null,null,null,null,null,null,null,null,null,null,null,null,null,null,null,null,null,null,null,null,null,null,null,null,null,null,null,null,null,null,null,null,null,null,null,null,null,null,null,null,null,null,null,null,null,null,null,null,null,null,null,null,null,null,null,null,"","□","岩槻区",{"$f":"IF(BH664=\"☑\",TRUE)","v":false},"さいたま市:岩槻区","",null,null,null,null,null,"",null,null,null,null,null,"",null,null,null,null,null,"",null,null,null,null,null,"",null,"□","川島町",false,"川越比企地域:川島町","",null,null,null,null,null,"",null,null,null,null,null,"",null,null,null,null,null,"",null,null,null,null,null,""]
[null,null,null,null,null,null,null,null,null,null,null,null,null,null,null,null,null,null,null,null,null,null,null,null,null,null,null,null,null,null,null,null,null,null,null,null,null,null,null,null,null,null,null,null,null,null,null,null,null,null,null,null,null,null,null,null,null,null,"",null,null,null,null,null,null,null,null,null,null,null,null,null,null,null,null,null,null,null,null,null,null,null,null,null,null,null,null,null,null,"□","吉見町",false,"川越比企地域:吉見町","",null,null,null,null,null,"",null,null,null,null,null,"",null,null,null,null,null,"",null,null,null,null,null,""]
[null,null,null,null,null,null,null,null,null,null,null,null,null,null,null,null,null,null,null,null,null,null,null,null,null,null,null,null,null,null,null,null,null,null,null,null,null,null,null,null,null,null,null,null,null,null,null,null,null,null,null,null,null,null,null,null,null,null,"",null,null,null,null,null,null,null,null,null,null,null,null,null,null,null,null,null,null,null,null,null,null,null,null,null,null,null,null,null,null,"□","鳩山町",false,"川越比企地域:鳩山町","",null,null,null,null,null,"",null,null,null,null,null,"",null,null,null,null,null,"",null,null,null,null,null,""]
[null,null,null,null,null,null,null,null,null,null,null,null,null,null,null,null,null,null,null,null,null,null,null,null,null,null,null,null,null,null,null,null,null,null,null,null,null,null,null,null,null,null,null,null,null,null,null,null,null,null,null,null,null,null,null,null,null,null,"",null,null,null,null,null,null,null,null,null,null,null,null,null,null,null,null,null,null,null,null,null,null,null,null,null,null,null,null,null,null,"□","ときがわ町",false,"川越比企地域:ときがわ町","",null,null,null,null,null,"",null,null,null,null,null,"",null,null,null,null,null,"",null,null,null,null,null,""]
[null,null,null,null,null,null,null,null,null,null,null,null,null,null,null,null,null,null,null,null,null,null,null,null,null,null,null,null,null,null,null,null,null,null,null,null,null,null,null,null,null,null,null,null,null,null,null,null,null,null,null,null,null,null,null,null,null,null,"",null,null,null,null,null,null,null,null,null,null,null,null,null,null,null,null,null,null,null,null,null,null,null,null,null,null,null,null,null,null,"□","東秩父村",false,"川越比企地域:東秩父村","",null,null,null,null,null,"",null,null,null,null,null,"",null,null,null,null,null,"",null,null,null,null,null,""]
[47,null,null,null,null,null,null,null,null,null,null,null,null,null,null,null,null,null,null,null,null,"□","配送",{"$f":"IF(V669=\"☑\",TRUE)","v":false},{"$f":"IF(X669,W669,\"\")","v":""},"□","弁当配達",{"$f":"IF(Z669=\"☑\",TRUE)","v":false},{"$f":"IF(AB669,AA669,\"\")","v":""},"□","理容室・美容室（送迎）",{"$f":"IF(AD669=\"☑\",TRUE)","v":false},{"$f":"IF(AF669,AE669,\"\")","v":""},"□","家事代行",{"$f":"IF(AH669=\"☑\",TRUE)","v":false},{"$f":"IF(AJ669,AI669,\"\")","v":""},"□","フィットネス・ジム（運動）",{"$f":"IF(AL669=\"☑\",TRUE)","v":false},{"$f":"IF(AN669,AM669,\"\")","v":""},"□","車イス対応（バリアフリー）",{"$f":"IF(AP669=\"☑\",TRUE)","v":false},{"$f":"IF(AR669,AQ669,\"\")","v":""},"□","講座・教室・イベント",{"$f":"IF(AT669=\"☑\",TRUE)","v":false},{"$f":"IF(AV669,AU669,\"\")","v":""},"□","防犯・見守り",{"$f":"IF(AX669=\"☑\",TRUE)","v":false},{"$f":"IF(AZ669,AY669,\"\")","v":""},{"$f":"_xludf.TEXTJOIN(\",\",TRUE,Y669:Y682,AC669:AC682,AG669:AG682,AK669:AK682,AO669:AO682,AS669:AS682,AW669:AW682,BA669:BA682)","v":""},"□","埼玉県全域",{"$f":"IF(BC669=\"☑\",TRUE)","v":false},"さいたま市:西区,さいたま市:北区,さいたま市:大宮区,さいたま市:見沼区,さいたま市:中央区,さいたま市:桜区,さいたま市:浦和区,さいたま市:南区,さいたま市:緑区,さいたま市:岩槻区,南部地域:川口市,南部地域:蕨市,南部地域:戸田市,南西部地域:朝霞市,南西部地域:志木市,南西部地域:和光市,南西部地域:新座市,南西部地域:富士見市,南西部地域:ふじみ野市,南西部地域:三芳町,東部地域:春日部市,東部地域:草加市,東部地域:越谷市,東部地域:八潮市,東部地域:三郷市,東部地域:吉川市,東部地域:松伏町,県央地域:鴻巣市,県央地域:上尾市,県央地域:桶川市,県央地域:北本市,県央地域:伊奈町,川越比企地域:川越市,川越比企地域:東松山市,川越比企地域:坂戸市,川越比企地域:鶴ヶ島市,川越比企地域:毛呂山町,川越比企地域:越生町,川越比企地域:滑川町,川越比企地域:嵐山町,川越比企地域:小川町,川越比企地域:川島町,川越比企地域:吉見町,川越比企地域:鳩山町,川越比企地域:ときがわ町,川越比企地域:東秩父村,西部地域:所沢市,西部地域:飯能市,西部地域:狭山市,西部地域:入間市,西部地域:日高市,利根地域:行田市,利根地域:加須市,利根地域:羽生市,利根地域:久喜市,利根地域:蓮田市,利根地域:幸手市,利根地域:白岡市,利根地域:宮代町,利根地域:杉戸町,北部地域:熊谷市,北部地域:本庄市,北部地域:深谷市,北部地域:美里町,北部地域:神川町,北部地域:上里町,北部地域:寄居町,秩父地域:秩父市,秩父地域:横瀬町,秩父地域:皆野町,秩父地域:長瀞町,秩父地域:小鹿野町","","□","西区",{"$f":"IF(BH669=\"☑\",TRUE)","v":false},{"$f":"\"さいたま市:\"&BI669","v":"さいたま市:西区"},{"$f":"IF(BJ669,BK669,\"\")","v":""},{"$f":"_xludf.TEXTJOIN(\",\",TRUE,BL669:BL682)","v":""},"□","川口市",{"$f":"IF(BN669=\"☑\",TRUE)","v":false},{"$f":"\"南部地域:\"&BO669","v":"南部地域:川口市"},{"$f":"IF(BP669,BQ669,\"\")","v":""},{"$f":"_xludf.TEXTJOIN(\",\",TRUE,BR669:BR682)","v":""},"□","朝霞市",{"$f":"IF(BT669=\"☑\",TRUE)","v":false},{"$f":"\"南西部地域:\"&BU669","v":"南西部地域:朝霞市"},{"$f":"IF(BV669,BW669,\"\")","v":""},{"$f":"_xludf.TEXTJOIN(\",\",TRUE,BX669:BX682)","v":""},"□","春日部市",{"$f":"IF(BZ669=\"☑\",TRUE)","v":false},{"$f":"\"東部地域:\"&CA669","v":"東部地域:春日部市"},{"$f":"IF(CB669,CC669,\"\")","v":""},{"$f":"_xludf.TEXTJOIN(\",\",TRUE,CD669:CD682)","v":""},"□","鴻巣市",{"$f":"IF(CF669=\"☑\",TRUE)","v":false},{"$f":"\"県央地域:\"&CG669","v":"県央地域:鴻巣市"},{"$f":"IF(CH669,CI669,\"\")","v":""},{"$f":"_xludf.TEXTJOIN(\",\",TRUE,CJ669:CJ682)","v":""},"□","川越市",{"$f":"IF(CL669=\"☑\",TRUE)","v":false},{"$f":"\"川越比企地域:\"&CM669","v":"川越比企地域:川越市"},{"$f":"IF(CN669,CO669,\"\")","v":""},{"$f":"_xludf.TEXTJOIN(\",\",TRUE,CP669:CP682)","v":""},"□","所沢市",{"$f":"IF(CR669=\"☑\",TRUE)","v":false},{"$f":"\"西部地域:\"&CS669","v":"西部地域:所沢市"},{"$f":"IF(CT669,CU669,\"\")","v":""},{"$f":"_xludf.TEXTJOIN(\",\",TRUE,CV669:CV682)","v":""},"□","行田市",{"$f":"IF(CX669=\"☑\",TRUE)","v":false},{"$f":"\"利根地域:\"&CY669","v":"利根地域:行田市"},{"$f":"IF(CZ669,DA669,\"\")","v":""},{"$f":"_xludf.TEXTJOIN(\",\",TRUE,DB669:DB682)","v":""},"□","熊谷市",{"$f":"IF(DD669=\"☑\",TRUE)","v":false},{"$f":"\"北部地域:\"&DE669","v":"北部地域:熊谷市"},{"$f":"IF(DF669,DG669,\"\")","v":""},{"$f":"_xludf.TEXTJOIN(\",\",TRUE,DH669:DH682)","v":""},"□","秩父市",{"$f":"IF(DJ669=\"☑\",TRUE)","v":false},{"$f":"\"秩父地域:\"&DK669","v":"秩父地域:秩父市"},{"$f":"IF(DL669,DM669,\"\")","v":""},{"$f":"_xludf.TEXTJOIN(\",\",TRUE,DN669:DN682)","v":""},{"$f":"_xludf.TEXTJOIN(\",\",TRUE,BG669,BM669,BS669,BY669,CE669,CK669,CQ669,CW669,DC669,DI669,DO669)","v":""},null,null,null,null,null,null,null,null,null,null,null,null,"□","月曜日",{"$f":"IF(EC669=\"☑\",TRUE)","v":false},{"$f":"IF(EE669,ED669,\"\")","v":""},{"$f":"_xludf.TEXTJOIN(\",\",TRUE,EF669:EF682)","v":""},"□","午前（～12:00）",{"$f":"IF(EH669=\"☑\",TRUE)","v":false},{"$f":"IF(EJ669,EI669,\"\")","v":""},{"$f":"_xludf.TEXTJOIN(\",\",TRUE,EK669:EK682)","v":""},null,null,"□","彩の国「新しい生活様式」安心宣言",{"$f":"IF(EO669=\"☑\",TRUE)","v":false},{"$f":"IF(EQ669,EP669,\"\")","v":""},{"$f":"_xludf.TEXTJOIN(\",\",TRUE,ER669:ER682)","v":""},null,"",null,"",null,"",null,"",null,"",null,"",null,"",null,""]
[null,null,null,null,null,null,null,null,null,null,null,null,null,null,null,null,null,null,null,null,null,"□","買物サポート",false,"","□","料理デリバリー（出前）",false,"","□","フィットネス・ジム（送迎）",{"$f":"IF(AD670=\"☑\",TRUE)","v":false},{"$f":"IF(AF670,AE670,\"\")","v":""},"□","出張料理",{"$f":"IF(AH670=\"☑\",TRUE)","v":false},{"$f":"IF(AJ670,AI670,\"\")","v":""},"□","温泉・銭湯（たまり場）",false,"","□","多目的トイレ",false,"","□","習い事",{"$f":"IF(AT670=\"☑\",TRUE)","v":false},{"$f":"IF(AV670,AU670,\"\")","v":""},"□","金融・保険",false,"",null,null,null,null,null,"","□","北区",{"$f":"IF(BH670=\"☑\",TRUE)","v":false},{"$f":"\"さいたま市:\"&BI670","v":"さいたま市:北区"},{"$f":"IF(BJ670,BK670,\"\")","v":""},null,"□","蕨市",{"$f":"IF(BN670=\"☑\",TRUE)","v":false},{"$f":"\"南部地域:\"&BO670","v":"南部地域:蕨市"},{"$f":"IF(BP670,BQ670,\"\")","v":""},null,"□","志木市",{"$f":"IF(BT670=\"☑\",TRUE)","v":false},{"$f":"\"南西部地域:\"&BU670","v":"南西部地域:志木市"},{"$f":"IF(BV670,BW670,\"\")","v":""},null,"□","草加市",{"$f":"IF(BZ670=\"☑\",TRUE)","v":false},{"$f":"\"東部地域:\"&CA670","v":"東部地域:草加市"},"",null,"□","上尾市",{"$f":"IF(CF670=\"☑\",TRUE)","v":false},{"$f":"\"県央地域:\"&CG670","v":"県央地域:上尾市"},{"$f":"IF(CH670,CI670,\"\")","v":""},null,"□","東松山市",{"$f":"IF(CL670=\"☑\",TRUE)","v":false},{"$f":"\"川越比企地域:\"&CM670","v":"川越比企地域:東松山市"},{"$f":"IF(CN670,CO670,\"\")","v":""},null,"□","飯能市",{"$f":"IF(CR670=\"☑\",TRUE)","v":false},{"$f":"\"西部地域:\"&CS670","v":"西部地域:飯能市"},{"$f":"IF(CT670,CU670,\"\")","v":""},null,"□","加須市",{"$f":"IF(CX670=\"☑\",TRUE)","v":false},{"$f":"\"利根地域:\"&CY670","v":"利根地域:加須市"},{"$f":"IF(CZ670,DA670,\"\")","v":""},null,"□","本庄市",{"$f":"IF(DD670=\"☑\",TRUE)","v":false},{"$f":"\"北部地域:\"&DE670","v":"北部地域:本庄市"},{"$f":"IF(DF670,DG670,\"\")","v":""},null,"□","横瀬町",{"$f":"IF(DJ670=\"☑\",TRUE)","v":false},{"$f":"\"秩父地域:\"&DK670","v":"秩父地域:横瀬町"},{"$f":"IF(DL670,DM670,\"\")","v":""},null,null,null,null,null,null,null,null,null,null,null,null,null,null,"□","火曜日",{"$f":"IF(EC670=\"☑\",TRUE)","v":false},{"$f":"IF(EE670,ED670,\"\")","v":""},null,"□","午後（12:00～16：00）",{"$f":"IF(EH670=\"☑\",TRUE)","v":false},{"$f":"IF(EJ670,EI670,\"\")","v":""},null,null,null,null,"に基づき感染対策を実施している。",null,{"$f":"IF(EQ670,EP670,\"\")","v":""}]
[null,null,null,null,null,null,null,null,null,null,null,null,null,null,null,null,null,null,null,null,null,"□","買物代行",false,"","□","食材宅配",false,"","□","温泉・銭湯（送迎）",false,"","□","屋外作業・力仕事",false,"","□","カフェ・ファーストフード",false,"","□","休憩スペース",false,"","□","映画館",false,"","□","住宅・リフォーム",false,"",null,null,null,null,null,"","□","大宮区",false,"さいたま市:大宮区","",null,"□","戸田市",{"$f":"IF(BN671=\"☑\",TRUE)","v":false},{"$f":"\"南部地域:\"&BO671","v":"南部地域:戸田市"},"",null,"□","和光市",false,"南西部地域:和光市","",null,"□","越谷市",false,"東部地域:越谷市","",null,"□","桶川市",{"$f":"IF(CF671=\"☑\",TRUE)","v":false},{"$f":"\"県央地域:\"&CG671","v":"県央地域:桶川市"},"",null,"□","坂戸市",false,"川越比企地域:坂戸市","",null,"□","狭山市",{"$f":"IF(CR671=\"☑\",TRUE)","v":false},{"$f":"\"西部地域:\"&CS671","v":"西部地域:狭山市"},"",null,"□","羽生市",false,"利根地域:羽生市","",null,"□","深谷市",false,"北部地域:深谷市","",null,"□","皆野町",{"$f":"IF(DJ671=\"☑\",TRUE)","v":false},{"$f":"\"秩父地域:\"&DK671","v":"秩父地域:皆野町"},"",null,null,null,null,null,null,null,null,null,null,null,null,null,null,"□","水曜日",false,"",null,"□","夕方(16:00～18:00)",{"$f":"IF(EH671=\"☑\",TRUE)","v":false},{"$f":"IF(EJ671,EI671,\"\")","v":""},null,null,null,"□","各種団体が定める業種別ガイドライン",{"$f":"IF(EO671=\"☑\",TRUE)","v":false},{"$f":"IF(EQ671,EP671,\"\")","v":""}]
[null,null,null,null,null,null,null,null,null,null,null,null,null,null,null,null,null,null,null,null,null,"□","移動販売",false,"","□","日用品配達",false,"","□","整体・マッサージ（送迎）",false,"","□","整体・マッサージ（出張）",false,"","□","飲食店",false,"","□","駐車場",false,"","□","カラオケ店",false,"","□","パソコン・スマートフォン",false,"",null,null,null,null,null,"","□","見沼区",false,"さいたま市:見沼区","",null,null,null,null,null,"",null,"□","新座市",false,"南西部地域:新座市","",null,"□","八潮市",false,"東部地域:八潮市","",null,"□","北本市",{"$f":"IF(CF672=\"☑\",TRUE)","v":false},{"$f":"\"県央地域:\"&CG672","v":"県央地域:北本市"},"",null,"□","鶴ヶ島市",false,"川越比企地域:鶴ヶ島市","",null,"□","入間市",{"$f":"IF(CR672=\"☑\",TRUE)","v":false},{"$f":"\"西部地域:\"&CS672","v":"西部地域:入間市"},"",null,"□","久喜市",false,"利根地域:久喜市","",null,"□","美里町",false,"北部地域:美里町","",null,"□","長瀞町",{"$f":"IF(DJ672=\"☑\",TRUE)","v":false},{"$f":"\"秩父地域:\"&DK672","v":"秩父地域:長瀞町"},"",null,null,null,null,null,null,null,null,null,null,null,null,null,null,"□","木曜日",false,"",null,"□","夜(18:00～）",{"$f":"IF(EH672=\"☑\",TRUE)","v":false},{"$f":"IF(EJ672,EI672,\"\")","v":""},null,null,null,null,"に基づき感染対策を実施している。"]
[null,null,null,null,null,null,null,null,null,null,null,null,null,null,null,null,null,null,null,null,null,"□","割引サービス",false,"","□","薬・介護用品配達",false,"","□","乗り合いサービス",false,"","□","理容室・美容室（出張）",false,"","□","イートインスペース",false,"","□","貸しスペース",false,"","□","麻雀・将棋・囲碁",false,"","□","認知症サポート企業",false,"",null,null,null,null,null,"","□","中央区",false,"さいたま市:中央区","",null,null,null,null,null,"",null,"□","富士見市",false,"南西部地域:富士見市","",null,"□","三郷市",false,"東部地域:三郷市","",null,"□","伊奈町",{"$f":"IF(CF673=\"☑\",TRUE)","v":false},{"$f":"\"県央地域:\"&CG673","v":"県央地域:伊奈町"},"",null,"□","毛呂山町",false,"川越比企地域:毛呂山町","",null,"□","日高市",{"$f":"IF(CR673=\"☑\",TRUE)","v":false},{"$f":"\"西部地域:\"&CS673","v":"西部地域:日高市"},"",null,"□","蓮田市",false,"利根地域:蓮田市","",null,"□","神川町",false,"北部地域:神川町","",null,"□","小鹿野町",{"$f":"IF(DJ673=\"☑\",TRUE)","v":false},{"$f":"\"秩父地域:\"&DK673","v":"秩父地域:小鹿野町"},"",null,null,null,null,null,null,null,null,null,null,null,null,null,null,"□","金曜日",false,"",null,null,null,null,null,null,null,null,"□","その他の感染対策を実施している。",{"$f":"IF(EO673=\"☑\",TRUE)","v":false},{"$f":"IF(EQ673,EP673,\"\")","v":""}]
[null,null,null,null,null,null,null,null,null,null,null,null,null,null,null,null,null,null,null,null,null,"□","その他（買物）",false,"","□","その他（宅配・デリバリー）",false,"","□","個別移送サービス",false,"","□","ペット",false,"","□","その他（運動・たまり場）",false,"","□","その他（設備・施設・場所貸し）",false,"","□","ゲームセンター",false,"","□","その他（生活サービス）",false,"",null,null,null,null,null,"","□","桜区",false,"さいたま市:桜区","",null,null,null,null,null,"",null,"□","ふじみ野市",false,"南西部地域:ふじみ野市","",null,"□","吉川市",false,"東部地域:吉川市","",null,null,null,null,null,"",null,"□","越生町",false,"川越比企地域:越生町","",null,null,null,null,null,"",null,"□","幸手市",false,"利根地域:幸手市","",null,"□","上里町",false,"北部地域:上里町","",null,null,null,null,null,"",null,null,null,null,null,null,null,null,null,null,null,null,null,null,"□","土曜日",false,"",null,null,null,null,null,null,null,null,"□","感染対策を特に実施していない。",{"$f":"IF(EO674=\"☑\",TRUE)","v":false},{"$f":"IF(EQ674,EP674,\"\")","v":""}]
[null,null,null,null,null,null,null,null,null,null,null,null,null,null,null,null,null,null,null,null,null,null,null,null,null,null,null,null,null,"□","交通機関サービス",false,"","□","その他（出張サービス）",false,"",null,null,null,null,null,null,null,null,"□","旅行代理店",false,"",null,null,null,null,null,null,null,null,null,"","□","浦和区",false,"さいたま市:浦和区","",null,null,null,null,null,"",null,"□","三芳町",false,"南西部地域:三芳町","",null,"□","松伏町",false,"東部地域:松伏町","",null,null,null,null,null,"",null,"□","滑川町",false,"川越比企地域:滑川町","",null,null,null,null,null,"",null,"□","白岡市",false,"利根地域:白岡市","",null,"□","寄居町",false,"北部地域:寄居町","",null,null,null,null,null,"",null,null,null,null,null,null,null,null,null,null,null,null,null,null,"□","日曜日",false,""]
[null,null,null,null,null,null,null,null,null,null,null,null,null,null,null,null,null,null,null,null,null,null,null,null,null,null,null,null,null,"□","その他（送迎・移動支援）",false,"",null,null,null,"",null,null,null,{"$f":"IF(AN676,AM676,\"\")","v":""},null,null,null,{"$f":"IF(AR676,AQ676,\"\")","v":""},"□","その他（学び・趣味）",false,"",null,null,null,null,null,null,null,null,null,"","□","南区",false,"さいたま市:南区","",null,null,null,null,null,"",null,null,null,null,null,"",null,null,null,null,null,"",null,null,null,null,null,"",null,"□","嵐山町",false,"川越比企地域:嵐山町","",null,null,null,null,null,"",null,"□","宮代町",false,"利根地域:宮代町","",null,null,null,null,null,"",null,null,null,null,null,""]
[null,null,null,null,null,null,null,null,null,null,null,null,null,null,null,null,null,null,null,null,null,null,null,null,null,null,null,null,null,null,null,null,null,null,null,null,null,null,null,null,null,null,null,null,null,null,null,null,null,null,null,null,null,null,null,null,null,null,"","□","緑区",false,"さいたま市:緑区","",null,null,null,null,null,"",null,null,null,null,null,"",null,null,null,null,null,"",null,null,null,null,null,"",null,"□","小川町",false,"川越比企地域:小川町","",null,null,null,null,null,"",null,"□","杉戸町",false,"利根地域:杉戸町","",null,null,null,null,null,"",null,null,null,null,null,""]
[null,null,null,null,null,null,null,null,null,null,null,null,null,null,null,null,null,null,null,null,null,null,null,null,null,null,null,null,null,null,null,null,null,null,null,null,null,null,null,null,null,null,null,null,null,null,null,null,null,null,null,null,null,null,null,null,null,null,"","□","岩槻区",{"$f":"IF(BH678=\"☑\",TRUE)","v":false},"さいたま市:岩槻区","",null,null,null,null,null,"",null,null,null,null,null,"",null,null,null,null,null,"",null,null,null,null,null,"",null,"□","川島町",false,"川越比企地域:川島町","",null,null,null,null,null,"",null,null,null,null,null,"",null,null,null,null,null,"",null,null,null,null,null,""]
[null,null,null,null,null,null,null,null,null,null,null,null,null,null,null,null,null,null,null,null,null,null,null,null,null,null,null,null,null,null,null,null,null,null,null,null,null,null,null,null,null,null,null,null,null,null,null,null,null,null,null,null,null,null,null,null,null,null,"",null,null,null,null,null,null,null,null,null,null,null,null,null,null,null,null,null,null,null,null,null,null,null,null,null,null,null,null,null,null,"□","吉見町",false,"川越比企地域:吉見町","",null,null,null,null,null,"",null,null,null,null,null,"",null,null,null,null,null,"",null,null,null,null,null,""]
[null,null,null,null,null,null,null,null,null,null,null,null,null,null,null,null,null,null,null,null,null,null,null,null,null,null,null,null,null,null,null,null,null,null,null,null,null,null,null,null,null,null,null,null,null,null,null,null,null,null,null,null,null,null,null,null,null,null,"",null,null,null,null,null,null,null,null,null,null,null,null,null,null,null,null,null,null,null,null,null,null,null,null,null,null,null,null,null,null,"□","鳩山町",false,"川越比企地域:鳩山町","",null,null,null,null,null,"",null,null,null,null,null,"",null,null,null,null,null,"",null,null,null,null,null,""]
[null,null,null,null,null,null,null,null,null,null,null,null,null,null,null,null,null,null,null,null,null,null,null,null,null,null,null,null,null,null,null,null,null,null,null,null,null,null,null,null,null,null,null,null,null,null,null,null,null,null,null,null,null,null,null,null,null,null,"",null,null,null,null,null,null,null,null,null,null,null,null,null,null,null,null,null,null,null,null,null,null,null,null,null,null,null,null,null,null,"□","ときがわ町",false,"川越比企地域:ときがわ町","",null,null,null,null,null,"",null,null,null,null,null,"",null,null,null,null,null,"",null,null,null,null,null,""]
[null,null,null,null,null,null,null,null,null,null,null,null,null,null,null,null,null,null,null,null,null,null,null,null,null,null,null,null,null,null,null,null,null,null,null,null,null,null,null,null,null,null,null,null,null,null,null,null,null,null,null,null,null,null,null,null,null,null,"",null,null,null,null,null,null,null,null,null,null,null,null,null,null,null,null,null,null,null,null,null,null,null,null,null,null,null,null,null,null,"□","東秩父村",false,"川越比企地域:東秩父村","",null,null,null,null,null,"",null,null,null,null,null,"",null,null,null,null,null,"",null,null,null,null,null,""]
[48,null,null,null,null,null,null,null,null,null,null,null,null,null,null,null,null,null,null,null,null,"□","配送",{"$f":"IF(V683=\"☑\",TRUE)","v":false},{"$f":"IF(X683,W683,\"\")","v":""},"□","弁当配達",{"$f":"IF(Z683=\"☑\",TRUE)","v":false},{"$f":"IF(AB683,AA683,\"\")","v":""},"□","理容室・美容室（送迎）",{"$f":"IF(AD683=\"☑\",TRUE)","v":false},{"$f":"IF(AF683,AE683,\"\")","v":""},"□","家事代行",{"$f":"IF(AH683=\"☑\",TRUE)","v":false},{"$f":"IF(AJ683,AI683,\"\")","v":""},"□","フィットネス・ジム（運動）",{"$f":"IF(AL683=\"☑\",TRUE)","v":false},{"$f":"IF(AN683,AM683,\"\")","v":""},"□","車イス対応（バリアフリー）",{"$f":"IF(AP683=\"☑\",TRUE)","v":false},{"$f":"IF(AR683,AQ683,\"\")","v":""},"□","講座・教室・イベント",{"$f":"IF(AT683=\"☑\",TRUE)","v":false},{"$f":"IF(AV683,AU683,\"\")","v":""},"□","防犯・見守り",{"$f":"IF(AX683=\"☑\",TRUE)","v":false},{"$f":"IF(AZ683,AY683,\"\")","v":""},{"$f":"_xludf.TEXTJOIN(\",\",TRUE,Y683:Y696,AC683:AC696,AG683:AG696,AK683:AK696,AO683:AO696,AS683:AS696,AW683:AW696,BA683:BA696)","v":""},"□","埼玉県全域",{"$f":"IF(BC683=\"☑\",TRUE)","v":false},"さいたま市:西区,さいたま市:北区,さいたま市:大宮区,さいたま市:見沼区,さいたま市:中央区,さいたま市:桜区,さいたま市:浦和区,さいたま市:南区,さいたま市:緑区,さいたま市:岩槻区,南部地域:川口市,南部地域:蕨市,南部地域:戸田市,南西部地域:朝霞市,南西部地域:志木市,南西部地域:和光市,南西部地域:新座市,南西部地域:富士見市,南西部地域:ふじみ野市,南西部地域:三芳町,東部地域:春日部市,東部地域:草加市,東部地域:越谷市,東部地域:八潮市,東部地域:三郷市,東部地域:吉川市,東部地域:松伏町,県央地域:鴻巣市,県央地域:上尾市,県央地域:桶川市,県央地域:北本市,県央地域:伊奈町,川越比企地域:川越市,川越比企地域:東松山市,川越比企地域:坂戸市,川越比企地域:鶴ヶ島市,川越比企地域:毛呂山町,川越比企地域:越生町,川越比企地域:滑川町,川越比企地域:嵐山町,川越比企地域:小川町,川越比企地域:川島町,川越比企地域:吉見町,川越比企地域:鳩山町,川越比企地域:ときがわ町,川越比企地域:東秩父村,西部地域:所沢市,西部地域:飯能市,西部地域:狭山市,西部地域:入間市,西部地域:日高市,利根地域:行田市,利根地域:加須市,利根地域:羽生市,利根地域:久喜市,利根地域:蓮田市,利根地域:幸手市,利根地域:白岡市,利根地域:宮代町,利根地域:杉戸町,北部地域:熊谷市,北部地域:本庄市,北部地域:深谷市,北部地域:美里町,北部地域:神川町,北部地域:上里町,北部地域:寄居町,秩父地域:秩父市,秩父地域:横瀬町,秩父地域:皆野町,秩父地域:長瀞町,秩父地域:小鹿野町","","□","西区",{"$f":"IF(BH683=\"☑\",TRUE)","v":false},{"$f":"\"さいたま市:\"&BI683","v":"さいたま市:西区"},{"$f":"IF(BJ683,BK683,\"\")","v":""},{"$f":"_xludf.TEXTJOIN(\",\",TRUE,BL683:BL696)","v":""},"□","川口市",{"$f":"IF(BN683=\"☑\",TRUE)","v":false},{"$f":"\"南部地域:\"&BO683","v":"南部地域:川口市"},{"$f":"IF(BP683,BQ683,\"\")","v":""},{"$f":"_xludf.TEXTJOIN(\",\",TRUE,BR683:BR696)","v":""},"□","朝霞市",{"$f":"IF(BT683=\"☑\",TRUE)","v":false},{"$f":"\"南西部地域:\"&BU683","v":"南西部地域:朝霞市"},{"$f":"IF(BV683,BW683,\"\")","v":""},{"$f":"_xludf.TEXTJOIN(\",\",TRUE,BX683:BX696)","v":""},"□","春日部市",{"$f":"IF(BZ683=\"☑\",TRUE)","v":false},{"$f":"\"東部地域:\"&CA683","v":"東部地域:春日部市"},{"$f":"IF(CB683,CC683,\"\")","v":""},{"$f":"_xludf.TEXTJOIN(\",\",TRUE,CD683:CD696)","v":""},"□","鴻巣市",{"$f":"IF(CF683=\"☑\",TRUE)","v":false},{"$f":"\"県央地域:\"&CG683","v":"県央地域:鴻巣市"},{"$f":"IF(CH683,CI683,\"\")","v":""},{"$f":"_xludf.TEXTJOIN(\",\",TRUE,CJ683:CJ696)","v":""},"□","川越市",{"$f":"IF(CL683=\"☑\",TRUE)","v":false},{"$f":"\"川越比企地域:\"&CM683","v":"川越比企地域:川越市"},{"$f":"IF(CN683,CO683,\"\")","v":""},{"$f":"_xludf.TEXTJOIN(\",\",TRUE,CP683:CP696)","v":""},"□","所沢市",{"$f":"IF(CR683=\"☑\",TRUE)","v":false},{"$f":"\"西部地域:\"&CS683","v":"西部地域:所沢市"},{"$f":"IF(CT683,CU683,\"\")","v":""},{"$f":"_xludf.TEXTJOIN(\",\",TRUE,CV683:CV696)","v":""},"□","行田市",{"$f":"IF(CX683=\"☑\",TRUE)","v":false},{"$f":"\"利根地域:\"&CY683","v":"利根地域:行田市"},{"$f":"IF(CZ683,DA683,\"\")","v":""},{"$f":"_xludf.TEXTJOIN(\",\",TRUE,DB683:DB696)","v":""},"□","熊谷市",{"$f":"IF(DD683=\"☑\",TRUE)","v":false},{"$f":"\"北部地域:\"&DE683","v":"北部地域:熊谷市"},{"$f":"IF(DF683,DG683,\"\")","v":""},{"$f":"_xludf.TEXTJOIN(\",\",TRUE,DH683:DH696)","v":""},"□","秩父市",{"$f":"IF(DJ683=\"☑\",TRUE)","v":false},{"$f":"\"秩父地域:\"&DK683","v":"秩父地域:秩父市"},{"$f":"IF(DL683,DM683,\"\")","v":""},{"$f":"_xludf.TEXTJOIN(\",\",TRUE,DN683:DN696)","v":""},{"$f":"_xludf.TEXTJOIN(\",\",TRUE,BG683,BM683,BS683,BY683,CE683,CK683,CQ683,CW683,DC683,DI683,DO683)","v":""},null,null,null,null,null,null,null,null,null,null,null,null,"□","月曜日",{"$f":"IF(EC683=\"☑\",TRUE)","v":false},{"$f":"IF(EE683,ED683,\"\")","v":""},{"$f":"_xludf.TEXTJOIN(\",\",TRUE,EF683:EF696)","v":""},"□","午前（～12:00）",{"$f":"IF(EH683=\"☑\",TRUE)","v":false},{"$f":"IF(EJ683,EI683,\"\")","v":""},{"$f":"_xludf.TEXTJOIN(\",\",TRUE,EK683:EK696)","v":""},null,null,"□","彩の国「新しい生活様式」安心宣言",{"$f":"IF(EO683=\"☑\",TRUE)","v":false},{"$f":"IF(EQ683,EP683,\"\")","v":""},{"$f":"_xludf.TEXTJOIN(\",\",TRUE,ER683:ER696)","v":""},null,"",null,"",null,"",null,"",null,"",null,"",null,"",null,""]
[null,null,null,null,null,null,null,null,null,null,null,null,null,null,null,null,null,null,null,null,null,"□","買物サポート",false,"","□","料理デリバリー（出前）",false,"","□","フィットネス・ジム（送迎）",{"$f":"IF(AD684=\"☑\",TRUE)","v":false},{"$f":"IF(AF684,AE684,\"\")","v":""},"□","出張料理",{"$f":"IF(AH684=\"☑\",TRUE)","v":false},{"$f":"IF(AJ684,AI684,\"\")","v":""},"□","温泉・銭湯（たまり場）",false,"","□","多目的トイレ",false,"","□","習い事",{"$f":"IF(AT684=\"☑\",TRUE)","v":false},{"$f":"IF(AV684,AU684,\"\")","v":""},"□","金融・保険",false,"",null,null,null,null,null,"","□","北区",{"$f":"IF(BH684=\"☑\",TRUE)","v":false},{"$f":"\"さいたま市:\"&BI684","v":"さいたま市:北区"},{"$f":"IF(BJ684,BK684,\"\")","v":""},null,"□","蕨市",{"$f":"IF(BN684=\"☑\",TRUE)","v":false},{"$f":"\"南部地域:\"&BO684","v":"南部地域:蕨市"},{"$f":"IF(BP684,BQ684,\"\")","v":""},null,"□","志木市",{"$f":"IF(BT684=\"☑\",TRUE)","v":false},{"$f":"\"南西部地域:\"&BU684","v":"南西部地域:志木市"},{"$f":"IF(BV684,BW684,\"\")","v":""},null,"□","草加市",{"$f":"IF(BZ684=\"☑\",TRUE)","v":false},{"$f":"\"東部地域:\"&CA684","v":"東部地域:草加市"},"",null,"□","上尾市",{"$f":"IF(CF684=\"☑\",TRUE)","v":false},{"$f":"\"県央地域:\"&CG684","v":"県央地域:上尾市"},{"$f":"IF(CH684,CI684,\"\")","v":""},null,"□","東松山市",{"$f":"IF(CL684=\"☑\",TRUE)","v":false},{"$f":"\"川越比企地域:\"&CM684","v":"川越比企地域:東松山市"},{"$f":"IF(CN684,CO684,\"\")","v":""},null,"□","飯能市",{"$f":"IF(CR684=\"☑\",TRUE)","v":false},{"$f":"\"西部地域:\"&CS684","v":"西部地域:飯能市"},{"$f":"IF(CT684,CU684,\"\")","v":""},null,"□","加須市",{"$f":"IF(CX684=\"☑\",TRUE)","v":false},{"$f":"\"利根地域:\"&CY684","v":"利根地域:加須市"},{"$f":"IF(CZ684,DA684,\"\")","v":""},null,"□","本庄市",{"$f":"IF(DD684=\"☑\",TRUE)","v":false},{"$f":"\"北部地域:\"&DE684","v":"北部地域:本庄市"},{"$f":"IF(DF684,DG684,\"\")","v":""},null,"□","横瀬町",{"$f":"IF(DJ684=\"☑\",TRUE)","v":false},{"$f":"\"秩父地域:\"&DK684","v":"秩父地域:横瀬町"},{"$f":"IF(DL684,DM684,\"\")","v":""},null,null,null,null,null,null,null,null,null,null,null,null,null,null,"□","火曜日",{"$f":"IF(EC684=\"☑\",TRUE)","v":false},{"$f":"IF(EE684,ED684,\"\")","v":""},null,"□","午後（12:00～16：00）",{"$f":"IF(EH684=\"☑\",TRUE)","v":false},{"$f":"IF(EJ684,EI684,\"\")","v":""},null,null,null,null,"に基づき感染対策を実施している。",null,{"$f":"IF(EQ684,EP684,\"\")","v":""}]
[null,null,null,null,null,null,null,null,null,null,null,null,null,null,null,null,null,null,null,null,null,"□","買物代行",false,"","□","食材宅配",false,"","□","温泉・銭湯（送迎）",false,"","□","屋外作業・力仕事",false,"","□","カフェ・ファーストフード",false,"","□","休憩スペース",false,"","□","映画館",false,"","□","住宅・リフォーム",false,"",null,null,null,null,null,"","□","大宮区",false,"さいたま市:大宮区","",null,"□","戸田市",{"$f":"IF(BN685=\"☑\",TRUE)","v":false},{"$f":"\"南部地域:\"&BO685","v":"南部地域:戸田市"},"",null,"□","和光市",false,"南西部地域:和光市","",null,"□","越谷市",false,"東部地域:越谷市","",null,"□","桶川市",{"$f":"IF(CF685=\"☑\",TRUE)","v":false},{"$f":"\"県央地域:\"&CG685","v":"県央地域:桶川市"},"",null,"□","坂戸市",false,"川越比企地域:坂戸市","",null,"□","狭山市",{"$f":"IF(CR685=\"☑\",TRUE)","v":false},{"$f":"\"西部地域:\"&CS685","v":"西部地域:狭山市"},"",null,"□","羽生市",false,"利根地域:羽生市","",null,"□","深谷市",false,"北部地域:深谷市","",null,"□","皆野町",{"$f":"IF(DJ685=\"☑\",TRUE)","v":false},{"$f":"\"秩父地域:\"&DK685","v":"秩父地域:皆野町"},"",null,null,null,null,null,null,null,null,null,null,null,null,null,null,"□","水曜日",false,"",null,"□","夕方(16:00～18:00)",{"$f":"IF(EH685=\"☑\",TRUE)","v":false},{"$f":"IF(EJ685,EI685,\"\")","v":""},null,null,null,"□","各種団体が定める業種別ガイドライン",{"$f":"IF(EO685=\"☑\",TRUE)","v":false},{"$f":"IF(EQ685,EP685,\"\")","v":""}]
[null,null,null,null,null,null,null,null,null,null,null,null,null,null,null,null,null,null,null,null,null,"□","移動販売",false,"","□","日用品配達",false,"","□","整体・マッサージ（送迎）",false,"","□","整体・マッサージ（出張）",false,"","□","飲食店",false,"","□","駐車場",false,"","□","カラオケ店",false,"","□","パソコン・スマートフォン",false,"",null,null,null,null,null,"","□","見沼区",false,"さいたま市:見沼区","",null,null,null,null,null,"",null,"□","新座市",false,"南西部地域:新座市","",null,"□","八潮市",false,"東部地域:八潮市","",null,"□","北本市",{"$f":"IF(CF686=\"☑\",TRUE)","v":false},{"$f":"\"県央地域:\"&CG686","v":"県央地域:北本市"},"",null,"□","鶴ヶ島市",false,"川越比企地域:鶴ヶ島市","",null,"□","入間市",{"$f":"IF(CR686=\"☑\",TRUE)","v":false},{"$f":"\"西部地域:\"&CS686","v":"西部地域:入間市"},"",null,"□","久喜市",false,"利根地域:久喜市","",null,"□","美里町",false,"北部地域:美里町","",null,"□","長瀞町",{"$f":"IF(DJ686=\"☑\",TRUE)","v":false},{"$f":"\"秩父地域:\"&DK686","v":"秩父地域:長瀞町"},"",null,null,null,null,null,null,null,null,null,null,null,null,null,null,"□","木曜日",false,"",null,"□","夜(18:00～）",{"$f":"IF(EH686=\"☑\",TRUE)","v":false},{"$f":"IF(EJ686,EI686,\"\")","v":""},null,null,null,null,"に基づき感染対策を実施している。"]
[null,null,null,null,null,null,null,null,null,null,null,null,null,null,null,null,null,null,null,null,null,"□","割引サービス",false,"","□","薬・介護用品配達",false,"","□","乗り合いサービス",false,"","□","理容室・美容室（出張）",false,"","□","イートインスペース",false,"","□","貸しスペース",false,"","□","麻雀・将棋・囲碁",false,"","□","認知症サポート企業",false,"",null,null,null,null,null,"","□","中央区",false,"さいたま市:中央区","",null,null,null,null,null,"",null,"□","富士見市",false,"南西部地域:富士見市","",null,"□","三郷市",false,"東部地域:三郷市","",null,"□","伊奈町",{"$f":"IF(CF687=\"☑\",TRUE)","v":false},{"$f":"\"県央地域:\"&CG687","v":"県央地域:伊奈町"},"",null,"□","毛呂山町",false,"川越比企地域:毛呂山町","",null,"□","日高市",{"$f":"IF(CR687=\"☑\",TRUE)","v":false},{"$f":"\"西部地域:\"&CS687","v":"西部地域:日高市"},"",null,"□","蓮田市",false,"利根地域:蓮田市","",null,"□","神川町",false,"北部地域:神川町","",null,"□","小鹿野町",{"$f":"IF(DJ687=\"☑\",TRUE)","v":false},{"$f":"\"秩父地域:\"&DK687","v":"秩父地域:小鹿野町"},"",null,null,null,null,null,null,null,null,null,null,null,null,null,null,"□","金曜日",false,"",null,null,null,null,null,null,null,null,"□","その他の感染対策を実施している。",{"$f":"IF(EO687=\"☑\",TRUE)","v":false},{"$f":"IF(EQ687,EP687,\"\")","v":""}]
[null,null,null,null,null,null,null,null,null,null,null,null,null,null,null,null,null,null,null,null,null,"□","その他（買物）",false,"","□","その他（宅配・デリバリー）",false,"","□","個別移送サービス",false,"","□","ペット",false,"","□","その他（運動・たまり場）",false,"","□","その他（設備・施設・場所貸し）",false,"","□","ゲームセンター",false,"","□","その他（生活サービス）",false,"",null,null,null,null,null,"","□","桜区",false,"さいたま市:桜区","",null,null,null,null,null,"",null,"□","ふじみ野市",false,"南西部地域:ふじみ野市","",null,"□","吉川市",false,"東部地域:吉川市","",null,null,null,null,null,"",null,"□","越生町",false,"川越比企地域:越生町","",null,null,null,null,null,"",null,"□","幸手市",false,"利根地域:幸手市","",null,"□","上里町",false,"北部地域:上里町","",null,null,null,null,null,"",null,null,null,null,null,null,null,null,null,null,null,null,null,null,"□","土曜日",false,"",null,null,null,null,null,null,null,null,"□","感染対策を特に実施していない。",{"$f":"IF(EO688=\"☑\",TRUE)","v":false},{"$f":"IF(EQ688,EP688,\"\")","v":""}]
[null,null,null,null,null,null,null,null,null,null,null,null,null,null,null,null,null,null,null,null,null,null,null,null,null,null,null,null,null,"□","交通機関サービス",false,"","□","その他（出張サービス）",false,"",null,null,null,null,null,null,null,null,"□","旅行代理店",false,"",null,null,null,null,null,null,null,null,null,"","□","浦和区",false,"さいたま市:浦和区","",null,null,null,null,null,"",null,"□","三芳町",false,"南西部地域:三芳町","",null,"□","松伏町",false,"東部地域:松伏町","",null,null,null,null,null,"",null,"□","滑川町",false,"川越比企地域:滑川町","",null,null,null,null,null,"",null,"□","白岡市",false,"利根地域:白岡市","",null,"□","寄居町",false,"北部地域:寄居町","",null,null,null,null,null,"",null,null,null,null,null,null,null,null,null,null,null,null,null,null,"□","日曜日",false,""]
[null,null,null,null,null,null,null,null,null,null,null,null,null,null,null,null,null,null,null,null,null,null,null,null,null,null,null,null,null,"□","その他（送迎・移動支援）",false,"",null,null,null,"",null,null,null,{"$f":"IF(AN690,AM690,\"\")","v":""},null,null,null,{"$f":"IF(AR690,AQ690,\"\")","v":""},"□","その他（学び・趣味）",false,"",null,null,null,null,null,null,null,null,null,"","□","南区",false,"さいたま市:南区","",null,null,null,null,null,"",null,null,null,null,null,"",null,null,null,null,null,"",null,null,null,null,null,"",null,"□","嵐山町",false,"川越比企地域:嵐山町","",null,null,null,null,null,"",null,"□","宮代町",false,"利根地域:宮代町","",null,null,null,null,null,"",null,null,null,null,null,""]
[null,null,null,null,null,null,null,null,null,null,null,null,null,null,null,null,null,null,null,null,null,null,null,null,null,null,null,null,null,null,null,null,null,null,null,null,null,null,null,null,null,null,null,null,null,null,null,null,null,null,null,null,null,null,null,null,null,null,"","□","緑区",false,"さいたま市:緑区","",null,null,null,null,null,"",null,null,null,null,null,"",null,null,null,null,null,"",null,null,null,null,null,"",null,"□","小川町",false,"川越比企地域:小川町","",null,null,null,null,null,"",null,"□","杉戸町",false,"利根地域:杉戸町","",null,null,null,null,null,"",null,null,null,null,null,""]
[null,null,null,null,null,null,null,null,null,null,null,null,null,null,null,null,null,null,null,null,null,null,null,null,null,null,null,null,null,null,null,null,null,null,null,null,null,null,null,null,null,null,null,null,null,null,null,null,null,null,null,null,null,null,null,null,null,null,"","□","岩槻区",{"$f":"IF(BH692=\"☑\",TRUE)","v":false},"さいたま市:岩槻区","",null,null,null,null,null,"",null,null,null,null,null,"",null,null,null,null,null,"",null,null,null,null,null,"",null,"□","川島町",false,"川越比企地域:川島町","",null,null,null,null,null,"",null,null,null,null,null,"",null,null,null,null,null,"",null,null,null,null,null,""]
[null,null,null,null,null,null,null,null,null,null,null,null,null,null,null,null,null,null,null,null,null,null,null,null,null,null,null,null,null,null,null,null,null,null,null,null,null,null,null,null,null,null,null,null,null,null,null,null,null,null,null,null,null,null,null,null,null,null,"",null,null,null,null,null,null,null,null,null,null,null,null,null,null,null,null,null,null,null,null,null,null,null,null,null,null,null,null,null,null,"□","吉見町",false,"川越比企地域:吉見町","",null,null,null,null,null,"",null,null,null,null,null,"",null,null,null,null,null,"",null,null,null,null,null,""]
[null,null,null,null,null,null,null,null,null,null,null,null,null,null,null,null,null,null,null,null,null,null,null,null,null,null,null,null,null,null,null,null,null,null,null,null,null,null,null,null,null,null,null,null,null,null,null,null,null,null,null,null,null,null,null,null,null,null,"",null,null,null,null,null,null,null,null,null,null,null,null,null,null,null,null,null,null,null,null,null,null,null,null,null,null,null,null,null,null,"□","鳩山町",false,"川越比企地域:鳩山町","",null,null,null,null,null,"",null,null,null,null,null,"",null,null,null,null,null,"",null,null,null,null,null,""]
[null,null,null,null,null,null,null,null,null,null,null,null,null,null,null,null,null,null,null,null,null,null,null,null,null,null,null,null,null,null,null,null,null,null,null,null,null,null,null,null,null,null,null,null,null,null,null,null,null,null,null,null,null,null,null,null,null,null,"",null,null,null,null,null,null,null,null,null,null,null,null,null,null,null,null,null,null,null,null,null,null,null,null,null,null,null,null,null,null,"□","ときがわ町",false,"川越比企地域:ときがわ町","",null,null,null,null,null,"",null,null,null,null,null,"",null,null,null,null,null,"",null,null,null,null,null,""]
[null,null,null,null,null,null,null,null,null,null,null,null,null,null,null,null,null,null,null,null,null,null,null,null,null,null,null,null,null,null,null,null,null,null,null,null,null,null,null,null,null,null,null,null,null,null,null,null,null,null,null,null,null,null,null,null,null,null,"",null,null,null,null,null,null,null,null,null,null,null,null,null,null,null,null,null,null,null,null,null,null,null,null,null,null,null,null,null,null,"□","東秩父村",false,"川越比企地域:東秩父村","",null,null,null,null,null,"",null,null,null,null,null,"",null,null,null,null,null,"",null,null,null,null,null,""]
[49,null,null,null,null,null,null,null,null,null,null,null,null,null,null,null,null,null,null,null,null,"□","配送",{"$f":"IF(V697=\"☑\",TRUE)","v":false},{"$f":"IF(X697,W697,\"\")","v":""},"□","弁当配達",{"$f":"IF(Z697=\"☑\",TRUE)","v":false},{"$f":"IF(AB697,AA697,\"\")","v":""},"□","理容室・美容室（送迎）",{"$f":"IF(AD697=\"☑\",TRUE)","v":false},{"$f":"IF(AF697,AE697,\"\")","v":""},"□","家事代行",{"$f":"IF(AH697=\"☑\",TRUE)","v":false},{"$f":"IF(AJ697,AI697,\"\")","v":""},"□","フィットネス・ジム（運動）",{"$f":"IF(AL697=\"☑\",TRUE)","v":false},{"$f":"IF(AN697,AM697,\"\")","v":""},"□","車イス対応（バリアフリー）",{"$f":"IF(AP697=\"☑\",TRUE)","v":false},{"$f":"IF(AR697,AQ697,\"\")","v":""},"□","講座・教室・イベント",{"$f":"IF(AT697=\"☑\",TRUE)","v":false},{"$f":"IF(AV697,AU697,\"\")","v":""},"□","防犯・見守り",{"$f":"IF(AX697=\"☑\",TRUE)","v":false},{"$f":"IF(AZ697,AY697,\"\")","v":""},{"$f":"_xludf.TEXTJOIN(\",\",TRUE,Y697:Y710,AC697:AC710,AG697:AG710,AK697:AK710,AO697:AO710,AS697:AS710,AW697:AW710,BA697:BA710)","v":""},"□","埼玉県全域",{"$f":"IF(BC697=\"☑\",TRUE)","v":false},"さいたま市:西区,さいたま市:北区,さいたま市:大宮区,さいたま市:見沼区,さいたま市:中央区,さいたま市:桜区,さいたま市:浦和区,さいたま市:南区,さいたま市:緑区,さいたま市:岩槻区,南部地域:川口市,南部地域:蕨市,南部地域:戸田市,南西部地域:朝霞市,南西部地域:志木市,南西部地域:和光市,南西部地域:新座市,南西部地域:富士見市,南西部地域:ふじみ野市,南西部地域:三芳町,東部地域:春日部市,東部地域:草加市,東部地域:越谷市,東部地域:八潮市,東部地域:三郷市,東部地域:吉川市,東部地域:松伏町,県央地域:鴻巣市,県央地域:上尾市,県央地域:桶川市,県央地域:北本市,県央地域:伊奈町,川越比企地域:川越市,川越比企地域:東松山市,川越比企地域:坂戸市,川越比企地域:鶴ヶ島市,川越比企地域:毛呂山町,川越比企地域:越生町,川越比企地域:滑川町,川越比企地域:嵐山町,川越比企地域:小川町,川越比企地域:川島町,川越比企地域:吉見町,川越比企地域:鳩山町,川越比企地域:ときがわ町,川越比企地域:東秩父村,西部地域:所沢市,西部地域:飯能市,西部地域:狭山市,西部地域:入間市,西部地域:日高市,利根地域:行田市,利根地域:加須市,利根地域:羽生市,利根地域:久喜市,利根地域:蓮田市,利根地域:幸手市,利根地域:白岡市,利根地域:宮代町,利根地域:杉戸町,北部地域:熊谷市,北部地域:本庄市,北部地域:深谷市,北部地域:美里町,北部地域:神川町,北部地域:上里町,北部地域:寄居町,秩父地域:秩父市,秩父地域:横瀬町,秩父地域:皆野町,秩父地域:長瀞町,秩父地域:小鹿野町","","□","西区",{"$f":"IF(BH697=\"☑\",TRUE)","v":false},{"$f":"\"さいたま市:\"&BI697","v":"さいたま市:西区"},{"$f":"IF(BJ697,BK697,\"\")","v":""},{"$f":"_xludf.TEXTJOIN(\",\",TRUE,BL697:BL710)","v":""},"□","川口市",{"$f":"IF(BN697=\"☑\",TRUE)","v":false},{"$f":"\"南部地域:\"&BO697","v":"南部地域:川口市"},{"$f":"IF(BP697,BQ697,\"\")","v":""},{"$f":"_xludf.TEXTJOIN(\",\",TRUE,BR697:BR710)","v":""},"□","朝霞市",{"$f":"IF(BT697=\"☑\",TRUE)","v":false},{"$f":"\"南西部地域:\"&BU697","v":"南西部地域:朝霞市"},{"$f":"IF(BV697,BW697,\"\")","v":""},{"$f":"_xludf.TEXTJOIN(\",\",TRUE,BX697:BX710)","v":""},"□","春日部市",{"$f":"IF(BZ697=\"☑\",TRUE)","v":false},{"$f":"\"東部地域:\"&CA697","v":"東部地域:春日部市"},{"$f":"IF(CB697,CC697,\"\")","v":""},{"$f":"_xludf.TEXTJOIN(\",\",TRUE,CD697:CD710)","v":""},"□","鴻巣市",{"$f":"IF(CF697=\"☑\",TRUE)","v":false},{"$f":"\"県央地域:\"&CG697","v":"県央地域:鴻巣市"},{"$f":"IF(CH697,CI697,\"\")","v":""},{"$f":"_xludf.TEXTJOIN(\",\",TRUE,CJ697:CJ710)","v":""},"□","川越市",{"$f":"IF(CL697=\"☑\",TRUE)","v":false},{"$f":"\"川越比企地域:\"&CM697","v":"川越比企地域:川越市"},{"$f":"IF(CN697,CO697,\"\")","v":""},{"$f":"_xludf.TEXTJOIN(\",\",TRUE,CP697:CP710)","v":""},"□","所沢市",{"$f":"IF(CR697=\"☑\",TRUE)","v":false},{"$f":"\"西部地域:\"&CS697","v":"西部地域:所沢市"},{"$f":"IF(CT697,CU697,\"\")","v":""},{"$f":"_xludf.TEXTJOIN(\",\",TRUE,CV697:CV710)","v":""},"□","行田市",{"$f":"IF(CX697=\"☑\",TRUE)","v":false},{"$f":"\"利根地域:\"&CY697","v":"利根地域:行田市"},{"$f":"IF(CZ697,DA697,\"\")","v":""},{"$f":"_xludf.TEXTJOIN(\",\",TRUE,DB697:DB710)","v":""},"□","熊谷市",{"$f":"IF(DD697=\"☑\",TRUE)","v":false},{"$f":"\"北部地域:\"&DE697","v":"北部地域:熊谷市"},{"$f":"IF(DF697,DG697,\"\")","v":""},{"$f":"_xludf.TEXTJOIN(\",\",TRUE,DH697:DH710)","v":""},"□","秩父市",{"$f":"IF(DJ697=\"☑\",TRUE)","v":false},{"$f":"\"秩父地域:\"&DK697","v":"秩父地域:秩父市"},{"$f":"IF(DL697,DM697,\"\")","v":""},{"$f":"_xludf.TEXTJOIN(\",\",TRUE,DN697:DN710)","v":""},{"$f":"_xludf.TEXTJOIN(\",\",TRUE,BG697,BM697,BS697,BY697,CE697,CK697,CQ697,CW697,DC697,DI697,DO697)","v":""},null,null,null,null,null,null,null,null,null,null,null,null,"□","月曜日",{"$f":"IF(EC697=\"☑\",TRUE)","v":false},{"$f":"IF(EE697,ED697,\"\")","v":""},{"$f":"_xludf.TEXTJOIN(\",\",TRUE,EF697:EF710)","v":""},"□","午前（～12:00）",{"$f":"IF(EH697=\"☑\",TRUE)","v":false},{"$f":"IF(EJ697,EI697,\"\")","v":""},{"$f":"_xludf.TEXTJOIN(\",\",TRUE,EK697:EK710)","v":""},null,null,"□","彩の国「新しい生活様式」安心宣言",{"$f":"IF(EO697=\"☑\",TRUE)","v":false},{"$f":"IF(EQ697,EP697,\"\")","v":""},{"$f":"_xludf.TEXTJOIN(\",\",TRUE,ER697:ER710)","v":""},null,"",null,"",null,"",null,"",null,"",null,"",null,"",null,""]
[null,null,null,null,null,null,null,null,null,null,null,null,null,null,null,null,null,null,null,null,null,"□","買物サポート",false,"","□","料理デリバリー（出前）",false,"","□","フィットネス・ジム（送迎）",{"$f":"IF(AD698=\"☑\",TRUE)","v":false},{"$f":"IF(AF698,AE698,\"\")","v":""},"□","出張料理",{"$f":"IF(AH698=\"☑\",TRUE)","v":false},{"$f":"IF(AJ698,AI698,\"\")","v":""},"□","温泉・銭湯（たまり場）",false,"","□","多目的トイレ",false,"","□","習い事",{"$f":"IF(AT698=\"☑\",TRUE)","v":false},{"$f":"IF(AV698,AU698,\"\")","v":""},"□","金融・保険",false,"",null,null,null,null,null,"","□","北区",{"$f":"IF(BH698=\"☑\",TRUE)","v":false},{"$f":"\"さいたま市:\"&BI698","v":"さいたま市:北区"},{"$f":"IF(BJ698,BK698,\"\")","v":""},null,"□","蕨市",{"$f":"IF(BN698=\"☑\",TRUE)","v":false},{"$f":"\"南部地域:\"&BO698","v":"南部地域:蕨市"},{"$f":"IF(BP698,BQ698,\"\")","v":""},null,"□","志木市",{"$f":"IF(BT698=\"☑\",TRUE)","v":false},{"$f":"\"南西部地域:\"&BU698","v":"南西部地域:志木市"},{"$f":"IF(BV698,BW698,\"\")","v":""},null,"□","草加市",{"$f":"IF(BZ698=\"☑\",TRUE)","v":false},{"$f":"\"東部地域:\"&CA698","v":"東部地域:草加市"},"",null,"□","上尾市",{"$f":"IF(CF698=\"☑\",TRUE)","v":false},{"$f":"\"県央地域:\"&CG698","v":"県央地域:上尾市"},{"$f":"IF(CH698,CI698,\"\")","v":""},null,"□","東松山市",{"$f":"IF(CL698=\"☑\",TRUE)","v":false},{"$f":"\"川越比企地域:\"&CM698","v":"川越比企地域:東松山市"},{"$f":"IF(CN698,CO698,\"\")","v":""},null,"□","飯能市",{"$f":"IF(CR698=\"☑\",TRUE)","v":false},{"$f":"\"西部地域:\"&CS698","v":"西部地域:飯能市"},{"$f":"IF(CT698,CU698,\"\")","v":""},null,"□","加須市",{"$f":"IF(CX698=\"☑\",TRUE)","v":false},{"$f":"\"利根地域:\"&CY698","v":"利根地域:加須市"},{"$f":"IF(CZ698,DA698,\"\")","v":""},null,"□","本庄市",{"$f":"IF(DD698=\"☑\",TRUE)","v":false},{"$f":"\"北部地域:\"&DE698","v":"北部地域:本庄市"},{"$f":"IF(DF698,DG698,\"\")","v":""},null,"□","横瀬町",{"$f":"IF(DJ698=\"☑\",TRUE)","v":false},{"$f":"\"秩父地域:\"&DK698","v":"秩父地域:横瀬町"},{"$f":"IF(DL698,DM698,\"\")","v":""},null,null,null,null,null,null,null,null,null,null,null,null,null,null,"□","火曜日",{"$f":"IF(EC698=\"☑\",TRUE)","v":false},{"$f":"IF(EE698,ED698,\"\")","v":""},null,"□","午後（12:00～16：00）",{"$f":"IF(EH698=\"☑\",TRUE)","v":false},{"$f":"IF(EJ698,EI698,\"\")","v":""},null,null,null,null,"に基づき感染対策を実施している。",null,{"$f":"IF(EQ698,EP698,\"\")","v":""}]
[null,null,null,null,null,null,null,null,null,null,null,null,null,null,null,null,null,null,null,null,null,"□","買物代行",false,"","□","食材宅配",false,"","□","温泉・銭湯（送迎）",false,"","□","屋外作業・力仕事",false,"","□","カフェ・ファーストフード",false,"","□","休憩スペース",false,"","□","映画館",false,"","□","住宅・リフォーム",false,"",null,null,null,null,null,"","□","大宮区",false,"さいたま市:大宮区","",null,"□","戸田市",{"$f":"IF(BN699=\"☑\",TRUE)","v":false},{"$f":"\"南部地域:\"&BO699","v":"南部地域:戸田市"},"",null,"□","和光市",false,"南西部地域:和光市","",null,"□","越谷市",false,"東部地域:越谷市","",null,"□","桶川市",{"$f":"IF(CF699=\"☑\",TRUE)","v":false},{"$f":"\"県央地域:\"&CG699","v":"県央地域:桶川市"},"",null,"□","坂戸市",false,"川越比企地域:坂戸市","",null,"□","狭山市",{"$f":"IF(CR699=\"☑\",TRUE)","v":false},{"$f":"\"西部地域:\"&CS699","v":"西部地域:狭山市"},"",null,"□","羽生市",false,"利根地域:羽生市","",null,"□","深谷市",false,"北部地域:深谷市","",null,"□","皆野町",{"$f":"IF(DJ699=\"☑\",TRUE)","v":false},{"$f":"\"秩父地域:\"&DK699","v":"秩父地域:皆野町"},"",null,null,null,null,null,null,null,null,null,null,null,null,null,null,"□","水曜日",false,"",null,"□","夕方(16:00～18:00)",{"$f":"IF(EH699=\"☑\",TRUE)","v":false},{"$f":"IF(EJ699,EI699,\"\")","v":""},null,null,null,"□","各種団体が定める業種別ガイドライン",{"$f":"IF(EO699=\"☑\",TRUE)","v":false},{"$f":"IF(EQ699,EP699,\"\")","v":""}]
[null,null,null,null,null,null,null,null,null,null,null,null,null,null,null,null,null,null,null,null,null,"□","移動販売",false,"","□","日用品配達",false,"","□","整体・マッサージ（送迎）",false,"","□","整体・マッサージ（出張）",false,"","□","飲食店",false,"","□","駐車場",false,"","□","カラオケ店",false,"","□","パソコン・スマートフォン",false,"",null,null,null,null,null,"","□","見沼区",false,"さいたま市:見沼区","",null,null,null,null,null,"",null,"□","新座市",false,"南西部地域:新座市","",null,"□","八潮市",false,"東部地域:八潮市","",null,"□","北本市",{"$f":"IF(CF700=\"☑\",TRUE)","v":false},{"$f":"\"県央地域:\"&CG700","v":"県央地域:北本市"},"",null,"□","鶴ヶ島市",false,"川越比企地域:鶴ヶ島市","",null,"□","入間市",{"$f":"IF(CR700=\"☑\",TRUE)","v":false},{"$f":"\"西部地域:\"&CS700","v":"西部地域:入間市"},"",null,"□","久喜市",false,"利根地域:久喜市","",null,"□","美里町",false,"北部地域:美里町","",null,"□","長瀞町",{"$f":"IF(DJ700=\"☑\",TRUE)","v":false},{"$f":"\"秩父地域:\"&DK700","v":"秩父地域:長瀞町"},"",null,null,null,null,null,null,null,null,null,null,null,null,null,null,"□","木曜日",false,"",null,"□","夜(18:00～）",{"$f":"IF(EH700=\"☑\",TRUE)","v":false},{"$f":"IF(EJ700,EI700,\"\")","v":""},null,null,null,null,"に基づき感染対策を実施している。"]
[null,null,null,null,null,null,null,null,null,null,null,null,null,null,null,null,null,null,null,null,null,"□","割引サービス",false,"","□","薬・介護用品配達",false,"","□","乗り合いサービス",false,"","□","理容室・美容室（出張）",false,"","□","イートインスペース",false,"","□","貸しスペース",false,"","□","麻雀・将棋・囲碁",false,"","□","認知症サポート企業",false,"",null,null,null,null,null,"","□","中央区",false,"さいたま市:中央区","",null,null,null,null,null,"",null,"□","富士見市",false,"南西部地域:富士見市","",null,"□","三郷市",false,"東部地域:三郷市","",null,"□","伊奈町",{"$f":"IF(CF701=\"☑\",TRUE)","v":false},{"$f":"\"県央地域:\"&CG701","v":"県央地域:伊奈町"},"",null,"□","毛呂山町",false,"川越比企地域:毛呂山町","",null,"□","日高市",{"$f":"IF(CR701=\"☑\",TRUE)","v":false},{"$f":"\"西部地域:\"&CS701","v":"西部地域:日高市"},"",null,"□","蓮田市",false,"利根地域:蓮田市","",null,"□","神川町",false,"北部地域:神川町","",null,"□","小鹿野町",{"$f":"IF(DJ701=\"☑\",TRUE)","v":false},{"$f":"\"秩父地域:\"&DK701","v":"秩父地域:小鹿野町"},"",null,null,null,null,null,null,null,null,null,null,null,null,null,null,"□","金曜日",false,"",null,null,null,null,null,null,null,null,"□","その他の感染対策を実施している。",{"$f":"IF(EO701=\"☑\",TRUE)","v":false},{"$f":"IF(EQ701,EP701,\"\")","v":""}]
[null,null,null,null,null,null,null,null,null,null,null,null,null,null,null,null,null,null,null,null,null,"□","その他（買物）",false,"","□","その他（宅配・デリバリー）",false,"","□","個別移送サービス",false,"","□","ペット",false,"","□","その他（運動・たまり場）",false,"","□","その他（設備・施設・場所貸し）",false,"","□","ゲームセンター",false,"","□","その他（生活サービス）",false,"",null,null,null,null,null,"","□","桜区",false,"さいたま市:桜区","",null,null,null,null,null,"",null,"□","ふじみ野市",false,"南西部地域:ふじみ野市","",null,"□","吉川市",false,"東部地域:吉川市","",null,null,null,null,null,"",null,"□","越生町",false,"川越比企地域:越生町","",null,null,null,null,null,"",null,"□","幸手市",false,"利根地域:幸手市","",null,"□","上里町",false,"北部地域:上里町","",null,null,null,null,null,"",null,null,null,null,null,null,null,null,null,null,null,null,null,null,"□","土曜日",false,"",null,null,null,null,null,null,null,null,"□","感染対策を特に実施していない。",{"$f":"IF(EO702=\"☑\",TRUE)","v":false},{"$f":"IF(EQ702,EP702,\"\")","v":""}]
[null,null,null,null,null,null,null,null,null,null,null,null,null,null,null,null,null,null,null,null,null,null,null,null,null,null,null,null,null,"□","交通機関サービス",false,"","□","その他（出張サービス）",false,"",null,null,null,null,null,null,null,null,"□","旅行代理店",false,"",null,null,null,null,null,null,null,null,null,"","□","浦和区",false,"さいたま市:浦和区","",null,null,null,null,null,"",null,"□","三芳町",false,"南西部地域:三芳町","",null,"□","松伏町",false,"東部地域:松伏町","",null,null,null,null,null,"",null,"□","滑川町",false,"川越比企地域:滑川町","",null,null,null,null,null,"",null,"□","白岡市",false,"利根地域:白岡市","",null,"□","寄居町",false,"北部地域:寄居町","",null,null,null,null,null,"",null,null,null,null,null,null,null,null,null,null,null,null,null,null,"□","日曜日",false,""]
[null,null,null,null,null,null,null,null,null,null,null,null,null,null,null,null,null,null,null,null,null,null,null,null,null,null,null,null,null,"□","その他（送迎・移動支援）",false,"",null,null,null,"",null,null,null,{"$f":"IF(AN704,AM704,\"\")","v":""},null,null,null,{"$f":"IF(AR704,AQ704,\"\")","v":""},"□","その他（学び・趣味）",false,"",null,null,null,null,null,null,null,null,null,"","□","南区",false,"さいたま市:南区","",null,null,null,null,null,"",null,null,null,null,null,"",null,null,null,null,null,"",null,null,null,null,null,"",null,"□","嵐山町",false,"川越比企地域:嵐山町","",null,null,null,null,null,"",null,"□","宮代町",false,"利根地域:宮代町","",null,null,null,null,null,"",null,null,null,null,null,""]
[null,null,null,null,null,null,null,null,null,null,null,null,null,null,null,null,null,null,null,null,null,null,null,null,null,null,null,null,null,null,null,null,null,null,null,null,null,null,null,null,null,null,null,null,null,null,null,null,null,null,null,null,null,null,null,null,null,null,"","□","緑区",false,"さいたま市:緑区","",null,null,null,null,null,"",null,null,null,null,null,"",null,null,null,null,null,"",null,null,null,null,null,"",null,"□","小川町",false,"川越比企地域:小川町","",null,null,null,null,null,"",null,"□","杉戸町",false,"利根地域:杉戸町","",null,null,null,null,null,"",null,null,null,null,null,""]
[null,null,null,null,null,null,null,null,null,null,null,null,null,null,null,null,null,null,null,null,null,null,null,null,null,null,null,null,null,null,null,null,null,null,null,null,null,null,null,null,null,null,null,null,null,null,null,null,null,null,null,null,null,null,null,null,null,null,"","□","岩槻区",{"$f":"IF(BH706=\"☑\",TRUE)","v":false},"さいたま市:岩槻区","",null,null,null,null,null,"",null,null,null,null,null,"",null,null,null,null,null,"",null,null,null,null,null,"",null,"□","川島町",false,"川越比企地域:川島町","",null,null,null,null,null,"",null,null,null,null,null,"",null,null,null,null,null,"",null,null,null,null,null,""]
[null,null,null,null,null,null,null,null,null,null,null,null,null,null,null,null,null,null,null,null,null,null,null,null,null,null,null,null,null,null,null,null,null,null,null,null,null,null,null,null,null,null,null,null,null,null,null,null,null,null,null,null,null,null,null,null,null,null,"",null,null,null,null,null,null,null,null,null,null,null,null,null,null,null,null,null,null,null,null,null,null,null,null,null,null,null,null,null,null,"□","吉見町",false,"川越比企地域:吉見町","",null,null,null,null,null,"",null,null,null,null,null,"",null,null,null,null,null,"",null,null,null,null,null,""]
[null,null,null,null,null,null,null,null,null,null,null,null,null,null,null,null,null,null,null,null,null,null,null,null,null,null,null,null,null,null,null,null,null,null,null,null,null,null,null,null,null,null,null,null,null,null,null,null,null,null,null,null,null,null,null,null,null,null,"",null,null,null,null,null,null,null,null,null,null,null,null,null,null,null,null,null,null,null,null,null,null,null,null,null,null,null,null,null,null,"□","鳩山町",false,"川越比企地域:鳩山町","",null,null,null,null,null,"",null,null,null,null,null,"",null,null,null,null,null,"",null,null,null,null,null,""]
[null,null,null,null,null,null,null,null,null,null,null,null,null,null,null,null,null,null,null,null,null,null,null,null,null,null,null,null,null,null,null,null,null,null,null,null,null,null,null,null,null,null,null,null,null,null,null,null,null,null,null,null,null,null,null,null,null,null,"",null,null,null,null,null,null,null,null,null,null,null,null,null,null,null,null,null,null,null,null,null,null,null,null,null,null,null,null,null,null,"□","ときがわ町",false,"川越比企地域:ときがわ町","",null,null,null,null,null,"",null,null,null,null,null,"",null,null,null,null,null,"",null,null,null,null,null,""]
[null,null,null,null,null,null,null,null,null,null,null,null,null,null,null,null,null,null,null,null,null,null,null,null,null,null,null,null,null,null,null,null,null,null,null,null,null,null,null,null,null,null,null,null,null,null,null,null,null,null,null,null,null,null,null,null,null,null,"",null,null,null,null,null,null,null,null,null,null,null,null,null,null,null,null,null,null,null,null,null,null,null,null,null,null,null,null,null,null,"□","東秩父村",false,"川越比企地域:東秩父村","",null,null,null,null,null,"",null,null,null,null,null,"",null,null,null,null,null,"",null,null,null,null,null,""]
[50,null,null,null,null,null,null,null,null,null,null,null,null,null,null,null,null,null,null,null,null,"□","配送",{"$f":"IF(V711=\"☑\",TRUE)","v":false},{"$f":"IF(X711,W711,\"\")","v":""},"□","弁当配達",{"$f":"IF(Z711=\"☑\",TRUE)","v":false},{"$f":"IF(AB711,AA711,\"\")","v":""},"□","理容室・美容室（送迎）",{"$f":"IF(AD711=\"☑\",TRUE)","v":false},{"$f":"IF(AF711,AE711,\"\")","v":""},"□","家事代行",{"$f":"IF(AH711=\"☑\",TRUE)","v":false},{"$f":"IF(AJ711,AI711,\"\")","v":""},"□","フィットネス・ジム（運動）",{"$f":"IF(AL711=\"☑\",TRUE)","v":false},{"$f":"IF(AN711,AM711,\"\")","v":""},"□","車イス対応（バリアフリー）",{"$f":"IF(AP711=\"☑\",TRUE)","v":false},{"$f":"IF(AR711,AQ711,\"\")","v":""},"□","講座・教室・イベント",{"$f":"IF(AT711=\"☑\",TRUE)","v":false},{"$f":"IF(AV711,AU711,\"\")","v":""},"□","防犯・見守り",{"$f":"IF(AX711=\"☑\",TRUE)","v":false},{"$f":"IF(AZ711,AY711,\"\")","v":""},{"$f":"_xludf.TEXTJOIN(\",\",TRUE,Y711:Y724,AC711:AC724,AG711:AG724,AK711:AK724,AO711:AO724,AS711:AS724,AW711:AW724,BA711:BA724)","v":""},"□","埼玉県全域",{"$f":"IF(BC711=\"☑\",TRUE)","v":false},"さいたま市:西区,さいたま市:北区,さいたま市:大宮区,さいたま市:見沼区,さいたま市:中央区,さいたま市:桜区,さいたま市:浦和区,さいたま市:南区,さいたま市:緑区,さいたま市:岩槻区,南部地域:川口市,南部地域:蕨市,南部地域:戸田市,南西部地域:朝霞市,南西部地域:志木市,南西部地域:和光市,南西部地域:新座市,南西部地域:富士見市,南西部地域:ふじみ野市,南西部地域:三芳町,東部地域:春日部市,東部地域:草加市,東部地域:越谷市,東部地域:八潮市,東部地域:三郷市,東部地域:吉川市,東部地域:松伏町,県央地域:鴻巣市,県央地域:上尾市,県央地域:桶川市,県央地域:北本市,県央地域:伊奈町,川越比企地域:川越市,川越比企地域:東松山市,川越比企地域:坂戸市,川越比企地域:鶴ヶ島市,川越比企地域:毛呂山町,川越比企地域:越生町,川越比企地域:滑川町,川越比企地域:嵐山町,川越比企地域:小川町,川越比企地域:川島町,川越比企地域:吉見町,川越比企地域:鳩山町,川越比企地域:ときがわ町,川越比企地域:東秩父村,西部地域:所沢市,西部地域:飯能市,西部地域:狭山市,西部地域:入間市,西部地域:日高市,利根地域:行田市,利根地域:加須市,利根地域:羽生市,利根地域:久喜市,利根地域:蓮田市,利根地域:幸手市,利根地域:白岡市,利根地域:宮代町,利根地域:杉戸町,北部地域:熊谷市,北部地域:本庄市,北部地域:深谷市,北部地域:美里町,北部地域:神川町,北部地域:上里町,北部地域:寄居町,秩父地域:秩父市,秩父地域:横瀬町,秩父地域:皆野町,秩父地域:長瀞町,秩父地域:小鹿野町","","□","西区",{"$f":"IF(BH711=\"☑\",TRUE)","v":false},{"$f":"\"さいたま市:\"&BI711","v":"さいたま市:西区"},{"$f":"IF(BJ711,BK711,\"\")","v":""},{"$f":"_xludf.TEXTJOIN(\",\",TRUE,BL711:BL724)","v":""},"□","川口市",{"$f":"IF(BN711=\"☑\",TRUE)","v":false},{"$f":"\"南部地域:\"&BO711","v":"南部地域:川口市"},{"$f":"IF(BP711,BQ711,\"\")","v":""},{"$f":"_xludf.TEXTJOIN(\",\",TRUE,BR711:BR724)","v":""},"□","朝霞市",{"$f":"IF(BT711=\"☑\",TRUE)","v":false},{"$f":"\"南西部地域:\"&BU711","v":"南西部地域:朝霞市"},{"$f":"IF(BV711,BW711,\"\")","v":""},{"$f":"_xludf.TEXTJOIN(\",\",TRUE,BX711:BX724)","v":""},"□","春日部市",{"$f":"IF(BZ711=\"☑\",TRUE)","v":false},{"$f":"\"東部地域:\"&CA711","v":"東部地域:春日部市"},{"$f":"IF(CB711,CC711,\"\")","v":""},{"$f":"_xludf.TEXTJOIN(\",\",TRUE,CD711:CD724)","v":""},"□","鴻巣市",{"$f":"IF(CF711=\"☑\",TRUE)","v":false},{"$f":"\"県央地域:\"&CG711","v":"県央地域:鴻巣市"},{"$f":"IF(CH711,CI711,\"\")","v":""},{"$f":"_xludf.TEXTJOIN(\",\",TRUE,CJ711:CJ724)","v":""},"□","川越市",{"$f":"IF(CL711=\"☑\",TRUE)","v":false},{"$f":"\"川越比企地域:\"&CM711","v":"川越比企地域:川越市"},{"$f":"IF(CN711,CO711,\"\")","v":""},{"$f":"_xludf.TEXTJOIN(\",\",TRUE,CP711:CP724)","v":""},"□","所沢市",{"$f":"IF(CR711=\"☑\",TRUE)","v":false},{"$f":"\"西部地域:\"&CS711","v":"西部地域:所沢市"},{"$f":"IF(CT711,CU711,\"\")","v":""},{"$f":"_xludf.TEXTJOIN(\",\",TRUE,CV711:CV724)","v":""},"□","行田市",{"$f":"IF(CX711=\"☑\",TRUE)","v":false},{"$f":"\"利根地域:\"&CY711","v":"利根地域:行田市"},{"$f":"IF(CZ711,DA711,\"\")","v":""},{"$f":"_xludf.TEXTJOIN(\",\",TRUE,DB711:DB724)","v":""},"□","熊谷市",{"$f":"IF(DD711=\"☑\",TRUE)","v":false},{"$f":"\"北部地域:\"&DE711","v":"北部地域:熊谷市"},{"$f":"IF(DF711,DG711,\"\")","v":""},{"$f":"_xludf.TEXTJOIN(\",\",TRUE,DH711:DH724)","v":""},"□","秩父市",{"$f":"IF(DJ711=\"☑\",TRUE)","v":false},{"$f":"\"秩父地域:\"&DK711","v":"秩父地域:秩父市"},{"$f":"IF(DL711,DM711,\"\")","v":""},{"$f":"_xludf.TEXTJOIN(\",\",TRUE,DN711:DN724)","v":""},{"$f":"_xludf.TEXTJOIN(\",\",TRUE,BG711,BM711,BS711,BY711,CE711,CK711,CQ711,CW711,DC711,DI711,DO711)","v":""},null,null,null,null,null,null,null,null,null,null,null,null,"□","月曜日",{"$f":"IF(EC711=\"☑\",TRUE)","v":false},{"$f":"IF(EE711,ED711,\"\")","v":""},{"$f":"_xludf.TEXTJOIN(\",\",TRUE,EF711:EF724)","v":""},"□","午前（～12:00）",{"$f":"IF(EH711=\"☑\",TRUE)","v":false},{"$f":"IF(EJ711,EI711,\"\")","v":""},{"$f":"_xludf.TEXTJOIN(\",\",TRUE,EK711:EK724)","v":""},null,null,"□","彩の国「新しい生活様式」安心宣言",{"$f":"IF(EO711=\"☑\",TRUE)","v":false},{"$f":"IF(EQ711,EP711,\"\")","v":""},{"$f":"_xludf.TEXTJOIN(\",\",TRUE,ER711:ER724)","v":""},null,"",null,"",null,"",null,"",null,"",null,"",null,"",null,""]
[null,null,null,null,null,null,null,null,null,null,null,null,null,null,null,null,null,null,null,null,null,"□","買物サポート",false,"","□","料理デリバリー（出前）",false,"","□","フィットネス・ジム（送迎）",{"$f":"IF(AD712=\"☑\",TRUE)","v":false},{"$f":"IF(AF712,AE712,\"\")","v":""},"□","出張料理",{"$f":"IF(AH712=\"☑\",TRUE)","v":false},{"$f":"IF(AJ712,AI712,\"\")","v":""},"□","温泉・銭湯（たまり場）",false,"","□","多目的トイレ",false,"","□","習い事",{"$f":"IF(AT712=\"☑\",TRUE)","v":false},{"$f":"IF(AV712,AU712,\"\")","v":""},"□","金融・保険",false,"",null,null,null,null,null,"","□","北区",{"$f":"IF(BH712=\"☑\",TRUE)","v":false},{"$f":"\"さいたま市:\"&BI712","v":"さいたま市:北区"},{"$f":"IF(BJ712,BK712,\"\")","v":""},null,"□","蕨市",{"$f":"IF(BN712=\"☑\",TRUE)","v":false},{"$f":"\"南部地域:\"&BO712","v":"南部地域:蕨市"},{"$f":"IF(BP712,BQ712,\"\")","v":""},null,"□","志木市",{"$f":"IF(BT712=\"☑\",TRUE)","v":false},{"$f":"\"南西部地域:\"&BU712","v":"南西部地域:志木市"},{"$f":"IF(BV712,BW712,\"\")","v":""},null,"□","草加市",{"$f":"IF(BZ712=\"☑\",TRUE)","v":false},{"$f":"\"東部地域:\"&CA712","v":"東部地域:草加市"},"",null,"□","上尾市",{"$f":"IF(CF712=\"☑\",TRUE)","v":false},{"$f":"\"県央地域:\"&CG712","v":"県央地域:上尾市"},{"$f":"IF(CH712,CI712,\"\")","v":""},null,"□","東松山市",{"$f":"IF(CL712=\"☑\",TRUE)","v":false},{"$f":"\"川越比企地域:\"&CM712","v":"川越比企地域:東松山市"},{"$f":"IF(CN712,CO712,\"\")","v":""},null,"□","飯能市",{"$f":"IF(CR712=\"☑\",TRUE)","v":false},{"$f":"\"西部地域:\"&CS712","v":"西部地域:飯能市"},{"$f":"IF(CT712,CU712,\"\")","v":""},null,"□","加須市",{"$f":"IF(CX712=\"☑\",TRUE)","v":false},{"$f":"\"利根地域:\"&CY712","v":"利根地域:加須市"},{"$f":"IF(CZ712,DA712,\"\")","v":""},null,"□","本庄市",{"$f":"IF(DD712=\"☑\",TRUE)","v":false},{"$f":"\"北部地域:\"&DE712","v":"北部地域:本庄市"},{"$f":"IF(DF712,DG712,\"\")","v":""},null,"□","横瀬町",{"$f":"IF(DJ712=\"☑\",TRUE)","v":false},{"$f":"\"秩父地域:\"&DK712","v":"秩父地域:横瀬町"},{"$f":"IF(DL712,DM712,\"\")","v":""},null,null,null,null,null,null,null,null,null,null,null,null,null,null,"□","火曜日",{"$f":"IF(EC712=\"☑\",TRUE)","v":false},{"$f":"IF(EE712,ED712,\"\")","v":""},null,"□","午後（12:00～16：00）",{"$f":"IF(EH712=\"☑\",TRUE)","v":false},{"$f":"IF(EJ712,EI712,\"\")","v":""},null,null,null,null,"に基づき感染対策を実施している。",null,{"$f":"IF(EQ712,EP712,\"\")","v":""}]
[null,null,null,null,null,null,null,null,null,null,null,null,null,null,null,null,null,null,null,null,null,"□","買物代行",false,"","□","食材宅配",false,"","□","温泉・銭湯（送迎）",false,"","□","屋外作業・力仕事",false,"","□","カフェ・ファーストフード",false,"","□","休憩スペース",false,"","□","映画館",false,"","□","住宅・リフォーム",false,"",null,null,null,null,null,"","□","大宮区",false,"さいたま市:大宮区","",null,"□","戸田市",{"$f":"IF(BN713=\"☑\",TRUE)","v":false},{"$f":"\"南部地域:\"&BO713","v":"南部地域:戸田市"},"",null,"□","和光市",false,"南西部地域:和光市","",null,"□","越谷市",false,"東部地域:越谷市","",null,"□","桶川市",{"$f":"IF(CF713=\"☑\",TRUE)","v":false},{"$f":"\"県央地域:\"&CG713","v":"県央地域:桶川市"},"",null,"□","坂戸市",false,"川越比企地域:坂戸市","",null,"□","狭山市",{"$f":"IF(CR713=\"☑\",TRUE)","v":false},{"$f":"\"西部地域:\"&CS713","v":"西部地域:狭山市"},"",null,"□","羽生市",false,"利根地域:羽生市","",null,"□","深谷市",false,"北部地域:深谷市","",null,"□","皆野町",{"$f":"IF(DJ713=\"☑\",TRUE)","v":false},{"$f":"\"秩父地域:\"&DK713","v":"秩父地域:皆野町"},"",null,null,null,null,null,null,null,null,null,null,null,null,null,null,"□","水曜日",false,"",null,"□","夕方(16:00～18:00)",{"$f":"IF(EH713=\"☑\",TRUE)","v":false},{"$f":"IF(EJ713,EI713,\"\")","v":""},null,null,null,"□","各種団体が定める業種別ガイドライン",{"$f":"IF(EO713=\"☑\",TRUE)","v":false},{"$f":"IF(EQ713,EP713,\"\")","v":""}]
[null,null,null,null,null,null,null,null,null,null,null,null,null,null,null,null,null,null,null,null,null,"□","移動販売",false,"","□","日用品配達",false,"","□","整体・マッサージ（送迎）",false,"","□","整体・マッサージ（出張）",false,"","□","飲食店",false,"","□","駐車場",false,"","□","カラオケ店",false,"","□","パソコン・スマートフォン",false,"",null,null,null,null,null,"","□","見沼区",false,"さいたま市:見沼区","",null,null,null,null,null,"",null,"□","新座市",false,"南西部地域:新座市","",null,"□","八潮市",false,"東部地域:八潮市","",null,"□","北本市",{"$f":"IF(CF714=\"☑\",TRUE)","v":false},{"$f":"\"県央地域:\"&CG714","v":"県央地域:北本市"},"",null,"□","鶴ヶ島市",false,"川越比企地域:鶴ヶ島市","",null,"□","入間市",{"$f":"IF(CR714=\"☑\",TRUE)","v":false},{"$f":"\"西部地域:\"&CS714","v":"西部地域:入間市"},"",null,"□","久喜市",false,"利根地域:久喜市","",null,"□","美里町",false,"北部地域:美里町","",null,"□","長瀞町",{"$f":"IF(DJ714=\"☑\",TRUE)","v":false},{"$f":"\"秩父地域:\"&DK714","v":"秩父地域:長瀞町"},"",null,null,null,null,null,null,null,null,null,null,null,null,null,null,"□","木曜日",false,"",null,"□","夜(18:00～）",{"$f":"IF(EH714=\"☑\",TRUE)","v":false},{"$f":"IF(EJ714,EI714,\"\")","v":""},null,null,null,null,"に基づき感染対策を実施している。"]
[null,null,null,null,null,null,null,null,null,null,null,null,null,null,null,null,null,null,null,null,null,"□","割引サービス",false,"","□","薬・介護用品配達",false,"","□","乗り合いサービス",false,"","□","理容室・美容室（出張）",false,"","□","イートインスペース",false,"","□","貸しスペース",false,"","□","麻雀・将棋・囲碁",false,"","□","認知症サポート企業",false,"",null,null,null,null,null,{"$f":"IF(BE715,BF715,\"\")","v":""},"□","中央区",false,"さいたま市:中央区","",null,null,null,null,null,"",null,"□","富士見市",false,"南西部地域:富士見市","",null,"□","三郷市",false,"東部地域:三郷市","",null,"□","伊奈町",{"$f":"IF(CF715=\"☑\",TRUE)","v":false},{"$f":"\"県央地域:\"&CG715","v":"県央地域:伊奈町"},"",null,"□","毛呂山町",false,"川越比企地域:毛呂山町","",null,"□","日高市",{"$f":"IF(CR715=\"☑\",TRUE)","v":false},{"$f":"\"西部地域:\"&CS715","v":"西部地域:日高市"},"",null,"□","蓮田市",false,"利根地域:蓮田市","",null,"□","神川町",false,"北部地域:神川町","",null,"□","小鹿野町",{"$f":"IF(DJ715=\"☑\",TRUE)","v":false},{"$f":"\"秩父地域:\"&DK715","v":"秩父地域:小鹿野町"},"",null,null,null,null,null,null,null,null,null,null,null,null,null,null,"□","金曜日",false,"",null,null,null,null,null,null,null,null,"□","その他の感染対策を実施している。",{"$f":"IF(EO715=\"☑\",TRUE)","v":false},{"$f":"IF(EQ715,EP715,\"\")","v":""}]
[null,null,null,null,null,null,null,null,null,null,null,null,null,null,null,null,null,null,null,null,null,"□","その他（買物）",false,"","□","その他（宅配・デリバリー）",false,"","□","個別移送サービス",false,"","□","ペット",false,"","□","その他（運動・たまり場）",false,"","□","その他（設備・施設・場所貸し）",false,"","□","ゲームセンター",false,"","□","その他（生活サービス）",false,"",null,null,null,null,null,"","□","桜区",false,"さいたま市:桜区","",null,null,null,null,null,"",null,"□","ふじみ野市",false,"南西部地域:ふじみ野市","",null,"□","吉川市",false,"東部地域:吉川市","",null,null,null,null,null,"",null,"□","越生町",false,"川越比企地域:越生町","",null,null,null,null,null,"",null,"□","幸手市",false,"利根地域:幸手市","",null,"□","上里町",false,"北部地域:上里町","",null,null,null,null,null,"",null,null,null,null,null,null,null,null,null,null,null,null,null,null,"□","土曜日",false,"",null,null,null,null,null,null,null,null,"□","感染対策を特に実施していない。",{"$f":"IF(EO716=\"☑\",TRUE)","v":false},{"$f":"IF(EQ716,EP716,\"\")","v":""}]
[null,null,null,null,null,null,null,null,null,null,null,null,null,null,null,null,null,null,null,null,null,null,null,null,null,null,null,null,null,"□","交通機関サービス",false,"","□","その他（出張サービス）",false,"",null,null,null,null,null,null,null,null,"□","旅行代理店",false,"",null,null,null,null,null,null,null,null,null,"","□","浦和区",false,"さいたま市:浦和区","",null,null,null,null,null,"",null,"□","三芳町",false,"南西部地域:三芳町","",null,"□","松伏町",false,"東部地域:松伏町","",null,null,null,null,null,"",null,"□","滑川町",false,"川越比企地域:滑川町","",null,null,null,null,null,"",null,"□","白岡市",false,"利根地域:白岡市","",null,"□","寄居町",false,"北部地域:寄居町","",null,null,null,null,null,"",null,null,null,null,null,null,null,null,null,null,null,null,null,null,"□","日曜日",false,""]
[null,null,null,null,null,null,null,null,null,null,null,null,null,null,null,null,null,null,null,null,null,null,null,null,null,null,null,null,null,"□","その他（送迎・移動支援）",false,"",null,null,null,"",null,null,null,{"$f":"IF(AN718,AM718,\"\")","v":""},null,null,null,{"$f":"IF(AR718,AQ718,\"\")","v":""},"□","その他（学び・趣味）",false,"",null,null,null,null,null,null,null,null,null,"","□","南区",false,"さいたま市:南区","",null,null,null,null,null,"",null,null,null,null,null,"",null,null,null,null,null,"",null,null,null,null,null,"",null,"□","嵐山町",false,"川越比企地域:嵐山町","",null,null,null,null,null,"",null,"□","宮代町",false,"利根地域:宮代町","",null,null,null,null,null,"",null,null,null,null,null,""]
[null,null,null,null,null,null,null,null,null,null,null,null,null,null,null,null,null,null,null,null,null,null,null,null,null,null,null,null,null,null,null,null,null,null,null,null,null,null,null,null,null,null,null,null,null,null,null,null,null,null,null,null,null,null,null,null,null,null,"","□","緑区",false,"さいたま市:緑区","",null,null,null,null,null,"",null,null,null,null,null,"",null,null,null,null,null,"",null,null,null,null,null,"",null,"□","小川町",false,"川越比企地域:小川町","",null,null,null,null,null,"",null,"□","杉戸町",false,"利根地域:杉戸町","",null,null,null,null,null,"",null,null,null,null,null,""]
[null,null,null,null,null,null,null,null,null,null,null,null,null,null,null,null,null,null,null,null,null,null,null,null,null,null,null,null,null,null,null,null,null,null,null,null,null,null,null,null,null,null,null,null,null,null,null,null,null,null,null,null,null,null,null,null,null,null,"","□","岩槻区",{"$f":"IF(BH720=\"☑\",TRUE)","v":false},"さいたま市:岩槻区","",null,null,null,null,null,"",null,null,null,null,null,"",null,null,null,null,null,"",null,null,null,null,null,"",null,"□","川島町",false,"川越比企地域:川島町","",null,null,null,null,null,"",null,null,null,null,null,"",null,null,null,null,null,"",null,null,null,null,null,""]
[null,null,null,null,null,null,null,null,null,null,null,null,null,null,null,null,null,null,null,null,null,null,null,null,null,null,null,null,null,null,null,null,null,null,null,null,null,null,null,null,null,null,null,null,null,null,null,null,null,null,null,null,null,null,null,null,null,null,"",null,null,null,null,null,null,null,null,null,null,null,null,null,null,null,null,null,null,null,null,null,null,null,null,null,null,null,null,null,null,"□","吉見町",false,"川越比企地域:吉見町","",null,null,null,null,null,"",null,null,null,null,null,"",null,null,null,null,null,"",null,null,null,null,null,""]
[null,null,null,null,null,null,null,null,null,null,null,null,null,null,null,null,null,null,null,null,null,null,null,null,null,null,null,null,null,null,null,null,null,null,null,null,null,null,null,null,null,null,null,null,null,null,null,null,null,null,null,null,null,null,null,null,null,null,"",null,null,null,null,null,null,null,null,null,null,null,null,null,null,null,null,null,null,null,null,null,null,null,null,null,null,null,null,null,null,"□","鳩山町",false,"川越比企地域:鳩山町","",null,null,null,null,null,"",null,null,null,null,null,"",null,null,null,null,null,"",null,null,null,null,null,""]
[null,null,null,null,null,null,null,null,null,null,null,null,null,null,null,null,null,null,null,null,null,null,null,null,null,null,null,null,null,null,null,null,null,null,null,null,null,null,null,null,null,null,null,null,null,null,null,null,null,null,null,null,null,null,null,null,null,null,"",null,null,null,null,null,null,null,null,null,null,null,null,null,null,null,null,null,null,null,null,null,null,null,null,null,null,null,null,null,null,"□","ときがわ町",false,"川越比企地域:ときがわ町","",null,null,null,null,null,"",null,null,null,null,null,"",null,null,null,null,null,"",null,null,null,null,null,""]
[null,null,null,null,null,null,null,null,null,null,null,null,null,null,null,null,null,null,null,null,null,null,null,null,null,null,null,null,null,null,null,null,null,null,null,null,null,null,null,null,null,null,null,null,null,null,null,null,null,null,null,null,null,null,null,null,null,null,"",null,null,null,null,null,null,null,null,null,null,null,null,null,null,null,null,null,null,null,null,null,null,null,null,null,null,null,null,null,null,"□","東秩父村",false,"川越比企地域:東秩父村","",null,null,null,null,null,"",null,null,null,null,null,"",null,null,null,null,null,"",null,null,null,null,null,""]

{"sheet":"データ処理","index":2,"n_rows":59,"n_cols":185,"rows_kept":59,"cut":false,"hidden":true,"merged":[[4,184,5,184],[4,183,5,183],[4,181,4,182],[4,167,4,168],[4,169,4,170],[4,171,4,172],[4,173,4,174],[4,175,4,176],[4,177,4,178],[4,0,5,0],[4,1,5,1],[4,179,4,180],[4,165,4,166],[4,143,4,144],[4,145,4,146],[4,147,4,148],[4,149,4,150],[4,163,4,164],[4,141,4,142],[4,119,4,120],[4,121,4,122],[4,123,4,124],[4,153,4,154],[4,155,4,156],[4,117,4,118],[4,161,4,162],[4,85,4,86],[4,87,4,88],[4,89,4,90],[4,91,4,92],[4,159,4,160],[4,95,4,96],[4,97,4,98],[4,99,4,100],[4,101,4,102],[4,103,4,104],[4,151,4,152],[4,115,4,116],[4,133,4,134],[4,157,4,158],[4,137,4,138],[4,139,4,140],[4,69,4,70],[4,135,4,136],[4,107,4,108],[4,109,4,110],[4,111,4,112],[4,113,4,114],[4,83,4,84],[4,93,4,94],[4,71,4,72],[4,73,4,74],[4,75,4,76],[4,77,4,78],[4,105,4,106],[4,129,4,130],[4,131,4,132],[4,53,4,54],[4,61,4,62],[4,63,4,64],[4,65,4,66],[4,67,4,68],[4,125,4,126],[4,127,4,128],[4,55,4,56],[4,57,4,58],[4,59,4,60],[4,79,4,80],[4,81,4,82],[5,6,5,7],[4,51,4,52],[4,23,4,24],[4,25,4,26],[4,27,4,28],[4,41,4,42],[4,47,4,48],[4,29,4,30],[4,31,4,32],[4,33,4,34],[4,35,4,36],[4,37,4,38],[4,39,4,40],[4,45,4,46],[4,43,4,44],[4,49,4,50]]}
[null,null,null,null,null,null,null,null,null,null,null,null,null,null,null,null,null,null,null,null,null,null,null,null,null,null,null,null,null,null,null,null,null,null,null,null,null,null,null,null,null,null,null,null,null,null,null,null,null,null,null,null,null,null,null,null,null,null,null,null,null,null,null,null,null,null,null,null,null,null,null,null,null,null,null,null,null,null,null,null,null,null,null,null,null,null,null,null,null,null,null,null,null,null,"a1d4333986c247ed59272ba7ceebd4dfc2dfa6193b59ae9f8fe88c6f5c98b0de","auth_code:xRYeT67xyj5ksiZrzpE4bukciForMIue",null,null,null,null,null,null,null,null,null,null,null,null,null,null,null,null,null,null,null,null,null,null,null,null,null,null,null,null,"auth_code:URYkT3YxyjYk7iZdzpEUbuVcqFTrfUSe"]
[null,null,"サービス情報一覧 【埼玉県プラチナ・サポート・ショップ情報システム】"]
[]
[]
["管理番号","メモ欄","情報入力形式","情報提供元 県、市町村、社協　名称","事業者区分","お問合せ先　名称","お問合せ先　固定電話","お問合せ先　携帯電話","お問合せ先　FAX","お問合せ先　Email","店舗名・サービス名","カテゴリ","サービス内容","ホームページ","サービス提供エリア（市町村）","サービス提供エリア（詳細）","有償・無償","費用","営業時間、定休日","利用方法","PR","印刷用その他"," 空き情報","非公開情報1",null,"非公開情報2",null,"非公開情報3",null,"非公開情報4",null,"非公開情報5",null,"非公開情報6",null,"非公開情報7",null,"非公開情報8",null,"非公開情報9",null,"非公開情報10",null,"サービス内容詳細",null,"サービス提供期間",null,"利用時間",null,"備考",null,"会社名/屋号/氏名",null,"会社　郵便番号",null,"会社　住所",null,"会社　担当部署・担当者名",null,"会社　電話番号",null,"会社　メールアドレス",null,"サービス提供期限",null,"利用可能曜日",null,"利用時間帯",null,"制度登録状況",null,"項目名\n[*任意項目]",null,"追加入力項目6\n(選択形式)",null,"追加入力項目7\n(選択形式)",null,"追加入力項目8\n(選択形式)",null,"追加入力項目9\n(選択形式)",null,"追加入力項目10\n(選択形式)",null,"店舗（サービス）住所1",null,"店舗（サービス）住所2",null,"店舗（サービス）住所3",null,"店舗（サービス）住所4",null,"店舗（サービス）住所5",null,"店舗（サービス）住所6",null,"店舗（サービス）住所7",null,"店舗（サービス）住所8",null,"店舗（サービス）住所9",null,"店舗（サービス）住所10",null,"店舗（サービス）住所11",null,"店舗（サービス）住所12",null,"店舗（サービス）住所13",null,"店舗（サービス）住所14",null,"店舗（サービス）住所15",null,"店舗（サービス）住所16",null,"店舗（サービス）住所17",null,"店舗（サービス）住所18",null,"店舗（サービス）住所19",null,"店舗（サービス）住所20",null,"店舗（サービス）住所21",null,"店舗（サービス）住所22",null,"店舗（サービス）住所23",null,"店舗（サービス）住所24",null,"店舗（サービス）住所25",null,"店舗（サービス）住所26",null,"店舗（サービス）住所27",null,"店舗（サービス）住所28",null,"店舗（サービス）住所29",null,"店舗（サービス）住所30",null,"店舗（サービス）住所31",null,"店舗（サービス）住所32",null,"店舗（サービス）住所33",null,"店舗（サービス）住所34",null,"店舗（サービス）住所35",null,"店舗（サービス）住所36",null,"店舗（サービス）住所37",null,"店舗（サービス）住所38",null,"店舗（サービス）住所39",null,"店舗（サービス）住所40",null,"店舗（サービス）住所41",null,"店舗（サービス）住所42",null,"店舗（サービス）住所43",null,"店舗（サービス）住所44",null,"店舗（サービス）住所45",null,"店舗（サービス）住所46",null,"店舗（サービス）住所47",null,"店舗（サービス）住所48",null,"店舗（サービス）住所49",null,"店舗（サービス）住所50",null,"更新日","担当者"]
[null,null,"[*必須項目]","[*必須項目]","[*任意項目]","[*必須項目]","[*必須項目（少なくとも一方）]",null,"[*任意項目]","[*任意項目]","[*必須項目]","[*必須項目]","[*必須項目]","[*任意項目]","[*任意項目]","[*任意項目]","[*必須項目]","[*任意項目]","[*任意項目]","[*任意項目]","[*任意項目]","[*任意項目]","[*任意項目]","特記事項 サービス情報入手ルート（情報提供者、連絡先等）","内容\n[*任意項目]","会社　FAX番号","内容\n[*任意項目]","会社　ホームページ","内容\n[*任意項目]","項目名\n[*任意項目]","内容\n[*任意項目]","項目名\n[*任意項目]","内容\n[*任意項目]","項目名\n[*任意項目]","内容\n[*任意項目]","項目名\n[*任意項目]","内容\n[*任意項目]","項目名\n[*任意項目]","内容\n[*任意項目]","項目名\n[*任意項目]","内容\n[*任意項目]","項目名\n[*任意項目]","内容\n[*任意項目]","サービス内容詳細","内容\n[*任意項目]","サービス提供期間","内容\n[*任意項目]","利用時間","内容\n[*任意項目]","備考","内容\n[*任意項目]","会社名/屋号/氏名","内容\n[*任意項目]","会社　郵便番号","内容\n[*任意項目]","会社　住所","内容\n[*任意項目]","会社　担当部署・担当者名","内容\n[*任意項目]","会社　電話番号","内容\n[*任意項目]","会社　メールアドレス","内容\n[*任意項目]","サービス提供期限","内容\n[*任意項目]","利用可能曜日","内容\n[*任意項目]","利用時間帯","内容\n[*任意項目]","制度登録状況","内容\n[*任意項目]","項目名\n[*任意項目]","内容\n[*任意項目]","項目名\n[*任意項目]","内容\n[*任意項目]","項目名\n[*任意項目]","内容\n[*任意項目]","項目名\n[*任意項目]","内容\n[*任意項目]","項目名\n[*任意項目]","内容\n[*任意項目]","項目名\n[*任意項目]","内容\n[*任意項目]","名称\n[*任意項目]","住所\n[*任意項目]","名称\n[*任意項目]","住所\n[*任意項目]","名称\n[*任意項目]","住所\n[*任意項目]","名称\n[*任意項目]","住所\n[*任意項目]","名称\n[*任意項目]","住所\n[*任意項目]","名称\n[*任意項目]","住所\n[*任意項目]","名称\n[*任意項目]","住所\n[*任意項目]","名称\n[*任意項目]","住所\n[*任意項目]","名称\n[*任意項目]","住所\n[*任意項目]","名称\n[*任意項目]","住所\n[*任意項目]","名称\n[*任意項目]","住所\n[*任意項目]","名称\n[*任意項目]","住所\n[*任意項目]","名称\n[*任意項目]","住所\n[*任意項目]","名称\n[*任意項目]","住所\n[*任意項目]","名称\n[*任意項目]","住所\n[*任意項目]","名称\n[*任意項目]","住所\n[*任意項目]","名称\n[*任意項目]","住所\n[*任意項目]","名称\n[*任意項目]","住所\n[*任意項目]","名称\n[*任意項目]","住所\n[*任意項目]","名称\n[*任意項目]","住所\n[*任意項目]","名称\n[*任意項目]","住所\n[*任意項目]","名称\n[*任意項目]","住所\n[*任意項目]","名称\n[*任意項目]","住所\n[*任意項目]","名称\n[*任意項目]","住所\n[*任意項目]","名称\n[*任意項目]","住所\n[*任意項目]","名称\n[*任意項目]","住所\n[*任意項目]","名称\n[*任意項目]","住所\n[*任意項目]","名称\n[*任意項目]","住所\n[*任意項目]","名称\n[*任意項目]","住所\n[*任意項目]","名称\n[*任意項目]","住所\n[*任意項目]","名称\n[*任意項目]","住所\n[*任意項目]","名称\n[*任意項目]","住所\n[*任意項目]","名称\n[*任意項目]","住所\n[*任意項目]","名称\n[*任意項目]","住所\n[*任意項目]","名称\n[*任意項目]","住所\n[*任意項目]","名称\n[*任意項目]","住所\n[*任意項目]","名称\n[*任意項目]","住所\n[*任意項目]","名称\n[*任意項目]","住所\n[*任意項目]","名称\n[*任意項目]","住所\n[*任意項目]","名称\n[*任意項目]","住所\n[*任意項目]","名称\n[*任意項目]","住所\n[*任意項目]","名称\n[*任意項目]","住所\n[*任意項目]","名称\n[*任意項目]","住所\n[*任意項目]","名称\n[*任意項目]","住所\n[*任意項目]","名称\n[*任意項目]","住所\n[*任意項目]","名称\n[*任意項目]","住所\n[*任意項目]","名称\n[*任意項目]","住所\n[*任意項目]","名称\n[*任意項目]","住所\n[*任意項目]","名称\n[*任意項目]","住所\n[*任意項目]","名称\n[*任意項目]","住所\n[*任意項目]"]
["新規の場合は管理番号を空にしてください。\n管理番号が入っている場合にはその番号のデータを上書きしますので注意して下さい。","注意事項",null,null,null,null,"入力制約1を参照","入力制約1を参照","入力制約1を参照","入力制約2を参照",null,"入力制約3を参照",null,"入力制約4を参照","入力制約5を参照",null,null,null,null,null,null,null,null,null,null,null,null,null,null,null,null,null,null,null,null,null,null,null,null,null,null,null,null,null,null,null,null,null,null,null,null,null,null,null,null,null,null,null,null,null,null,null,null,null,"入力制約3を参照",null,"入力制約3を参照",null,"入力制約3を参照",null,"入力制約3を参照",null,"入力制約3を参照",null,"入力制約3を参照",null,"入力制約3を参照",null,"入力制約3を参照",null,"入力制約3を参照",null,"入力制約3を参照",null,"登録する場合は「名称」と「住所」を入力\n入力制約6を参照",null,"登録する場合は「名称」と「住所」を入力\n入力制約6を参照",null,"登録する場合は「名称」と「住所」を入力\n入力制約6を参照",null,"登録する場合は「名称」と「住所」を入力\n入力制約6を参照",null,"登録する場合は「名称」と「住所」を入力\n入力制約6を参照",null,"登録する場合は「名称」と「住所」を入力\n入力制約6を参照",null,"登録する場合は「名称」と「住所」を入力\n入力制約6を参照",null,"登録する場合は「名称」と「住所」を入力\n入力制約6を参照",null,"登録する場合は「名称」と「住所」を入力\n入力制約6を参照",null,"登録する場合は「名称」と「住所」を入力\n入力制約6を参照",null,"登録する場合は「名称」と「住所」を入力\n入力制約6を参照",null,"登録する場合は「名称」と「住所」を入力\n入力制約6を参照",null,"登録する場合は「名称」と「住所」を入力\n入力制約6を参照",null,"登録する場合は「名称」と「住所」を入力\n入力制約6を参照",null,"登録する場合は「名称」と「住所」を入力\n入力制約6を参照",null,"登録する場合は「名称」と「住所」を入力\n入力制約6を参照",null,"登録する場合は「名称」と「住所」を入力\n入力制約6を参照",null,"登録する場合は「名称」と「住所」を入力\n入力制約6を参照",null,"登録する場合は「名称」と「住所」を入力\n入力制約6を参照",null,"登録する場合は「名称」と「住所」を入力\n入力制約6を参照",null,"登録する場合は「名称」と「住所」を入力\n入力制約6を参照",null,"登録する場合は「名称」と「住所」を入力\n入力制約6を参照",null,"登録する場合は「名称」と「住所」を入力\n入力制約6を参照",null,"登録する場合は「名称」と「住所」を入力\n入力制約6を参照",null,"登録する場合は「名称」と「住所」を入力\n入力制約6を参照",null,"登録する場合は「名称」と「住所」を入力\n入力制約6を参照",null,"登録する場合は「名称」と「住所」を入力\n入力制約6を参照",null,"登録する場合は「名称」と「住所」を入力\n入力制約6を参照",null,"登録する場合は「名称」と「住所」を入力\n入力制約6を参照",null,"登録する場合は「名称」と「住所」を入力\n入力制約6を参照",null,"登録する場合は「名称」と「住所」を入力\n入力制約6を参照",null,"登録する場合は「名称」と「住所」を入力\n入力制約6を参照",null,"登録する場合は「名称」と「住所」を入力\n入力制約6を参照",null,"登録する場合は「名称」と「住所」を入力\n入力制約6を参照",null,"登録する場合は「名称」と「住所」を入力\n入力制約6を参照",null,"登録する場合は「名称」と「住所」を入力\n入力制約6を参照",null,"登録する場合は「名称」と「住所」を入力\n入力制約6を参照",null,"登録する場合は「名称」と「住所」を入力\n入力制約6を参照",null,"登録する場合は「名称」と「住所」を入力\n入力制約6を参照",null,"登録する場合は「名称」と「住所」を入力\n入力制約6を参照",null,"登録する場合は「名称」と「住所」を入力\n入力制約6を参照",null,"登録する場合は「名称」と「住所」を入力\n入力制約6を参照",null,"登録する場合は「名称」と「住所」を入力\n入力制約6を参照",null,"登録する場合は「名称」と「住所」を入力\n入力制約6を参照",null,"登録する場合は「名称」と「住所」を入力\n入力制約6を参照",null,"登録する場合は「名称」と「住所」を入力\n入力制約6を参照",null,"登録する場合は「名称」と「住所」を入力\n入力制約6を参照",null,"登録する場合は「名称」と「住所」を入力\n入力制約6を参照",null,"登録する場合は「名称」と「住所」を入力\n入力制約6を参照",null,"登録する場合は「名称」と「住所」を入力\n入力制約6を参照","情報の最終更新日\n※登録対象外データ","情報担当者のAyamuID"]
[null,"","店舗・訪問系","さいたま市浦和区","民間","スーパーカシオ　浦和店","048-000-0000","048-000-0000","048-000-0000","casio@urawa.co.jp","スーパーカシオ　浦和店","配送,車イス対応,多目的トイレ,買物代行,移動販売,日用品配達","多目的トイレや休憩スペースもございます。ぜひ、ご来店ください。\n","https://casio.jp/","さいたま市:浦和区","浦和区内の全域\n","無償","無償\n","9時～18時　※定休日は第2水曜日\n","サービスカウンターへレシートをお持ちの上、お申し出ください。\n","地域のコミュニティを支える店舗づくりを目指しています！ご来店の際は、なんでもご相談ください。\n","","","特記事項 サービス情報入手ルート（情報提供者、連絡先等）","店長の佐藤さん ０８０－００００－０００\n","会社　FAX番号","０３－００００－００００\n","会社　ホームページ","https://casio.jp/\n","","","","","","","","","","","","","","","サービス内容詳細","２０００円以上で配送いたします。\n","サービス提供期間","無期限\n","利用時間","9時～18時\n","備考","情報が変更となっている場合がございます。ご利用にあたっては、各店舗にお問い合わせください。\n","会社名/屋号/氏名","カシオ計算機株式会社\n","会社　郵便番号","151-8543\n","会社　住所","東京都渋谷区本町一丁目6番2号\n","会社　担当部署・担当者名","◯◯部・さいたま　太郎\n","会社　電話番号","03-5334-0000\n","会社　メールアドレス","casio@casi0.co.jp\n","サービス提供期限","なし","利用可能曜日","月曜日,火曜日,水曜日,金曜日,木曜日,土曜日","利用時間帯","午前（~12:00）,午後（12:00~16：00）,夕方(16:00~18:00)","制度登録状況","登録済み","","","","","","","","","","","","","スーパーカシオ　浦和店","埼玉県,さいたま市浦和区,高砂三丁目15番1号,本庁舎1階","","","","","","","","","","","","","","","","","","","","","","","","","","","","","","","","","","","","","","","","","","","","","","","","","","","","","","","","","","","","","","","","","","","","","","","","","","","","","","","","","","","","","","","","","","","","","","","","","",""]
[null,null,"店舗・訪問系","さいたま市浦和区","民間",{"$f":"[1]入力画面!K11&\"\"","v":"スーパー埼玉　高砂店"},{"$f":"[1]入力画面!M11&\"\"","v":"048-000-0000"},{"$f":"[1]入力画面!N11&\"\"","v":"090-000-0000"},{"$f":"[1]入力画面!O11&\"\"","v":"048-000-0000"},{"$f":"[1]入力画面!P11&\"\"","v":"saitama@○○○○.jp"},{"$f":"[1]入力画面!Q11&\"\"","v":"スーパー埼玉　高砂店"},{"$f":"[1]入力画面!BB11","v":"配送,移動販売,食材宅配,理容室・美容室（送迎）,屋外作業・力仕事,理容室・美容室（出張）,カフェ・ファーストフード,イートインスペース,車イス対応（バリアフリー）,多目的トイレ,休憩スペース,講座・教室・イベント,習い事,映画館,旅行代理店,認知症サポート企業,その他（生活サービス）"},{"$f":"[1]入力画面!DR11&\"\"","v":"お買い上げいただいた商品をご自宅まで配送いたします。"},{"$f":"[1]入力画面!DW11&\"\"","v":"https://saitama○○○"},{"$f":"[1]入力画面!DP11","v":"さいたま市:西区,さいたま市:大宮区,さいたま市:中央区,さいたま市:浦和区,南部地域:川口市,南西部地域:朝霞市,南西部地域:富士見市,東部地域:春日部市,東部地域:草加市,県央地域:上尾市,県央地域:北本市,川越比企地域:川越市,西部地域:所沢市,西部地域:狭山市,利根地域:行田市,利根地域:蓮田市,利根地域:白岡市,北部地域:熊谷市,秩父地域:秩父市"},{"$f":"[1]入力画面!DQ11&\"\"","v":"さいたま市浦和区高砂"},{"$f":"[1]入力画面!DS11&\"\"","v":"条件付き無償"},{"$f":"[1]入力画面!DT11&\"\"","v":"お買い上げ3,000円（税込）以上の場合は配送料無料\n"},{"$f":"[1]入力画面!DV11&\"\"","v":"9時～18時　※提供日は第2水曜日\n"},{"$f":"[1]入力画面!DU11&\"\"","v":"事前に電話連絡でお知らせください。"},{"$f":"[1]入力画面!DX11&\"\"","v":"多目的トイレや休憩スペースもございます。ぜひ、ご来店ください。\n"},null,null,"特記事項 サービス情報入手ルート（情報提供者、連絡先等）",null,"会社　FAX番号",{"$f":"[1]入力画面!G11&\"\"","v":"048-000-0000"},"会社　ホームページ",{"$f":"[1]入力画面!I11&\"\"","v":"https://www.○○○\n"},null,null,null,null,null,null,null,null,null,null,null,null,null,null,"サービス内容詳細",{"$f":"[1]入力画面!DY11&\"\"","v":""},"サービス提供期間",{"$f":"[1]入力画面!EA11&\"\"","v":"無期限"},"利用時間",{"$f":"[1]入力画面!EM11&\"\"","v":"11時～15時"},"備考",{"$f":"[1]入力画面!EB11&\"\"","v":""},"会社名/屋号/氏名",{"$f":"[1]入力画面!B11&\"\"","v":"埼玉県地域包括ケア株式会社\n"},"会社　郵便番号",{"$f":"[1]入力画面!D11&\"\"","v":"330-0000"},"会社　住所",{"$f":"[1]入力画面!E11&\"\"","v":"埼玉県さいたま市浦和区高砂3-15-1\n"},"会社　担当部署・担当者名",{"$f":"[1]入力画面!J11&\"\"","v":"○○部　××課　主任　埼玉花子"},"会社　電話番号",{"$f":"[1]入力画面!F11&\"\"","v":"048-000-0000"},"会社　メールアドレス",{"$f":"[1]入力画面!H11&\"\"","v":"saitama@○○○○.jp\n"},"サービス提供期限",{"$f":"[1]入力画面!DZ11&\"\"","v":"あり"},"利用可能曜日",{"$f":"[1]入力画面!EG11&\"\"","v":"月曜日,火曜日,木曜日,金曜日"},"利用時間帯",{"$f":"[1]入力画面!EL11&\"\"","v":"午前（～12:00）,午後（12:00～16：00）"},"制度登録状況",null,null,null,null,null,null,null,null,null,null,null,null,null,{"$f":"[1]入力画面!R11&\"\"","v":"スーパー埼玉　高砂店"},{"$f":"[1]入力画面!S11&\"\"","v":"埼玉県,さいたま市浦和区,高砂三丁目15番1号"},{"$f":"[1]入力画面!T11&\"\"","v":""},{"$f":"[1]入力画面!U11&\"\"","v":""},{"$f":"[1]入力画面!ET11&\"\"","v":""},{"$f":"[1]入力画面!EU11","v":""},{"$f":"[1]入力画面!EV11&\"\"","v":""},{"$f":"[1]入力画面!EW11","v":""},{"$f":"[1]入力画面!EX11&\"\"","v":""},{"$f":"[1]入力画面!EY11","v":""}]
[null,null,"店舗・訪問系","さいたま市浦和区","民間",{"$f":"[1]入力画面!K25&\"\"","v":""},{"$f":"[1]入力画面!M25&\"\"","v":""},{"$f":"[1]入力画面!N25&\"\"","v":""},{"$f":"[1]入力画面!O25&\"\"","v":""},{"$f":"[1]入力画面!P25&\"\"","v":""},{"$f":"[1]入力画面!Q25&\"\"","v":""},{"$f":"[1]入力画面!BB25","v":""},{"$f":"[1]入力画面!DR25&\"\"","v":""},{"$f":"[1]入力画面!DW25&\"\"","v":""},{"$f":"[1]入力画面!DP25","v":""},{"$f":"[1]入力画面!DQ25&\"\"","v":""},{"$f":"[1]入力画面!DS25&\"\"","v":""},{"$f":"[1]入力画面!DT25&\"\"","v":""},{"$f":"[1]入力画面!DV25&\"\"","v":""},{"$f":"[1]入力画面!DU25&\"\"","v":""},{"$f":"[1]入力画面!DX25&\"\"","v":""},null,null,"特記事項 サービス情報入手ルート（情報提供者、連絡先等）",null,"会社　FAX番号",{"$f":"[1]入力画面!G25&\"\"","v":""},"会社　ホームページ",{"$f":"[1]入力画面!I25&\"\"","v":""},null,null,null,null,null,null,null,null,null,null,null,null,null,null,"サービス内容詳細",{"$f":"[1]入力画面!DY25&\"\"","v":""},"サービス提供期間",{"$f":"[1]入力画面!EA25&\"\"","v":""},"利用時間",{"$f":"[1]入力画面!EM25&\"\"","v":""},"備考",{"$f":"[1]入力画面!EB25&\"\"","v":""},"会社名/屋号/氏名",{"$f":"[1]入力画面!B25&\"\"","v":""},"会社　郵便番号",{"$f":"[1]入力画面!D25&\"\"","v":""},"会社　住所",{"$f":"[1]入力画面!E25&\"\"","v":""},"会社　担当部署・担当者名",{"$f":"[1]入力画面!J25&\"\"","v":""},"会社　電話番号",{"$f":"[1]入力画面!F25&\"\"","v":""},"会社　メールアドレス",{"$f":"[1]入力画面!H25&\"\"","v":""},"サービス提供期限",{"$f":"[1]入力画面!DZ25&\"\"","v":""},"利用可能曜日",{"$f":"[1]入力画面!EG25&\"\"","v":""},"利用時間帯",{"$f":"[1]入力画面!EL25&\"\"","v":""},"制度登録状況",null,null,null,null,null,null,null,null,null,null,null,null,null,{"$f":"[1]入力画面!R25&\"\"","v":""},{"$f":"[1]入力画面!S25&\"\"","v":""},{"$f":"[1]入力画面!T25&\"\"","v":""},{"$f":"[1]入力画面!U25&\"\"","v":""},{"$f":"[1]入力画面!ET25&\"\"","v":""},{"$f":"[1]入力画面!EU25&\"\"","v":""},{"$f":"[1]入力画面!EV25&\"\"","v":""},{"$f":"[1]入力画面!EW25","v":""},{"$f":"[1]入力画面!EX25&\"\"","v":""},{"$f":"[1]入力画面!EY25","v":""},{"$f":"[1]入力画面!EZ25&\"\"","v":""},{"$f":"[1]入力画面!FA25&\"\"","v":""},{"$f":"[1]入力画面!FB25&\"\"","v":""},{"$f":"[1]入力画面!FC25&\"\"","v":""},{"$f":"[1]入力画面!FD25&\"\"","v":""},{"$f":"[1]入力画面!FE25&\"\"","v":""},{"$f":"[1]入力画面!FF25&\"\"","v":""},{"$f":"[1]入力画面!FG25&\"\"","v":""},{"$f":"[1]入力画面!FH25&\"\"","v":""},{"$f":"[1]入力画面!FI25&\"\"","v":""}]
[null,null,"店舗・訪問系","さいたま市浦和区","民間",{"$f":"[1]入力画面!K39&\"\"","v":""},{"$f":"[1]入力画面!M39&\"\"","v":""},{"$f":"[1]入力画面!N39&\"\"","v":""},{"$f":"[1]入力画面!O39&\"\"","v":""},{"$f":"[1]入力画面!P39&\"\"","v":""},{"$f":"[1]入力画面!Q39&\"\"","v":""},{"$f":"[1]入力画面!BB39","v":""},{"$f":"[1]入力画面!DR39&\"\"","v":""},{"$f":"[1]入力画面!DW39&\"\"","v":""},{"$f":"[1]入力画面!DP39","v":""},{"$f":"[1]入力画面!DQ39&\"\"","v":""},{"$f":"[1]入力画面!DS39&\"\"","v":""},{"$f":"[1]入力画面!DT39&\"\"","v":""},{"$f":"[1]入力画面!DV39&\"\"","v":""},{"$f":"[1]入力画面!DU39&\"\"","v":""},{"$f":"[1]入力画面!DX39&\"\"","v":""},null,null,"特記事項 サービス情報入手ルート（情報提供者、連絡先等）",null,"会社　FAX番号",{"$f":"[1]入力画面!G39&\"\"","v":""},"会社　ホームページ",{"$f":"[1]入力画面!I39&\"\"","v":""},null,null,null,null,null,null,null,null,null,null,null,null,null,null,"サービス内容詳細",{"$f":"[1]入力画面!DY39&\"\"","v":""},"サービス提供期間",{"$f":"[1]入力画面!EA39&\"\"","v":""},"利用時間",{"$f":"[1]入力画面!EM39&\"\"","v":""},"備考",{"$f":"[1]入力画面!EB39&\"\"","v":""},"会社名/屋号/氏名",{"$f":"[1]入力画面!B39&\"\"","v":""},"会社　郵便番号",{"$f":"[1]入力画面!D39&\"\"","v":""},"会社　住所",{"$f":"[1]入力画面!E39&\"\"","v":""},"会社　担当部署・担当者名",{"$f":"[1]入力画面!J39&\"\"","v":""},"会社　電話番号",{"$f":"[1]入力画面!F39&\"\"","v":""},"会社　メールアドレス",{"$f":"[1]入力画面!H39&\"\"","v":""},"サービス提供期限",{"$f":"[1]入力画面!DZ39&\"\"","v":""},"利用可能曜日",{"$f":"[1]入力画面!EG39&\"\"","v":""},"利用時間帯",{"$f":"[1]入力画面!EL39&\"\"","v":""},"制度登録状況",null,null,null,null,null,null,null,null,null,null,null,null,null,{"$f":"[1]入力画面!R39&\"\"","v":""},{"$f":"[1]入力画面!S39&\"\"","v":""},{"$f":"[1]入力画面!T39&\"\"","v":""},{"$f":"[1]入力画面!U39&\"\"","v":""},{"$f":"[1]入力画面!ET26&\"\"","v":""},{"$f":"[1]入力画面!EU26&\"\"","v":""},{"$f":"[1]入力画面!EV26&\"\"","v":""},{"$f":"[1]入力画面!EW26&\"\"","v":""},{"$f":"[1]入力画面!EX26&\"\"","v":""},{"$f":"[1]入力画面!EY26&\"\"","v":""},{"$f":"[1]入力画面!EZ26&\"\"","v":""},{"$f":"[1]入力画面!FA26&\"\"","v":""},{"$f":"[1]入力画面!FB26&\"\"","v":""},{"$f":"[1]入力画面!FC26&\"\"","v":""},{"$f":"[1]入力画面!FD26&\"\"","v":""},{"$f":"[1]入力画面!FE26&\"\"","v":""},{"$f":"[1]入力画面!FF26&\"\"","v":""},{"$f":"[1]入力画面!FG26&\"\"","v":""},{"$f":"[1]入力画面!FH26&\"\"","v":""},{"$f":"[1]入力画面!FI26&\"\"","v":""}]
[null,null,"店舗・訪問系","さいたま市浦和区","民間",{"$f":"[1]入力画面!K53&\"\"","v":""},{"$f":"[1]入力画面!M53&\"\"","v":""},{"$f":"[1]入力画面!N53&\"\"","v":""},{"$f":"[1]入力画面!O53&\"\"","v":""},{"$f":"[1]入力画面!P53&\"\"","v":""},{"$f":"[1]入力画面!Q53&\"\"","v":""},{"$f":"[1]入力画面!BB53","v":""},{"$f":"[1]入力画面!DR53&\"\"","v":""},{"$f":"[1]入力画面!DW53&\"\"","v":""},{"$f":"[1]入力画面!DP53","v":""},{"$f":"[1]入力画面!DQ53&\"\"","v":""},{"$f":"[1]入力画面!DS53&\"\"","v":""},{"$f":"[1]入力画面!DT53&\"\"","v":""},{"$f":"[1]入力画面!DV53&\"\"","v":""},{"$f":"[1]入力画面!DU53&\"\"","v":""},{"$f":"[1]入力画面!DX53&\"\"","v":""},null,null,"特記事項 サービス情報入手ルート（情報提供者、連絡先等）",null,"会社　FAX番号",{"$f":"[1]入力画面!G53&\"\"","v":""},"会社　ホームページ",{"$f":"[1]入力画面!I53&\"\"","v":""},null,null,null,null,null,null,null,null,null,null,null,null,null,null,"サービス内容詳細",{"$f":"[1]入力画面!DY53&\"\"","v":""},"サービス提供期間",{"$f":"[1]入力画面!EA53&\"\"","v":""},"利用時間",{"$f":"[1]入力画面!EM53&\"\"","v":""},"備考",{"$f":"[1]入力画面!EB53&\"\"","v":""},"会社名/屋号/氏名",{"$f":"[1]入力画面!B53&\"\"","v":""},"会社　郵便番号",{"$f":"[1]入力画面!D53&\"\"","v":""},"会社　住所",{"$f":"[1]入力画面!E53&\"\"","v":""},"会社　担当部署・担当者名",{"$f":"[1]入力画面!J53&\"\"","v":""},"会社　電話番号",{"$f":"[1]入力画面!F53&\"\"","v":""},"会社　メールアドレス",{"$f":"[1]入力画面!H53&\"\"","v":""},"サービス提供期限",{"$f":"[1]入力画面!DZ53&\"\"","v":""},"利用可能曜日",{"$f":"[1]入力画面!EG53&\"\"","v":""},"利用時間帯",{"$f":"[1]入力画面!EL53&\"\"","v":""},"制度登録状況",null,null,null,null,null,null,null,null,null,null,null,null,null,{"$f":"[1]入力画面!R53&\"\"","v":""},{"$f":"[1]入力画面!S53&\"\"","v":""},{"$f":"[1]入力画面!T53&\"\"","v":""},{"$f":"[1]入力画面!U53&\"\"","v":""},{"$f":"[1]入力画面!ET27&\"\"","v":""},{"$f":"[1]入力画面!EU27&\"\"","v":""},{"$f":"[1]入力画面!EV27&\"\"","v":""},{"$f":"[1]入力画面!EW27&\"\"","v":""},{"$f":"[1]入力画面!EX27&\"\"","v":""},{"$f":"[1]入力画面!EY27&\"\"","v":""},{"$f":"[1]入力画面!EZ27&\"\"","v":""},{"$f":"[1]入力画面!FA27&\"\"","v":""},{"$f":"[1]入力画面!FB27&\"\"","v":""},{"$f":"[1]入力画面!FC27&\"\"","v":""},{"$f":"[1]入力画面!FD27&\"\"","v":""},{"$f":"[1]入力画面!FE27&\"\"","v":""},{"$f":"[1]入力画面!FF27&\"\"","v":""},{"$f":"[1]入力画面!FG27&\"\"","v":""},{"$f":"[1]入力画面!FH27&\"\"","v":""},{"$f":"[1]入力画面!FI27&\"\"","v":""}]
[null,null,"店舗・訪問系","さいたま市浦和区","民間",{"$f":"[1]入力画面!K67&\"\"","v":""},{"$f":"[1]入力画面!M67&\"\"","v":""},{"$f":"[1]入力画面!N67&\"\"","v":""},{"$f":"[1]入力画面!O67&\"\"","v":""},{"$f":"[1]入力画面!P67&\"\"","v":""},{"$f":"[1]入力画面!Q67&\"\"","v":""},{"$f":"[1]入力画面!BB67","v":""},{"$f":"[1]入力画面!DR67&\"\"","v":""},{"$f":"[1]入力画面!DW67&\"\"","v":""},{"$f":"[1]入力画面!DP67","v":""},{"$f":"[1]入力画面!DQ67&\"\"","v":""},{"$f":"[1]入力画面!DS67&\"\"","v":""},{"$f":"[1]入力画面!DT67&\"\"","v":""},{"$f":"[1]入力画面!DV67&\"\"","v":""},{"$f":"[1]入力画面!DU67&\"\"","v":""},{"$f":"[1]入力画面!DX67&\"\"","v":""},null,null,"特記事項 サービス情報入手ルート（情報提供者、連絡先等）",null,"会社　FAX番号",{"$f":"[1]入力画面!G67&\"\"","v":""},"会社　ホームページ",{"$f":"[1]入力画面!I67&\"\"","v":""},null,null,null,null,null,null,null,null,null,null,null,null,null,null,"サービス内容詳細",{"$f":"[1]入力画面!DY67&\"\"","v":""},"サービス提供期間",{"$f":"[1]入力画面!EA67&\"\"","v":""},"利用時間",{"$f":"[1]入力画面!EM67&\"\"","v":""},"備考",{"$f":"[1]入力画面!EB67&\"\"","v":""},"会社名/屋号/氏名",{"$f":"[1]入力画面!B67&\"\"","v":""},"会社　郵便番号",{"$f":"[1]入力画面!D67&\"\"","v":""},"会社　住所",{"$f":"[1]入力画面!E67&\"\"","v":""},"会社　担当部署・担当者名",{"$f":"[1]入力画面!J67&\"\"","v":""},"会社　電話番号",{"$f":"[1]入力画面!F67&\"\"","v":""},"会社　メールアドレス",{"$f":"[1]入力画面!H67&\"\"","v":""},"サービス提供期限",{"$f":"[1]入力画面!DZ67&\"\"","v":""},"利用可能曜日",{"$f":"[1]入力画面!EG67&\"\"","v":""},"利用時間帯",{"$f":"[1]入力画面!EL67&\"\"","v":""},"制度登録状況",null,null,null,null,null,null,null,null,null,null,null,null,null,{"$f":"[1]入力画面!R67&\"\"","v":""},{"$f":"[1]入力画面!S67&\"\"","v":""},{"$f":"[1]入力画面!T67&\"\"","v":""},{"$f":"[1]入力画面!U67&\"\"","v":""},{"$f":"[1]入力画面!ET28&\"\"","v":""},{"$f":"[1]入力画面!EU28&\"\"","v":""},{"$f":"[1]入力画面!EV28&\"\"","v":""},{"$f":"[1]入力画面!EW28&\"\"","v":""},{"$f":"[1]入力画面!EX28&\"\"","v":""},{"$f":"[1]入力画面!EY28&\"\"","v":""},{"$f":"[1]入力画面!EZ28&\"\"","v":""},{"$f":"[1]入力画面!FA28&\"\"","v":""},{"$f":"[1]入力画面!FB28&\"\"","v":""},{"$f":"[1]入力画面!FC28&\"\"","v":""},{"$f":"[1]入力画面!FD28&\"\"","v":""},{"$f":"[1]入力画面!FE28&\"\"","v":""},{"$f":"[1]入力画面!FF28&\"\"","v":""},{"$f":"[1]入力画面!FG28&\"\"","v":""},{"$f":"[1]入力画面!FH28&\"\"","v":""},{"$f":"[1]入力画面!FI28&\"\"","v":""}]
[null,null,"店舗・訪問系","さいたま市浦和区","民間",{"$f":"[1]入力画面!K81&\"\"","v":""},{"$f":"[1]入力画面!M81&\"\"","v":""},{"$f":"[1]入力画面!N81&\"\"","v":""},{"$f":"[1]入力画面!O81&\"\"","v":""},{"$f":"[1]入力画面!P81&\"\"","v":""},{"$f":"[1]入力画面!Q81&\"\"","v":""},{"$f":"[1]入力画面!BB81","v":""},{"$f":"[1]入力画面!DR81&\"\"","v":""},{"$f":"[1]入力画面!DW81&\"\"","v":""},{"$f":"[1]入力画面!DP81","v":""},{"$f":"[1]入力画面!DQ81&\"\"","v":""},{"$f":"[1]入力画面!DS81&\"\"","v":""},{"$f":"[1]入力画面!DT81&\"\"","v":""},{"$f":"[1]入力画面!DV81&\"\"","v":""},{"$f":"[1]入力画面!DU81&\"\"","v":""},{"$f":"[1]入力画面!DX81&\"\"","v":""},null,null,"特記事項 サービス情報入手ルート（情報提供者、連絡先等）",null,"会社　FAX番号",{"$f":"[1]入力画面!G81&\"\"","v":""},"会社　ホームページ",{"$f":"[1]入力画面!I81&\"\"","v":""},null,null,null,null,null,null,null,null,null,null,null,null,null,null,"サービス内容詳細",{"$f":"[1]入力画面!DY81&\"\"","v":""},"サービス提供期間",{"$f":"[1]入力画面!EA81&\"\"","v":""},"利用時間",{"$f":"[1]入力画面!EM81&\"\"","v":""},"備考",{"$f":"[1]入力画面!EB81&\"\"","v":""},"会社名/屋号/氏名",{"$f":"[1]入力画面!B81&\"\"","v":""},"会社　郵便番号",{"$f":"[1]入力画面!D81&\"\"","v":""},"会社　住所",{"$f":"[1]入力画面!E81&\"\"","v":""},"会社　担当部署・担当者名",{"$f":"[1]入力画面!J81&\"\"","v":""},"会社　電話番号",{"$f":"[1]入力画面!F81&\"\"","v":""},"会社　メールアドレス",{"$f":"[1]入力画面!H81&\"\"","v":""},"サービス提供期限",{"$f":"[1]入力画面!DZ81&\"\"","v":""},"利用可能曜日",{"$f":"[1]入力画面!EG81&\"\"","v":""},"利用時間帯",{"$f":"[1]入力画面!EL81&\"\"","v":""},"制度登録状況",null,null,null,null,null,null,null,null,null,null,null,null,null,{"$f":"[1]入力画面!R81&\"\"","v":""},{"$f":"[1]入力画面!S81&\"\"","v":""},{"$f":"[1]入力画面!T81&\"\"","v":""},{"$f":"[1]入力画面!U81&\"\"","v":""},{"$f":"[1]入力画面!ET29&\"\"","v":""},{"$f":"[1]入力画面!EU29&\"\"","v":""},{"$f":"[1]入力画面!EV29&\"\"","v":""},{"$f":"[1]入力画面!EW29&\"\"","v":""},{"$f":"[1]入力画面!EX29&\"\"","v":""},{"$f":"[1]入力画面!EY29&\"\"","v":""},{"$f":"[1]入力画面!EZ29&\"\"","v":""},{"$f":"[1]入力画面!FA29&\"\"","v":""},{"$f":"[1]入力画面!FB29&\"\"","v":""},{"$f":"[1]入力画面!FC29&\"\"","v":""},{"$f":"[1]入力画面!FD29&\"\"","v":""},{"$f":"[1]入力画面!FE29&\"\"","v":""},{"$f":"[1]入力画面!FF29&\"\"","v":""},{"$f":"[1]入力画面!FG29&\"\"","v":""},{"$f":"[1]入力画面!FH29&\"\"","v":""},{"$f":"[1]入力画面!FI29&\"\"","v":""}]
[null,null,"店舗・訪問系","さいたま市浦和区","民間",{"$f":"[1]入力画面!K95&\"\"","v":""},{"$f":"[1]入力画面!M95&\"\"","v":""},{"$f":"[1]入力画面!N95&\"\"","v":""},{"$f":"[1]入力画面!O95&\"\"","v":""},{"$f":"[1]入力画面!P95&\"\"","v":""},{"$f":"[1]入力画面!Q95&\"\"","v":""},{"$f":"[1]入力画面!BB95","v":""},{"$f":"[1]入力画面!DR95&\"\"","v":""},{"$f":"[1]入力画面!DW95&\"\"","v":""},{"$f":"[1]入力画面!DP95","v":""},{"$f":"[1]入力画面!DQ95&\"\"","v":""},{"$f":"[1]入力画面!DS95&\"\"","v":""},{"$f":"[1]入力画面!DT95&\"\"","v":""},{"$f":"[1]入力画面!DV95&\"\"","v":""},{"$f":"[1]入力画面!DU95&\"\"","v":""},{"$f":"[1]入力画面!DX95&\"\"","v":""},null,null,"特記事項 サービス情報入手ルート（情報提供者、連絡先等）",null,"会社　FAX番号",{"$f":"[1]入力画面!G95&\"\"","v":""},"会社　ホームページ",{"$f":"[1]入力画面!I95&\"\"","v":""},null,null,null,null,null,null,null,null,null,null,null,null,null,null,"サービス内容詳細",{"$f":"[1]入力画面!DY95&\"\"","v":""},"サービス提供期間",{"$f":"[1]入力画面!EA95&\"\"","v":""},"利用時間",{"$f":"[1]入力画面!EM95&\"\"","v":""},"備考",{"$f":"[1]入力画面!EB95&\"\"","v":""},"会社名/屋号/氏名",{"$f":"[1]入力画面!B95&\"\"","v":""},"会社　郵便番号",{"$f":"[1]入力画面!D95&\"\"","v":""},"会社　住所",{"$f":"[1]入力画面!E95&\"\"","v":""},"会社　担当部署・担当者名",{"$f":"[1]入力画面!J95&\"\"","v":""},"会社　電話番号",{"$f":"[1]入力画面!F95&\"\"","v":""},"会社　メールアドレス",{"$f":"[1]入力画面!H95&\"\"","v":""},"サービス提供期限",{"$f":"[1]入力画面!DZ95&\"\"","v":""},"利用可能曜日",{"$f":"[1]入力画面!EG95&\"\"","v":""},"利用時間帯",{"$f":"[1]入力画面!EL95&\"\"","v":""},"制度登録状況",null,null,null,null,null,null,null,null,null,null,null,null,null,{"$f":"[1]入力画面!R95&\"\"","v":""},{"$f":"[1]入力画面!S95&\"\"","v":""},{"$f":"[1]入力画面!T95&\"\"","v":""},{"$f":"[1]入力画面!U95&\"\"","v":""},{"$f":"[1]入力画面!ET30&\"\"","v":""},{"$f":"[1]入力画面!EU30&\"\"","v":""},{"$f":"[1]入力画面!EV30&\"\"","v":""},{"$f":"[1]入力画面!EW30&\"\"","v":""},{"$f":"[1]入力画面!EX30&\"\"","v":""},{"$f":"[1]入力画面!EY30&\"\"","v":""},{"$f":"[1]入力画面!EZ30&\"\"","v":""},{"$f":"[1]入力画面!FA30&\"\"","v":""},{"$f":"[1]入力画面!FB30&\"\"","v":""},{"$f":"[1]入力画面!FC30&\"\"","v":""},{"$f":"[1]入力画面!FD30&\"\"","v":""},{"$f":"[1]入力画面!FE30&\"\"","v":""},{"$f":"[1]入力画面!FF30&\"\"","v":""},{"$f":"[1]入力画面!FG30&\"\"","v":""},{"$f":"[1]入力画面!FH30&\"\"","v":""},{"$f":"[1]入力画面!FI30&\"\"","v":""}]
[null,null,"店舗・訪問系","さいたま市浦和区","民間",{"$f":"[1]入力画面!K109&\"\"","v":""},{"$f":"[1]入力画面!M109&\"\"","v":""},{"$f":"[1]入力画面!N109&\"\"","v":""},{"$f":"[1]入力画面!O109&\"\"","v":""},{"$f":"[1]入力画面!P109&\"\"","v":""},{"$f":"[1]入力画面!Q109&\"\"","v":""},{"$f":"[1]入力画面!BB109","v":""},{"$f":"[1]入力画面!DR109&\"\"","v":""},{"$f":"[1]入力画面!DW109&\"\"","v":""},{"$f":"[1]入力画面!DP109","v":""},{"$f":"[1]入力画面!DQ109&\"\"","v":""},{"$f":"[1]入力画面!DS109&\"\"","v":""},{"$f":"[1]入力画面!DT109&\"\"","v":""},{"$f":"[1]入力画面!DV109&\"\"","v":""},{"$f":"[1]入力画面!DU109&\"\"","v":""},{"$f":"[1]入力画面!DX109&\"\"","v":""},null,null,"特記事項 サービス情報入手ルート（情報提供者、連絡先等）",null,"会社　FAX番号",{"$f":"[1]入力画面!G109&\"\"","v":""},"会社　ホームページ",{"$f":"[1]入力画面!I109&\"\"","v":""},null,null,null,null,null,null,null,null,null,null,null,null,null,null,"サービス内容詳細",{"$f":"[1]入力画面!DY109&\"\"","v":""},"サービス提供期間",{"$f":"[1]入力画面!EA109&\"\"","v":""},"利用時間",{"$f":"[1]入力画面!EM109&\"\"","v":""},"備考",{"$f":"[1]入力画面!EB109&\"\"","v":""},"会社名/屋号/氏名",{"$f":"[1]入力画面!B109&\"\"","v":""},"会社　郵便番号",{"$f":"[1]入力画面!D109&\"\"","v":""},"会社　住所",{"$f":"[1]入力画面!E109&\"\"","v":""},"会社　担当部署・担当者名",{"$f":"[1]入力画面!J109&\"\"","v":""},"会社　電話番号",{"$f":"[1]入力画面!F109&\"\"","v":""},"会社　メールアドレス",{"$f":"[1]入力画面!H109&\"\"","v":""},"サービス提供期限",{"$f":"[1]入力画面!DZ109&\"\"","v":""},"利用可能曜日",{"$f":"[1]入力画面!EG109&\"\"","v":""},"利用時間帯",{"$f":"[1]入力画面!EL109&\"\"","v":""},"制度登録状況",null,null,null,null,null,null,null,null,null,null,null,null,null,{"$f":"[1]入力画面!R109&\"\"","v":""},{"$f":"[1]入力画面!S109&\"\"","v":""},{"$f":"[1]入力画面!T109&\"\"","v":""},{"$f":"[1]入力画面!U109&\"\"","v":""},{"$f":"[1]入力画面!ET31&\"\"","v":""},{"$f":"[1]入力画面!EU31&\"\"","v":""},{"$f":"[1]入力画面!EV31&\"\"","v":""},{"$f":"[1]入力画面!EW31&\"\"","v":""},{"$f":"[1]入力画面!EX31&\"\"","v":""},{"$f":"[1]入力画面!EY31&\"\"","v":""},{"$f":"[1]入力画面!EZ31&\"\"","v":""},{"$f":"[1]入力画面!FA31&\"\"","v":""},{"$f":"[1]入力画面!FB31&\"\"","v":""},{"$f":"[1]入力画面!FC31&\"\"","v":""},{"$f":"[1]入力画面!FD31&\"\"","v":""},{"$f":"[1]入力画面!FE31&\"\"","v":""},{"$f":"[1]入力画面!FF31&\"\"","v":""},{"$f":"[1]入力画面!FG31&\"\"","v":""},{"$f":"[1]入力画面!FH31&\"\"","v":""},{"$f":"[1]入力画面!FI31&\"\"","v":""}]
[null,null,"店舗・訪問系","さいたま市浦和区","民間",{"$f":"[1]入力画面!K123&\"\"","v":""},{"$f":"[1]入力画面!M123&\"\"","v":""},{"$f":"[1]入力画面!N123&\"\"","v":""},{"$f":"[1]入力画面!O123&\"\"","v":""},{"$f":"[1]入力画面!P123&\"\"","v":""},{"$f":"[1]入力画面!Q123&\"\"","v":""},{"$f":"[1]入力画面!BB123","v":""},{"$f":"[1]入力画面!DR123&\"\"","v":""},{"$f":"[1]入力画面!DW123&\"\"","v":""},{"$f":"[1]入力画面!DP123","v":""},{"$f":"[1]入力画面!DQ123&\"\"","v":""},{"$f":"[1]入力画面!DS123&\"\"","v":""},{"$f":"[1]入力画面!DT123&\"\"","v":""},{"$f":"[1]入力画面!DV123&\"\"","v":""},{"$f":"[1]入力画面!DU123&\"\"","v":""},{"$f":"[1]入力画面!DX123&\"\"","v":""},null,null,"特記事項 サービス情報入手ルート（情報提供者、連絡先等）",null,"会社　FAX番号",{"$f":"[1]入力画面!G123&\"\"","v":""},"会社　ホームページ",{"$f":"[1]入力画面!I123&\"\"","v":""},null,null,null,null,null,null,null,null,null,null,null,null,null,null,"サービス内容詳細",{"$f":"[1]入力画面!DY123&\"\"","v":""},"サービス提供期間",{"$f":"[1]入力画面!EA123&\"\"","v":""},"利用時間",{"$f":"[1]入力画面!EM123&\"\"","v":""},"備考",{"$f":"[1]入力画面!EB123&\"\"","v":""},"会社名/屋号/氏名",{"$f":"[1]入力画面!B123&\"\"","v":""},"会社　郵便番号",{"$f":"[1]入力画面!D123&\"\"","v":""},"会社　住所",{"$f":"[1]入力画面!E123&\"\"","v":""},"会社　担当部署・担当者名",{"$f":"[1]入力画面!J123&\"\"","v":""},"会社　電話番号",{"$f":"[1]入力画面!F123&\"\"","v":""},"会社　メールアドレス",{"$f":"[1]入力画面!H123&\"\"","v":""},"サービス提供期限",{"$f":"[1]入力画面!DZ123&\"\"","v":""},"利用可能曜日",{"$f":"[1]入力画面!EG123&\"\"","v":""},"利用時間帯",{"$f":"[1]入力画面!EL123&\"\"","v":""},"制度登録状況",null,null,null,null,null,null,null,null,null,null,null,null,null,{"$f":"[1]入力画面!R123&\"\"","v":""},{"$f":"[1]入力画面!S123&\"\"","v":""},{"$f":"[1]入力画面!T123&\"\"","v":""},{"$f":"[1]入力画面!U123&\"\"","v":""},{"$f":"[1]入力画面!ET32&\"\"","v":""},{"$f":"[1]入力画面!EU32&\"\"","v":""},{"$f":"[1]入力画面!EV32&\"\"","v":""},{"$f":"[1]入力画面!EW32&\"\"","v":""},{"$f":"[1]入力画面!EX32&\"\"","v":""},{"$f":"[1]入力画面!EY32&\"\"","v":""},{"$f":"[1]入力画面!EZ32&\"\"","v":""},{"$f":"[1]入力画面!FA32&\"\"","v":""},{"$f":"[1]入力画面!FB32&\"\"","v":""},{"$f":"[1]入力画面!FC32&\"\"","v":""},{"$f":"[1]入力画面!FD32&\"\"","v":""},{"$f":"[1]入力画面!FE32&\"\"","v":""},{"$f":"[1]入力画面!FF32&\"\"","v":""},{"$f":"[1]入力画面!FG32&\"\"","v":""},{"$f":"[1]入力画面!FH32&\"\"","v":""},{"$f":"[1]入力画面!FI32&\"\"","v":""}]
[null,null,"店舗・訪問系","さいたま市浦和区","民間",{"$f":"[1]入力画面!K137&\"\"","v":""},{"$f":"[1]入力画面!M137&\"\"","v":""},{"$f":"[1]入力画面!N137&\"\"","v":""},{"$f":"[1]入力画面!O137&\"\"","v":""},{"$f":"[1]入力画面!P137&\"\"","v":""},{"$f":"[1]入力画面!Q137&\"\"","v":""},{"$f":"[1]入力画面!BB137","v":""},{"$f":"[1]入力画面!DR137&\"\"","v":""},{"$f":"[1]入力画面!DW137&\"\"","v":""},{"$f":"[1]入力画面!DP137","v":""},{"$f":"[1]入力画面!DQ137&\"\"","v":""},{"$f":"[1]入力画面!DS137&\"\"","v":""},{"$f":"[1]入力画面!DT137&\"\"","v":""},{"$f":"[1]入力画面!DV137&\"\"","v":""},{"$f":"[1]入力画面!DU137&\"\"","v":""},{"$f":"[1]入力画面!DX137&\"\"","v":""},null,null,"特記事項 サービス情報入手ルート（情報提供者、連絡先等）",null,"会社　FAX番号",{"$f":"[1]入力画面!G137&\"\"","v":""},"会社　ホームページ",{"$f":"[1]入力画面!I137&\"\"","v":""},null,null,null,null,null,null,null,null,null,null,null,null,null,null,"サービス内容詳細",{"$f":"[1]入力画面!DY137&\"\"","v":""},"サービス提供期間",{"$f":"[1]入力画面!EA137&\"\"","v":""},"利用時間",{"$f":"[1]入力画面!EM137&\"\"","v":""},"備考",{"$f":"[1]入力画面!EB137&\"\"","v":""},"会社名/屋号/氏名",{"$f":"[1]入力画面!B137&\"\"","v":""},"会社　郵便番号",{"$f":"[1]入力画面!D137&\"\"","v":""},"会社　住所",{"$f":"[1]入力画面!E137&\"\"","v":""},"会社　担当部署・担当者名",{"$f":"[1]入力画面!J137&\"\"","v":""},"会社　電話番号",{"$f":"[1]入力画面!F137&\"\"","v":""},"会社　メールアドレス",{"$f":"[1]入力画面!H137&\"\"","v":""},"サービス提供期限",{"$f":"[1]入力画面!DZ137&\"\"","v":""},"利用可能曜日",{"$f":"[1]入力画面!EG137&\"\"","v":""},"利用時間帯",{"$f":"[1]入力画面!EL137&\"\"","v":""},"制度登録状況",null,null,null,null,null,null,null,null,null,null,null,null,null,{"$f":"[1]入力画面!R137&\"\"","v":""},{"$f":"[1]入力画面!S137&\"\"","v":""},{"$f":"[1]入力画面!T137&\"\"","v":""},{"$f":"[1]入力画面!U137&\"\"","v":""},{"$f":"[1]入力画面!ET33&\"\"","v":""},{"$f":"[1]入力画面!EU33&\"\"","v":""},{"$f":"[1]入力画面!EV33&\"\"","v":""},{"$f":"[1]入力画面!EW33&\"\"","v":""},{"$f":"[1]入力画面!EX33&\"\"","v":""},{"$f":"[1]入力画面!EY33&\"\"","v":""},{"$f":"[1]入力画面!EZ33&\"\"","v":""},{"$f":"[1]入力画面!FA33&\"\"","v":""},{"$f":"[1]入力画面!FB33&\"\"","v":""},{"$f":"[1]入力画面!FC33&\"\"","v":""},{"$f":"[1]入力画面!FD33&\"\"","v":""},{"$f":"[1]入力画面!FE33&\"\"","v":""},{"$f":"[1]入力画面!FF33&\"\"","v":""},{"$f":"[1]入力画面!FG33&\"\"","v":""},{"$f":"[1]入力画面!FH33&\"\"","v":""},{"$f":"[1]入力画面!FI33&\"\"","v":""}]
[null,null,"店舗・訪問系","さいたま市浦和区","民間",{"$f":"[1]入力画面!K151&\"\"","v":""},{"$f":"[1]入力画面!M151&\"\"","v":""},{"$f":"[1]入力画面!N151&\"\"","v":""},{"$f":"[1]入力画面!O151&\"\"","v":""},{"$f":"[1]入力画面!P151&\"\"","v":""},{"$f":"[1]入力画面!Q151&\"\"","v":""},{"$f":"[1]入力画面!BB151","v":""},{"$f":"[1]入力画面!DR151&\"\"","v":""},{"$f":"[1]入力画面!DW151&\"\"","v":""},{"$f":"[1]入力画面!DP151","v":""},{"$f":"[1]入力画面!DQ151&\"\"","v":""},{"$f":"[1]入力画面!DS151&\"\"","v":""},{"$f":"[1]入力画面!DT151&\"\"","v":""},{"$f":"[1]入力画面!DV151&\"\"","v":""},{"$f":"[1]入力画面!DU151&\"\"","v":""},{"$f":"[1]入力画面!DX151&\"\"","v":""},null,null,"特記事項 サービス情報入手ルート（情報提供者、連絡先等）",null,"会社　FAX番号",{"$f":"[1]入力画面!G151&\"\"","v":""},"会社　ホームページ",{"$f":"[1]入力画面!I151&\"\"","v":""},null,null,null,null,null,null,null,null,null,null,null,null,null,null,"サービス内容詳細",{"$f":"[1]入力画面!DY151&\"\"","v":""},"サービス提供期間",{"$f":"[1]入力画面!EA151&\"\"","v":""},"利用時間",{"$f":"[1]入力画面!EM151&\"\"","v":""},"備考",{"$f":"[1]入力画面!EB151&\"\"","v":""},"会社名/屋号/氏名",{"$f":"[1]入力画面!B151&\"\"","v":""},"会社　郵便番号",{"$f":"[1]入力画面!D151&\"\"","v":""},"会社　住所",{"$f":"[1]入力画面!E151&\"\"","v":""},"会社　担当部署・担当者名",{"$f":"[1]入力画面!J151&\"\"","v":""},"会社　電話番号",{"$f":"[1]入力画面!F151&\"\"","v":""},"会社　メールアドレス",{"$f":"[1]入力画面!H151&\"\"","v":""},"サービス提供期限",{"$f":"[1]入力画面!DZ151&\"\"","v":""},"利用可能曜日",{"$f":"[1]入力画面!EG151&\"\"","v":""},"利用時間帯",{"$f":"[1]入力画面!EL151&\"\"","v":""},"制度登録状況",null,null,null,null,null,null,null,null,null,null,null,null,null,{"$f":"[1]入力画面!R151&\"\"","v":""},{"$f":"[1]入力画面!S151&\"\"","v":""},{"$f":"[1]入力画面!T151&\"\"","v":""},{"$f":"[1]入力画面!U151&\"\"","v":""},{"$f":"[1]入力画面!ET34&\"\"","v":""},{"$f":"[1]入力画面!EU34&\"\"","v":""},{"$f":"[1]入力画面!EV34&\"\"","v":""},{"$f":"[1]入力画面!EW34&\"\"","v":""},{"$f":"[1]入力画面!EX34&\"\"","v":""},{"$f":"[1]入力画面!EY34&\"\"","v":""},{"$f":"[1]入力画面!EZ34&\"\"","v":""},{"$f":"[1]入力画面!FA34&\"\"","v":""},{"$f":"[1]入力画面!FB34&\"\"","v":""},{"$f":"[1]入力画面!FC34&\"\"","v":""},{"$f":"[1]入力画面!FD34&\"\"","v":""},{"$f":"[1]入力画面!FE34&\"\"","v":""},{"$f":"[1]入力画面!FF34&\"\"","v":""},{"$f":"[1]入力画面!FG34&\"\"","v":""},{"$f":"[1]入力画面!FH34&\"\"","v":""},{"$f":"[1]入力画面!FI34&\"\"","v":""}]
[null,null,"店舗・訪問系","さいたま市浦和区","民間",{"$f":"[1]入力画面!K165&\"\"","v":""},{"$f":"[1]入力画面!M165&\"\"","v":""},{"$f":"[1]入力画面!N165&\"\"","v":""},{"$f":"[1]入力画面!O165&\"\"","v":""},{"$f":"[1]入力画面!P165&\"\"","v":""},{"$f":"[1]入力画面!Q165&\"\"","v":""},{"$f":"[1]入力画面!BB165","v":""},{"$f":"[1]入力画面!DR165&\"\"","v":""},{"$f":"[1]入力画面!DW165&\"\"","v":""},{"$f":"[1]入力画面!DP165","v":""},{"$f":"[1]入力画面!DQ165&\"\"","v":""},{"$f":"[1]入力画面!DS165&\"\"","v":""},{"$f":"[1]入力画面!DT165&\"\"","v":""},{"$f":"[1]入力画面!DV165&\"\"","v":""},{"$f":"[1]入力画面!DU165&\"\"","v":""},{"$f":"[1]入力画面!DX165&\"\"","v":""},null,null,"特記事項 サービス情報入手ルート（情報提供者、連絡先等）",null,"会社　FAX番号",{"$f":"[1]入力画面!G165&\"\"","v":""},"会社　ホームページ",{"$f":"[1]入力画面!I165&\"\"","v":""},null,null,null,null,null,null,null,null,null,null,null,null,null,null,"サービス内容詳細",{"$f":"[1]入力画面!DY165&\"\"","v":""},"サービス提供期間",{"$f":"[1]入力画面!EA165&\"\"","v":""},"利用時間",{"$f":"[1]入力画面!EM165&\"\"","v":""},"備考",{"$f":"[1]入力画面!EB165&\"\"","v":""},"会社名/屋号/氏名",{"$f":"[1]入力画面!B165&\"\"","v":""},"会社　郵便番号",{"$f":"[1]入力画面!D165&\"\"","v":""},"会社　住所",{"$f":"[1]入力画面!E165&\"\"","v":""},"会社　担当部署・担当者名",{"$f":"[1]入力画面!J165&\"\"","v":""},"会社　電話番号",{"$f":"[1]入力画面!F165&\"\"","v":""},"会社　メールアドレス",{"$f":"[1]入力画面!H165&\"\"","v":""},"サービス提供期限",{"$f":"[1]入力画面!DZ165&\"\"","v":""},"利用可能曜日",{"$f":"[1]入力画面!EG165&\"\"","v":""},"利用時間帯",{"$f":"[1]入力画面!EL165&\"\"","v":""},"制度登録状況",null,null,null,null,null,null,null,null,null,null,null,null,null,{"$f":"[1]入力画面!R165&\"\"","v":""},{"$f":"[1]入力画面!S165&\"\"","v":""},{"$f":"[1]入力画面!T165&\"\"","v":""},{"$f":"[1]入力画面!U165&\"\"","v":""},{"$f":"[1]入力画面!ET35&\"\"","v":""},{"$f":"[1]入力画面!EU35&\"\"","v":""},{"$f":"[1]入力画面!EV35&\"\"","v":""},{"$f":"[1]入力画面!EW35&\"\"","v":""},{"$f":"[1]入力画面!EX35&\"\"","v":""},{"$f":"[1]入力画面!EY35&\"\"","v":""},{"$f":"[1]入力画面!EZ35&\"\"","v":""},{"$f":"[1]入力画面!FA35&\"\"","v":""},{"$f":"[1]入力画面!FB35&\"\"","v":""},{"$f":"[1]入力画面!FC35&\"\"","v":""},{"$f":"[1]入力画面!FD35&\"\"","v":""},{"$f":"[1]入力画面!FE35&\"\"","v":""},{"$f":"[1]入力画面!FF35&\"\"","v":""},{"$f":"[1]入力画面!FG35&\"\"","v":""},{"$f":"[1]入力画面!FH35&\"\"","v":""},{"$f":"[1]入力画面!FI35&\"\"","v":""}]
[null,null,"店舗・訪問系","さいたま市浦和区","民間",{"$f":"[1]入力画面!K179&\"\"","v":""},{"$f":"[1]入力画面!M179&\"\"","v":""},{"$f":"[1]入力画面!N179&\"\"","v":""},{"$f":"[1]入力画面!O179&\"\"","v":""},{"$f":"[1]入力画面!P179&\"\"","v":""},{"$f":"[1]入力画面!Q179&\"\"","v":""},{"$f":"[1]入力画面!BB179","v":""},{"$f":"[1]入力画面!DR179&\"\"","v":""},{"$f":"[1]入力画面!DW179&\"\"","v":""},{"$f":"[1]入力画面!DP179","v":""},{"$f":"[1]入力画面!DQ179&\"\"","v":""},{"$f":"[1]入力画面!DS179&\"\"","v":""},{"$f":"[1]入力画面!DT179&\"\"","v":""},{"$f":"[1]入力画面!DV179&\"\"","v":""},{"$f":"[1]入力画面!DU179&\"\"","v":""},{"$f":"[1]入力画面!DX179&\"\"","v":""},null,null,"特記事項 サービス情報入手ルート（情報提供者、連絡先等）",null,"会社　FAX番号",{"$f":"[1]入力画面!G179&\"\"","v":""},"会社　ホームページ",{"$f":"[1]入力画面!I179&\"\"","v":""},null,null,null,null,null,null,null,null,null,null,null,null,null,null,"サービス内容詳細",{"$f":"[1]入力画面!DY179&\"\"","v":""},"サービス提供期間",{"$f":"[1]入力画面!EA179&\"\"","v":""},"利用時間",{"$f":"[1]入力画面!EM179&\"\"","v":""},"備考",{"$f":"[1]入力画面!EB179&\"\"","v":""},"会社名/屋号/氏名",{"$f":"[1]入力画面!B179&\"\"","v":""},"会社　郵便番号",{"$f":"[1]入力画面!D179&\"\"","v":""},"会社　住所",{"$f":"[1]入力画面!E179&\"\"","v":""},"会社　担当部署・担当者名",{"$f":"[1]入力画面!J179&\"\"","v":""},"会社　電話番号",{"$f":"[1]入力画面!F179&\"\"","v":""},"会社　メールアドレス",{"$f":"[1]入力画面!H179&\"\"","v":""},"サービス提供期限",{"$f":"[1]入力画面!DZ179&\"\"","v":""},"利用可能曜日",{"$f":"[1]入力画面!EG179&\"\"","v":""},"利用時間帯",{"$f":"[1]入力画面!EL179&\"\"","v":""},"制度登録状況",null,null,null,null,null,null,null,null,null,null,null,null,null,{"$f":"[1]入力画面!R179&\"\"","v":""},{"$f":"[1]入力画面!S179&\"\"","v":""},{"$f":"[1]入力画面!T179&\"\"","v":""},{"$f":"[1]入力画面!U179&\"\"","v":""},{"$f":"[1]入力画面!ET36&\"\"","v":""},{"$f":"[1]入力画面!EU36&\"\"","v":""},{"$f":"[1]入力画面!EV36&\"\"","v":""},{"$f":"[1]入力画面!EW36&\"\"","v":""},{"$f":"[1]入力画面!EX36&\"\"","v":""},{"$f":"[1]入力画面!EY36&\"\"","v":""},{"$f":"[1]入力画面!EZ36&\"\"","v":""},{"$f":"[1]入力画面!FA36&\"\"","v":""},{"$f":"[1]入力画面!FB36&\"\"","v":""},{"$f":"[1]入力画面!FC36&\"\"","v":""},{"$f":"[1]入力画面!FD36&\"\"","v":""},{"$f":"[1]入力画面!FE36&\"\"","v":""},{"$f":"[1]入力画面!FF36&\"\"","v":""},{"$f":"[1]入力画面!FG36&\"\"","v":""},{"$f":"[1]入力画面!FH36&\"\"","v":""},{"$f":"[1]入力画面!FI36&\"\"","v":""}]
[null,null,"店舗・訪問系","さいたま市浦和区","民間",{"$f":"[1]入力画面!K193&\"\"","v":""},{"$f":"[1]入力画面!M193&\"\"","v":""},{"$f":"[1]入力画面!N193&\"\"","v":""},{"$f":"[1]入力画面!O193&\"\"","v":""},{"$f":"[1]入力画面!P193&\"\"","v":""},{"$f":"[1]入力画面!Q193&\"\"","v":""},{"$f":"[1]入力画面!BB193","v":""},{"$f":"[1]入力画面!DR193&\"\"","v":""},{"$f":"[1]入力画面!DW193&\"\"","v":""},{"$f":"[1]入力画面!DP193","v":""},{"$f":"[1]入力画面!DQ193&\"\"","v":""},{"$f":"[1]入力画面!DS193&\"\"","v":""},{"$f":"[1]入力画面!DT193&\"\"","v":""},{"$f":"[1]入力画面!DV193&\"\"","v":""},{"$f":"[1]入力画面!DU193&\"\"","v":""},{"$f":"[1]入力画面!DX193&\"\"","v":""},null,null,"特記事項 サービス情報入手ルート（情報提供者、連絡先等）",null,"会社　FAX番号",{"$f":"[1]入力画面!G193&\"\"","v":""},"会社　ホームページ",{"$f":"[1]入力画面!I193&\"\"","v":""},null,null,null,null,null,null,null,null,null,null,null,null,null,null,"サービス内容詳細",{"$f":"[1]入力画面!DY193&\"\"","v":""},"サービス提供期間",{"$f":"[1]入力画面!EA193&\"\"","v":""},"利用時間",{"$f":"[1]入力画面!EM193&\"\"","v":""},"備考",{"$f":"[1]入力画面!EB193&\"\"","v":""},"会社名/屋号/氏名",{"$f":"[1]入力画面!B193&\"\"","v":""},"会社　郵便番号",{"$f":"[1]入力画面!D193&\"\"","v":""},"会社　住所",{"$f":"[1]入力画面!E193&\"\"","v":""},"会社　担当部署・担当者名",{"$f":"[1]入力画面!J193&\"\"","v":""},"会社　電話番号",{"$f":"[1]入力画面!F193&\"\"","v":""},"会社　メールアドレス",{"$f":"[1]入力画面!H193&\"\"","v":""},"サービス提供期限",{"$f":"[1]入力画面!DZ193&\"\"","v":""},"利用可能曜日",{"$f":"[1]入力画面!EG193&\"\"","v":""},"利用時間帯",{"$f":"[1]入力画面!EL193&\"\"","v":""},"制度登録状況",null,null,null,null,null,null,null,null,null,null,null,null,null,{"$f":"[1]入力画面!R193&\"\"","v":""},{"$f":"[1]入力画面!S193&\"\"","v":""},{"$f":"[1]入力画面!T193&\"\"","v":""},{"$f":"[1]入力画面!U193&\"\"","v":""},{"$f":"[1]入力画面!ET37&\"\"","v":""},{"$f":"[1]入力画面!EU37&\"\"","v":""},{"$f":"[1]入力画面!EV37&\"\"","v":""},{"$f":"[1]入力画面!EW37&\"\"","v":""},{"$f":"[1]入力画面!EX37&\"\"","v":""},{"$f":"[1]入力画面!EY37&\"\"","v":""},{"$f":"[1]入力画面!EZ37&\"\"","v":""},{"$f":"[1]入力画面!FA37&\"\"","v":""},{"$f":"[1]入力画面!FB37&\"\"","v":""},{"$f":"[1]入力画面!FC37&\"\"","v":""},{"$f":"[1]入力画面!FD37&\"\"","v":""},{"$f":"[1]入力画面!FE37&\"\"","v":""},{"$f":"[1]入力画面!FF37&\"\"","v":""},{"$f":"[1]入力画面!FG37&\"\"","v":""},{"$f":"[1]入力画面!FH37&\"\"","v":""},{"$f":"[1]入力画面!FI37&\"\"","v":""}]
[null,null,"店舗・訪問系","さいたま市浦和区","民間",{"$f":"[1]入力画面!K207&\"\"","v":""},{"$f":"[1]入力画面!M207&\"\"","v":""},{"$f":"[1]入力画面!N207&\"\"","v":""},{"$f":"[1]入力画面!O207&\"\"","v":""},{"$f":"[1]入力画面!P207&\"\"","v":""},{"$f":"[1]入力画面!Q207&\"\"","v":""},{"$f":"[1]入力画面!BB207","v":""},{"$f":"[1]入力画面!DR207&\"\"","v":""},{"$f":"[1]入力画面!DW207&\"\"","v":""},{"$f":"[1]入力画面!DP207","v":""},{"$f":"[1]入力画面!DQ207&\"\"","v":""},{"$f":"[1]入力画面!DS207&\"\"","v":""},{"$f":"[1]入力画面!DT207&\"\"","v":""},{"$f":"[1]入力画面!DV207&\"\"","v":""},{"$f":"[1]入力画面!DU207&\"\"","v":""},{"$f":"[1]入力画面!DX207&\"\"","v":""},null,null,"特記事項 サービス情報入手ルート（情報提供者、連絡先等）",null,"会社　FAX番号",{"$f":"[1]入力画面!G207&\"\"","v":""},"会社　ホームページ",{"$f":"[1]入力画面!I207&\"\"","v":""},null,null,null,null,null,null,null,null,null,null,null,null,null,null,"サービス内容詳細",{"$f":"[1]入力画面!DY207&\"\"","v":""},"サービス提供期間",{"$f":"[1]入力画面!EA207&\"\"","v":""},"利用時間",{"$f":"[1]入力画面!EM207&\"\"","v":""},"備考",{"$f":"[1]入力画面!EB207&\"\"","v":""},"会社名/屋号/氏名",{"$f":"[1]入力画面!B207&\"\"","v":""},"会社　郵便番号",{"$f":"[1]入力画面!D207&\"\"","v":""},"会社　住所",{"$f":"[1]入力画面!E207&\"\"","v":""},"会社　担当部署・担当者名",{"$f":"[1]入力画面!J207&\"\"","v":""},"会社　電話番号",{"$f":"[1]入力画面!F207&\"\"","v":""},"会社　メールアドレス",{"$f":"[1]入力画面!H207&\"\"","v":""},"サービス提供期限",{"$f":"[1]入力画面!DZ207&\"\"","v":""},"利用可能曜日",{"$f":"[1]入力画面!EG207&\"\"","v":""},"利用時間帯",{"$f":"[1]入力画面!EL207&\"\"","v":""},"制度登録状況",null,null,null,null,null,null,null,null,null,null,null,null,null,{"$f":"[1]入力画面!R207&\"\"","v":""},{"$f":"[1]入力画面!S207&\"\"","v":""},{"$f":"[1]入力画面!T207&\"\"","v":""},{"$f":"[1]入力画面!U207&\"\"","v":""},{"$f":"[1]入力画面!ET38&\"\"","v":""},{"$f":"[1]入力画面!EU38&\"\"","v":""},{"$f":"[1]入力画面!EV38&\"\"","v":""},{"$f":"[1]入力画面!EW38&\"\"","v":""},{"$f":"[1]入力画面!EX38&\"\"","v":""},{"$f":"[1]入力画面!EY38&\"\"","v":""},{"$f":"[1]入力画面!EZ38&\"\"","v":""},{"$f":"[1]入力画面!FA38&\"\"","v":""},{"$f":"[1]入力画面!FB38&\"\"","v":""},{"$f":"[1]入力画面!FC38&\"\"","v":""},{"$f":"[1]入力画面!FD38&\"\"","v":""},{"$f":"[1]入力画面!FE38&\"\"","v":""},{"$f":"[1]入力画面!FF38&\"\"","v":""},{"$f":"[1]入力画面!FG38&\"\"","v":""},{"$f":"[1]入力画面!FH38&\"\"","v":""},{"$f":"[1]入力画面!FI38&\"\"","v":""}]
[null,null,"店舗・訪問系","さいたま市浦和区","民間",{"$f":"[1]入力画面!K221&\"\"","v":""},{"$f":"[1]入力画面!M221&\"\"","v":""},{"$f":"[1]入力画面!N221&\"\"","v":""},{"$f":"[1]入力画面!O221&\"\"","v":""},{"$f":"[1]入力画面!P221&\"\"","v":""},{"$f":"[1]入力画面!Q221&\"\"","v":""},{"$f":"[1]入力画面!BB221","v":""},{"$f":"[1]入力画面!DR221&\"\"","v":""},{"$f":"[1]入力画面!DW221&\"\"","v":""},{"$f":"[1]入力画面!DP221","v":""},{"$f":"[1]入力画面!DQ221&\"\"","v":""},{"$f":"[1]入力画面!DS221&\"\"","v":""},{"$f":"[1]入力画面!DT221&\"\"","v":""},{"$f":"[1]入力画面!DV221&\"\"","v":""},{"$f":"[1]入力画面!DU221&\"\"","v":""},{"$f":"[1]入力画面!DX221&\"\"","v":""},null,null,"特記事項 サービス情報入手ルート（情報提供者、連絡先等）",null,"会社　FAX番号",{"$f":"[1]入力画面!G221&\"\"","v":""},"会社　ホームページ",{"$f":"[1]入力画面!I221&\"\"","v":""},null,null,null,null,null,null,null,null,null,null,null,null,null,null,"サービス内容詳細",{"$f":"[1]入力画面!DY221&\"\"","v":""},"サービス提供期間",{"$f":"[1]入力画面!EA221&\"\"","v":""},"利用時間",{"$f":"[1]入力画面!EM221&\"\"","v":""},"備考",{"$f":"[1]入力画面!EB221&\"\"","v":""},"会社名/屋号/氏名",{"$f":"[1]入力画面!B221&\"\"","v":""},"会社　郵便番号",{"$f":"[1]入力画面!D221&\"\"","v":""},"会社　住所",{"$f":"[1]入力画面!E221&\"\"","v":""},"会社　担当部署・担当者名",{"$f":"[1]入力画面!J221&\"\"","v":""},"会社　電話番号",{"$f":"[1]入力画面!F221&\"\"","v":""},"会社　メールアドレス",{"$f":"[1]入力画面!H221&\"\"","v":""},"サービス提供期限",{"$f":"[1]入力画面!DZ221&\"\"","v":""},"利用可能曜日",{"$f":"[1]入力画面!EG221&\"\"","v":""},"利用時間帯",{"$f":"[1]入力画面!EL221&\"\"","v":""},"制度登録状況",null,null,null,null,null,null,null,null,null,null,null,null,null,{"$f":"[1]入力画面!R221&\"\"","v":""},{"$f":"[1]入力画面!S221&\"\"","v":""},{"$f":"[1]入力画面!T221&\"\"","v":""},{"$f":"[1]入力画面!U221&\"\"","v":""},{"$f":"[1]入力画面!ET39&\"\"","v":""},{"$f":"[1]入力画面!EU39&\"\"","v":""},{"$f":"[1]入力画面!EV39&\"\"","v":""},{"$f":"[1]入力画面!EW39&\"\"","v":""},{"$f":"[1]入力画面!EX39&\"\"","v":""},{"$f":"[1]入力画面!EY39&\"\"","v":""},{"$f":"[1]入力画面!EZ39&\"\"","v":""},{"$f":"[1]入力画面!FA39&\"\"","v":""},{"$f":"[1]入力画面!FB39&\"\"","v":""},{"$f":"[1]入力画面!FC39&\"\"","v":""},{"$f":"[1]入力画面!FD39&\"\"","v":""},{"$f":"[1]入力画面!FE39&\"\"","v":""},{"$f":"[1]入力画面!FF39&\"\"","v":""},{"$f":"[1]入力画面!FG39&\"\"","v":""},{"$f":"[1]入力画面!FH39&\"\"","v":""},{"$f":"[1]入力画面!FI39&\"\"","v":""}]
[null,null,"店舗・訪問系","さいたま市浦和区","民間",{"$f":"[1]入力画面!K235&\"\"","v":""},{"$f":"[1]入力画面!M235&\"\"","v":""},{"$f":"[1]入力画面!N235&\"\"","v":""},{"$f":"[1]入力画面!O235&\"\"","v":""},{"$f":"[1]入力画面!P235&\"\"","v":""},{"$f":"[1]入力画面!Q235&\"\"","v":""},{"$f":"[1]入力画面!BB235","v":""},{"$f":"[1]入力画面!DR235&\"\"","v":""},{"$f":"[1]入力画面!DW235&\"\"","v":""},{"$f":"[1]入力画面!DP235","v":""},{"$f":"[1]入力画面!DQ235&\"\"","v":""},{"$f":"[1]入力画面!DS235&\"\"","v":""},{"$f":"[1]入力画面!DT235&\"\"","v":""},{"$f":"[1]入力画面!DV235&\"\"","v":""},{"$f":"[1]入力画面!DU235&\"\"","v":""},{"$f":"[1]入力画面!DX235&\"\"","v":""},null,null,"特記事項 サービス情報入手ルート（情報提供者、連絡先等）",null,"会社　FAX番号",{"$f":"[1]入力画面!G235&\"\"","v":""},"会社　ホームページ",{"$f":"[1]入力画面!I235&\"\"","v":""},null,null,null,null,null,null,null,null,null,null,null,null,null,null,"サービス内容詳細",{"$f":"[1]入力画面!DY235&\"\"","v":""},"サービス提供期間",{"$f":"[1]入力画面!EA235&\"\"","v":""},"利用時間",{"$f":"[1]入力画面!EM235&\"\"","v":""},"備考",{"$f":"[1]入力画面!EB235&\"\"","v":""},"会社名/屋号/氏名",{"$f":"[1]入力画面!B235&\"\"","v":""},"会社　郵便番号",{"$f":"[1]入力画面!D235&\"\"","v":""},"会社　住所",{"$f":"[1]入力画面!E235&\"\"","v":""},"会社　担当部署・担当者名",{"$f":"[1]入力画面!J235&\"\"","v":""},"会社　電話番号",{"$f":"[1]入力画面!F235&\"\"","v":""},"会社　メールアドレス",{"$f":"[1]入力画面!H235&\"\"","v":""},"サービス提供期限",{"$f":"[1]入力画面!DZ235&\"\"","v":""},"利用可能曜日",{"$f":"[1]入力画面!EG235&\"\"","v":""},"利用時間帯",{"$f":"[1]入力画面!EL235&\"\"","v":""},"制度登録状況",null,null,null,null,null,null,null,null,null,null,null,null,null,{"$f":"[1]入力画面!R235&\"\"","v":""},{"$f":"[1]入力画面!S235&\"\"","v":""},{"$f":"[1]入力画面!T235&\"\"","v":""},{"$f":"[1]入力画面!U235&\"\"","v":""},{"$f":"[1]入力画面!ET40&\"\"","v":""},{"$f":"[1]入力画面!EU40&\"\"","v":""},{"$f":"[1]入力画面!EV40&\"\"","v":""},{"$f":"[1]入力画面!EW40&\"\"","v":""},{"$f":"[1]入力画面!EX40&\"\"","v":""},{"$f":"[1]入力画面!EY40&\"\"","v":""},{"$f":"[1]入力画面!EZ40&\"\"","v":""},{"$f":"[1]入力画面!FA40&\"\"","v":""},{"$f":"[1]入力画面!FB40&\"\"","v":""},{"$f":"[1]入力画面!FC40&\"\"","v":""},{"$f":"[1]入力画面!FD40&\"\"","v":""},{"$f":"[1]入力画面!FE40&\"\"","v":""},{"$f":"[1]入力画面!FF40&\"\"","v":""},{"$f":"[1]入力画面!FG40&\"\"","v":""},{"$f":"[1]入力画面!FH40&\"\"","v":""},{"$f":"[1]入力画面!FI40&\"\"","v":""}]
[null,null,"店舗・訪問系","さいたま市浦和区","民間",{"$f":"[1]入力画面!K249&\"\"","v":""},{"$f":"[1]入力画面!M249&\"\"","v":""},{"$f":"[1]入力画面!N249&\"\"","v":""},{"$f":"[1]入力画面!O249&\"\"","v":""},{"$f":"[1]入力画面!P249&\"\"","v":""},{"$f":"[1]入力画面!Q249&\"\"","v":""},{"$f":"[1]入力画面!BB249","v":""},{"$f":"[1]入力画面!DR249&\"\"","v":""},{"$f":"[1]入力画面!DW249&\"\"","v":""},{"$f":"[1]入力画面!DP249","v":""},{"$f":"[1]入力画面!DQ249&\"\"","v":""},{"$f":"[1]入力画面!DS249&\"\"","v":""},{"$f":"[1]入力画面!DT249&\"\"","v":""},{"$f":"[1]入力画面!DV249&\"\"","v":""},{"$f":"[1]入力画面!DU249&\"\"","v":""},{"$f":"[1]入力画面!DX249&\"\"","v":""},null,null,"特記事項 サービス情報入手ルート（情報提供者、連絡先等）",null,"会社　FAX番号",{"$f":"[1]入力画面!G249&\"\"","v":""},"会社　ホームページ",{"$f":"[1]入力画面!I249&\"\"","v":""},null,null,null,null,null,null,null,null,null,null,null,null,null,null,"サービス内容詳細",{"$f":"[1]入力画面!DY249&\"\"","v":""},"サービス提供期間",{"$f":"[1]入力画面!EA249&\"\"","v":""},"利用時間",{"$f":"[1]入力画面!EM249&\"\"","v":""},"備考",{"$f":"[1]入力画面!EB249&\"\"","v":""},"会社名/屋号/氏名",{"$f":"[1]入力画面!B249&\"\"","v":""},"会社　郵便番号",{"$f":"[1]入力画面!D249&\"\"","v":""},"会社　住所",{"$f":"[1]入力画面!E249&\"\"","v":""},"会社　担当部署・担当者名",{"$f":"[1]入力画面!J249&\"\"","v":""},"会社　電話番号",{"$f":"[1]入力画面!F249&\"\"","v":""},"会社　メールアドレス",{"$f":"[1]入力画面!H249&\"\"","v":""},"サービス提供期限",{"$f":"[1]入力画面!DZ249&\"\"","v":""},"利用可能曜日",{"$f":"[1]入力画面!EG249&\"\"","v":""},"利用時間帯",{"$f":"[1]入力画面!EL249&\"\"","v":""},"制度登録状況",null,null,null,null,null,null,null,null,null,null,null,null,null,{"$f":"[1]入力画面!R249&\"\"","v":""},{"$f":"[1]入力画面!S249&\"\"","v":""},{"$f":"[1]入力画面!T249&\"\"","v":""},{"$f":"[1]入力画面!U249&\"\"","v":""},{"$f":"[1]入力画面!ET41&\"\"","v":""},{"$f":"[1]入力画面!EU41&\"\"","v":""},{"$f":"[1]入力画面!EV41&\"\"","v":""},{"$f":"[1]入力画面!EW41&\"\"","v":""},{"$f":"[1]入力画面!EX41&\"\"","v":""},{"$f":"[1]入力画面!EY41&\"\"","v":""},{"$f":"[1]入力画面!EZ41&\"\"","v":""},{"$f":"[1]入力画面!FA41&\"\"","v":""},{"$f":"[1]入力画面!FB41&\"\"","v":""},{"$f":"[1]入力画面!FC41&\"\"","v":""},{"$f":"[1]入力画面!FD41&\"\"","v":""},{"$f":"[1]入力画面!FE41&\"\"","v":""},{"$f":"[1]入力画面!FF41&\"\"","v":""},{"$f":"[1]入力画面!FG41&\"\"","v":""},{"$f":"[1]入力画面!FH41&\"\"","v":""},{"$f":"[1]入力画面!FI41&\"\"","v":""}]
[null,null,"店舗・訪問系","さいたま市浦和区","民間",{"$f":"[1]入力画面!K263&\"\"","v":""},{"$f":"[1]入力画面!M263&\"\"","v":""},{"$f":"[1]入力画面!N263&\"\"","v":""},{"$f":"[1]入力画面!O263&\"\"","v":""},{"$f":"[1]入力画面!P263&\"\"","v":""},{"$f":"[1]入力画面!Q263&\"\"","v":""},{"$f":"[1]入力画面!BB263","v":""},{"$f":"[1]入力画面!DR263&\"\"","v":""},{"$f":"[1]入力画面!DW263&\"\"","v":""},{"$f":"[1]入力画面!DP263","v":""},{"$f":"[1]入力画面!DQ263&\"\"","v":""},{"$f":"[1]入力画面!DS263&\"\"","v":""},{"$f":"[1]入力画面!DT263&\"\"","v":""},{"$f":"[1]入力画面!DV263&\"\"","v":""},{"$f":"[1]入力画面!DU263&\"\"","v":""},{"$f":"[1]入力画面!DX263&\"\"","v":""},null,null,"特記事項 サービス情報入手ルート（情報提供者、連絡先等）",null,"会社　FAX番号",{"$f":"[1]入力画面!G263&\"\"","v":""},"会社　ホームページ",{"$f":"[1]入力画面!I263&\"\"","v":""},null,null,null,null,null,null,null,null,null,null,null,null,null,null,"サービス内容詳細",{"$f":"[1]入力画面!DY263&\"\"","v":""},"サービス提供期間",{"$f":"[1]入力画面!EA263&\"\"","v":""},"利用時間",{"$f":"[1]入力画面!EM263&\"\"","v":""},"備考",{"$f":"[1]入力画面!EB263&\"\"","v":""},"会社名/屋号/氏名",{"$f":"[1]入力画面!B263&\"\"","v":""},"会社　郵便番号",{"$f":"[1]入力画面!D263&\"\"","v":""},"会社　住所",{"$f":"[1]入力画面!E263&\"\"","v":""},"会社　担当部署・担当者名",{"$f":"[1]入力画面!J263&\"\"","v":""},"会社　電話番号",{"$f":"[1]入力画面!F263&\"\"","v":""},"会社　メールアドレス",{"$f":"[1]入力画面!H263&\"\"","v":""},"サービス提供期限",{"$f":"[1]入力画面!DZ263&\"\"","v":""},"利用可能曜日",{"$f":"[1]入力画面!EG263&\"\"","v":""},"利用時間帯",{"$f":"[1]入力画面!EL263&\"\"","v":""},"制度登録状況",null,null,null,null,null,null,null,null,null,null,null,null,null,{"$f":"[1]入力画面!R263&\"\"","v":""},{"$f":"[1]入力画面!S263&\"\"","v":""},{"$f":"[1]入力画面!T263&\"\"","v":""},{"$f":"[1]入力画面!U263&\"\"","v":""},{"$f":"[1]入力画面!ET42&\"\"","v":""},{"$f":"[1]入力画面!EU42&\"\"","v":""},{"$f":"[1]入力画面!EV42&\"\"","v":""},{"$f":"[1]入力画面!EW42&\"\"","v":""},{"$f":"[1]入力画面!EX42&\"\"","v":""},{"$f":"[1]入力画面!EY42&\"\"","v":""},{"$f":"[1]入力画面!EZ42&\"\"","v":""},{"$f":"[1]入力画面!FA42&\"\"","v":""},{"$f":"[1]入力画面!FB42&\"\"","v":""},{"$f":"[1]入力画面!FC42&\"\"","v":""},{"$f":"[1]入力画面!FD42&\"\"","v":""},{"$f":"[1]入力画面!FE42&\"\"","v":""},{"$f":"[1]入力画面!FF42&\"\"","v":""},{"$f":"[1]入力画面!FG42&\"\"","v":""},{"$f":"[1]入力画面!FH42&\"\"","v":""},{"$f":"[1]入力画面!FI42&\"\"","v":""}]
[null,null,"店舗・訪問系","さいたま市浦和区","民間",{"$f":"[1]入力画面!K277&\"\"","v":""},{"$f":"[1]入力画面!M277&\"\"","v":""},{"$f":"[1]入力画面!N277&\"\"","v":""},{"$f":"[1]入力画面!O277&\"\"","v":""},{"$f":"[1]入力画面!P277&\"\"","v":""},{"$f":"[1]入力画面!Q277&\"\"","v":""},{"$f":"[1]入力画面!BB277","v":""},{"$f":"[1]入力画面!DR277&\"\"","v":""},{"$f":"[1]入力画面!DW277&\"\"","v":""},{"$f":"[1]入力画面!DP277","v":""},{"$f":"[1]入力画面!DQ277&\"\"","v":""},{"$f":"[1]入力画面!DS277&\"\"","v":""},{"$f":"[1]入力画面!DT277&\"\"","v":""},{"$f":"[1]入力画面!DV277&\"\"","v":""},{"$f":"[1]入力画面!DU277&\"\"","v":""},{"$f":"[1]入力画面!DX277&\"\"","v":""},null,null,"特記事項 サービス情報入手ルート（情報提供者、連絡先等）",null,"会社　FAX番号",{"$f":"[1]入力画面!G277&\"\"","v":""},"会社　ホームページ",{"$f":"[1]入力画面!I277&\"\"","v":""},null,null,null,null,null,null,null,null,null,null,null,null,null,null,"サービス内容詳細",{"$f":"[1]入力画面!DY277&\"\"","v":""},"サービス提供期間",{"$f":"[1]入力画面!EA277&\"\"","v":""},"利用時間",{"$f":"[1]入力画面!EM277&\"\"","v":""},"備考",{"$f":"[1]入力画面!EB277&\"\"","v":""},"会社名/屋号/氏名",{"$f":"[1]入力画面!B277&\"\"","v":""},"会社　郵便番号",{"$f":"[1]入力画面!D277&\"\"","v":""},"会社　住所",{"$f":"[1]入力画面!E277&\"\"","v":""},"会社　担当部署・担当者名",{"$f":"[1]入力画面!J277&\"\"","v":""},"会社　電話番号",{"$f":"[1]入力画面!F277&\"\"","v":""},"会社　メールアドレス",{"$f":"[1]入力画面!H277&\"\"","v":""},"サービス提供期限",{"$f":"[1]入力画面!DZ277&\"\"","v":""},"利用可能曜日",{"$f":"[1]入力画面!EG277&\"\"","v":""},"利用時間帯",{"$f":"[1]入力画面!EL277&\"\"","v":""},"制度登録状況",null,null,null,null,null,null,null,null,null,null,null,null,null,{"$f":"[1]入力画面!R277&\"\"","v":""},{"$f":"[1]入力画面!S277&\"\"","v":""},{"$f":"[1]入力画面!T277&\"\"","v":""},{"$f":"[1]入力画面!U277&\"\"","v":""},{"$f":"[1]入力画面!ET43&\"\"","v":""},{"$f":"[1]入力画面!EU43&\"\"","v":""},{"$f":"[1]入力画面!EV43&\"\"","v":""},{"$f":"[1]入力画面!EW43&\"\"","v":""},{"$f":"[1]入力画面!EX43&\"\"","v":""},{"$f":"[1]入力画面!EY43&\"\"","v":""},{"$f":"[1]入力画面!EZ43&\"\"","v":""},{"$f":"[1]入力画面!FA43&\"\"","v":""},{"$f":"[1]入力画面!FB43&\"\"","v":""},{"$f":"[1]入力画面!FC43&\"\"","v":""},{"$f":"[1]入力画面!FD43&\"\"","v":""},{"$f":"[1]入力画面!FE43&\"\"","v":""},{"$f":"[1]入力画面!FF43&\"\"","v":""},{"$f":"[1]入力画面!FG43&\"\"","v":""},{"$f":"[1]入力画面!FH43&\"\"","v":""},{"$f":"[1]入力画面!FI43&\"\"","v":""}]
[null,null,"店舗・訪問系","さいたま市浦和区","民間",{"$f":"[1]入力画面!K291&\"\"","v":""},{"$f":"[1]入力画面!M291&\"\"","v":""},{"$f":"[1]入力画面!N291&\"\"","v":""},{"$f":"[1]入力画面!O291&\"\"","v":""},{"$f":"[1]入力画面!P291&\"\"","v":""},{"$f":"[1]入力画面!Q291&\"\"","v":""},{"$f":"[1]入力画面!BB291","v":""},{"$f":"[1]入力画面!DR291&\"\"","v":""},{"$f":"[1]入力画面!DW291&\"\"","v":""},{"$f":"[1]入力画面!DP291","v":""},{"$f":"[1]入力画面!DQ291&\"\"","v":""},{"$f":"[1]入力画面!DS291&\"\"","v":""},{"$f":"[1]入力画面!DT291&\"\"","v":""},{"$f":"[1]入力画面!DV291&\"\"","v":""},{"$f":"[1]入力画面!DU291&\"\"","v":""},{"$f":"[1]入力画面!DX291&\"\"","v":""},null,null,"特記事項 サービス情報入手ルート（情報提供者、連絡先等）",null,"会社　FAX番号",{"$f":"[1]入力画面!G291&\"\"","v":""},"会社　ホームページ",{"$f":"[1]入力画面!I291&\"\"","v":""},null,null,null,null,null,null,null,null,null,null,null,null,null,null,"サービス内容詳細",{"$f":"[1]入力画面!DY291&\"\"","v":""},"サービス提供期間",{"$f":"[1]入力画面!EA291&\"\"","v":""},"利用時間",{"$f":"[1]入力画面!EM291&\"\"","v":""},"備考",{"$f":"[1]入力画面!EB291&\"\"","v":""},"会社名/屋号/氏名",{"$f":"[1]入力画面!B291&\"\"","v":""},"会社　郵便番号",{"$f":"[1]入力画面!D291&\"\"","v":""},"会社　住所",{"$f":"[1]入力画面!E291&\"\"","v":""},"会社　担当部署・担当者名",{"$f":"[1]入力画面!J291&\"\"","v":""},"会社　電話番号",{"$f":"[1]入力画面!F291&\"\"","v":""},"会社　メールアドレス",{"$f":"[1]入力画面!H291&\"\"","v":""},"サービス提供期限",{"$f":"[1]入力画面!DZ291&\"\"","v":""},"利用可能曜日",{"$f":"[1]入力画面!EG291&\"\"","v":""},"利用時間帯",{"$f":"[1]入力画面!EL291&\"\"","v":""},"制度登録状況",null,null,null,null,null,null,null,null,null,null,null,null,null,{"$f":"[1]入力画面!R291&\"\"","v":""},{"$f":"[1]入力画面!S291&\"\"","v":""},{"$f":"[1]入力画面!T291&\"\"","v":""},{"$f":"[1]入力画面!U291&\"\"","v":""},{"$f":"[1]入力画面!ET44&\"\"","v":""},{"$f":"[1]入力画面!EU44&\"\"","v":""},{"$f":"[1]入力画面!EV44&\"\"","v":""},{"$f":"[1]入力画面!EW44&\"\"","v":""},{"$f":"[1]入力画面!EX44&\"\"","v":""},{"$f":"[1]入力画面!EY44&\"\"","v":""},{"$f":"[1]入力画面!EZ44&\"\"","v":""},{"$f":"[1]入力画面!FA44&\"\"","v":""},{"$f":"[1]入力画面!FB44&\"\"","v":""},{"$f":"[1]入力画面!FC44&\"\"","v":""},{"$f":"[1]入力画面!FD44&\"\"","v":""},{"$f":"[1]入力画面!FE44&\"\"","v":""},{"$f":"[1]入力画面!FF44&\"\"","v":""},{"$f":"[1]入力画面!FG44&\"\"","v":""},{"$f":"[1]入力画面!FH44&\"\"","v":""},{"$f":"[1]入力画面!FI44&\"\"","v":""}]
[null,null,"店舗・訪問系","さいたま市浦和区","民間",{"$f":"[1]入力画面!K305&\"\"","v":""},{"$f":"[1]入力画面!M305&\"\"","v":""},{"$f":"[1]入力画面!N305&\"\"","v":""},{"$f":"[1]入力画面!O305&\"\"","v":""},{"$f":"[1]入力画面!P305&\"\"","v":""},{"$f":"[1]入力画面!Q305&\"\"","v":""},{"$f":"[1]入力画面!BB305","v":""},{"$f":"[1]入力画面!DR305&\"\"","v":""},{"$f":"[1]入力画面!DW305&\"\"","v":""},{"$f":"[1]入力画面!DP305","v":""},{"$f":"[1]入力画面!DQ305&\"\"","v":""},{"$f":"[1]入力画面!DS305&\"\"","v":""},{"$f":"[1]入力画面!DT305&\"\"","v":""},{"$f":"[1]入力画面!DV305&\"\"","v":""},{"$f":"[1]入力画面!DU305&\"\"","v":""},{"$f":"[1]入力画面!DX305&\"\"","v":""},null,null,"特記事項 サービス情報入手ルート（情報提供者、連絡先等）",null,"会社　FAX番号",{"$f":"[1]入力画面!G305&\"\"","v":""},"会社　ホームページ",{"$f":"[1]入力画面!I305&\"\"","v":""},null,null,null,null,null,null,null,null,null,null,null,null,null,null,"サービス内容詳細",{"$f":"[1]入力画面!DY305&\"\"","v":""},"サービス提供期間",{"$f":"[1]入力画面!EA305&\"\"","v":""},"利用時間",{"$f":"[1]入力画面!EM305&\"\"","v":""},"備考",{"$f":"[1]入力画面!EB305&\"\"","v":""},"会社名/屋号/氏名",{"$f":"[1]入力画面!B305&\"\"","v":""},"会社　郵便番号",{"$f":"[1]入力画面!D305&\"\"","v":""},"会社　住所",{"$f":"[1]入力画面!E305&\"\"","v":""},"会社　担当部署・担当者名",{"$f":"[1]入力画面!J305&\"\"","v":""},"会社　電話番号",{"$f":"[1]入力画面!F305&\"\"","v":""},"会社　メールアドレス",{"$f":"[1]入力画面!H305&\"\"","v":""},"サービス提供期限",{"$f":"[1]入力画面!DZ305&\"\"","v":""},"利用可能曜日",{"$f":"[1]入力画面!EG305&\"\"","v":""},"利用時間帯",{"$f":"[1]入力画面!EL305&\"\"","v":""},"制度登録状況",null,null,null,null,null,null,null,null,null,null,null,null,null,{"$f":"[1]入力画面!R305&\"\"","v":""},{"$f":"[1]入力画面!S305&\"\"","v":""},{"$f":"[1]入力画面!T305&\"\"","v":""},{"$f":"[1]入力画面!U305&\"\"","v":""},{"$f":"[1]入力画面!ET45&\"\"","v":""},{"$f":"[1]入力画面!EU45&\"\"","v":""},{"$f":"[1]入力画面!EV45&\"\"","v":""},{"$f":"[1]入力画面!EW45&\"\"","v":""},{"$f":"[1]入力画面!EX45&\"\"","v":""},{"$f":"[1]入力画面!EY45&\"\"","v":""},{"$f":"[1]入力画面!EZ45&\"\"","v":""},{"$f":"[1]入力画面!FA45&\"\"","v":""},{"$f":"[1]入力画面!FB45&\"\"","v":""},{"$f":"[1]入力画面!FC45&\"\"","v":""},{"$f":"[1]入力画面!FD45&\"\"","v":""},{"$f":"[1]入力画面!FE45&\"\"","v":""},{"$f":"[1]入力画面!FF45&\"\"","v":""},{"$f":"[1]入力画面!FG45&\"\"","v":""},{"$f":"[1]入力画面!FH45&\"\"","v":""},{"$f":"[1]入力画面!FI45&\"\"","v":""}]
[null,null,"店舗・訪問系","さいたま市浦和区","民間",{"$f":"[1]入力画面!K319&\"\"","v":""},{"$f":"[1]入力画面!M319&\"\"","v":""},{"$f":"[1]入力画面!N319&\"\"","v":""},{"$f":"[1]入力画面!O319&\"\"","v":""},{"$f":"[1]入力画面!P319&\"\"","v":""},{"$f":"[1]入力画面!Q319&\"\"","v":""},{"$f":"[1]入力画面!BB319","v":""},{"$f":"[1]入力画面!DR319&\"\"","v":""},{"$f":"[1]入力画面!DW319&\"\"","v":""},{"$f":"[1]入力画面!DP319","v":""},{"$f":"[1]入力画面!DQ319&\"\"","v":""},{"$f":"[1]入力画面!DS319&\"\"","v":""},{"$f":"[1]入力画面!DT319&\"\"","v":""},{"$f":"[1]入力画面!DV319&\"\"","v":""},{"$f":"[1]入力画面!DU319&\"\"","v":""},{"$f":"[1]入力画面!DX319&\"\"","v":""},null,null,"特記事項 サービス情報入手ルート（情報提供者、連絡先等）",null,"会社　FAX番号",{"$f":"[1]入力画面!G319&\"\"","v":""},"会社　ホームページ",{"$f":"[1]入力画面!I319&\"\"","v":""},null,null,null,null,null,null,null,null,null,null,null,null,null,null,"サービス内容詳細",{"$f":"[1]入力画面!DY319&\"\"","v":""},"サービス提供期間",{"$f":"[1]入力画面!EA319&\"\"","v":""},"利用時間",{"$f":"[1]入力画面!EM319&\"\"","v":""},"備考",{"$f":"[1]入力画面!EB319&\"\"","v":""},"会社名/屋号/氏名",{"$f":"[1]入力画面!B319&\"\"","v":""},"会社　郵便番号",{"$f":"[1]入力画面!D319&\"\"","v":""},"会社　住所",{"$f":"[1]入力画面!E319&\"\"","v":""},"会社　担当部署・担当者名",{"$f":"[1]入力画面!J319&\"\"","v":""},"会社　電話番号",{"$f":"[1]入力画面!F319&\"\"","v":""},"会社　メールアドレス",{"$f":"[1]入力画面!H319&\"\"","v":""},"サービス提供期限",{"$f":"[1]入力画面!DZ319&\"\"","v":""},"利用可能曜日",{"$f":"[1]入力画面!EG319&\"\"","v":""},"利用時間帯",{"$f":"[1]入力画面!EL319&\"\"","v":""},"制度登録状況",null,null,null,null,null,null,null,null,null,null,null,null,null,{"$f":"[1]入力画面!R319&\"\"","v":""},{"$f":"[1]入力画面!S319&\"\"","v":""},{"$f":"[1]入力画面!T319&\"\"","v":""},{"$f":"[1]入力画面!U319&\"\"","v":""},{"$f":"[1]入力画面!ET46&\"\"","v":""},{"$f":"[1]入力画面!EU46&\"\"","v":""},{"$f":"[1]入力画面!EV46&\"\"","v":""},{"$f":"[1]入力画面!EW46&\"\"","v":""},{"$f":"[1]入力画面!EX46&\"\"","v":""},{"$f":"[1]入力画面!EY46&\"\"","v":""},{"$f":"[1]入力画面!EZ46&\"\"","v":""},{"$f":"[1]入力画面!FA46&\"\"","v":""},{"$f":"[1]入力画面!FB46&\"\"","v":""},{"$f":"[1]入力画面!FC46&\"\"","v":""},{"$f":"[1]入力画面!FD46&\"\"","v":""},{"$f":"[1]入力画面!FE46&\"\"","v":""},{"$f":"[1]入力画面!FF46&\"\"","v":""},{"$f":"[1]入力画面!FG46&\"\"","v":""},{"$f":"[1]入力画面!FH46&\"\"","v":""},{"$f":"[1]入力画面!FI46&\"\"","v":""}]
[null,null,"店舗・訪問系","さいたま市浦和区","民間",{"$f":"[1]入力画面!K333&\"\"","v":""},{"$f":"[1]入力画面!M333&\"\"","v":""},{"$f":"[1]入力画面!N333&\"\"","v":""},{"$f":"[1]入力画面!O333&\"\"","v":""},{"$f":"[1]入力画面!P333&\"\"","v":""},{"$f":"[1]入力画面!Q333&\"\"","v":""},{"$f":"[1]入力画面!BB333","v":""},{"$f":"[1]入力画面!DR333&\"\"","v":""},{"$f":"[1]入力画面!DW333&\"\"","v":""},{"$f":"[1]入力画面!DP333","v":""},{"$f":"[1]入力画面!DQ333&\"\"","v":""},{"$f":"[1]入力画面!DS333&\"\"","v":""},{"$f":"[1]入力画面!DT333&\"\"","v":""},{"$f":"[1]入力画面!DV333&\"\"","v":""},{"$f":"[1]入力画面!DU333&\"\"","v":""},{"$f":"[1]入力画面!DX333&\"\"","v":""},null,null,"特記事項 サービス情報入手ルート（情報提供者、連絡先等）",null,"会社　FAX番号",{"$f":"[1]入力画面!G333&\"\"","v":""},"会社　ホームページ",{"$f":"[1]入力画面!I333&\"\"","v":""},null,null,null,null,null,null,null,null,null,null,null,null,null,null,"サービス内容詳細",{"$f":"[1]入力画面!DY333&\"\"","v":""},"サービス提供期間",{"$f":"[1]入力画面!EA333&\"\"","v":""},"利用時間",{"$f":"[1]入力画面!EM333&\"\"","v":""},"備考",{"$f":"[1]入力画面!EB333&\"\"","v":""},"会社名/屋号/氏名",{"$f":"[1]入力画面!B333&\"\"","v":""},"会社　郵便番号",{"$f":"[1]入力画面!D333&\"\"","v":""},"会社　住所",{"$f":"[1]入力画面!E333&\"\"","v":""},"会社　担当部署・担当者名",{"$f":"[1]入力画面!J333&\"\"","v":""},"会社　電話番号",{"$f":"[1]入力画面!F333&\"\"","v":""},"会社　メールアドレス",{"$f":"[1]入力画面!H333&\"\"","v":""},"サービス提供期限",{"$f":"[1]入力画面!DZ333&\"\"","v":""},"利用可能曜日",{"$f":"[1]入力画面!EG333&\"\"","v":""},"利用時間帯",{"$f":"[1]入力画面!EL333&\"\"","v":""},"制度登録状況",null,null,null,null,null,null,null,null,null,null,null,null,null,{"$f":"[1]入力画面!R333&\"\"","v":""},{"$f":"[1]入力画面!S333&\"\"","v":""},{"$f":"[1]入力画面!T333&\"\"","v":""},{"$f":"[1]入力画面!U333&\"\"","v":""},{"$f":"[1]入力画面!ET47&\"\"","v":""},{"$f":"[1]入力画面!EU47&\"\"","v":""},{"$f":"[1]入力画面!EV47&\"\"","v":""},{"$f":"[1]入力画面!EW47&\"\"","v":""},{"$f":"[1]入力画面!EX47&\"\"","v":""},{"$f":"[1]入力画面!EY47&\"\"","v":""},{"$f":"[1]入力画面!EZ47&\"\"","v":""},{"$f":"[1]入力画面!FA47&\"\"","v":""},{"$f":"[1]入力画面!FB47&\"\"","v":""},{"$f":"[1]入力画面!FC47&\"\"","v":""},{"$f":"[1]入力画面!FD47&\"\"","v":""},{"$f":"[1]入力画面!FE47&\"\"","v":""},{"$f":"[1]入力画面!FF47&\"\"","v":""},{"$f":"[1]入力画面!FG47&\"\"","v":""},{"$f":"[1]入力画面!FH47&\"\"","v":""},{"$f":"[1]入力画面!FI47&\"\"","v":""}]
[null,null,"店舗・訪問系","さいたま市浦和区","民間",{"$f":"[1]入力画面!K347&\"\"","v":""},{"$f":"[1]入力画面!M347&\"\"","v":""},{"$f":"[1]入力画面!N347&\"\"","v":""},{"$f":"[1]入力画面!O347&\"\"","v":""},{"$f":"[1]入力画面!P347&\"\"","v":""},{"$f":"[1]入力画面!Q347&\"\"","v":""},{"$f":"[1]入力画面!BB347","v":""},{"$f":"[1]入力画面!DR347&\"\"","v":""},{"$f":"[1]入力画面!DW347&\"\"","v":""},{"$f":"[1]入力画面!DP347","v":""},{"$f":"[1]入力画面!DQ347&\"\"","v":""},{"$f":"[1]入力画面!DS347&\"\"","v":""},{"$f":"[1]入力画面!DT347&\"\"","v":""},{"$f":"[1]入力画面!DV347&\"\"","v":""},{"$f":"[1]入力画面!DU347&\"\"","v":""},{"$f":"[1]入力画面!DX347&\"\"","v":""},null,null,"特記事項 サービス情報入手ルート（情報提供者、連絡先等）",null,"会社　FAX番号",{"$f":"[1]入力画面!G347&\"\"","v":""},"会社　ホームページ",{"$f":"[1]入力画面!I347&\"\"","v":""},null,null,null,null,null,null,null,null,null,null,null,null,null,null,"サービス内容詳細",{"$f":"[1]入力画面!DY347&\"\"","v":""},"サービス提供期間",{"$f":"[1]入力画面!EA347&\"\"","v":""},"利用時間",{"$f":"[1]入力画面!EM347&\"\"","v":""},"備考",{"$f":"[1]入力画面!EB347&\"\"","v":""},"会社名/屋号/氏名",{"$f":"[1]入力画面!B347&\"\"","v":""},"会社　郵便番号",{"$f":"[1]入力画面!D347&\"\"","v":""},"会社　住所",{"$f":"[1]入力画面!E347&\"\"","v":""},"会社　担当部署・担当者名",{"$f":"[1]入力画面!J347&\"\"","v":""},"会社　電話番号",{"$f":"[1]入力画面!F347&\"\"","v":""},"会社　メールアドレス",{"$f":"[1]入力画面!H347&\"\"","v":""},"サービス提供期限",{"$f":"[1]入力画面!DZ347&\"\"","v":""},"利用可能曜日",{"$f":"[1]入力画面!EG347&\"\"","v":""},"利用時間帯",{"$f":"[1]入力画面!EL347&\"\"","v":""},"制度登録状況",null,null,null,null,null,null,null,null,null,null,null,null,null,{"$f":"[1]入力画面!R347&\"\"","v":""},{"$f":"[1]入力画面!S347&\"\"","v":""},{"$f":"[1]入力画面!T347&\"\"","v":""},{"$f":"[1]入力画面!U347&\"\"","v":""},{"$f":"[1]入力画面!ET48&\"\"","v":""},{"$f":"[1]入力画面!EU48&\"\"","v":""},{"$f":"[1]入力画面!EV48&\"\"","v":""},{"$f":"[1]入力画面!EW48&\"\"","v":""},{"$f":"[1]入力画面!EX48&\"\"","v":""},{"$f":"[1]入力画面!EY48&\"\"","v":""},{"$f":"[1]入力画面!EZ48&\"\"","v":""},{"$f":"[1]入力画面!FA48&\"\"","v":""},{"$f":"[1]入力画面!FB48&\"\"","v":""},{"$f":"[1]入力画面!FC48&\"\"","v":""},{"$f":"[1]入力画面!FD48&\"\"","v":""},{"$f":"[1]入力画面!FE48&\"\"","v":""},{"$f":"[1]入力画面!FF48&\"\"","v":""},{"$f":"[1]入力画面!FG48&\"\"","v":""},{"$f":"[1]入力画面!FH48&\"\"","v":""},{"$f":"[1]入力画面!FI48&\"\"","v":""}]
[null,null,"店舗・訪問系","さいたま市浦和区","民間",{"$f":"[1]入力画面!K361&\"\"","v":""},{"$f":"[1]入力画面!M361&\"\"","v":""},{"$f":"[1]入力画面!N361&\"\"","v":""},{"$f":"[1]入力画面!O361&\"\"","v":""},{"$f":"[1]入力画面!P361&\"\"","v":""},{"$f":"[1]入力画面!Q361&\"\"","v":""},{"$f":"[1]入力画面!BB361","v":""},{"$f":"[1]入力画面!DR361&\"\"","v":""},{"$f":"[1]入力画面!DW361&\"\"","v":""},{"$f":"[1]入力画面!DP361","v":""},{"$f":"[1]入力画面!DQ361&\"\"","v":""},{"$f":"[1]入力画面!DS361&\"\"","v":""},{"$f":"[1]入力画面!DT361&\"\"","v":""},{"$f":"[1]入力画面!DV361&\"\"","v":""},{"$f":"[1]入力画面!DU361&\"\"","v":""},{"$f":"[1]入力画面!DX361&\"\"","v":""},null,null,"特記事項 サービス情報入手ルート（情報提供者、連絡先等）",null,"会社　FAX番号",{"$f":"[1]入力画面!G361&\"\"","v":""},"会社　ホームページ",{"$f":"[1]入力画面!I361&\"\"","v":""},null,null,null,null,null,null,null,null,null,null,null,null,null,null,"サービス内容詳細",{"$f":"[1]入力画面!DY361&\"\"","v":""},"サービス提供期間",{"$f":"[1]入力画面!EA361&\"\"","v":""},"利用時間",{"$f":"[1]入力画面!EM361&\"\"","v":""},"備考",{"$f":"[1]入力画面!EB361&\"\"","v":""},"会社名/屋号/氏名",{"$f":"[1]入力画面!B361&\"\"","v":""},"会社　郵便番号",{"$f":"[1]入力画面!D361&\"\"","v":""},"会社　住所",{"$f":"[1]入力画面!E361&\"\"","v":""},"会社　担当部署・担当者名",{"$f":"[1]入力画面!J361&\"\"","v":""},"会社　電話番号",{"$f":"[1]入力画面!F361&\"\"","v":""},"会社　メールアドレス",{"$f":"[1]入力画面!H361&\"\"","v":""},"サービス提供期限",{"$f":"[1]入力画面!DZ361&\"\"","v":""},"利用可能曜日",{"$f":"[1]入力画面!EG361&\"\"","v":""},"利用時間帯",{"$f":"[1]入力画面!EL361&\"\"","v":""},"制度登録状況",null,null,null,null,null,null,null,null,null,null,null,null,null,{"$f":"[1]入力画面!R361&\"\"","v":""},{"$f":"[1]入力画面!S361&\"\"","v":""},{"$f":"[1]入力画面!T361&\"\"","v":""},{"$f":"[1]入力画面!U361&\"\"","v":""},{"$f":"[1]入力画面!ET49&\"\"","v":""},{"$f":"[1]入力画面!EU49&\"\"","v":""},{"$f":"[1]入力画面!EV49&\"\"","v":""},{"$f":"[1]入力画面!EW49&\"\"","v":""},{"$f":"[1]入力画面!EX49&\"\"","v":""},{"$f":"[1]入力画面!EY49&\"\"","v":""},{"$f":"[1]入力画面!EZ49&\"\"","v":""},{"$f":"[1]入力画面!FA49&\"\"","v":""},{"$f":"[1]入力画面!FB49&\"\"","v":""},{"$f":"[1]入力画面!FC49&\"\"","v":""},{"$f":"[1]入力画面!FD49&\"\"","v":""},{"$f":"[1]入力画面!FE49&\"\"","v":""},{"$f":"[1]入力画面!FF49&\"\"","v":""},{"$f":"[1]入力画面!FG49&\"\"","v":""},{"$f":"[1]入力画面!FH49&\"\"","v":""},{"$f":"[1]入力画面!FI49&\"\"","v":""}]
[null,null,"店舗・訪問系","さいたま市浦和区","民間",{"$f":"[1]入力画面!K375&\"\"","v":""},{"$f":"[1]入力画面!M375&\"\"","v":""},{"$f":"[1]入力画面!N375&\"\"","v":""},{"$f":"[1]入力画面!O375&\"\"","v":""},{"$f":"[1]入力画面!P375&\"\"","v":""},{"$f":"[1]入力画面!Q375&\"\"","v":""},{"$f":"[1]入力画面!BB375","v":""},{"$f":"[1]入力画面!DR375&\"\"","v":""},{"$f":"[1]入力画面!DW375&\"\"","v":""},{"$f":"[1]入力画面!DP375","v":""},{"$f":"[1]入力画面!DQ375&\"\"","v":""},{"$f":"[1]入力画面!DS375&\"\"","v":""},{"$f":"[1]入力画面!DT375&\"\"","v":""},{"$f":"[1]入力画面!DV375&\"\"","v":""},{"$f":"[1]入力画面!DU375&\"\"","v":""},{"$f":"[1]入力画面!DX375&\"\"","v":""},null,null,"特記事項 サービス情報入手ルート（情報提供者、連絡先等）",null,"会社　FAX番号",{"$f":"[1]入力画面!G375&\"\"","v":""},"会社　ホームページ",{"$f":"[1]入力画面!I375&\"\"","v":""},null,null,null,null,null,null,null,null,null,null,null,null,null,null,"サービス内容詳細",{"$f":"[1]入力画面!DY375&\"\"","v":""},"サービス提供期間",{"$f":"[1]入力画面!EA375&\"\"","v":""},"利用時間",{"$f":"[1]入力画面!EM375&\"\"","v":""},"備考",{"$f":"[1]入力画面!EB375&\"\"","v":""},"会社名/屋号/氏名",{"$f":"[1]入力画面!B375&\"\"","v":""},"会社　郵便番号",{"$f":"[1]入力画面!D375&\"\"","v":""},"会社　住所",{"$f":"[1]入力画面!E375&\"\"","v":""},"会社　担当部署・担当者名",{"$f":"[1]入力画面!J375&\"\"","v":""},"会社　電話番号",{"$f":"[1]入力画面!F375&\"\"","v":""},"会社　メールアドレス",{"$f":"[1]入力画面!H375&\"\"","v":""},"サービス提供期限",{"$f":"[1]入力画面!DZ375&\"\"","v":""},"利用可能曜日",{"$f":"[1]入力画面!EG375&\"\"","v":""},"利用時間帯",{"$f":"[1]入力画面!EL375&\"\"","v":""},"制度登録状況",null,null,null,null,null,null,null,null,null,null,null,null,null,{"$f":"[1]入力画面!R375&\"\"","v":""},{"$f":"[1]入力画面!S375&\"\"","v":""},{"$f":"[1]入力画面!T375&\"\"","v":""},{"$f":"[1]入力画面!U375&\"\"","v":""},{"$f":"[1]入力画面!ET50&\"\"","v":""},{"$f":"[1]入力画面!EU50&\"\"","v":""},{"$f":"[1]入力画面!EV50&\"\"","v":""},{"$f":"[1]入力画面!EW50&\"\"","v":""},{"$f":"[1]入力画面!EX50&\"\"","v":""},{"$f":"[1]入力画面!EY50&\"\"","v":""},{"$f":"[1]入力画面!EZ50&\"\"","v":""},{"$f":"[1]入力画面!FA50&\"\"","v":""},{"$f":"[1]入力画面!FB50&\"\"","v":""},{"$f":"[1]入力画面!FC50&\"\"","v":""},{"$f":"[1]入力画面!FD50&\"\"","v":""},{"$f":"[1]入力画面!FE50&\"\"","v":""},{"$f":"[1]入力画面!FF50&\"\"","v":""},{"$f":"[1]入力画面!FG50&\"\"","v":""},{"$f":"[1]入力画面!FH50&\"\"","v":""},{"$f":"[1]入力画面!FI50&\"\"","v":""}]
[null,null,"店舗・訪問系","さいたま市浦和区","民間",{"$f":"[1]入力画面!K389&\"\"","v":""},{"$f":"[1]入力画面!M389&\"\"","v":""},{"$f":"[1]入力画面!N389&\"\"","v":""},{"$f":"[1]入力画面!O389&\"\"","v":""},{"$f":"[1]入力画面!P389&\"\"","v":""},{"$f":"[1]入力画面!Q389&\"\"","v":""},{"$f":"[1]入力画面!BB389","v":""},{"$f":"[1]入力画面!DR389&\"\"","v":""},{"$f":"[1]入力画面!DW389&\"\"","v":""},{"$f":"[1]入力画面!DP389","v":""},{"$f":"[1]入力画面!DQ389&\"\"","v":""},{"$f":"[1]入力画面!DS389&\"\"","v":""},{"$f":"[1]入力画面!DT389&\"\"","v":""},{"$f":"[1]入力画面!DV389&\"\"","v":""},{"$f":"[1]入力画面!DU389&\"\"","v":""},{"$f":"[1]入力画面!DX389&\"\"","v":""},null,null,"特記事項 サービス情報入手ルート（情報提供者、連絡先等）",null,"会社　FAX番号",{"$f":"[1]入力画面!G389&\"\"","v":""},"会社　ホームページ",{"$f":"[1]入力画面!I389&\"\"","v":""},null,null,null,null,null,null,null,null,null,null,null,null,null,null,"サービス内容詳細",{"$f":"[1]入力画面!DY389&\"\"","v":""},"サービス提供期間",{"$f":"[1]入力画面!EA389&\"\"","v":""},"利用時間",{"$f":"[1]入力画面!EM389&\"\"","v":""},"備考",{"$f":"[1]入力画面!EB389&\"\"","v":""},"会社名/屋号/氏名",{"$f":"[1]入力画面!B389&\"\"","v":""},"会社　郵便番号",{"$f":"[1]入力画面!D389&\"\"","v":""},"会社　住所",{"$f":"[1]入力画面!E389&\"\"","v":""},"会社　担当部署・担当者名",{"$f":"[1]入力画面!J389&\"\"","v":""},"会社　電話番号",{"$f":"[1]入力画面!F389&\"\"","v":""},"会社　メールアドレス",{"$f":"[1]入力画面!H389&\"\"","v":""},"サービス提供期限",{"$f":"[1]入力画面!DZ389&\"\"","v":""},"利用可能曜日",{"$f":"[1]入力画面!EG389&\"\"","v":""},"利用時間帯",{"$f":"[1]入力画面!EL389&\"\"","v":""},"制度登録状況",null,null,null,null,null,null,null,null,null,null,null,null,null,{"$f":"[1]入力画面!R389&\"\"","v":""},{"$f":"[1]入力画面!S389&\"\"","v":""},{"$f":"[1]入力画面!T389&\"\"","v":""},{"$f":"[1]入力画面!U389&\"\"","v":""},{"$f":"[1]入力画面!ET51&\"\"","v":""},{"$f":"[1]入力画面!EU51&\"\"","v":""},{"$f":"[1]入力画面!EV51&\"\"","v":""},{"$f":"[1]入力画面!EW51&\"\"","v":""},{"$f":"[1]入力画面!EX51&\"\"","v":""},{"$f":"[1]入力画面!EY51&\"\"","v":""},{"$f":"[1]入力画面!EZ51&\"\"","v":""},{"$f":"[1]入力画面!FA51&\"\"","v":""},{"$f":"[1]入力画面!FB51&\"\"","v":""},{"$f":"[1]入力画面!FC51&\"\"","v":""},{"$f":"[1]入力画面!FD51&\"\"","v":""},{"$f":"[1]入力画面!FE51&\"\"","v":""},{"$f":"[1]入力画面!FF51&\"\"","v":""},{"$f":"[1]入力画面!FG51&\"\"","v":""},{"$f":"[1]入力画面!FH51&\"\"","v":""},{"$f":"[1]入力画面!FI51&\"\"","v":""}]
[null,null,"店舗・訪問系","さいたま市浦和区","民間",{"$f":"[1]入力画面!K403&\"\"","v":""},{"$f":"[1]入力画面!M403&\"\"","v":""},{"$f":"[1]入力画面!N403&\"\"","v":""},{"$f":"[1]入力画面!O403&\"\"","v":""},{"$f":"[1]入力画面!P403&\"\"","v":""},{"$f":"[1]入力画面!Q403&\"\"","v":""},{"$f":"[1]入力画面!BB403","v":""},{"$f":"[1]入力画面!DR403&\"\"","v":""},{"$f":"[1]入力画面!DW403&\"\"","v":""},{"$f":"[1]入力画面!DP403","v":""},{"$f":"[1]入力画面!DQ403&\"\"","v":""},{"$f":"[1]入力画面!DS403&\"\"","v":""},{"$f":"[1]入力画面!DT403&\"\"","v":""},{"$f":"[1]入力画面!DV403&\"\"","v":""},{"$f":"[1]入力画面!DU403&\"\"","v":""},{"$f":"[1]入力画面!DX403&\"\"","v":""},null,null,"特記事項 サービス情報入手ルート（情報提供者、連絡先等）",null,"会社　FAX番号",{"$f":"[1]入力画面!G403&\"\"","v":""},"会社　ホームページ",{"$f":"[1]入力画面!I403&\"\"","v":""},null,null,null,null,null,null,null,null,null,null,null,null,null,null,"サービス内容詳細",{"$f":"[1]入力画面!DY403&\"\"","v":""},"サービス提供期間",{"$f":"[1]入力画面!EA403&\"\"","v":""},"利用時間",{"$f":"[1]入力画面!EM403&\"\"","v":""},"備考",{"$f":"[1]入力画面!EB403&\"\"","v":""},"会社名/屋号/氏名",{"$f":"[1]入力画面!B403&\"\"","v":""},"会社　郵便番号",{"$f":"[1]入力画面!D403&\"\"","v":""},"会社　住所",{"$f":"[1]入力画面!E403&\"\"","v":""},"会社　担当部署・担当者名",{"$f":"[1]入力画面!J403&\"\"","v":""},"会社　電話番号",{"$f":"[1]入力画面!F403&\"\"","v":""},"会社　メールアドレス",{"$f":"[1]入力画面!H403&\"\"","v":""},"サービス提供期限",{"$f":"[1]入力画面!DZ403&\"\"","v":""},"利用可能曜日",{"$f":"[1]入力画面!EG403&\"\"","v":""},"利用時間帯",{"$f":"[1]入力画面!EL403&\"\"","v":""},"制度登録状況",null,null,null,null,null,null,null,null,null,null,null,null,null,{"$f":"[1]入力画面!R403&\"\"","v":""},{"$f":"[1]入力画面!S403&\"\"","v":""},{"$f":"[1]入力画面!T403&\"\"","v":""},{"$f":"[1]入力画面!U403&\"\"","v":""},{"$f":"[1]入力画面!ET52&\"\"","v":""},{"$f":"[1]入力画面!EU52&\"\"","v":""},{"$f":"[1]入力画面!EV52&\"\"","v":""},{"$f":"[1]入力画面!EW52&\"\"","v":""},{"$f":"[1]入力画面!EX52&\"\"","v":""},{"$f":"[1]入力画面!EY52&\"\"","v":""},{"$f":"[1]入力画面!EZ52&\"\"","v":""},{"$f":"[1]入力画面!FA52&\"\"","v":""},{"$f":"[1]入力画面!FB52&\"\"","v":""},{"$f":"[1]入力画面!FC52&\"\"","v":""},{"$f":"[1]入力画面!FD52&\"\"","v":""},{"$f":"[1]入力画面!FE52&\"\"","v":""},{"$f":"[1]入力画面!FF52&\"\"","v":""},{"$f":"[1]入力画面!FG52&\"\"","v":""},{"$f":"[1]入力画面!FH52&\"\"","v":""},{"$f":"[1]入力画面!FI52&\"\"","v":""}]
[null,null,"店舗・訪問系","さいたま市浦和区","民間",{"$f":"[1]入力画面!K417&\"\"","v":""},{"$f":"[1]入力画面!M417&\"\"","v":""},{"$f":"[1]入力画面!N417&\"\"","v":""},{"$f":"[1]入力画面!O417&\"\"","v":""},{"$f":"[1]入力画面!P417&\"\"","v":""},{"$f":"[1]入力画面!Q417&\"\"","v":""},{"$f":"[1]入力画面!BB417","v":""},{"$f":"[1]入力画面!DR417&\"\"","v":""},{"$f":"[1]入力画面!DW417&\"\"","v":""},{"$f":"[1]入力画面!DP417","v":""},{"$f":"[1]入力画面!DQ417&\"\"","v":""},{"$f":"[1]入力画面!DS417&\"\"","v":""},{"$f":"[1]入力画面!DT417&\"\"","v":""},{"$f":"[1]入力画面!DV417&\"\"","v":""},{"$f":"[1]入力画面!DU417&\"\"","v":""},{"$f":"[1]入力画面!DX417&\"\"","v":""},null,null,"特記事項 サービス情報入手ルート（情報提供者、連絡先等）",null,"会社　FAX番号",{"$f":"[1]入力画面!G417&\"\"","v":""},"会社　ホームページ",{"$f":"[1]入力画面!I417&\"\"","v":""},null,null,null,null,null,null,null,null,null,null,null,null,null,null,"サービス内容詳細",{"$f":"[1]入力画面!DY417&\"\"","v":""},"サービス提供期間",{"$f":"[1]入力画面!EA417&\"\"","v":""},"利用時間",{"$f":"[1]入力画面!EM417&\"\"","v":""},"備考",{"$f":"[1]入力画面!EB417&\"\"","v":""},"会社名/屋号/氏名",{"$f":"[1]入力画面!B417&\"\"","v":""},"会社　郵便番号",{"$f":"[1]入力画面!D417&\"\"","v":""},"会社　住所",{"$f":"[1]入力画面!E417&\"\"","v":""},"会社　担当部署・担当者名",{"$f":"[1]入力画面!J417&\"\"","v":""},"会社　電話番号",{"$f":"[1]入力画面!F417&\"\"","v":""},"会社　メールアドレス",{"$f":"[1]入力画面!H417&\"\"","v":""},"サービス提供期限",{"$f":"[1]入力画面!DZ417&\"\"","v":""},"利用可能曜日",{"$f":"[1]入力画面!EG417&\"\"","v":""},"利用時間帯",{"$f":"[1]入力画面!EL417&\"\"","v":""},"制度登録状況",null,null,null,null,null,null,null,null,null,null,null,null,null,{"$f":"[1]入力画面!R417&\"\"","v":""},{"$f":"[1]入力画面!S417&\"\"","v":""},{"$f":"[1]入力画面!T417&\"\"","v":""},{"$f":"[1]入力画面!U417&\"\"","v":""},{"$f":"[1]入力画面!ET53&\"\"","v":""},{"$f":"[1]入力画面!EU53&\"\"","v":""},{"$f":"[1]入力画面!EV53&\"\"","v":""},{"$f":"[1]入力画面!EW53&\"\"","v":""},{"$f":"[1]入力画面!EX53&\"\"","v":""},{"$f":"[1]入力画面!EY53&\"\"","v":""},{"$f":"[1]入力画面!EZ53&\"\"","v":""},{"$f":"[1]入力画面!FA53&\"\"","v":""},{"$f":"[1]入力画面!FB53&\"\"","v":""},{"$f":"[1]入力画面!FC53&\"\"","v":""},{"$f":"[1]入力画面!FD53&\"\"","v":""},{"$f":"[1]入力画面!FE53&\"\"","v":""},{"$f":"[1]入力画面!FF53&\"\"","v":""},{"$f":"[1]入力画面!FG53&\"\"","v":""},{"$f":"[1]入力画面!FH53&\"\"","v":""},{"$f":"[1]入力画面!FI53&\"\"","v":""}]
[null,null,"店舗・訪問系","さいたま市浦和区","民間",{"$f":"[1]入力画面!K431&\"\"","v":""},{"$f":"[1]入力画面!M431&\"\"","v":""},{"$f":"[1]入力画面!N431&\"\"","v":""},{"$f":"[1]入力画面!O431&\"\"","v":""},{"$f":"[1]入力画面!P431&\"\"","v":""},{"$f":"[1]入力画面!Q431&\"\"","v":""},{"$f":"[1]入力画面!BB431","v":""},{"$f":"[1]入力画面!DR431&\"\"","v":""},{"$f":"[1]入力画面!DW431&\"\"","v":""},{"$f":"[1]入力画面!DP431","v":""},{"$f":"[1]入力画面!DQ431&\"\"","v":""},{"$f":"[1]入力画面!DS431&\"\"","v":""},{"$f":"[1]入力画面!DT431&\"\"","v":""},{"$f":"[1]入力画面!DV431&\"\"","v":""},{"$f":"[1]入力画面!DU431&\"\"","v":""},{"$f":"[1]入力画面!DX431&\"\"","v":""},null,null,"特記事項 サービス情報入手ルート（情報提供者、連絡先等）",null,"会社　FAX番号",{"$f":"[1]入力画面!G431&\"\"","v":""},"会社　ホームページ",{"$f":"[1]入力画面!I431&\"\"","v":""},null,null,null,null,null,null,null,null,null,null,null,null,null,null,"サービス内容詳細",{"$f":"[1]入力画面!DY431&\"\"","v":""},"サービス提供期間",{"$f":"[1]入力画面!EA431&\"\"","v":""},"利用時間",{"$f":"[1]入力画面!EM431&\"\"","v":""},"備考",{"$f":"[1]入力画面!EB431&\"\"","v":""},"会社名/屋号/氏名",{"$f":"[1]入力画面!B431&\"\"","v":""},"会社　郵便番号",{"$f":"[1]入力画面!D431&\"\"","v":""},"会社　住所",{"$f":"[1]入力画面!E431&\"\"","v":""},"会社　担当部署・担当者名",{"$f":"[1]入力画面!J431&\"\"","v":""},"会社　電話番号",{"$f":"[1]入力画面!F431&\"\"","v":""},"会社　メールアドレス",{"$f":"[1]入力画面!H431&\"\"","v":""},"サービス提供期限",{"$f":"[1]入力画面!DZ431&\"\"","v":""},"利用可能曜日",{"$f":"[1]入力画面!EG431&\"\"","v":""},"利用時間帯",{"$f":"[1]入力画面!EL431&\"\"","v":""},"制度登録状況",null,null,null,null,null,null,null,null,null,null,null,null,null,{"$f":"[1]入力画面!R431&\"\"","v":""},{"$f":"[1]入力画面!S431&\"\"","v":""},{"$f":"[1]入力画面!T431&\"\"","v":""},{"$f":"[1]入力画面!U431&\"\"","v":""},{"$f":"[1]入力画面!ET54&\"\"","v":""},{"$f":"[1]入力画面!EU54&\"\"","v":""},{"$f":"[1]入力画面!EV54&\"\"","v":""},{"$f":"[1]入力画面!EW54&\"\"","v":""},{"$f":"[1]入力画面!EX54&\"\"","v":""},{"$f":"[1]入力画面!EY54&\"\"","v":""},{"$f":"[1]入力画面!EZ54&\"\"","v":""},{"$f":"[1]入力画面!FA54&\"\"","v":""},{"$f":"[1]入力画面!FB54&\"\"","v":""},{"$f":"[1]入力画面!FC54&\"\"","v":""},{"$f":"[1]入力画面!FD54&\"\"","v":""},{"$f":"[1]入力画面!FE54&\"\"","v":""},{"$f":"[1]入力画面!FF54&\"\"","v":""},{"$f":"[1]入力画面!FG54&\"\"","v":""},{"$f":"[1]入力画面!FH54&\"\"","v":""},{"$f":"[1]入力画面!FI54&\"\"","v":""}]
[null,null,"店舗・訪問系","さいたま市浦和区","民間",{"$f":"[1]入力画面!K445&\"\"","v":""},{"$f":"[1]入力画面!M445&\"\"","v":""},{"$f":"[1]入力画面!N445&\"\"","v":""},{"$f":"[1]入力画面!O445&\"\"","v":""},{"$f":"[1]入力画面!P445&\"\"","v":""},{"$f":"[1]入力画面!Q445&\"\"","v":""},{"$f":"[1]入力画面!BB445","v":""},{"$f":"[1]入力画面!DR445&\"\"","v":""},{"$f":"[1]入力画面!DW445&\"\"","v":""},{"$f":"[1]入力画面!DP445","v":""},{"$f":"[1]入力画面!DQ445&\"\"","v":""},{"$f":"[1]入力画面!DS445&\"\"","v":""},{"$f":"[1]入力画面!DT445&\"\"","v":""},{"$f":"[1]入力画面!DV445&\"\"","v":""},{"$f":"[1]入力画面!DU445&\"\"","v":""},{"$f":"[1]入力画面!DX445&\"\"","v":""},null,null,"特記事項 サービス情報入手ルート（情報提供者、連絡先等）",null,"会社　FAX番号",{"$f":"[1]入力画面!G445&\"\"","v":""},"会社　ホームページ",{"$f":"[1]入力画面!I445&\"\"","v":""},null,null,null,null,null,null,null,null,null,null,null,null,null,null,"サービス内容詳細",{"$f":"[1]入力画面!DY445&\"\"","v":""},"サービス提供期間",{"$f":"[1]入力画面!EA445&\"\"","v":""},"利用時間",{"$f":"[1]入力画面!EM445&\"\"","v":""},"備考",{"$f":"[1]入力画面!EB445&\"\"","v":""},"会社名/屋号/氏名",{"$f":"[1]入力画面!B445&\"\"","v":""},"会社　郵便番号",{"$f":"[1]入力画面!D445&\"\"","v":""},"会社　住所",{"$f":"[1]入力画面!E445&\"\"","v":""},"会社　担当部署・担当者名",{"$f":"[1]入力画面!J445&\"\"","v":""},"会社　電話番号",{"$f":"[1]入力画面!F445&\"\"","v":""},"会社　メールアドレス",{"$f":"[1]入力画面!H445&\"\"","v":""},"サービス提供期限",{"$f":"[1]入力画面!DZ445&\"\"","v":""},"利用可能曜日",{"$f":"[1]入力画面!EG445&\"\"","v":""},"利用時間帯",{"$f":"[1]入力画面!EL445&\"\"","v":""},"制度登録状況",null,null,null,null,null,null,null,null,null,null,null,null,null,{"$f":"[1]入力画面!R445&\"\"","v":""},{"$f":"[1]入力画面!S445&\"\"","v":""},{"$f":"[1]入力画面!T445&\"\"","v":""},{"$f":"[1]入力画面!U445&\"\"","v":""},{"$f":"[1]入力画面!ET55&\"\"","v":""},{"$f":"[1]入力画面!EU55&\"\"","v":""},{"$f":"[1]入力画面!EV55&\"\"","v":""},{"$f":"[1]入力画面!EW55&\"\"","v":""},{"$f":"[1]入力画面!EX55&\"\"","v":""},{"$f":"[1]入力画面!EY55&\"\"","v":""},{"$f":"[1]入力画面!EZ55&\"\"","v":""},{"$f":"[1]入力画面!FA55&\"\"","v":""},{"$f":"[1]入力画面!FB55&\"\"","v":""},{"$f":"[1]入力画面!FC55&\"\"","v":""},{"$f":"[1]入力画面!FD55&\"\"","v":""},{"$f":"[1]入力画面!FE55&\"\"","v":""},{"$f":"[1]入力画面!FF55&\"\"","v":""},{"$f":"[1]入力画面!FG55&\"\"","v":""},{"$f":"[1]入力画面!FH55&\"\"","v":""},{"$f":"[1]入力画面!FI55&\"\"","v":""}]
[null,null,"店舗・訪問系","さいたま市浦和区","民間",{"$f":"[1]入力画面!K459&\"\"","v":""},{"$f":"[1]入力画面!M459&\"\"","v":""},{"$f":"[1]入力画面!N459&\"\"","v":""},{"$f":"[1]入力画面!O459&\"\"","v":""},{"$f":"[1]入力画面!P459&\"\"","v":""},{"$f":"[1]入力画面!Q459&\"\"","v":""},{"$f":"[1]入力画面!BB459","v":""},{"$f":"[1]入力画面!DR459&\"\"","v":""},{"$f":"[1]入力画面!DW459&\"\"","v":""},{"$f":"[1]入力画面!DP459","v":""},{"$f":"[1]入力画面!DQ459&\"\"","v":""},{"$f":"[1]入力画面!DS459&\"\"","v":""},{"$f":"[1]入力画面!DT459&\"\"","v":""},{"$f":"[1]入力画面!DV459&\"\"","v":""},{"$f":"[1]入力画面!DU459&\"\"","v":""},{"$f":"[1]入力画面!DX459&\"\"","v":""},null,null,"特記事項 サービス情報入手ルート（情報提供者、連絡先等）",null,"会社　FAX番号",{"$f":"[1]入力画面!G459&\"\"","v":""},"会社　ホームページ",{"$f":"[1]入力画面!I459&\"\"","v":""},null,null,null,null,null,null,null,null,null,null,null,null,null,null,"サービス内容詳細",{"$f":"[1]入力画面!DY459&\"\"","v":""},"サービス提供期間",{"$f":"[1]入力画面!EA459&\"\"","v":""},"利用時間",{"$f":"[1]入力画面!EM459&\"\"","v":""},"備考",{"$f":"[1]入力画面!EB459&\"\"","v":""},"会社名/屋号/氏名",{"$f":"[1]入力画面!B459&\"\"","v":""},"会社　郵便番号",{"$f":"[1]入力画面!D459&\"\"","v":""},"会社　住所",{"$f":"[1]入力画面!E459&\"\"","v":""},"会社　担当部署・担当者名",{"$f":"[1]入力画面!J459&\"\"","v":""},"会社　電話番号",{"$f":"[1]入力画面!F459&\"\"","v":""},"会社　メールアドレス",{"$f":"[1]入力画面!H459&\"\"","v":""},"サービス提供期限",{"$f":"[1]入力画面!DZ459&\"\"","v":""},"利用可能曜日",{"$f":"[1]入力画面!EG459&\"\"","v":""},"利用時間帯",{"$f":"[1]入力画面!EL459&\"\"","v":""},"制度登録状況",null,null,null,null,null,null,null,null,null,null,null,null,null,{"$f":"[1]入力画面!R459&\"\"","v":""},{"$f":"[1]入力画面!S459&\"\"","v":""},{"$f":"[1]入力画面!T459&\"\"","v":""},{"$f":"[1]入力画面!U459&\"\"","v":""},{"$f":"[1]入力画面!ET56&\"\"","v":""},{"$f":"[1]入力画面!EU56&\"\"","v":""},{"$f":"[1]入力画面!EV56&\"\"","v":""},{"$f":"[1]入力画面!EW56&\"\"","v":""},{"$f":"[1]入力画面!EX56&\"\"","v":""},{"$f":"[1]入力画面!EY56&\"\"","v":""},{"$f":"[1]入力画面!EZ56&\"\"","v":""},{"$f":"[1]入力画面!FA56&\"\"","v":""},{"$f":"[1]入力画面!FB56&\"\"","v":""},{"$f":"[1]入力画面!FC56&\"\"","v":""},{"$f":"[1]入力画面!FD56&\"\"","v":""},{"$f":"[1]入力画面!FE56&\"\"","v":""},{"$f":"[1]入力画面!FF56&\"\"","v":""},{"$f":"[1]入力画面!FG56&\"\"","v":""},{"$f":"[1]入力画面!FH56&\"\"","v":""},{"$f":"[1]入力画面!FI56&\"\"","v":""}]
[null,null,"店舗・訪問系","さいたま市浦和区","民間",{"$f":"[1]入力画面!K473&\"\"","v":""},{"$f":"[1]入力画面!M473&\"\"","v":""},{"$f":"[1]入力画面!N473&\"\"","v":""},{"$f":"[1]入力画面!O473&\"\"","v":""},{"$f":"[1]入力画面!P473&\"\"","v":""},{"$f":"[1]入力画面!Q473&\"\"","v":""},{"$f":"[1]入力画面!BB473","v":""},{"$f":"[1]入力画面!DR473&\"\"","v":""},{"$f":"[1]入力画面!DW473&\"\"","v":""},{"$f":"[1]入力画面!DP473","v":""},{"$f":"[1]入力画面!DQ473&\"\"","v":""},{"$f":"[1]入力画面!DS473&\"\"","v":""},{"$f":"[1]入力画面!DT473&\"\"","v":""},{"$f":"[1]入力画面!DV473&\"\"","v":""},{"$f":"[1]入力画面!DU473&\"\"","v":""},{"$f":"[1]入力画面!DX473&\"\"","v":""},null,null,"特記事項 サービス情報入手ルート（情報提供者、連絡先等）",null,"会社　FAX番号",{"$f":"[1]入力画面!G473&\"\"","v":""},"会社　ホームページ",{"$f":"[1]入力画面!I473&\"\"","v":""},null,null,null,null,null,null,null,null,null,null,null,null,null,null,"サービス内容詳細",{"$f":"[1]入力画面!DY473&\"\"","v":""},"サービス提供期間",{"$f":"[1]入力画面!EA473&\"\"","v":""},"利用時間",{"$f":"[1]入力画面!EM473&\"\"","v":""},"備考",{"$f":"[1]入力画面!EB473&\"\"","v":""},"会社名/屋号/氏名",{"$f":"[1]入力画面!B473&\"\"","v":""},"会社　郵便番号",{"$f":"[1]入力画面!D473&\"\"","v":""},"会社　住所",{"$f":"[1]入力画面!E473&\"\"","v":""},"会社　担当部署・担当者名",{"$f":"[1]入力画面!J473&\"\"","v":""},"会社　電話番号",{"$f":"[1]入力画面!F473&\"\"","v":""},"会社　メールアドレス",{"$f":"[1]入力画面!H473&\"\"","v":""},"サービス提供期限",{"$f":"[1]入力画面!DZ473&\"\"","v":""},"利用可能曜日",{"$f":"[1]入力画面!EG473&\"\"","v":""},"利用時間帯",{"$f":"[1]入力画面!EL473&\"\"","v":""},"制度登録状況",null,null,null,null,null,null,null,null,null,null,null,null,null,{"$f":"[1]入力画面!R473&\"\"","v":""},{"$f":"[1]入力画面!S473&\"\"","v":""},{"$f":"[1]入力画面!T473&\"\"","v":""},{"$f":"[1]入力画面!U473&\"\"","v":""},{"$f":"[1]入力画面!ET57&\"\"","v":""},{"$f":"[1]入力画面!EU57&\"\"","v":""},{"$f":"[1]入力画面!EV57&\"\"","v":""},{"$f":"[1]入力画面!EW57&\"\"","v":""},{"$f":"[1]入力画面!EX57&\"\"","v":""},{"$f":"[1]入力画面!EY57&\"\"","v":""},{"$f":"[1]入力画面!EZ57&\"\"","v":""},{"$f":"[1]入力画面!FA57&\"\"","v":""},{"$f":"[1]入力画面!FB57&\"\"","v":""},{"$f":"[1]入力画面!FC57&\"\"","v":""},{"$f":"[1]入力画面!FD57&\"\"","v":""},{"$f":"[1]入力画面!FE57&\"\"","v":""},{"$f":"[1]入力画面!FF57&\"\"","v":""},{"$f":"[1]入力画面!FG57&\"\"","v":""},{"$f":"[1]入力画面!FH57&\"\"","v":""},{"$f":"[1]入力画面!FI57&\"\"","v":""}]
[null,null,"店舗・訪問系","さいたま市浦和区","民間",{"$f":"[1]入力画面!K487&\"\"","v":""},{"$f":"[1]入力画面!M487&\"\"","v":""},{"$f":"[1]入力画面!N487&\"\"","v":""},{"$f":"[1]入力画面!O487&\"\"","v":""},{"$f":"[1]入力画面!P487&\"\"","v":""},{"$f":"[1]入力画面!Q487&\"\"","v":""},{"$f":"[1]入力画面!BB487","v":""},{"$f":"[1]入力画面!DR487&\"\"","v":""},{"$f":"[1]入力画面!DW487&\"\"","v":""},{"$f":"[1]入力画面!DP487","v":""},{"$f":"[1]入力画面!DQ487&\"\"","v":""},{"$f":"[1]入力画面!DS487&\"\"","v":""},{"$f":"[1]入力画面!DT487&\"\"","v":""},{"$f":"[1]入力画面!DV487&\"\"","v":""},{"$f":"[1]入力画面!DU487&\"\"","v":""},{"$f":"[1]入力画面!DX487&\"\"","v":""},null,null,"特記事項 サービス情報入手ルート（情報提供者、連絡先等）",null,"会社　FAX番号",{"$f":"[1]入力画面!G487&\"\"","v":""},"会社　ホームページ",{"$f":"[1]入力画面!I487&\"\"","v":""},null,null,null,null,null,null,null,null,null,null,null,null,null,null,"サービス内容詳細",{"$f":"[1]入力画面!DY487&\"\"","v":""},"サービス提供期間",{"$f":"[1]入力画面!EA487&\"\"","v":""},"利用時間",{"$f":"[1]入力画面!EM487&\"\"","v":""},"備考",{"$f":"[1]入力画面!EB487&\"\"","v":""},"会社名/屋号/氏名",{"$f":"[1]入力画面!B487&\"\"","v":""},"会社　郵便番号",{"$f":"[1]入力画面!D487&\"\"","v":""},"会社　住所",{"$f":"[1]入力画面!E487&\"\"","v":""},"会社　担当部署・担当者名",{"$f":"[1]入力画面!J487&\"\"","v":""},"会社　電話番号",{"$f":"[1]入力画面!F487&\"\"","v":""},"会社　メールアドレス",{"$f":"[1]入力画面!H487&\"\"","v":""},"サービス提供期限",{"$f":"[1]入力画面!DZ487&\"\"","v":""},"利用可能曜日",{"$f":"[1]入力画面!EG487&\"\"","v":""},"利用時間帯",{"$f":"[1]入力画面!EL487&\"\"","v":""},"制度登録状況",null,null,null,null,null,null,null,null,null,null,null,null,null,{"$f":"[1]入力画面!R487&\"\"","v":""},{"$f":"[1]入力画面!S487&\"\"","v":""},{"$f":"[1]入力画面!T487&\"\"","v":""},{"$f":"[1]入力画面!U487&\"\"","v":""},{"$f":"[1]入力画面!ET58&\"\"","v":""},{"$f":"[1]入力画面!EU58&\"\"","v":""},{"$f":"[1]入力画面!EV58&\"\"","v":""},{"$f":"[1]入力画面!EW58&\"\"","v":""},{"$f":"[1]入力画面!EX58&\"\"","v":""},{"$f":"[1]入力画面!EY58&\"\"","v":""},{"$f":"[1]入力画面!EZ58&\"\"","v":""},{"$f":"[1]入力画面!FA58&\"\"","v":""},{"$f":"[1]入力画面!FB58&\"\"","v":""},{"$f":"[1]入力画面!FC58&\"\"","v":""},{"$f":"[1]入力画面!FD58&\"\"","v":""},{"$f":"[1]入力画面!FE58&\"\"","v":""},{"$f":"[1]入力画面!FF58&\"\"","v":""},{"$f":"[1]入力画面!FG58&\"\"","v":""},{"$f":"[1]入力画面!FH58&\"\"","v":""},{"$f":"[1]入力画面!FI58&\"\"","v":""}]
[null,null,"店舗・訪問系","さいたま市浦和区","民間",{"$f":"[1]入力画面!K501&\"\"","v":""},{"$f":"[1]入力画面!M501&\"\"","v":""},{"$f":"[1]入力画面!N501&\"\"","v":""},{"$f":"[1]入力画面!O501&\"\"","v":""},{"$f":"[1]入力画面!P501&\"\"","v":""},{"$f":"[1]入力画面!Q501&\"\"","v":""},{"$f":"[1]入力画面!BB501","v":""},{"$f":"[1]入力画面!DR501&\"\"","v":""},{"$f":"[1]入力画面!DW501&\"\"","v":""},{"$f":"[1]入力画面!DP501","v":""},{"$f":"[1]入力画面!DQ501&\"\"","v":""},{"$f":"[1]入力画面!DS501&\"\"","v":""},{"$f":"[1]入力画面!DT501&\"\"","v":""},{"$f":"[1]入力画面!DV501&\"\"","v":""},{"$f":"[1]入力画面!DU501&\"\"","v":""},{"$f":"[1]入力画面!DX501&\"\"","v":""},null,null,"特記事項 サービス情報入手ルート（情報提供者、連絡先等）",null,"会社　FAX番号",{"$f":"[1]入力画面!G501&\"\"","v":""},"会社　ホームページ",{"$f":"[1]入力画面!I501&\"\"","v":""},null,null,null,null,null,null,null,null,null,null,null,null,null,null,"サービス内容詳細",{"$f":"[1]入力画面!DY501&\"\"","v":""},"サービス提供期間",{"$f":"[1]入力画面!EA501&\"\"","v":""},"利用時間",{"$f":"[1]入力画面!EM501&\"\"","v":""},"備考",{"$f":"[1]入力画面!EB501&\"\"","v":""},"会社名/屋号/氏名",{"$f":"[1]入力画面!B501&\"\"","v":""},"会社　郵便番号",{"$f":"[1]入力画面!D501&\"\"","v":""},"会社　住所",{"$f":"[1]入力画面!E501&\"\"","v":""},"会社　担当部署・担当者名",{"$f":"[1]入力画面!J501&\"\"","v":""},"会社　電話番号",{"$f":"[1]入力画面!F501&\"\"","v":""},"会社　メールアドレス",{"$f":"[1]入力画面!H501&\"\"","v":""},"サービス提供期限",{"$f":"[1]入力画面!DZ501&\"\"","v":""},"利用可能曜日",{"$f":"[1]入力画面!EG501&\"\"","v":""},"利用時間帯",{"$f":"[1]入力画面!EL501&\"\"","v":""},"制度登録状況",null,null,null,null,null,null,null,null,null,null,null,null,null,{"$f":"[1]入力画面!R501&\"\"","v":""},{"$f":"[1]入力画面!S501&\"\"","v":""},{"$f":"[1]入力画面!T501&\"\"","v":""},{"$f":"[1]入力画面!U501&\"\"","v":""},{"$f":"[1]入力画面!ET59&\"\"","v":""},{"$f":"[1]入力画面!EU59&\"\"","v":""},{"$f":"[1]入力画面!EV59&\"\"","v":""},{"$f":"[1]入力画面!EW59&\"\"","v":""},{"$f":"[1]入力画面!EX59&\"\"","v":""},{"$f":"[1]入力画面!EY59&\"\"","v":""},{"$f":"[1]入力画面!EZ59&\"\"","v":""},{"$f":"[1]入力画面!FA59&\"\"","v":""},{"$f":"[1]入力画面!FB59&\"\"","v":""},{"$f":"[1]入力画面!FC59&\"\"","v":""},{"$f":"[1]入力画面!FD59&\"\"","v":""},{"$f":"[1]入力画面!FE59&\"\"","v":""},{"$f":"[1]入力画面!FF59&\"\"","v":""},{"$f":"[1]入力画面!FG59&\"\"","v":""},{"$f":"[1]入力画面!FH59&\"\"","v":""},{"$f":"[1]入力画面!FI59&\"\"","v":""}]
[null,null,"店舗・訪問系","さいたま市浦和区","民間",{"$f":"[1]入力画面!K515&\"\"","v":""},{"$f":"[1]入力画面!M515&\"\"","v":""},{"$f":"[1]入力画面!N515&\"\"","v":""},{"$f":"[1]入力画面!O515&\"\"","v":""},{"$f":"[1]入力画面!P515&\"\"","v":""},{"$f":"[1]入力画面!Q515&\"\"","v":""},{"$f":"[1]入力画面!BB515","v":""},{"$f":"[1]入力画面!DR515&\"\"","v":""},{"$f":"[1]入力画面!DW515&\"\"","v":""},{"$f":"[1]入力画面!DP515","v":""},{"$f":"[1]入力画面!DQ515&\"\"","v":""},{"$f":"[1]入力画面!DS515&\"\"","v":""},{"$f":"[1]入力画面!DT515&\"\"","v":""},{"$f":"[1]入力画面!DV515&\"\"","v":""},{"$f":"[1]入力画面!DU515&\"\"","v":""},{"$f":"[1]入力画面!DX515&\"\"","v":""},null,null,"特記事項 サービス情報入手ルート（情報提供者、連絡先等）",null,"会社　FAX番号",{"$f":"[1]入力画面!G515&\"\"","v":""},"会社　ホームページ",{"$f":"[1]入力画面!I515&\"\"","v":""},null,null,null,null,null,null,null,null,null,null,null,null,null,null,"サービス内容詳細",{"$f":"[1]入力画面!DY515&\"\"","v":""},"サービス提供期間",{"$f":"[1]入力画面!EA515&\"\"","v":""},"利用時間",{"$f":"[1]入力画面!EM515&\"\"","v":""},"備考",{"$f":"[1]入力画面!EB515&\"\"","v":""},"会社名/屋号/氏名",{"$f":"[1]入力画面!B515&\"\"","v":""},"会社　郵便番号",{"$f":"[1]入力画面!D515&\"\"","v":""},"会社　住所",{"$f":"[1]入力画面!E515&\"\"","v":""},"会社　担当部署・担当者名",{"$f":"[1]入力画面!J515&\"\"","v":""},"会社　電話番号",{"$f":"[1]入力画面!F515&\"\"","v":""},"会社　メールアドレス",{"$f":"[1]入力画面!H515&\"\"","v":""},"サービス提供期限",{"$f":"[1]入力画面!DZ515&\"\"","v":""},"利用可能曜日",{"$f":"[1]入力画面!EG515&\"\"","v":""},"利用時間帯",{"$f":"[1]入力画面!EL515&\"\"","v":""},"制度登録状況",null,null,null,null,null,null,null,null,null,null,null,null,null,{"$f":"[1]入力画面!R515&\"\"","v":""},{"$f":"[1]入力画面!S515&\"\"","v":""},{"$f":"[1]入力画面!T515&\"\"","v":""},{"$f":"[1]入力画面!U515&\"\"","v":""},{"$f":"[1]入力画面!ET60&\"\"","v":""},{"$f":"[1]入力画面!EU60&\"\"","v":""},{"$f":"[1]入力画面!EV60&\"\"","v":""},{"$f":"[1]入力画面!EW60&\"\"","v":""},{"$f":"[1]入力画面!EX60&\"\"","v":""},{"$f":"[1]入力画面!EY60&\"\"","v":""},{"$f":"[1]入力画面!EZ60&\"\"","v":""},{"$f":"[1]入力画面!FA60&\"\"","v":""},{"$f":"[1]入力画面!FB60&\"\"","v":""},{"$f":"[1]入力画面!FC60&\"\"","v":""},{"$f":"[1]入力画面!FD60&\"\"","v":""},{"$f":"[1]入力画面!FE60&\"\"","v":""},{"$f":"[1]入力画面!FF60&\"\"","v":""},{"$f":"[1]入力画面!FG60&\"\"","v":""},{"$f":"[1]入力画面!FH60&\"\"","v":""},{"$f":"[1]入力画面!FI60&\"\"","v":""}]
[null,null,"店舗・訪問系","さいたま市浦和区","民間",{"$f":"[1]入力画面!K529&\"\"","v":""},{"$f":"[1]入力画面!M529&\"\"","v":""},{"$f":"[1]入力画面!N529&\"\"","v":""},{"$f":"[1]入力画面!O529&\"\"","v":""},{"$f":"[1]入力画面!P529&\"\"","v":""},{"$f":"[1]入力画面!Q529&\"\"","v":""},{"$f":"[1]入力画面!BB529","v":""},{"$f":"[1]入力画面!DR529&\"\"","v":""},{"$f":"[1]入力画面!DW529&\"\"","v":""},{"$f":"[1]入力画面!DP529","v":""},{"$f":"[1]入力画面!DQ529&\"\"","v":""},{"$f":"[1]入力画面!DS529&\"\"","v":""},{"$f":"[1]入力画面!DT529&\"\"","v":""},{"$f":"[1]入力画面!DV529&\"\"","v":""},{"$f":"[1]入力画面!DU529&\"\"","v":""},{"$f":"[1]入力画面!DX529&\"\"","v":""},null,null,"特記事項 サービス情報入手ルート（情報提供者、連絡先等）",null,"会社　FAX番号",{"$f":"[1]入力画面!G529&\"\"","v":""},"会社　ホームページ",{"$f":"[1]入力画面!I529&\"\"","v":""},null,null,null,null,null,null,null,null,null,null,null,null,null,null,"サービス内容詳細",{"$f":"[1]入力画面!DY529&\"\"","v":""},"サービス提供期間",{"$f":"[1]入力画面!EA529&\"\"","v":""},"利用時間",{"$f":"[1]入力画面!EM529&\"\"","v":""},"備考",{"$f":"[1]入力画面!EB529&\"\"","v":""},"会社名/屋号/氏名",{"$f":"[1]入力画面!B529&\"\"","v":""},"会社　郵便番号",{"$f":"[1]入力画面!D529&\"\"","v":""},"会社　住所",{"$f":"[1]入力画面!E529&\"\"","v":""},"会社　担当部署・担当者名",{"$f":"[1]入力画面!J529&\"\"","v":""},"会社　電話番号",{"$f":"[1]入力画面!F529&\"\"","v":""},"会社　メールアドレス",{"$f":"[1]入力画面!H529&\"\"","v":""},"サービス提供期限",{"$f":"[1]入力画面!DZ529&\"\"","v":""},"利用可能曜日",{"$f":"[1]入力画面!EG529&\"\"","v":""},"利用時間帯",{"$f":"[1]入力画面!EL529&\"\"","v":""},"制度登録状況",null,null,null,null,null,null,null,null,null,null,null,null,null,{"$f":"[1]入力画面!R529&\"\"","v":""},{"$f":"[1]入力画面!S529&\"\"","v":""},{"$f":"[1]入力画面!T529&\"\"","v":""},{"$f":"[1]入力画面!U529&\"\"","v":""},{"$f":"[1]入力画面!ET61&\"\"","v":""},{"$f":"[1]入力画面!EU61&\"\"","v":""},{"$f":"[1]入力画面!EV61&\"\"","v":""},{"$f":"[1]入力画面!EW61&\"\"","v":""},{"$f":"[1]入力画面!EX61&\"\"","v":""},{"$f":"[1]入力画面!EY61&\"\"","v":""},{"$f":"[1]入力画面!EZ61&\"\"","v":""},{"$f":"[1]入力画面!FA61&\"\"","v":""},{"$f":"[1]入力画面!FB61&\"\"","v":""},{"$f":"[1]入力画面!FC61&\"\"","v":""},{"$f":"[1]入力画面!FD61&\"\"","v":""},{"$f":"[1]入力画面!FE61&\"\"","v":""},{"$f":"[1]入力画面!FF61&\"\"","v":""},{"$f":"[1]入力画面!FG61&\"\"","v":""},{"$f":"[1]入力画面!FH61&\"\"","v":""},{"$f":"[1]入力画面!FI61&\"\"","v":""}]
[null,null,"店舗・訪問系","さいたま市浦和区","民間",{"$f":"[1]入力画面!K543&\"\"","v":""},{"$f":"[1]入力画面!M543&\"\"","v":""},{"$f":"[1]入力画面!N543&\"\"","v":""},{"$f":"[1]入力画面!O543&\"\"","v":""},{"$f":"[1]入力画面!P543&\"\"","v":""},{"$f":"[1]入力画面!Q543&\"\"","v":""},{"$f":"[1]入力画面!BB543","v":""},{"$f":"[1]入力画面!DR543&\"\"","v":""},{"$f":"[1]入力画面!DW543&\"\"","v":""},{"$f":"[1]入力画面!DP543","v":""},{"$f":"[1]入力画面!DQ543&\"\"","v":""},{"$f":"[1]入力画面!DS543&\"\"","v":""},{"$f":"[1]入力画面!DT543&\"\"","v":""},{"$f":"[1]入力画面!DV543&\"\"","v":""},{"$f":"[1]入力画面!DU543&\"\"","v":""},{"$f":"[1]入力画面!DX543&\"\"","v":""},null,null,"特記事項 サービス情報入手ルート（情報提供者、連絡先等）",null,"会社　FAX番号",{"$f":"[1]入力画面!G543&\"\"","v":""},"会社　ホームページ",{"$f":"[1]入力画面!I543&\"\"","v":""},null,null,null,null,null,null,null,null,null,null,null,null,null,null,"サービス内容詳細",{"$f":"[1]入力画面!DY543&\"\"","v":""},"サービス提供期間",{"$f":"[1]入力画面!EA543&\"\"","v":""},"利用時間",{"$f":"[1]入力画面!EM543&\"\"","v":""},"備考",{"$f":"[1]入力画面!EB543&\"\"","v":""},"会社名/屋号/氏名",{"$f":"[1]入力画面!B543&\"\"","v":""},"会社　郵便番号",{"$f":"[1]入力画面!D543&\"\"","v":""},"会社　住所",{"$f":"[1]入力画面!E543&\"\"","v":""},"会社　担当部署・担当者名",{"$f":"[1]入力画面!J543&\"\"","v":""},"会社　電話番号",{"$f":"[1]入力画面!F543&\"\"","v":""},"会社　メールアドレス",{"$f":"[1]入力画面!H543&\"\"","v":""},"サービス提供期限",{"$f":"[1]入力画面!DZ543&\"\"","v":""},"利用可能曜日",{"$f":"[1]入力画面!EG543&\"\"","v":""},"利用時間帯",{"$f":"[1]入力画面!EL543&\"\"","v":""},"制度登録状況",null,null,null,null,null,null,null,null,null,null,null,null,null,{"$f":"[1]入力画面!R543&\"\"","v":""},{"$f":"[1]入力画面!S543&\"\"","v":""},{"$f":"[1]入力画面!T543&\"\"","v":""},{"$f":"[1]入力画面!U543&\"\"","v":""},{"$f":"[1]入力画面!ET62&\"\"","v":""},{"$f":"[1]入力画面!EU62&\"\"","v":""},{"$f":"[1]入力画面!EV62&\"\"","v":""},{"$f":"[1]入力画面!EW62&\"\"","v":""},{"$f":"[1]入力画面!EX62&\"\"","v":""},{"$f":"[1]入力画面!EY62&\"\"","v":""},{"$f":"[1]入力画面!EZ62&\"\"","v":""},{"$f":"[1]入力画面!FA62&\"\"","v":""},{"$f":"[1]入力画面!FB62&\"\"","v":""},{"$f":"[1]入力画面!FC62&\"\"","v":""},{"$f":"[1]入力画面!FD62&\"\"","v":""},{"$f":"[1]入力画面!FE62&\"\"","v":""},{"$f":"[1]入力画面!FF62&\"\"","v":""},{"$f":"[1]入力画面!FG62&\"\"","v":""},{"$f":"[1]入力画面!FH62&\"\"","v":""},{"$f":"[1]入力画面!FI62&\"\"","v":""}]
[null,null,"店舗・訪問系","さいたま市浦和区","民間",{"$f":"[1]入力画面!K557&\"\"","v":""},{"$f":"[1]入力画面!M557&\"\"","v":""},{"$f":"[1]入力画面!N557&\"\"","v":""},{"$f":"[1]入力画面!O557&\"\"","v":""},{"$f":"[1]入力画面!P557&\"\"","v":""},{"$f":"[1]入力画面!Q557&\"\"","v":""},{"$f":"[1]入力画面!BB557","v":""},{"$f":"[1]入力画面!DR557&\"\"","v":""},{"$f":"[1]入力画面!DW557&\"\"","v":""},{"$f":"[1]入力画面!DP557","v":""},{"$f":"[1]入力画面!DQ557&\"\"","v":""},{"$f":"[1]入力画面!DS557&\"\"","v":""},{"$f":"[1]入力画面!DT557&\"\"","v":""},{"$f":"[1]入力画面!DV557&\"\"","v":""},{"$f":"[1]入力画面!DU557&\"\"","v":""},{"$f":"[1]入力画面!DX557&\"\"","v":""},null,null,"特記事項 サービス情報入手ルート（情報提供者、連絡先等）",null,"会社　FAX番号",{"$f":"[1]入力画面!G557&\"\"","v":""},"会社　ホームページ",{"$f":"[1]入力画面!I557&\"\"","v":""},null,null,null,null,null,null,null,null,null,null,null,null,null,null,"サービス内容詳細",{"$f":"[1]入力画面!DY557&\"\"","v":""},"サービス提供期間",{"$f":"[1]入力画面!EA557&\"\"","v":""},"利用時間",{"$f":"[1]入力画面!EM557&\"\"","v":""},"備考",{"$f":"[1]入力画面!EB557&\"\"","v":""},"会社名/屋号/氏名",{"$f":"[1]入力画面!B557&\"\"","v":""},"会社　郵便番号",{"$f":"[1]入力画面!D557&\"\"","v":""},"会社　住所",{"$f":"[1]入力画面!E557&\"\"","v":""},"会社　担当部署・担当者名",{"$f":"[1]入力画面!J557&\"\"","v":""},"会社　電話番号",{"$f":"[1]入力画面!F557&\"\"","v":""},"会社　メールアドレス",{"$f":"[1]入力画面!H557&\"\"","v":""},"サービス提供期限",{"$f":"[1]入力画面!DZ557&\"\"","v":""},"利用可能曜日",{"$f":"[1]入力画面!EG557&\"\"","v":""},"利用時間帯",{"$f":"[1]入力画面!EL557&\"\"","v":""},"制度登録状況",null,null,null,null,null,null,null,null,null,null,null,null,null,{"$f":"[1]入力画面!R557&\"\"","v":""},{"$f":"[1]入力画面!S557&\"\"","v":""},{"$f":"[1]入力画面!T557&\"\"","v":""},{"$f":"[1]入力画面!U557&\"\"","v":""},{"$f":"[1]入力画面!ET63&\"\"","v":""},{"$f":"[1]入力画面!EU63&\"\"","v":""},{"$f":"[1]入力画面!EV63&\"\"","v":""},{"$f":"[1]入力画面!EW63&\"\"","v":""},{"$f":"[1]入力画面!EX63&\"\"","v":""},{"$f":"[1]入力画面!EY63&\"\"","v":""},{"$f":"[1]入力画面!EZ63&\"\"","v":""},{"$f":"[1]入力画面!FA63&\"\"","v":""},{"$f":"[1]入力画面!FB63&\"\"","v":""},{"$f":"[1]入力画面!FC63&\"\"","v":""},{"$f":"[1]入力画面!FD63&\"\"","v":""},{"$f":"[1]入力画面!FE63&\"\"","v":""},{"$f":"[1]入力画面!FF63&\"\"","v":""},{"$f":"[1]入力画面!FG63&\"\"","v":""},{"$f":"[1]入力画面!FH63&\"\"","v":""},{"$f":"[1]入力画面!FI63&\"\"","v":""}]
[null,null,"店舗・訪問系","さいたま市浦和区","民間",{"$f":"[1]入力画面!K571&\"\"","v":""},{"$f":"[1]入力画面!M571&\"\"","v":""},{"$f":"[1]入力画面!N571&\"\"","v":""},{"$f":"[1]入力画面!O571&\"\"","v":""},{"$f":"[1]入力画面!P571&\"\"","v":""},{"$f":"[1]入力画面!Q571&\"\"","v":""},{"$f":"[1]入力画面!BB571","v":""},{"$f":"[1]入力画面!DR571&\"\"","v":""},{"$f":"[1]入力画面!DW571&\"\"","v":""},{"$f":"[1]入力画面!DP571","v":""},{"$f":"[1]入力画面!DQ571&\"\"","v":""},{"$f":"[1]入力画面!DS571&\"\"","v":""},{"$f":"[1]入力画面!DT571&\"\"","v":""},{"$f":"[1]入力画面!DV571&\"\"","v":""},{"$f":"[1]入力画面!DU571&\"\"","v":""},{"$f":"[1]入力画面!DX571&\"\"","v":""},null,null,"特記事項 サービス情報入手ルート（情報提供者、連絡先等）",null,"会社　FAX番号",{"$f":"[1]入力画面!G571&\"\"","v":""},"会社　ホームページ",{"$f":"[1]入力画面!I571&\"\"","v":""},null,null,null,null,null,null,null,null,null,null,null,null,null,null,"サービス内容詳細",{"$f":"[1]入力画面!DY571&\"\"","v":""},"サービス提供期間",{"$f":"[1]入力画面!EA571&\"\"","v":""},"利用時間",{"$f":"[1]入力画面!EM571&\"\"","v":""},"備考",{"$f":"[1]入力画面!EB571&\"\"","v":""},"会社名/屋号/氏名",{"$f":"[1]入力画面!B571&\"\"","v":""},"会社　郵便番号",{"$f":"[1]入力画面!D571&\"\"","v":""},"会社　住所",{"$f":"[1]入力画面!E571&\"\"","v":""},"会社　担当部署・担当者名",{"$f":"[1]入力画面!J571&\"\"","v":""},"会社　電話番号",{"$f":"[1]入力画面!F571&\"\"","v":""},"会社　メールアドレス",{"$f":"[1]入力画面!H571&\"\"","v":""},"サービス提供期限",{"$f":"[1]入力画面!DZ571&\"\"","v":""},"利用可能曜日",{"$f":"[1]入力画面!EG571&\"\"","v":""},"利用時間帯",{"$f":"[1]入力画面!EL571&\"\"","v":""},"制度登録状況",null,null,null,null,null,null,null,null,null,null,null,null,null,{"$f":"[1]入力画面!R571&\"\"","v":""},{"$f":"[1]入力画面!S571&\"\"","v":""},{"$f":"[1]入力画面!T571&\"\"","v":""},{"$f":"[1]入力画面!U571&\"\"","v":""},{"$f":"[1]入力画面!ET64&\"\"","v":""},{"$f":"[1]入力画面!EU64&\"\"","v":""},{"$f":"[1]入力画面!EV64&\"\"","v":""},{"$f":"[1]入力画面!EW64&\"\"","v":""},{"$f":"[1]入力画面!EX64&\"\"","v":""},{"$f":"[1]入力画面!EY64&\"\"","v":""},{"$f":"[1]入力画面!EZ64&\"\"","v":""},{"$f":"[1]入力画面!FA64&\"\"","v":""},{"$f":"[1]入力画面!FB64&\"\"","v":""},{"$f":"[1]入力画面!FC64&\"\"","v":""},{"$f":"[1]入力画面!FD64&\"\"","v":""},{"$f":"[1]入力画面!FE64&\"\"","v":""},{"$f":"[1]入力画面!FF64&\"\"","v":""},{"$f":"[1]入力画面!FG64&\"\"","v":""},{"$f":"[1]入力画面!FH64&\"\"","v":""},{"$f":"[1]入力画面!FI64&\"\"","v":""}]
[null,null,"店舗・訪問系","さいたま市浦和区","民間",{"$f":"[1]入力画面!K585&\"\"","v":""},{"$f":"[1]入力画面!M585&\"\"","v":""},{"$f":"[1]入力画面!N585&\"\"","v":""},{"$f":"[1]入力画面!O585&\"\"","v":""},{"$f":"[1]入力画面!P585&\"\"","v":""},{"$f":"[1]入力画面!Q585&\"\"","v":""},{"$f":"[1]入力画面!BB585","v":""},{"$f":"[1]入力画面!DR585&\"\"","v":""},{"$f":"[1]入力画面!DW585&\"\"","v":""},{"$f":"[1]入力画面!DP585","v":""},{"$f":"[1]入力画面!DQ585&\"\"","v":""},{"$f":"[1]入力画面!DS585&\"\"","v":""},{"$f":"[1]入力画面!DT585&\"\"","v":""},{"$f":"[1]入力画面!DV585&\"\"","v":""},{"$f":"[1]入力画面!DU585&\"\"","v":""},{"$f":"[1]入力画面!DX585&\"\"","v":""},null,null,"特記事項 サービス情報入手ルート（情報提供者、連絡先等）",null,"会社　FAX番号",{"$f":"[1]入力画面!G585&\"\"","v":""},"会社　ホームページ",{"$f":"[1]入力画面!I585&\"\"","v":""},null,null,null,null,null,null,null,null,null,null,null,null,null,null,"サービス内容詳細",{"$f":"[1]入力画面!DY585&\"\"","v":""},"サービス提供期間",{"$f":"[1]入力画面!EA585&\"\"","v":""},"利用時間",{"$f":"[1]入力画面!EM585&\"\"","v":""},"備考",{"$f":"[1]入力画面!EB585&\"\"","v":""},"会社名/屋号/氏名",{"$f":"[1]入力画面!B585&\"\"","v":""},"会社　郵便番号",{"$f":"[1]入力画面!D585&\"\"","v":""},"会社　住所",{"$f":"[1]入力画面!E585&\"\"","v":""},"会社　担当部署・担当者名",{"$f":"[1]入力画面!J585&\"\"","v":""},"会社　電話番号",{"$f":"[1]入力画面!F585&\"\"","v":""},"会社　メールアドレス",{"$f":"[1]入力画面!H585&\"\"","v":""},"サービス提供期限",{"$f":"[1]入力画面!DZ585&\"\"","v":""},"利用可能曜日",{"$f":"[1]入力画面!EG585&\"\"","v":""},"利用時間帯",{"$f":"[1]入力画面!EL585&\"\"","v":""},"制度登録状況",null,null,null,null,null,null,null,null,null,null,null,null,null,{"$f":"[1]入力画面!R585&\"\"","v":""},{"$f":"[1]入力画面!S585&\"\"","v":""},{"$f":"[1]入力画面!T585&\"\"","v":""},{"$f":"[1]入力画面!U585&\"\"","v":""},{"$f":"[1]入力画面!ET65&\"\"","v":""},{"$f":"[1]入力画面!EU65&\"\"","v":""},{"$f":"[1]入力画面!EV65&\"\"","v":""},{"$f":"[1]入力画面!EW65&\"\"","v":""},{"$f":"[1]入力画面!EX65&\"\"","v":""},{"$f":"[1]入力画面!EY65&\"\"","v":""},{"$f":"[1]入力画面!EZ65&\"\"","v":""},{"$f":"[1]入力画面!FA65&\"\"","v":""},{"$f":"[1]入力画面!FB65&\"\"","v":""},{"$f":"[1]入力画面!FC65&\"\"","v":""},{"$f":"[1]入力画面!FD65&\"\"","v":""},{"$f":"[1]入力画面!FE65&\"\"","v":""},{"$f":"[1]入力画面!FF65&\"\"","v":""},{"$f":"[1]入力画面!FG65&\"\"","v":""},{"$f":"[1]入力画面!FH65&\"\"","v":""},{"$f":"[1]入力画面!FI65&\"\"","v":""}]
[null,null,"店舗・訪問系","さいたま市浦和区","民間",{"$f":"[1]入力画面!K599&\"\"","v":""},{"$f":"[1]入力画面!M599&\"\"","v":""},{"$f":"[1]入力画面!N599&\"\"","v":""},{"$f":"[1]入力画面!O599&\"\"","v":""},{"$f":"[1]入力画面!P599&\"\"","v":""},{"$f":"[1]入力画面!Q599&\"\"","v":""},{"$f":"[1]入力画面!BB599","v":""},{"$f":"[1]入力画面!DR599&\"\"","v":""},{"$f":"[1]入力画面!DW599&\"\"","v":""},{"$f":"[1]入力画面!DP599","v":""},{"$f":"[1]入力画面!DQ599&\"\"","v":""},{"$f":"[1]入力画面!DS599&\"\"","v":""},{"$f":"[1]入力画面!DT599&\"\"","v":""},{"$f":"[1]入力画面!DV599&\"\"","v":""},{"$f":"[1]入力画面!DU599&\"\"","v":""},{"$f":"[1]入力画面!DX599&\"\"","v":""},null,null,"特記事項 サービス情報入手ルート（情報提供者、連絡先等）",null,"会社　FAX番号",{"$f":"[1]入力画面!G599&\"\"","v":""},"会社　ホームページ",{"$f":"[1]入力画面!I599&\"\"","v":""},null,null,null,null,null,null,null,null,null,null,null,null,null,null,"サービス内容詳細",{"$f":"[1]入力画面!DY599&\"\"","v":""},"サービス提供期間",{"$f":"[1]入力画面!EA599&\"\"","v":""},"利用時間",{"$f":"[1]入力画面!EM599&\"\"","v":""},"備考",{"$f":"[1]入力画面!EB599&\"\"","v":""},"会社名/屋号/氏名",{"$f":"[1]入力画面!B599&\"\"","v":""},"会社　郵便番号",{"$f":"[1]入力画面!D599&\"\"","v":""},"会社　住所",{"$f":"[1]入力画面!E599&\"\"","v":""},"会社　担当部署・担当者名",{"$f":"[1]入力画面!J599&\"\"","v":""},"会社　電話番号",{"$f":"[1]入力画面!F599&\"\"","v":""},"会社　メールアドレス",{"$f":"[1]入力画面!H599&\"\"","v":""},"サービス提供期限",{"$f":"[1]入力画面!DZ599&\"\"","v":""},"利用可能曜日",{"$f":"[1]入力画面!EG599&\"\"","v":""},"利用時間帯",{"$f":"[1]入力画面!EL599&\"\"","v":""},"制度登録状況",null,null,null,null,null,null,null,null,null,null,null,null,null,{"$f":"[1]入力画面!R599&\"\"","v":""},{"$f":"[1]入力画面!S599&\"\"","v":""},{"$f":"[1]入力画面!T599&\"\"","v":""},{"$f":"[1]入力画面!U599&\"\"","v":""},{"$f":"[1]入力画面!ET66&\"\"","v":""},{"$f":"[1]入力画面!EU66&\"\"","v":""},{"$f":"[1]入力画面!EV66&\"\"","v":""},{"$f":"[1]入力画面!EW66&\"\"","v":""},{"$f":"[1]入力画面!EX66&\"\"","v":""},{"$f":"[1]入力画面!EY66&\"\"","v":""},{"$f":"[1]入力画面!EZ66&\"\"","v":""},{"$f":"[1]入力画面!FA66&\"\"","v":""},{"$f":"[1]入力画面!FB66&\"\"","v":""},{"$f":"[1]入力画面!FC66&\"\"","v":""},{"$f":"[1]入力画面!FD66&\"\"","v":""},{"$f":"[1]入力画面!FE66&\"\"","v":""},{"$f":"[1]入力画面!FF66&\"\"","v":""},{"$f":"[1]入力画面!FG66&\"\"","v":""},{"$f":"[1]入力画面!FH66&\"\"","v":""},{"$f":"[1]入力画面!FI66&\"\"","v":""}]
[null,null,"店舗・訪問系","さいたま市浦和区","民間",{"$f":"[1]入力画面!K613&\"\"","v":""},{"$f":"[1]入力画面!M613&\"\"","v":""},{"$f":"[1]入力画面!N613&\"\"","v":""},{"$f":"[1]入力画面!O613&\"\"","v":""},{"$f":"[1]入力画面!P613&\"\"","v":""},{"$f":"[1]入力画面!Q613&\"\"","v":""},{"$f":"[1]入力画面!BB613","v":""},{"$f":"[1]入力画面!DR613&\"\"","v":""},{"$f":"[1]入力画面!DW613&\"\"","v":""},{"$f":"[1]入力画面!DP613","v":""},{"$f":"[1]入力画面!DQ613&\"\"","v":""},{"$f":"[1]入力画面!DS613&\"\"","v":""},{"$f":"[1]入力画面!DT613&\"\"","v":""},{"$f":"[1]入力画面!DV613&\"\"","v":""},{"$f":"[1]入力画面!DU613&\"\"","v":""},{"$f":"[1]入力画面!DX613&\"\"","v":""},null,null,"特記事項 サービス情報入手ルート（情報提供者、連絡先等）",null,"会社　FAX番号",{"$f":"[1]入力画面!G613&\"\"","v":""},"会社　ホームページ",{"$f":"[1]入力画面!I613&\"\"","v":""},null,null,null,null,null,null,null,null,null,null,null,null,null,null,"サービス内容詳細",{"$f":"[1]入力画面!DY613&\"\"","v":""},"サービス提供期間",{"$f":"[1]入力画面!EA613&\"\"","v":""},"利用時間",{"$f":"[1]入力画面!EM613&\"\"","v":""},"備考",{"$f":"[1]入力画面!EB613&\"\"","v":""},"会社名/屋号/氏名",{"$f":"[1]入力画面!B613&\"\"","v":""},"会社　郵便番号",{"$f":"[1]入力画面!D613&\"\"","v":""},"会社　住所",{"$f":"[1]入力画面!E613&\"\"","v":""},"会社　担当部署・担当者名",{"$f":"[1]入力画面!J613&\"\"","v":""},"会社　電話番号",{"$f":"[1]入力画面!F613&\"\"","v":""},"会社　メールアドレス",{"$f":"[1]入力画面!H613&\"\"","v":""},"サービス提供期限",{"$f":"[1]入力画面!DZ613&\"\"","v":""},"利用可能曜日",{"$f":"[1]入力画面!EG613&\"\"","v":""},"利用時間帯",{"$f":"[1]入力画面!EL613&\"\"","v":""},"制度登録状況",null,null,null,null,null,null,null,null,null,null,null,null,null,{"$f":"[1]入力画面!R613&\"\"","v":""},{"$f":"[1]入力画面!S613&\"\"","v":""},{"$f":"[1]入力画面!T613&\"\"","v":""},{"$f":"[1]入力画面!U613&\"\"","v":""},{"$f":"[1]入力画面!ET67&\"\"","v":""},{"$f":"[1]入力画面!EU67&\"\"","v":""},{"$f":"[1]入力画面!EV67&\"\"","v":""},{"$f":"[1]入力画面!EW67&\"\"","v":""},{"$f":"[1]入力画面!EX67&\"\"","v":""},{"$f":"[1]入力画面!EY67&\"\"","v":""},{"$f":"[1]入力画面!EZ67&\"\"","v":""},{"$f":"[1]入力画面!FA67&\"\"","v":""},{"$f":"[1]入力画面!FB67&\"\"","v":""},{"$f":"[1]入力画面!FC67&\"\"","v":""},{"$f":"[1]入力画面!FD67&\"\"","v":""},{"$f":"[1]入力画面!FE67&\"\"","v":""},{"$f":"[1]入力画面!FF67&\"\"","v":""},{"$f":"[1]入力画面!FG67&\"\"","v":""},{"$f":"[1]入力画面!FH67&\"\"","v":""},{"$f":"[1]入力画面!FI67&\"\"","v":""}]
[null,null,"店舗・訪問系","さいたま市浦和区","民間",{"$f":"[1]入力画面!K627&\"\"","v":""},{"$f":"[1]入力画面!M627&\"\"","v":""},{"$f":"[1]入力画面!N627&\"\"","v":""},{"$f":"[1]入力画面!O627&\"\"","v":""},{"$f":"[1]入力画面!P627&\"\"","v":""},{"$f":"[1]入力画面!Q627&\"\"","v":""},{"$f":"[1]入力画面!BB627","v":""},{"$f":"[1]入力画面!DR627&\"\"","v":""},{"$f":"[1]入力画面!DW627&\"\"","v":""},{"$f":"[1]入力画面!DP627","v":""},{"$f":"[1]入力画面!DQ627&\"\"","v":""},{"$f":"[1]入力画面!DS627&\"\"","v":""},{"$f":"[1]入力画面!DT627&\"\"","v":""},{"$f":"[1]入力画面!DV627&\"\"","v":""},{"$f":"[1]入力画面!DU627&\"\"","v":""},{"$f":"[1]入力画面!DX627&\"\"","v":""},null,null,"特記事項 サービス情報入手ルート（情報提供者、連絡先等）",null,"会社　FAX番号",{"$f":"[1]入力画面!G627&\"\"","v":""},"会社　ホームページ",{"$f":"[1]入力画面!I627&\"\"","v":""},null,null,null,null,null,null,null,null,null,null,null,null,null,null,"サービス内容詳細",{"$f":"[1]入力画面!DY627&\"\"","v":""},"サービス提供期間",{"$f":"[1]入力画面!EA627&\"\"","v":""},"利用時間",{"$f":"[1]入力画面!EM627&\"\"","v":""},"備考",{"$f":"[1]入力画面!EB627&\"\"","v":""},"会社名/屋号/氏名",{"$f":"[1]入力画面!B627&\"\"","v":""},"会社　郵便番号",{"$f":"[1]入力画面!D627&\"\"","v":""},"会社　住所",{"$f":"[1]入力画面!E627&\"\"","v":""},"会社　担当部署・担当者名",{"$f":"[1]入力画面!J627&\"\"","v":""},"会社　電話番号",{"$f":"[1]入力画面!F627&\"\"","v":""},"会社　メールアドレス",{"$f":"[1]入力画面!H627&\"\"","v":""},"サービス提供期限",{"$f":"[1]入力画面!DZ627&\"\"","v":""},"利用可能曜日",{"$f":"[1]入力画面!EG627&\"\"","v":""},"利用時間帯",{"$f":"[1]入力画面!EL627&\"\"","v":""},"制度登録状況",null,null,null,null,null,null,null,null,null,null,null,null,null,{"$f":"[1]入力画面!R627&\"\"","v":""},{"$f":"[1]入力画面!S627&\"\"","v":""},{"$f":"[1]入力画面!T627&\"\"","v":""},{"$f":"[1]入力画面!U627&\"\"","v":""},{"$f":"[1]入力画面!ET68&\"\"","v":""},{"$f":"[1]入力画面!EU68&\"\"","v":""},{"$f":"[1]入力画面!EV68&\"\"","v":""},{"$f":"[1]入力画面!EW68&\"\"","v":""},{"$f":"[1]入力画面!EX68&\"\"","v":""},{"$f":"[1]入力画面!EY68&\"\"","v":""},{"$f":"[1]入力画面!EZ68&\"\"","v":""},{"$f":"[1]入力画面!FA68&\"\"","v":""},{"$f":"[1]入力画面!FB68&\"\"","v":""},{"$f":"[1]入力画面!FC68&\"\"","v":""},{"$f":"[1]入力画面!FD68&\"\"","v":""},{"$f":"[1]入力画面!FE68&\"\"","v":""},{"$f":"[1]入力画面!FF68&\"\"","v":""},{"$f":"[1]入力画面!FG68&\"\"","v":""},{"$f":"[1]入力画面!FH68&\"\"","v":""},{"$f":"[1]入力画面!FI68&\"\"","v":""}]
[null,null,"店舗・訪問系","さいたま市浦和区","民間",{"$f":"[1]入力画面!K641&\"\"","v":""},{"$f":"[1]入力画面!M641&\"\"","v":""},{"$f":"[1]入力画面!N641&\"\"","v":""},{"$f":"[1]入力画面!O641&\"\"","v":""},{"$f":"[1]入力画面!P641&\"\"","v":""},{"$f":"[1]入力画面!Q641&\"\"","v":""},{"$f":"[1]入力画面!BB641","v":""},{"$f":"[1]入力画面!DR641&\"\"","v":""},{"$f":"[1]入力画面!DW641&\"\"","v":""},{"$f":"[1]入力画面!DP641","v":""},{"$f":"[1]入力画面!DQ641&\"\"","v":""},{"$f":"[1]入力画面!DS641&\"\"","v":""},{"$f":"[1]入力画面!DT641&\"\"","v":""},{"$f":"[1]入力画面!DV641&\"\"","v":""},{"$f":"[1]入力画面!DU641&\"\"","v":""},{"$f":"[1]入力画面!DX641&\"\"","v":""},null,null,"特記事項 サービス情報入手ルート（情報提供者、連絡先等）",null,"会社　FAX番号",{"$f":"[1]入力画面!G641&\"\"","v":""},"会社　ホームページ",{"$f":"[1]入力画面!I641&\"\"","v":""},null,null,null,null,null,null,null,null,null,null,null,null,null,null,"サービス内容詳細",{"$f":"[1]入力画面!DY641&\"\"","v":""},"サービス提供期間",{"$f":"[1]入力画面!EA641&\"\"","v":""},"利用時間",{"$f":"[1]入力画面!EM641&\"\"","v":""},"備考",{"$f":"[1]入力画面!EB641&\"\"","v":""},"会社名/屋号/氏名",{"$f":"[1]入力画面!B641&\"\"","v":""},"会社　郵便番号",{"$f":"[1]入力画面!D641&\"\"","v":""},"会社　住所",{"$f":"[1]入力画面!E641&\"\"","v":""},"会社　担当部署・担当者名",{"$f":"[1]入力画面!J641&\"\"","v":""},"会社　電話番号",{"$f":"[1]入力画面!F641&\"\"","v":""},"会社　メールアドレス",{"$f":"[1]入力画面!H641&\"\"","v":""},"サービス提供期限",{"$f":"[1]入力画面!DZ641&\"\"","v":""},"利用可能曜日",{"$f":"[1]入力画面!EG641&\"\"","v":""},"利用時間帯",{"$f":"[1]入力画面!EL641&\"\"","v":""},"制度登録状況",null,null,null,null,null,null,null,null,null,null,null,null,null,{"$f":"[1]入力画面!R641&\"\"","v":""},{"$f":"[1]入力画面!S641&\"\"","v":""},{"$f":"[1]入力画面!T641&\"\"","v":""},{"$f":"[1]入力画面!U641&\"\"","v":""},{"$f":"[1]入力画面!ET69&\"\"","v":""},{"$f":"[1]入力画面!EU69&\"\"","v":""},{"$f":"[1]入力画面!EV69&\"\"","v":""},{"$f":"[1]入力画面!EW69&\"\"","v":""},{"$f":"[1]入力画面!EX69&\"\"","v":""},{"$f":"[1]入力画面!EY69&\"\"","v":""},{"$f":"[1]入力画面!EZ69&\"\"","v":""},{"$f":"[1]入力画面!FA69&\"\"","v":""},{"$f":"[1]入力画面!FB69&\"\"","v":""},{"$f":"[1]入力画面!FC69&\"\"","v":""},{"$f":"[1]入力画面!FD69&\"\"","v":""},{"$f":"[1]入力画面!FE69&\"\"","v":""},{"$f":"[1]入力画面!FF69&\"\"","v":""},{"$f":"[1]入力画面!FG69&\"\"","v":""},{"$f":"[1]入力画面!FH69&\"\"","v":""},{"$f":"[1]入力画面!FI69&\"\"","v":""}]
[null,null,"店舗・訪問系","さいたま市浦和区","民間",{"$f":"[1]入力画面!K655&\"\"","v":""},{"$f":"[1]入力画面!M655&\"\"","v":""},{"$f":"[1]入力画面!N655&\"\"","v":""},{"$f":"[1]入力画面!O655&\"\"","v":""},{"$f":"[1]入力画面!P655&\"\"","v":""},{"$f":"[1]入力画面!Q655&\"\"","v":""},{"$f":"[1]入力画面!BB655","v":""},{"$f":"[1]入力画面!DR655&\"\"","v":""},{"$f":"[1]入力画面!DW655&\"\"","v":""},{"$f":"[1]入力画面!DP655","v":""},{"$f":"[1]入力画面!DQ655&\"\"","v":""},{"$f":"[1]入力画面!DS655&\"\"","v":""},{"$f":"[1]入力画面!DT655&\"\"","v":""},{"$f":"[1]入力画面!DV655&\"\"","v":""},{"$f":"[1]入力画面!DU655&\"\"","v":""},{"$f":"[1]入力画面!DX655&\"\"","v":""},null,null,"特記事項 サービス情報入手ルート（情報提供者、連絡先等）",null,"会社　FAX番号",{"$f":"[1]入力画面!G655&\"\"","v":""},"会社　ホームページ",{"$f":"[1]入力画面!I655&\"\"","v":""},null,null,null,null,null,null,null,null,null,null,null,null,null,null,"サービス内容詳細",{"$f":"[1]入力画面!DY655&\"\"","v":""},"サービス提供期間",{"$f":"[1]入力画面!EA655&\"\"","v":""},"利用時間",{"$f":"[1]入力画面!EM655&\"\"","v":""},"備考",{"$f":"[1]入力画面!EB655&\"\"","v":""},"会社名/屋号/氏名",{"$f":"[1]入力画面!B655&\"\"","v":""},"会社　郵便番号",{"$f":"[1]入力画面!D655&\"\"","v":""},"会社　住所",{"$f":"[1]入力画面!E655&\"\"","v":""},"会社　担当部署・担当者名",{"$f":"[1]入力画面!J655&\"\"","v":""},"会社　電話番号",{"$f":"[1]入力画面!F655&\"\"","v":""},"会社　メールアドレス",{"$f":"[1]入力画面!H655&\"\"","v":""},"サービス提供期限",{"$f":"[1]入力画面!DZ655&\"\"","v":""},"利用可能曜日",{"$f":"[1]入力画面!EG655&\"\"","v":""},"利用時間帯",{"$f":"[1]入力画面!EL655&\"\"","v":""},"制度登録状況",null,null,null,null,null,null,null,null,null,null,null,null,null,{"$f":"[1]入力画面!R655&\"\"","v":""},{"$f":"[1]入力画面!S655&\"\"","v":""},{"$f":"[1]入力画面!T655&\"\"","v":""},{"$f":"[1]入力画面!U655&\"\"","v":""},{"$f":"[1]入力画面!ET70&\"\"","v":""},{"$f":"[1]入力画面!EU70&\"\"","v":""},{"$f":"[1]入力画面!EV70&\"\"","v":""},{"$f":"[1]入力画面!EW70&\"\"","v":""},{"$f":"[1]入力画面!EX70&\"\"","v":""},{"$f":"[1]入力画面!EY70&\"\"","v":""},{"$f":"[1]入力画面!EZ70&\"\"","v":""},{"$f":"[1]入力画面!FA70&\"\"","v":""},{"$f":"[1]入力画面!FB70&\"\"","v":""},{"$f":"[1]入力画面!FC70&\"\"","v":""},{"$f":"[1]入力画面!FD70&\"\"","v":""},{"$f":"[1]入力画面!FE70&\"\"","v":""},{"$f":"[1]入力画面!FF70&\"\"","v":""},{"$f":"[1]入力画面!FG70&\"\"","v":""},{"$f":"[1]入力画面!FH70&\"\"","v":""},{"$f":"[1]入力画面!FI70&\"\"","v":""}]
[null,null,"店舗・訪問系","さいたま市浦和区","民間",{"$f":"[1]入力画面!K669&\"\"","v":""},{"$f":"[1]入力画面!M669&\"\"","v":""},{"$f":"[1]入力画面!N669&\"\"","v":""},{"$f":"[1]入力画面!O669&\"\"","v":""},{"$f":"[1]入力画面!P669&\"\"","v":""},{"$f":"[1]入力画面!Q669&\"\"","v":""},{"$f":"[1]入力画面!BB669","v":""},{"$f":"[1]入力画面!DR669&\"\"","v":""},{"$f":"[1]入力画面!DW669&\"\"","v":""},{"$f":"[1]入力画面!DP669","v":""},{"$f":"[1]入力画面!DQ669&\"\"","v":""},{"$f":"[1]入力画面!DS669&\"\"","v":""},{"$f":"[1]入力画面!DT669&\"\"","v":""},{"$f":"[1]入力画面!DV669&\"\"","v":""},{"$f":"[1]入力画面!DU669&\"\"","v":""},{"$f":"[1]入力画面!DX669&\"\"","v":""},null,null,"特記事項 サービス情報入手ルート（情報提供者、連絡先等）",null,"会社　FAX番号",{"$f":"[1]入力画面!G669&\"\"","v":""},"会社　ホームページ",{"$f":"[1]入力画面!I669&\"\"","v":""},null,null,null,null,null,null,null,null,null,null,null,null,null,null,"サービス内容詳細",{"$f":"[1]入力画面!DY669&\"\"","v":""},"サービス提供期間",{"$f":"[1]入力画面!EA669&\"\"","v":""},"利用時間",{"$f":"[1]入力画面!EM669&\"\"","v":""},"備考",{"$f":"[1]入力画面!EB669&\"\"","v":""},"会社名/屋号/氏名",{"$f":"[1]入力画面!B669&\"\"","v":""},"会社　郵便番号",{"$f":"[1]入力画面!D669&\"\"","v":""},"会社　住所",{"$f":"[1]入力画面!E669&\"\"","v":""},"会社　担当部署・担当者名",{"$f":"[1]入力画面!J669&\"\"","v":""},"会社　電話番号",{"$f":"[1]入力画面!F669&\"\"","v":""},"会社　メールアドレス",{"$f":"[1]入力画面!H669&\"\"","v":""},"サービス提供期限",{"$f":"[1]入力画面!DZ669&\"\"","v":""},"利用可能曜日",{"$f":"[1]入力画面!EG669&\"\"","v":""},"利用時間帯",{"$f":"[1]入力画面!EL669&\"\"","v":""},"制度登録状況",null,null,null,null,null,null,null,null,null,null,null,null,null,{"$f":"[1]入力画面!R669&\"\"","v":""},{"$f":"[1]入力画面!S669&\"\"","v":""},{"$f":"[1]入力画面!T669&\"\"","v":""},{"$f":"[1]入力画面!U669&\"\"","v":""},{"$f":"[1]入力画面!ET71&\"\"","v":""},{"$f":"[1]入力画面!EU71&\"\"","v":""},{"$f":"[1]入力画面!EV71&\"\"","v":""},{"$f":"[1]入力画面!EW71&\"\"","v":""},{"$f":"[1]入力画面!EX71&\"\"","v":""},{"$f":"[1]入力画面!EY71&\"\"","v":""},{"$f":"[1]入力画面!EZ71&\"\"","v":""},{"$f":"[1]入力画面!FA71&\"\"","v":""},{"$f":"[1]入力画面!FB71&\"\"","v":""},{"$f":"[1]入力画面!FC71&\"\"","v":""},{"$f":"[1]入力画面!FD71&\"\"","v":""},{"$f":"[1]入力画面!FE71&\"\"","v":""},{"$f":"[1]入力画面!FF71&\"\"","v":""},{"$f":"[1]入力画面!FG71&\"\"","v":""},{"$f":"[1]入力画面!FH71&\"\"","v":""},{"$f":"[1]入力画面!FI71&\"\"","v":""}]
[null,null,"店舗・訪問系","さいたま市浦和区","民間",{"$f":"[1]入力画面!K683&\"\"","v":""},{"$f":"[1]入力画面!M683&\"\"","v":""},{"$f":"[1]入力画面!N683&\"\"","v":""},{"$f":"[1]入力画面!O683&\"\"","v":""},{"$f":"[1]入力画面!P683&\"\"","v":""},{"$f":"[1]入力画面!Q683&\"\"","v":""},{"$f":"[1]入力画面!BB683","v":""},{"$f":"[1]入力画面!DR683&\"\"","v":""},{"$f":"[1]入力画面!DW683&\"\"","v":""},{"$f":"[1]入力画面!DP683","v":""},{"$f":"[1]入力画面!DQ683&\"\"","v":""},{"$f":"[1]入力画面!DS683&\"\"","v":""},{"$f":"[1]入力画面!DT683&\"\"","v":""},{"$f":"[1]入力画面!DV683&\"\"","v":""},{"$f":"[1]入力画面!DU683&\"\"","v":""},{"$f":"[1]入力画面!DX683&\"\"","v":""},null,null,"特記事項 サービス情報入手ルート（情報提供者、連絡先等）",null,"会社　FAX番号",{"$f":"[1]入力画面!G683&\"\"","v":""},"会社　ホームページ",{"$f":"[1]入力画面!I683&\"\"","v":""},null,null,null,null,null,null,null,null,null,null,null,null,null,null,"サービス内容詳細",{"$f":"[1]入力画面!DY683&\"\"","v":""},"サービス提供期間",{"$f":"[1]入力画面!EA683&\"\"","v":""},"利用時間",{"$f":"[1]入力画面!EM683&\"\"","v":""},"備考",{"$f":"[1]入力画面!EB683&\"\"","v":""},"会社名/屋号/氏名",{"$f":"[1]入力画面!B683&\"\"","v":""},"会社　郵便番号",{"$f":"[1]入力画面!D683&\"\"","v":""},"会社　住所",{"$f":"[1]入力画面!E683&\"\"","v":""},"会社　担当部署・担当者名",{"$f":"[1]入力画面!J683&\"\"","v":""},"会社　電話番号",{"$f":"[1]入力画面!F683&\"\"","v":""},"会社　メールアドレス",{"$f":"[1]入力画面!H683&\"\"","v":""},"サービス提供期限",{"$f":"[1]入力画面!DZ683&\"\"","v":""},"利用可能曜日",{"$f":"[1]入力画面!EG683&\"\"","v":""},"利用時間帯",{"$f":"[1]入力画面!EL683&\"\"","v":""},"制度登録状況",null,null,null,null,null,null,null,null,null,null,null,null,null,{"$f":"[1]入力画面!R683&\"\"","v":""},{"$f":"[1]入力画面!S683&\"\"","v":""},{"$f":"[1]入力画面!T683&\"\"","v":""},{"$f":"[1]入力画面!U683&\"\"","v":""},{"$f":"[1]入力画面!ET72&\"\"","v":""},{"$f":"[1]入力画面!EU72&\"\"","v":""},{"$f":"[1]入力画面!EV72&\"\"","v":""},{"$f":"[1]入力画面!EW72&\"\"","v":""},{"$f":"[1]入力画面!EX72&\"\"","v":""},{"$f":"[1]入力画面!EY72&\"\"","v":""},{"$f":"[1]入力画面!EZ72&\"\"","v":""},{"$f":"[1]入力画面!FA72&\"\"","v":""},{"$f":"[1]入力画面!FB72&\"\"","v":""},{"$f":"[1]入力画面!FC72&\"\"","v":""},{"$f":"[1]入力画面!FD72&\"\"","v":""},{"$f":"[1]入力画面!FE72&\"\"","v":""},{"$f":"[1]入力画面!FF72&\"\"","v":""},{"$f":"[1]入力画面!FG72&\"\"","v":""},{"$f":"[1]入力画面!FH72&\"\"","v":""},{"$f":"[1]入力画面!FI72&\"\"","v":""}]
[null,null,"店舗・訪問系","さいたま市浦和区","民間",{"$f":"[1]入力画面!K697&\"\"","v":""},{"$f":"[1]入力画面!M697&\"\"","v":""},{"$f":"[1]入力画面!N697&\"\"","v":""},{"$f":"[1]入力画面!O697&\"\"","v":""},{"$f":"[1]入力画面!P697&\"\"","v":""},{"$f":"[1]入力画面!Q697&\"\"","v":""},{"$f":"[1]入力画面!BB697","v":""},{"$f":"[1]入力画面!DR697&\"\"","v":""},{"$f":"[1]入力画面!DW697&\"\"","v":""},{"$f":"[1]入力画面!DP697","v":""},{"$f":"[1]入力画面!DQ697&\"\"","v":""},{"$f":"[1]入力画面!DS697&\"\"","v":""},{"$f":"[1]入力画面!DT697&\"\"","v":""},{"$f":"[1]入力画面!DV697&\"\"","v":""},{"$f":"[1]入力画面!DU697&\"\"","v":""},{"$f":"[1]入力画面!DX697&\"\"","v":""},null,null,"特記事項 サービス情報入手ルート（情報提供者、連絡先等）",null,"会社　FAX番号",{"$f":"[1]入力画面!G697&\"\"","v":""},"会社　ホームページ",{"$f":"[1]入力画面!I697&\"\"","v":""},null,null,null,null,null,null,null,null,null,null,null,null,null,null,"サービス内容詳細",{"$f":"[1]入力画面!DY697&\"\"","v":""},"サービス提供期間",{"$f":"[1]入力画面!EA697&\"\"","v":""},"利用時間",{"$f":"[1]入力画面!EM697&\"\"","v":""},"備考",{"$f":"[1]入力画面!EB697&\"\"","v":""},"会社名/屋号/氏名",{"$f":"[1]入力画面!B697&\"\"","v":""},"会社　郵便番号",{"$f":"[1]入力画面!D697&\"\"","v":""},"会社　住所",{"$f":"[1]入力画面!E697&\"\"","v":""},"会社　担当部署・担当者名",{"$f":"[1]入力画面!J697&\"\"","v":""},"会社　電話番号",{"$f":"[1]入力画面!F697&\"\"","v":""},"会社　メールアドレス",{"$f":"[1]入力画面!H697&\"\"","v":""},"サービス提供期限",{"$f":"[1]入力画面!DZ697&\"\"","v":""},"利用可能曜日",{"$f":"[1]入力画面!EG697&\"\"","v":""},"利用時間帯",{"$f":"[1]入力画面!EL697&\"\"","v":""},"制度登録状況",null,null,null,null,null,null,null,null,null,null,null,null,null,{"$f":"[1]入力画面!R697&\"\"","v":""},{"$f":"[1]入力画面!S697&\"\"","v":""},{"$f":"[1]入力画面!T697&\"\"","v":""},{"$f":"[1]入力画面!U697&\"\"","v":""},{"$f":"[1]入力画面!ET73&\"\"","v":""},{"$f":"[1]入力画面!EU73&\"\"","v":""},{"$f":"[1]入力画面!EV73&\"\"","v":""},{"$f":"[1]入力画面!EW73&\"\"","v":""},{"$f":"[1]入力画面!EX73&\"\"","v":""},{"$f":"[1]入力画面!EY73&\"\"","v":""},{"$f":"[1]入力画面!EZ73&\"\"","v":""},{"$f":"[1]入力画面!FA73&\"\"","v":""},{"$f":"[1]入力画面!FB73&\"\"","v":""},{"$f":"[1]入力画面!FC73&\"\"","v":""},{"$f":"[1]入力画面!FD73&\"\"","v":""},{"$f":"[1]入力画面!FE73&\"\"","v":""},{"$f":"[1]入力画面!FF73&\"\"","v":""},{"$f":"[1]入力画面!FG73&\"\"","v":""},{"$f":"[1]入力画面!FH73&\"\"","v":""},{"$f":"[1]入力画面!FI73&\"\"","v":""}]
[null,null,"店舗・訪問系","さいたま市浦和区","民間",{"$f":"[1]入力画面!K711&\"\"","v":""},{"$f":"[1]入力画面!M711&\"\"","v":""},{"$f":"[1]入力画面!N711&\"\"","v":""},{"$f":"[1]入力画面!O711&\"\"","v":""},{"$f":"[1]入力画面!P711&\"\"","v":""},{"$f":"[1]入力画面!Q711&\"\"","v":""},{"$f":"[1]入力画面!BB711","v":""},{"$f":"[1]入力画面!DR711&\"\"","v":""},{"$f":"[1]入力画面!DW711&\"\"","v":""},{"$f":"[1]入力画面!DP711","v":""},{"$f":"[1]入力画面!DQ711&\"\"","v":""},{"$f":"[1]入力画面!DS711&\"\"","v":""},{"$f":"[1]入力画面!DT711&\"\"","v":""},{"$f":"[1]入力画面!DV711&\"\"","v":""},{"$f":"[1]入力画面!DU711&\"\"","v":""},{"$f":"[1]入力画面!DX711&\"\"","v":""},null,null,"特記事項 サービス情報入手ルート（情報提供者、連絡先等）",null,"会社　FAX番号",{"$f":"[1]入力画面!G711&\"\"","v":""},"会社　ホームページ",{"$f":"[1]入力画面!I711&\"\"","v":""},null,null,null,null,null,null,null,null,null,null,null,null,null,null,"サービス内容詳細",{"$f":"[1]入力画面!DY711&\"\"","v":""},"サービス提供期間",{"$f":"[1]入力画面!EA711&\"\"","v":""},"利用時間",{"$f":"[1]入力画面!EM711&\"\"","v":""},"備考",{"$f":"[1]入力画面!EB711&\"\"","v":""},"会社名/屋号/氏名",{"$f":"[1]入力画面!B711&\"\"","v":""},"会社　郵便番号",{"$f":"[1]入力画面!D711&\"\"","v":""},"会社　住所",{"$f":"[1]入力画面!E711&\"\"","v":""},"会社　担当部署・担当者名",{"$f":"[1]入力画面!J711&\"\"","v":""},"会社　電話番号",{"$f":"[1]入力画面!F711&\"\"","v":""},"会社　メールアドレス",{"$f":"[1]入力画面!H711&\"\"","v":""},"サービス提供期限",{"$f":"[1]入力画面!DZ711&\"\"","v":""},"利用可能曜日",{"$f":"[1]入力画面!EG711&\"\"","v":""},"利用時間帯",{"$f":"[1]入力画面!EL711&\"\"","v":""},"制度登録状況",null,null,null,null,null,null,null,null,null,null,null,null,null,{"$f":"[1]入力画面!R711&\"\"","v":""},{"$f":"[1]入力画面!S711&\"\"","v":""},{"$f":"[1]入力画面!T711&\"\"","v":""},{"$f":"[1]入力画面!U711&\"\"","v":""},{"$f":"[1]入力画面!ET74&\"\"","v":""},{"$f":"[1]入力画面!EU74&\"\"","v":""},{"$f":"[1]入力画面!EV74&\"\"","v":""},{"$f":"[1]入力画面!EW74&\"\"","v":""},{"$f":"[1]入力画面!EX74&\"\"","v":""},{"$f":"[1]入力画面!EY74&\"\"","v":""},{"$f":"[1]入力画面!EZ74&\"\"","v":""},{"$f":"[1]入力画面!FA74&\"\"","v":""},{"$f":"[1]入力画面!FB74&\"\"","v":""},{"$f":"[1]入力画面!FC74&\"\"","v":""},{"$f":"[1]入力画面!FD74&\"\"","v":""},{"$f":"[1]入力画面!FE74&\"\"","v":""},{"$f":"[1]入力画面!FF74&\"\"","v":""},{"$f":"[1]入力画面!FG74&\"\"","v":""},{"$f":"[1]入力画面!FH74&\"\"","v":""},{"$f":"[1]入力画面!FI74&\"\"","v":""}]

{"sheet":"Sheet1","index":3,"n_rows":5,"n_cols":1,"rows_kept":5,"cut":false,"hidden":true,"merged":[]}
[]
[]
[]
["□"]
["☑"]